{"text_format":"1","workbook":"xlsx","n_sheets":3,"sheets":["Import","View","Data"],"not_rendered":{"charts":1,"images":1,"macros":1,"external_links":0,"defined_names":3,"comments":0,"pivot_tables":0},"unopened":[],"bounds":{"document_bytes":16777216,"sheet_cells":100000,"rows_first":2000,"rows_last":500,"rows_between":2000,"halvings":0,"cell_chars":16384,"cell_head_chars":4096},"cells_cut":0,"cells_raw":0,"read":"whole","date_system":"1900"}

{"sheet":"Import","index":0,"n_rows":21,"n_cols":1,"rows_kept":21,"cut":false,"hidden":false,"merged":[]}
["RTA logging Data import"]
[]
[]
[]
[]
["How does this worksheet work?"]
["This worksheet allows you to import RTA logging measurements stored on the Bedrock SMxx. Make sure that the RTA logging result files are copied onto your computer, or that the instrument is attached to USB and accessible as a mass storage device. Then press the button below (\"Import RTALOG\"). You can now select the measurement data files that you wish to import. NOTE: by using SHIFT and CTRL you can select multiple files for opening. The measurements are imported into the sheet named \"Data.\" Use the sheet named \"View\" to browse through these measurements, or copy data directly from the \"Data\" sheet to your own Worksheet for further calculations. Note that importing data changes this worksheet, overwriting earlier data imports. We recommend that you keep the original version of this worksheet in a safe location, and that you use a new copy of this original file for each new project."]
[]
["RTA logging files can be very large. This can make importing files to take a long time or consume a lot of memory . The number of rows and colums might exceed the limit of the sheet"]
[]
["For support or to download the latest version of this file, please refer to our website"]
["www.bedrock-audio.com"]
[]
["Version 2.6.0"]
[]
[]
["COPYRIGHT (C) Embedded Acoustics BV, 2020"]
["ALL RIGHTS RESERVED. This worksheet contains material protected under International and Federal Copyright Laws and Treaties. Any unauthorized use of this material is prohibited. No part of this worksheet may be reproduced or transmitted in any form or by any means, electronic or mechanical, including photocopying, recording, or by any information storage and retrieval system without express written permission from the author. "]
[" "]
["DISCLAIMER"]
["THIS DOCUMENT IS PROVIDED \"AS IS\", WITHOUT WARRANTY OF ANY KIND, EXPRESS OR IMPLIED, INCLUDING BUT NOT LIMITED TO THE WARRANTIES OF MERCHANTABILITY, FITNESS FOR A PARTICULAR PURPOSE AND NONINFRINGEMENT. IN NO EVENT SHALL THE AUTHORS OR COPYRIGHT HOLDERS BE LIABLE FOR ANY CLAIM, DAMAGES OR OTHER LIABILITY, WHETHER IN AN ACTION OF CONTRACT, TORT OR OTHERWISE, ARISING FROM, OUT OF OR IN CONNECTION WITH THE SOFTWARE OR THE USE OR OTHER DEALINGS IN THE SOFTWARE"]

{"sheet":"View","index":1,"n_rows":33,"n_cols":125,"rows_kept":33,"cut":false,"hidden":false,"merged":[]}
["RTA logging measurement"]
[]
["Date",{"$f":"OFFSET(Data!B2,0,(View!$B$27-1)*12)","v":"00:00:00"}]
["Time",{"$f":"OFFSET(Data!C2,0,(View!$B$27-1)*12)","v":"00:00:00"}]
[]
["Current average time (sec)",{"$f":"MAX(OFFSET(Data!$D$2,0,(View!$B$27-1)*365), 1)","v":1},null,null,"Overall",{"$f":"IF(OFFSET(View!F$30,View!$E$30,0)>0,OFFSET(View!F$30,View!$E$30,0),\"\")","v":31.5},{"$f":"IF(OFFSET(View!G$30,View!$E$30,0)>0,OFFSET(View!G$30,View!$E$30,0),\"\")","v":63},{"$f":"IF(OFFSET(View!H$30,View!$E$30,0)>0,OFFSET(View!H$30,View!$E$30,0),\"\")","v":125},{"$f":"IF(OFFSET(View!I$30,View!$E$30,0)>0,OFFSET(View!I$30,View!$E$30,0),\"\")","v":250},{"$f":"IF(OFFSET(View!J$30,View!$E$30,0)>0,OFFSET(View!J$30,View!$E$30,0),\"\")","v":500},{"$f":"IF(OFFSET(View!K$30,View!$E$30,0)>0,OFFSET(View!K$30,View!$E$30,0),\"\")","v":1000},{"$f":"IF(OFFSET(View!L$30,View!$E$30,0)>0,OFFSET(View!L$30,View!$E$30,0),\"\")","v":2000},{"$f":"IF(OFFSET(View!M$30,View!$E$30,0)>0,OFFSET(View!M$30,View!$E$30,0),\"\")","v":4000},{"$f":"IF(OFFSET(View!N$30,View!$E$30,0)>0,OFFSET(View!N$30,View!$E$30,0),\"\")","v":8000},{"$f":"IF(OFFSET(View!O$30,View!$E$30,0)>0,OFFSET(View!O$30,View!$E$30,0),\"\")","v":16000},{"$f":"IF(OFFSET(View!P$30,View!$E$30,0)>0,OFFSET(View!P$30,View!$E$30,0),\"\")","v":""},{"$f":"IF(OFFSET(View!Q$30,View!$E$30,0)>0,OFFSET(View!Q$30,View!$E$30,0),\"\")","v":""},{"$f":"IF(OFFSET(View!R$30,View!$E$30,0)>0,OFFSET(View!R$30,View!$E$30,0),\"\")","v":""},{"$f":"IF(OFFSET(View!S$30,View!$E$30,0)>0,OFFSET(View!S$30,View!$E$30,0),\"\")","v":""},{"$f":"IF(OFFSET(View!T$30,View!$E$30,0)>0,OFFSET(View!T$30,View!$E$30,0),\"\")","v":""},{"$f":"IF(OFFSET(View!U$30,View!$E$30,0)>0,OFFSET(View!U$30,View!$E$30,0),\"\")","v":""},{"$f":"IF(OFFSET(View!V$30,View!$E$30,0)>0,OFFSET(View!V$30,View!$E$30,0),\"\")","v":""},{"$f":"IF(OFFSET(View!W$30,View!$E$30,0)>0,OFFSET(View!W$30,View!$E$30,0),\"\")","v":""},{"$f":"IF(OFFSET(View!X$30,View!$E$30,0)>0,OFFSET(View!X$30,View!$E$30,0),\"\")","v":""},{"$f":"IF(OFFSET(View!Y$30,View!$E$30,0)>0,OFFSET(View!Y$30,View!$E$30,0),\"\")","v":""},{"$f":"IF(OFFSET(View!Z$30,View!$E$30,0)>0,OFFSET(View!Z$30,View!$E$30,0),\"\")","v":""},{"$f":"IF(OFFSET(View!AA$30,View!$E$30,0)>0,OFFSET(View!AA$30,View!$E$30,0),\"\")","v":""},{"$f":"IF(OFFSET(View!AB$30,View!$E$30,0)>0,OFFSET(View!AB$30,View!$E$30,0),\"\")","v":""},{"$f":"IF(OFFSET(View!AC$30,View!$E$30,0)>0,OFFSET(View!AC$30,View!$E$30,0),\"\")","v":""},{"$f":"IF(OFFSET(View!AD$30,View!$E$30,0)>0,OFFSET(View!AD$30,View!$E$30,0),\"\")","v":""},{"$f":"IF(OFFSET(View!AE$30,View!$E$30,0)>0,OFFSET(View!AE$30,View!$E$30,0),\"\")","v":""},{"$f":"IF(OFFSET(View!AF$30,View!$E$30,0)>0,OFFSET(View!AF$30,View!$E$30,0),\"\")","v":""},{"$f":"IF(OFFSET(View!AG$30,View!$E$30,0)>0,OFFSET(View!AG$30,View!$E$30,0),\"\")","v":""},{"$f":"IF(OFFSET(View!AH$30,View!$E$30,0)>0,OFFSET(View!AH$30,View!$E$30,0),\"\")","v":""},{"$f":"IF(OFFSET(View!AI$30,View!$E$30,0)>0,OFFSET(View!AI$30,View!$E$30,0),\"\")","v":""},{"$f":"IF(OFFSET(View!AJ$30,View!$E$30,0)>0,OFFSET(View!AJ$30,View!$E$30,0),\"\")","v":""},{"$f":"IF(OFFSET(View!AK$30,View!$E$30,0)>0,OFFSET(View!AK$30,View!$E$30,0),\"\")","v":""},{"$f":"IF(OFFSET(View!AL$30,View!$E$30,0)>0,OFFSET(View!AL$30,View!$E$30,0),\"\")","v":""},{"$f":"IF(OFFSET(View!AM$30,View!$E$30,0)>0,OFFSET(View!AM$30,View!$E$30,0),\"\")","v":""},{"$f":"IF(OFFSET(View!AN$30,View!$E$30,0)>0,OFFSET(View!AN$30,View!$E$30,0),\"\")","v":""},{"$f":"IF(OFFSET(View!AO$30,View!$E$30,0)>0,OFFSET(View!AO$30,View!$E$30,0),\"\")","v":""},{"$f":"IF(OFFSET(View!AP$30,View!$E$30,0)>0,OFFSET(View!AP$30,View!$E$30,0),\"\")","v":""},{"$f":"IF(OFFSET(View!AQ$30,View!$E$30,0)>0,OFFSET(View!AQ$30,View!$E$30,0),\"\")","v":""},{"$f":"IF(OFFSET(View!AR$30,View!$E$30,0)>0,OFFSET(View!AR$30,View!$E$30,0),\"\")","v":""},{"$f":"IF(OFFSET(View!AS$30,View!$E$30,0)>0,OFFSET(View!AS$30,View!$E$30,0),\"\")","v":""},{"$f":"IF(OFFSET(View!AT$30,View!$E$30,0)>0,OFFSET(View!AT$30,View!$E$30,0),\"\")","v":""},{"$f":"IF(OFFSET(View!AU$30,View!$E$30,0)>0,OFFSET(View!AU$30,View!$E$30,0),\"\")","v":""},{"$f":"IF(OFFSET(View!AV$30,View!$E$30,0)>0,OFFSET(View!AV$30,View!$E$30,0),\"\")","v":""},{"$f":"IF(OFFSET(View!AW$30,View!$E$30,0)>0,OFFSET(View!AW$30,View!$E$30,0),\"\")","v":""},{"$f":"IF(OFFSET(View!AX$30,View!$E$30,0)>0,OFFSET(View!AX$30,View!$E$30,0),\"\")","v":""},{"$f":"IF(OFFSET(View!AY$30,View!$E$30,0)>0,OFFSET(View!AY$30,View!$E$30,0),\"\")","v":""},{"$f":"IF(OFFSET(View!AZ$30,View!$E$30,0)>0,OFFSET(View!AZ$30,View!$E$30,0),\"\")","v":""},{"$f":"IF(OFFSET(View!BA$30,View!$E$30,0)>0,OFFSET(View!BA$30,View!$E$30,0),\"\")","v":""},{"$f":"IF(OFFSET(View!BB$30,View!$E$30,0)>0,OFFSET(View!BB$30,View!$E$30,0),\"\")","v":""},{"$f":"IF(OFFSET(View!BC$30,View!$E$30,0)>0,OFFSET(View!BC$30,View!$E$30,0),\"\")","v":""},{"$f":"IF(OFFSET(View!BD$30,View!$E$30,0)>0,OFFSET(View!BD$30,View!$E$30,0),\"\")","v":""},{"$f":"IF(OFFSET(View!BE$30,View!$E$30,0)>0,OFFSET(View!BE$30,View!$E$30,0),\"\")","v":""},{"$f":"IF(OFFSET(View!BF$30,View!$E$30,0)>0,OFFSET(View!BF$30,View!$E$30,0),\"\")","v":""},{"$f":"IF(OFFSET(View!BG$30,View!$E$30,0)>0,OFFSET(View!BG$30,View!$E$30,0),\"\")","v":""},{"$f":"IF(OFFSET(View!BH$30,View!$E$30,0)>0,OFFSET(View!BH$30,View!$E$30,0),\"\")","v":""},{"$f":"IF(OFFSET(View!BI$30,View!$E$30,0)>0,OFFSET(View!BI$30,View!$E$30,0),\"\")","v":""},{"$f":"IF(OFFSET(View!BJ$30,View!$E$30,0)>0,OFFSET(View!BJ$30,View!$E$30,0),\"\")","v":""},{"$f":"IF(OFFSET(View!BK$30,View!$E$30,0)>0,OFFSET(View!BK$30,View!$E$30,0),\"\")","v":""},{"$f":"IF(OFFSET(View!BL$30,View!$E$30,0)>0,OFFSET(View!BL$30,View!$E$30,0),\"\")","v":""},{"$f":"IF(OFFSET(View!BM$30,View!$E$30,0)>0,OFFSET(View!BM$30,View!$E$30,0),\"\")","v":""},{"$f":"IF(OFFSET(View!BN$30,View!$E$30,0)>0,OFFSET(View!BN$30,View!$E$30,0),\"\")","v":""},{"$f":"IF(OFFSET(View!BO$30,View!$E$30,0)>0,OFFSET(View!BO$30,View!$E$30,0),\"\")","v":""},{"$f":"IF(OFFSET(View!BP$30,View!$E$30,0)>0,OFFSET(View!BP$30,View!$E$30,0),\"\")","v":""},{"$f":"IF(OFFSET(View!BQ$30,View!$E$30,0)>0,OFFSET(View!BQ$30,View!$E$30,0),\"\")","v":""},{"$f":"IF(OFFSET(View!BR$30,View!$E$30,0)>0,OFFSET(View!BR$30,View!$E$30,0),\"\")","v":""},{"$f":"IF(OFFSET(View!BS$30,View!$E$30,0)>0,OFFSET(View!BS$30,View!$E$30,0),\"\")","v":""},{"$f":"IF(OFFSET(View!BT$30,View!$E$30,0)>0,OFFSET(View!BT$30,View!$E$30,0),\"\")","v":""},{"$f":"IF(OFFSET(View!BU$30,View!$E$30,0)>0,OFFSET(View!BU$30,View!$E$30,0),\"\")","v":""},{"$f":"IF(OFFSET(View!BV$30,View!$E$30,0)>0,OFFSET(View!BV$30,View!$E$30,0),\"\")","v":""},{"$f":"IF(OFFSET(View!BW$30,View!$E$30,0)>0,OFFSET(View!BW$30,View!$E$30,0),\"\")","v":""},{"$f":"IF(OFFSET(View!BX$30,View!$E$30,0)>0,OFFSET(View!BX$30,View!$E$30,0),\"\")","v":""},{"$f":"IF(OFFSET(View!BY$30,View!$E$30,0)>0,OFFSET(View!BY$30,View!$E$30,0),\"\")","v":""},{"$f":"IF(OFFSET(View!BZ$30,View!$E$30,0)>0,OFFSET(View!BZ$30,View!$E$30,0),\"\")","v":""},{"$f":"IF(OFFSET(View!CA$30,View!$E$30,0)>0,OFFSET(View!CA$30,View!$E$30,0),\"\")","v":""},{"$f":"IF(OFFSET(View!CB$30,View!$E$30,0)>0,OFFSET(View!CB$30,View!$E$30,0),\"\")","v":""},{"$f":"IF(OFFSET(View!CC$30,View!$E$30,0)>0,OFFSET(View!CC$30,View!$E$30,0),\"\")","v":""},{"$f":"IF(OFFSET(View!CD$30,View!$E$30,0)>0,OFFSET(View!CD$30,View!$E$30,0),\"\")","v":""},{"$f":"IF(OFFSET(View!CE$30,View!$E$30,0)>0,OFFSET(View!CE$30,View!$E$30,0),\"\")","v":""},{"$f":"IF(OFFSET(View!CF$30,View!$E$30,0)>0,OFFSET(View!CF$30,View!$E$30,0),\"\")","v":""},{"$f":"IF(OFFSET(View!CG$30,View!$E$30,0)>0,OFFSET(View!CG$30,View!$E$30,0),\"\")","v":""},{"$f":"IF(OFFSET(View!CH$30,View!$E$30,0)>0,OFFSET(View!CH$30,View!$E$30,0),\"\")","v":""},{"$f":"IF(OFFSET(View!CI$30,View!$E$30,0)>0,OFFSET(View!CI$30,View!$E$30,0),\"\")","v":""},{"$f":"IF(OFFSET(View!CJ$30,View!$E$30,0)>0,OFFSET(View!CJ$30,View!$E$30,0),\"\")","v":""},{"$f":"IF(OFFSET(View!CK$30,View!$E$30,0)>0,OFFSET(View!CK$30,View!$E$30,0),\"\")","v":""},{"$f":"IF(OFFSET(View!CL$30,View!$E$30,0)>0,OFFSET(View!CL$30,View!$E$30,0),\"\")","v":""},{"$f":"IF(OFFSET(View!CM$30,View!$E$30,0)>0,OFFSET(View!CM$30,View!$E$30,0),\"\")","v":""},{"$f":"IF(OFFSET(View!CN$30,View!$E$30,0)>0,OFFSET(View!CN$30,View!$E$30,0),\"\")","v":""},{"$f":"IF(OFFSET(View!CO$30,View!$E$30,0)>0,OFFSET(View!CO$30,View!$E$30,0),\"\")","v":""},{"$f":"IF(OFFSET(View!CP$30,View!$E$30,0)>0,OFFSET(View!CP$30,View!$E$30,0),\"\")","v":""},{"$f":"IF(OFFSET(View!CQ$30,View!$E$30,0)>0,OFFSET(View!CQ$30,View!$E$30,0),\"\")","v":""},{"$f":"IF(OFFSET(View!CR$30,View!$E$30,0)>0,OFFSET(View!CR$30,View!$E$30,0),\"\")","v":""},{"$f":"IF(OFFSET(View!CS$30,View!$E$30,0)>0,OFFSET(View!CS$30,View!$E$30,0),\"\")","v":""},{"$f":"IF(OFFSET(View!CT$30,View!$E$30,0)>0,OFFSET(View!CT$30,View!$E$30,0),\"\")","v":""},{"$f":"IF(OFFSET(View!CU$30,View!$E$30,0)>0,OFFSET(View!CU$30,View!$E$30,0),\"\")","v":""},{"$f":"IF(OFFSET(View!CV$30,View!$E$30,0)>0,OFFSET(View!CV$30,View!$E$30,0),\"\")","v":""},{"$f":"IF(OFFSET(View!CW$30,View!$E$30,0)>0,OFFSET(View!CW$30,View!$E$30,0),\"\")","v":""},{"$f":"IF(OFFSET(View!CX$30,View!$E$30,0)>0,OFFSET(View!CX$30,View!$E$30,0),\"\")","v":""},{"$f":"IF(OFFSET(View!CY$30,View!$E$30,0)>0,OFFSET(View!CY$30,View!$E$30,0),\"\")","v":""},{"$f":"IF(OFFSET(View!CZ$30,View!$E$30,0)>0,OFFSET(View!CZ$30,View!$E$30,0),\"\")","v":""},{"$f":"IF(OFFSET(View!DA$30,View!$E$30,0)>0,OFFSET(View!DA$30,View!$E$30,0),\"\")","v":""},{"$f":"IF(OFFSET(View!DB$30,View!$E$30,0)>0,OFFSET(View!DB$30,View!$E$30,0),\"\")","v":""},{"$f":"IF(OFFSET(View!DC$30,View!$E$30,0)>0,OFFSET(View!DC$30,View!$E$30,0),\"\")","v":""},{"$f":"IF(OFFSET(View!DD$30,View!$E$30,0)>0,OFFSET(View!DD$30,View!$E$30,0),\"\")","v":""},{"$f":"IF(OFFSET(View!DE$30,View!$E$30,0)>0,OFFSET(View!DE$30,View!$E$30,0),\"\")","v":""},{"$f":"IF(OFFSET(View!DF$30,View!$E$30,0)>0,OFFSET(View!DF$30,View!$E$30,0),\"\")","v":""},{"$f":"IF(OFFSET(View!DG$30,View!$E$30,0)>0,OFFSET(View!DG$30,View!$E$30,0),\"\")","v":""},{"$f":"IF(OFFSET(View!DH$30,View!$E$30,0)>0,OFFSET(View!DH$30,View!$E$30,0),\"\")","v":""},{"$f":"IF(OFFSET(View!DI$30,View!$E$30,0)>0,OFFSET(View!DI$30,View!$E$30,0),\"\")","v":""},{"$f":"IF(OFFSET(View!DJ$30,View!$E$30,0)>0,OFFSET(View!DJ$30,View!$E$30,0),\"\")","v":""},{"$f":"IF(OFFSET(View!DK$30,View!$E$30,0)>0,OFFSET(View!DK$30,View!$E$30,0),\"\")","v":""},{"$f":"IF(OFFSET(View!DL$30,View!$E$30,0)>0,OFFSET(View!DL$30,View!$E$30,0),\"\")","v":""},{"$f":"IF(OFFSET(View!DM$30,View!$E$30,0)>0,OFFSET(View!DM$30,View!$E$30,0),\"\")","v":""},{"$f":"IF(OFFSET(View!DN$30,View!$E$30,0)>0,OFFSET(View!DN$30,View!$E$30,0),\"\")","v":""},{"$f":"IF(OFFSET(View!DO$30,View!$E$30,0)>0,OFFSET(View!DO$30,View!$E$30,0),\"\")","v":""},{"$f":"IF(OFFSET(View!DP$30,View!$E$30,0)>0,OFFSET(View!DP$30,View!$E$30,0),\"\")","v":""},{"$f":"IF(OFFSET(View!DQ$30,View!$E$30,0)>0,OFFSET(View!DQ$30,View!$E$30,0),\"\")","v":""},{"$f":"IF(OFFSET(View!DR$30,View!$E$30,0)>0,OFFSET(View!DR$30,View!$E$30,0),\"\")","v":""},{"$f":"IF(OFFSET(View!DS$30,View!$E$30,0)>0,OFFSET(View!DS$30,View!$E$30,0),\"\")","v":""},{"$f":"IF(OFFSET(View!DT$30,View!$E$30,0)>0,OFFSET(View!DT$30,View!$E$30,0),\"\")","v":""},{"$f":"IF(OFFSET(View!DU$30,View!$E$30,0)>0,OFFSET(View!DU$30,View!$E$30,0),\"\")","v":""}]
["Bands per octave",{"$f":"MAX(OFFSET(Data!$E$2,0,(View!$B$27-1)*365), 1)","v":1},null,"LAEQ",{"$f":"IF(E$6<>\"\",OFFSET(Data!C$4,$B$10,(View!$B$27-1)*365),\"\")","v":0},{"$f":"IF(F$6<>\"\",OFFSET(Data!D$4,$B$10,(View!$B$27-1)*365),\"\")","v":0},{"$f":"IF(G$6<>\"\",OFFSET(Data!E$4,$B$10,(View!$B$27-1)*365),\"\")","v":0},{"$f":"IF(H$6<>\"\",OFFSET(Data!F$4,$B$10,(View!$B$27-1)*365),\"\")","v":0},{"$f":"IF(I$6<>\"\",OFFSET(Data!G$4,$B$10,(View!$B$27-1)*365),\"\")","v":0},{"$f":"IF(J$6<>\"\",OFFSET(Data!H$4,$B$10,(View!$B$27-1)*365),\"\")","v":0},{"$f":"IF(K$6<>\"\",OFFSET(Data!I$4,$B$10,(View!$B$27-1)*365),\"\")","v":0},{"$f":"IF(L$6<>\"\",OFFSET(Data!J$4,$B$10,(View!$B$27-1)*365),\"\")","v":0},{"$f":"IF(M$6<>\"\",OFFSET(Data!K$4,$B$10,(View!$B$27-1)*365),\"\")","v":0},{"$f":"IF(N$6<>\"\",OFFSET(Data!L$4,$B$10,(View!$B$27-1)*365),\"\")","v":0},{"$f":"IF(O$6<>\"\",OFFSET(Data!M$4,$B$10,(View!$B$27-1)*365),\"\")","v":0},{"$f":"IF(P$6<>\"\",OFFSET(Data!N$4,$B$10,(View!$B$27-1)*365),\"\")","v":""},{"$f":"IF(Q$6<>\"\",OFFSET(Data!O$4,$B$10,(View!$B$27-1)*365),\"\")","v":""},{"$f":"IF(R$6<>\"\",OFFSET(Data!P$4,$B$10,(View!$B$27-1)*365),\"\")","v":""},{"$f":"IF(S$6<>\"\",OFFSET(Data!Q$4,$B$10,(View!$B$27-1)*365),\"\")","v":""},{"$f":"IF(T$6<>\"\",OFFSET(Data!R$4,$B$10,(View!$B$27-1)*365),\"\")","v":""},{"$f":"IF(U$6<>\"\",OFFSET(Data!S$4,$B$10,(View!$B$27-1)*365),\"\")","v":""},{"$f":"IF(V$6<>\"\",OFFSET(Data!T$4,$B$10,(View!$B$27-1)*365),\"\")","v":""},{"$f":"IF(W$6<>\"\",OFFSET(Data!U$4,$B$10,(View!$B$27-1)*365),\"\")","v":""},{"$f":"IF(X$6<>\"\",OFFSET(Data!V$4,$B$10,(View!$B$27-1)*365),\"\")","v":""},{"$f":"IF(Y$6<>\"\",OFFSET(Data!W$4,$B$10,(View!$B$27-1)*365),\"\")","v":""},{"$f":"IF(Z$6<>\"\",OFFSET(Data!X$4,$B$10,(View!$B$27-1)*365),\"\")","v":""},{"$f":"IF(AA$6<>\"\",OFFSET(Data!Y$4,$B$10,(View!$B$27-1)*365),\"\")","v":""},{"$f":"IF(AB$6<>\"\",OFFSET(Data!Z$4,$B$10,(View!$B$27-1)*365),\"\")","v":""},{"$f":"IF(AC$6<>\"\",OFFSET(Data!AA$4,$B$10,(View!$B$27-1)*365),\"\")","v":""},{"$f":"IF(AD$6<>\"\",OFFSET(Data!AB$4,$B$10,(View!$B$27-1)*365),\"\")","v":""},{"$f":"IF(AE$6<>\"\",OFFSET(Data!AC$4,$B$10,(View!$B$27-1)*365),\"\")","v":""},{"$f":"IF(AF$6<>\"\",OFFSET(Data!AD$4,$B$10,(View!$B$27-1)*365),\"\")","v":""},{"$f":"IF(AG$6<>\"\",OFFSET(Data!AE$4,$B$10,(View!$B$27-1)*365),\"\")","v":""},{"$f":"IF(AH$6<>\"\",OFFSET(Data!AF$4,$B$10,(View!$B$27-1)*365),\"\")","v":""},{"$f":"IF(AI$6<>\"\",OFFSET(Data!AG$4,$B$10,(View!$B$27-1)*365),\"\")","v":""},{"$f":"IF(AJ$6<>\"\",OFFSET(Data!AH$4,$B$10,(View!$B$27-1)*365),\"\")","v":""},{"$f":"IF(AK$6<>\"\",OFFSET(Data!AI$4,$B$10,(View!$B$27-1)*365),\"\")","v":""},{"$f":"IF(AL$6<>\"\",OFFSET(Data!AJ$4,$B$10,(View!$B$27-1)*365),\"\")","v":""},{"$f":"IF(AM$6<>\"\",OFFSET(Data!AK$4,$B$10,(View!$B$27-1)*365),\"\")","v":""},{"$f":"IF(AN$6<>\"\",OFFSET(Data!AL$4,$B$10,(View!$B$27-1)*365),\"\")","v":""},{"$f":"IF(AO$6<>\"\",OFFSET(Data!AM$4,$B$10,(View!$B$27-1)*365),\"\")","v":""},{"$f":"IF(AP$6<>\"\",OFFSET(Data!AN$4,$B$10,(View!$B$27-1)*365),\"\")","v":""},{"$f":"IF(AQ$6<>\"\",OFFSET(Data!AO$4,$B$10,(View!$B$27-1)*365),\"\")","v":""},{"$f":"IF(AR$6<>\"\",OFFSET(Data!AP$4,$B$10,(View!$B$27-1)*365),\"\")","v":""},{"$f":"IF(AS$6<>\"\",OFFSET(Data!AQ$4,$B$10,(View!$B$27-1)*365),\"\")","v":""},{"$f":"IF(AT$6<>\"\",OFFSET(Data!AR$4,$B$10,(View!$B$27-1)*365),\"\")","v":""},{"$f":"IF(AU$6<>\"\",OFFSET(Data!AS$4,$B$10,(View!$B$27-1)*365),\"\")","v":""},{"$f":"IF(AV$6<>\"\",OFFSET(Data!AT$4,$B$10,(View!$B$27-1)*365),\"\")","v":""},{"$f":"IF(AW$6<>\"\",OFFSET(Data!AU$4,$B$10,(View!$B$27-1)*365),\"\")","v":""},{"$f":"IF(AX$6<>\"\",OFFSET(Data!AV$4,$B$10,(View!$B$27-1)*365),\"\")","v":""},{"$f":"IF(AY$6<>\"\",OFFSET(Data!AW$4,$B$10,(View!$B$27-1)*365),\"\")","v":""},{"$f":"IF(AZ$6<>\"\",OFFSET(Data!AX$4,$B$10,(View!$B$27-1)*365),\"\")","v":""},{"$f":"IF(BA$6<>\"\",OFFSET(Data!AY$4,$B$10,(View!$B$27-1)*365),\"\")","v":""},{"$f":"IF(BB$6<>\"\",OFFSET(Data!AZ$4,$B$10,(View!$B$27-1)*365),\"\")","v":""},{"$f":"IF(BC$6<>\"\",OFFSET(Data!BA$4,$B$10,(View!$B$27-1)*365),\"\")","v":""},{"$f":"IF(BD$6<>\"\",OFFSET(Data!BB$4,$B$10,(View!$B$27-1)*365),\"\")","v":""},{"$f":"IF(BE$6<>\"\",OFFSET(Data!BC$4,$B$10,(View!$B$27-1)*365),\"\")","v":""},{"$f":"IF(BF$6<>\"\",OFFSET(Data!BD$4,$B$10,(View!$B$27-1)*365),\"\")","v":""},{"$f":"IF(BG$6<>\"\",OFFSET(Data!BE$4,$B$10,(View!$B$27-1)*365),\"\")","v":""},{"$f":"IF(BH$6<>\"\",OFFSET(Data!BF$4,$B$10,(View!$B$27-1)*365),\"\")","v":""},{"$f":"IF(BI$6<>\"\",OFFSET(Data!BG$4,$B$10,(View!$B$27-1)*365),\"\")","v":""},{"$f":"IF(BJ$6<>\"\",OFFSET(Data!BH$4,$B$10,(View!$B$27-1)*365),\"\")","v":""},{"$f":"IF(BK$6<>\"\",OFFSET(Data!BI$4,$B$10,(View!$B$27-1)*365),\"\")","v":""},{"$f":"IF(BL$6<>\"\",OFFSET(Data!BJ$4,$B$10,(View!$B$27-1)*365),\"\")","v":""},{"$f":"IF(BM$6<>\"\",OFFSET(Data!BK$4,$B$10,(View!$B$27-1)*365),\"\")","v":""},{"$f":"IF(BN$6<>\"\",OFFSET(Data!BL$4,$B$10,(View!$B$27-1)*365),\"\")","v":""},{"$f":"IF(BO$6<>\"\",OFFSET(Data!BM$4,$B$10,(View!$B$27-1)*365),\"\")","v":""},{"$f":"IF(BP$6<>\"\",OFFSET(Data!BN$4,$B$10,(View!$B$27-1)*365),\"\")","v":""},{"$f":"IF(BQ$6<>\"\",OFFSET(Data!BO$4,$B$10,(View!$B$27-1)*365),\"\")","v":""},{"$f":"IF(BR$6<>\"\",OFFSET(Data!BP$4,$B$10,(View!$B$27-1)*365),\"\")","v":""},{"$f":"IF(BS$6<>\"\",OFFSET(Data!BQ$4,$B$10,(View!$B$27-1)*365),\"\")","v":""},{"$f":"IF(BT$6<>\"\",OFFSET(Data!BR$4,$B$10,(View!$B$27-1)*365),\"\")","v":""},{"$f":"IF(BU$6<>\"\",OFFSET(Data!BS$4,$B$10,(View!$B$27-1)*365),\"\")","v":""},{"$f":"IF(BV$6<>\"\",OFFSET(Data!BT$4,$B$10,(View!$B$27-1)*365),\"\")","v":""},{"$f":"IF(BW$6<>\"\",OFFSET(Data!BU$4,$B$10,(View!$B$27-1)*365),\"\")","v":""},{"$f":"IF(BX$6<>\"\",OFFSET(Data!BV$4,$B$10,(View!$B$27-1)*365),\"\")","v":""},{"$f":"IF(BY$6<>\"\",OFFSET(Data!BW$4,$B$10,(View!$B$27-1)*365),\"\")","v":""},{"$f":"IF(BZ$6<>\"\",OFFSET(Data!BX$4,$B$10,(View!$B$27-1)*365),\"\")","v":""},{"$f":"IF(CA$6<>\"\",OFFSET(Data!BY$4,$B$10,(View!$B$27-1)*365),\"\")","v":""},{"$f":"IF(CB$6<>\"\",OFFSET(Data!BZ$4,$B$10,(View!$B$27-1)*365),\"\")","v":""},{"$f":"IF(CC$6<>\"\",OFFSET(Data!CA$4,$B$10,(View!$B$27-1)*365),\"\")","v":""},{"$f":"IF(CD$6<>\"\",OFFSET(Data!CB$4,$B$10,(View!$B$27-1)*365),\"\")","v":""},{"$f":"IF(CE$6<>\"\",OFFSET(Data!CC$4,$B$10,(View!$B$27-1)*365),\"\")","v":""},{"$f":"IF(CF$6<>\"\",OFFSET(Data!CD$4,$B$10,(View!$B$27-1)*365),\"\")","v":""},{"$f":"IF(CG$6<>\"\",OFFSET(Data!CE$4,$B$10,(View!$B$27-1)*365),\"\")","v":""},{"$f":"IF(CH$6<>\"\",OFFSET(Data!CF$4,$B$10,(View!$B$27-1)*365),\"\")","v":""},{"$f":"IF(CI$6<>\"\",OFFSET(Data!CG$4,$B$10,(View!$B$27-1)*365),\"\")","v":""},{"$f":"IF(CJ$6<>\"\",OFFSET(Data!CH$4,$B$10,(View!$B$27-1)*365),\"\")","v":""},{"$f":"IF(CK$6<>\"\",OFFSET(Data!CI$4,$B$10,(View!$B$27-1)*365),\"\")","v":""},{"$f":"IF(CL$6<>\"\",OFFSET(Data!CJ$4,$B$10,(View!$B$27-1)*365),\"\")","v":""},{"$f":"IF(CM$6<>\"\",OFFSET(Data!CK$4,$B$10,(View!$B$27-1)*365),\"\")","v":""},{"$f":"IF(CN$6<>\"\",OFFSET(Data!CL$4,$B$10,(View!$B$27-1)*365),\"\")","v":""},{"$f":"IF(CO$6<>\"\",OFFSET(Data!CM$4,$B$10,(View!$B$27-1)*365),\"\")","v":""},{"$f":"IF(CP$6<>\"\",OFFSET(Data!CN$4,$B$10,(View!$B$27-1)*365),\"\")","v":""},{"$f":"IF(CQ$6<>\"\",OFFSET(Data!CO$4,$B$10,(View!$B$27-1)*365),\"\")","v":""},{"$f":"IF(CR$6<>\"\",OFFSET(Data!CP$4,$B$10,(View!$B$27-1)*365),\"\")","v":""},{"$f":"IF(CS$6<>\"\",OFFSET(Data!CQ$4,$B$10,(View!$B$27-1)*365),\"\")","v":""},{"$f":"IF(CT$6<>\"\",OFFSET(Data!CR$4,$B$10,(View!$B$27-1)*365),\"\")","v":""},{"$f":"IF(CU$6<>\"\",OFFSET(Data!CS$4,$B$10,(View!$B$27-1)*365),\"\")","v":""},{"$f":"IF(CV$6<>\"\",OFFSET(Data!CT$4,$B$10,(View!$B$27-1)*365),\"\")","v":""},{"$f":"IF(CW$6<>\"\",OFFSET(Data!CU$4,$B$10,(View!$B$27-1)*365),\"\")","v":""},{"$f":"IF(CX$6<>\"\",OFFSET(Data!CV$4,$B$10,(View!$B$27-1)*365),\"\")","v":""},{"$f":"IF(CY$6<>\"\",OFFSET(Data!CW$4,$B$10,(View!$B$27-1)*365),\"\")","v":""},{"$f":"IF(CZ$6<>\"\",OFFSET(Data!CX$4,$B$10,(View!$B$27-1)*365),\"\")","v":""},{"$f":"IF(DA$6<>\"\",OFFSET(Data!CY$4,$B$10,(View!$B$27-1)*365),\"\")","v":""},{"$f":"IF(DB$6<>\"\",OFFSET(Data!CZ$4,$B$10,(View!$B$27-1)*365),\"\")","v":""},{"$f":"IF(DC$6<>\"\",OFFSET(Data!DA$4,$B$10,(View!$B$27-1)*365),\"\")","v":""},{"$f":"IF(DD$6<>\"\",OFFSET(Data!DB$4,$B$10,(View!$B$27-1)*365),\"\")","v":""},{"$f":"IF(DE$6<>\"\",OFFSET(Data!DC$4,$B$10,(View!$B$27-1)*365),\"\")","v":""},{"$f":"IF(DF$6<>\"\",OFFSET(Data!DD$4,$B$10,(View!$B$27-1)*365),\"\")","v":""},{"$f":"IF(DG$6<>\"\",OFFSET(Data!DE$4,$B$10,(View!$B$27-1)*365),\"\")","v":""},{"$f":"IF(DH$6<>\"\",OFFSET(Data!DF$4,$B$10,(View!$B$27-1)*365),\"\")","v":""},{"$f":"IF(DI$6<>\"\",OFFSET(Data!DG$4,$B$10,(View!$B$27-1)*365),\"\")","v":""},{"$f":"IF(DJ$6<>\"\",OFFSET(Data!DH$4,$B$10,(View!$B$27-1)*365),\"\")","v":""},{"$f":"IF(DK$6<>\"\",OFFSET(Data!DI$4,$B$10,(View!$B$27-1)*365),\"\")","v":""},{"$f":"IF(DL$6<>\"\",OFFSET(Data!DJ$4,$B$10,(View!$B$27-1)*365),\"\")","v":""},{"$f":"IF(DM$6<>\"\",OFFSET(Data!DK$4,$B$10,(View!$B$27-1)*365),\"\")","v":""},{"$f":"IF(DN$6<>\"\",OFFSET(Data!DL$4,$B$10,(View!$B$27-1)*365),\"\")","v":""},{"$f":"IF(DO$6<>\"\",OFFSET(Data!DM$4,$B$10,(View!$B$27-1)*365),\"\")","v":""},{"$f":"IF(DP$6<>\"\",OFFSET(Data!DN$4,$B$10,(View!$B$27-1)*365),\"\")","v":""},{"$f":"IF(DQ$6<>\"\",OFFSET(Data!DO$4,$B$10,(View!$B$27-1)*365),\"\")","v":""},{"$f":"IF(DR$6<>\"\",OFFSET(Data!DP$4,$B$10,(View!$B$27-1)*365),\"\")","v":""},{"$f":"IF(DS$6<>\"\",OFFSET(Data!DQ$4,$B$10,(View!$B$27-1)*365),\"\")","v":""},{"$f":"IF(DT$6<>\"\",OFFSET(Data!DR$4,$B$10,(View!$B$27-1)*365),\"\")","v":""},{"$f":"IF(DU$6<>\"\",OFFSET(Data!DS$4,$B$10,(View!$B$27-1)*365),\"\")","v":""}]
["Number of bands",{"$f":"MAX(OFFSET(Data!$F$2,0,(View!$B$27-1)*365), 1)","v":1},null,"LCEQ",{"$f":"IF(E$6<>\"\",OFFSET(Data!C$4,$B$10,(View!$B$27-1)*365 + ($B$8 + 1)),\"\")","v":0},{"$f":"IF(F$6<>\"\",OFFSET(Data!D$4,$B$10,(View!$B$27-1)*365 + ($B$8 + 1)),\"\")","v":0},{"$f":"IF(G$6<>\"\",OFFSET(Data!E$4,$B$10,(View!$B$27-1)*365 + ($B$8 + 1)),\"\")","v":0},{"$f":"IF(H$6<>\"\",OFFSET(Data!F$4,$B$10,(View!$B$27-1)*365 + ($B$8 + 1)),\"\")","v":0},{"$f":"IF(I$6<>\"\",OFFSET(Data!G$4,$B$10,(View!$B$27-1)*365 + ($B$8 + 1)),\"\")","v":0},{"$f":"IF(J$6<>\"\",OFFSET(Data!H$4,$B$10,(View!$B$27-1)*365 + ($B$8 + 1)),\"\")","v":0},{"$f":"IF(K$6<>\"\",OFFSET(Data!I$4,$B$10,(View!$B$27-1)*365 + ($B$8 + 1)),\"\")","v":0},{"$f":"IF(L$6<>\"\",OFFSET(Data!J$4,$B$10,(View!$B$27-1)*365 + ($B$8 + 1)),\"\")","v":0},{"$f":"IF(M$6<>\"\",OFFSET(Data!K$4,$B$10,(View!$B$27-1)*365 + ($B$8 + 1)),\"\")","v":0},{"$f":"IF(N$6<>\"\",OFFSET(Data!L$4,$B$10,(View!$B$27-1)*365 + ($B$8 + 1)),\"\")","v":0},{"$f":"IF(O$6<>\"\",OFFSET(Data!M$4,$B$10,(View!$B$27-1)*365 + ($B$8 + 1)),\"\")","v":0},{"$f":"IF(P$6<>\"\",OFFSET(Data!N$4,$B$10,(View!$B$27-1)*365 + ($B$8 + 1)),\"\")","v":""},{"$f":"IF(Q$6<>\"\",OFFSET(Data!O$4,$B$10,(View!$B$27-1)*365 + ($B$8 + 1)),\"\")","v":""},{"$f":"IF(R$6<>\"\",OFFSET(Data!P$4,$B$10,(View!$B$27-1)*365 + ($B$8 + 1)),\"\")","v":""},{"$f":"IF(S$6<>\"\",OFFSET(Data!Q$4,$B$10,(View!$B$27-1)*365 + ($B$8 + 1)),\"\")","v":""},{"$f":"IF(T$6<>\"\",OFFSET(Data!R$4,$B$10,(View!$B$27-1)*365 + ($B$8 + 1)),\"\")","v":""},{"$f":"IF(U$6<>\"\",OFFSET(Data!S$4,$B$10,(View!$B$27-1)*365 + ($B$8 + 1)),\"\")","v":""},{"$f":"IF(V$6<>\"\",OFFSET(Data!T$4,$B$10,(View!$B$27-1)*365 + ($B$8 + 1)),\"\")","v":""},{"$f":"IF(W$6<>\"\",OFFSET(Data!U$4,$B$10,(View!$B$27-1)*365 + ($B$8 + 1)),\"\")","v":""},{"$f":"IF(X$6<>\"\",OFFSET(Data!V$4,$B$10,(View!$B$27-1)*365 + ($B$8 + 1)),\"\")","v":""},{"$f":"IF(Y$6<>\"\",OFFSET(Data!W$4,$B$10,(View!$B$27-1)*365 + ($B$8 + 1)),\"\")","v":""},{"$f":"IF(Z$6<>\"\",OFFSET(Data!X$4,$B$10,(View!$B$27-1)*365 + ($B$8 + 1)),\"\")","v":""},{"$f":"IF(AA$6<>\"\",OFFSET(Data!Y$4,$B$10,(View!$B$27-1)*365 + ($B$8 + 1)),\"\")","v":""},{"$f":"IF(AB$6<>\"\",OFFSET(Data!Z$4,$B$10,(View!$B$27-1)*365 + ($B$8 + 1)),\"\")","v":""},{"$f":"IF(AC$6<>\"\",OFFSET(Data!AA$4,$B$10,(View!$B$27-1)*365 + ($B$8 + 1)),\"\")","v":""},{"$f":"IF(AD$6<>\"\",OFFSET(Data!AB$4,$B$10,(View!$B$27-1)*365 + ($B$8 + 1)),\"\")","v":""},{"$f":"IF(AE$6<>\"\",OFFSET(Data!AC$4,$B$10,(View!$B$27-1)*365 + ($B$8 + 1)),\"\")","v":""},{"$f":"IF(AF$6<>\"\",OFFSET(Data!AD$4,$B$10,(View!$B$27-1)*365 + ($B$8 + 1)),\"\")","v":""},{"$f":"IF(AG$6<>\"\",OFFSET(Data!AE$4,$B$10,(View!$B$27-1)*365 + ($B$8 + 1)),\"\")","v":""},{"$f":"IF(AH$6<>\"\",OFFSET(Data!AF$4,$B$10,(View!$B$27-1)*365 + ($B$8 + 1)),\"\")","v":""},{"$f":"IF(AI$6<>\"\",OFFSET(Data!AG$4,$B$10,(View!$B$27-1)*365 + ($B$8 + 1)),\"\")","v":""},{"$f":"IF(AJ$6<>\"\",OFFSET(Data!AH$4,$B$10,(View!$B$27-1)*365 + ($B$8 + 1)),\"\")","v":""},{"$f":"IF(AK$6<>\"\",OFFSET(Data!AI$4,$B$10,(View!$B$27-1)*365 + ($B$8 + 1)),\"\")","v":""},{"$f":"IF(AL$6<>\"\",OFFSET(Data!AJ$4,$B$10,(View!$B$27-1)*365 + ($B$8 + 1)),\"\")","v":""},{"$f":"IF(AM$6<>\"\",OFFSET(Data!AK$4,$B$10,(View!$B$27-1)*365 + ($B$8 + 1)),\"\")","v":""},{"$f":"IF(AN$6<>\"\",OFFSET(Data!AL$4,$B$10,(View!$B$27-1)*365 + ($B$8 + 1)),\"\")","v":""},{"$f":"IF(AO$6<>\"\",OFFSET(Data!AM$4,$B$10,(View!$B$27-1)*365 + ($B$8 + 1)),\"\")","v":""},{"$f":"IF(AP$6<>\"\",OFFSET(Data!AN$4,$B$10,(View!$B$27-1)*365 + ($B$8 + 1)),\"\")","v":""},{"$f":"IF(AQ$6<>\"\",OFFSET(Data!AO$4,$B$10,(View!$B$27-1)*365 + ($B$8 + 1)),\"\")","v":""},{"$f":"IF(AR$6<>\"\",OFFSET(Data!AP$4,$B$10,(View!$B$27-1)*365 + ($B$8 + 1)),\"\")","v":""},{"$f":"IF(AS$6<>\"\",OFFSET(Data!AQ$4,$B$10,(View!$B$27-1)*365 + ($B$8 + 1)),\"\")","v":""},{"$f":"IF(AT$6<>\"\",OFFSET(Data!AR$4,$B$10,(View!$B$27-1)*365 + ($B$8 + 1)),\"\")","v":""},{"$f":"IF(AU$6<>\"\",OFFSET(Data!AS$4,$B$10,(View!$B$27-1)*365 + ($B$8 + 1)),\"\")","v":""},{"$f":"IF(AV$6<>\"\",OFFSET(Data!AT$4,$B$10,(View!$B$27-1)*365 + ($B$8 + 1)),\"\")","v":""},{"$f":"IF(AW$6<>\"\",OFFSET(Data!AU$4,$B$10,(View!$B$27-1)*365 + ($B$8 + 1)),\"\")","v":""},{"$f":"IF(AX$6<>\"\",OFFSET(Data!AV$4,$B$10,(View!$B$27-1)*365 + ($B$8 + 1)),\"\")","v":""},{"$f":"IF(AY$6<>\"\",OFFSET(Data!AW$4,$B$10,(View!$B$27-1)*365 + ($B$8 + 1)),\"\")","v":""},{"$f":"IF(AZ$6<>\"\",OFFSET(Data!AX$4,$B$10,(View!$B$27-1)*365 + ($B$8 + 1)),\"\")","v":""},{"$f":"IF(BA$6<>\"\",OFFSET(Data!AY$4,$B$10,(View!$B$27-1)*365 + ($B$8 + 1)),\"\")","v":""},{"$f":"IF(BB$6<>\"\",OFFSET(Data!AZ$4,$B$10,(View!$B$27-1)*365 + ($B$8 + 1)),\"\")","v":""},{"$f":"IF(BC$6<>\"\",OFFSET(Data!BA$4,$B$10,(View!$B$27-1)*365 + ($B$8 + 1)),\"\")","v":""},{"$f":"IF(BD$6<>\"\",OFFSET(Data!BB$4,$B$10,(View!$B$27-1)*365 + ($B$8 + 1)),\"\")","v":""},{"$f":"IF(BE$6<>\"\",OFFSET(Data!BC$4,$B$10,(View!$B$27-1)*365 + ($B$8 + 1)),\"\")","v":""},{"$f":"IF(BF$6<>\"\",OFFSET(Data!BD$4,$B$10,(View!$B$27-1)*365 + ($B$8 + 1)),\"\")","v":""},{"$f":"IF(BG$6<>\"\",OFFSET(Data!BE$4,$B$10,(View!$B$27-1)*365 + ($B$8 + 1)),\"\")","v":""},{"$f":"IF(BH$6<>\"\",OFFSET(Data!BF$4,$B$10,(View!$B$27-1)*365 + ($B$8 + 1)),\"\")","v":""},{"$f":"IF(BI$6<>\"\",OFFSET(Data!BG$4,$B$10,(View!$B$27-1)*365 + ($B$8 + 1)),\"\")","v":""},{"$f":"IF(BJ$6<>\"\",OFFSET(Data!BH$4,$B$10,(View!$B$27-1)*365 + ($B$8 + 1)),\"\")","v":""},{"$f":"IF(BK$6<>\"\",OFFSET(Data!BI$4,$B$10,(View!$B$27-1)*365 + ($B$8 + 1)),\"\")","v":""},{"$f":"IF(BL$6<>\"\",OFFSET(Data!BJ$4,$B$10,(View!$B$27-1)*365 + ($B$8 + 1)),\"\")","v":""},{"$f":"IF(BM$6<>\"\",OFFSET(Data!BK$4,$B$10,(View!$B$27-1)*365 + ($B$8 + 1)),\"\")","v":""},{"$f":"IF(BN$6<>\"\",OFFSET(Data!BL$4,$B$10,(View!$B$27-1)*365 + ($B$8 + 1)),\"\")","v":""},{"$f":"IF(BO$6<>\"\",OFFSET(Data!BM$4,$B$10,(View!$B$27-1)*365 + ($B$8 + 1)),\"\")","v":""},{"$f":"IF(BP$6<>\"\",OFFSET(Data!BN$4,$B$10,(View!$B$27-1)*365 + ($B$8 + 1)),\"\")","v":""},{"$f":"IF(BQ$6<>\"\",OFFSET(Data!BO$4,$B$10,(View!$B$27-1)*365 + ($B$8 + 1)),\"\")","v":""},{"$f":"IF(BR$6<>\"\",OFFSET(Data!BP$4,$B$10,(View!$B$27-1)*365 + ($B$8 + 1)),\"\")","v":""},{"$f":"IF(BS$6<>\"\",OFFSET(Data!BQ$4,$B$10,(View!$B$27-1)*365 + ($B$8 + 1)),\"\")","v":""},{"$f":"IF(BT$6<>\"\",OFFSET(Data!BR$4,$B$10,(View!$B$27-1)*365 + ($B$8 + 1)),\"\")","v":""},{"$f":"IF(BU$6<>\"\",OFFSET(Data!BS$4,$B$10,(View!$B$27-1)*365 + ($B$8 + 1)),\"\")","v":""},{"$f":"IF(BV$6<>\"\",OFFSET(Data!BT$4,$B$10,(View!$B$27-1)*365 + ($B$8 + 1)),\"\")","v":""},{"$f":"IF(BW$6<>\"\",OFFSET(Data!BU$4,$B$10,(View!$B$27-1)*365 + ($B$8 + 1)),\"\")","v":""},{"$f":"IF(BX$6<>\"\",OFFSET(Data!BV$4,$B$10,(View!$B$27-1)*365 + ($B$8 + 1)),\"\")","v":""},{"$f":"IF(BY$6<>\"\",OFFSET(Data!BW$4,$B$10,(View!$B$27-1)*365 + ($B$8 + 1)),\"\")","v":""},{"$f":"IF(BZ$6<>\"\",OFFSET(Data!BX$4,$B$10,(View!$B$27-1)*365 + ($B$8 + 1)),\"\")","v":""},{"$f":"IF(CA$6<>\"\",OFFSET(Data!BY$4,$B$10,(View!$B$27-1)*365 + ($B$8 + 1)),\"\")","v":""},{"$f":"IF(CB$6<>\"\",OFFSET(Data!BZ$4,$B$10,(View!$B$27-1)*365 + ($B$8 + 1)),\"\")","v":""},{"$f":"IF(CC$6<>\"\",OFFSET(Data!CA$4,$B$10,(View!$B$27-1)*365 + ($B$8 + 1)),\"\")","v":""},{"$f":"IF(CD$6<>\"\",OFFSET(Data!CB$4,$B$10,(View!$B$27-1)*365 + ($B$8 + 1)),\"\")","v":""},{"$f":"IF(CE$6<>\"\",OFFSET(Data!CC$4,$B$10,(View!$B$27-1)*365 + ($B$8 + 1)),\"\")","v":""},{"$f":"IF(CF$6<>\"\",OFFSET(Data!CD$4,$B$10,(View!$B$27-1)*365 + ($B$8 + 1)),\"\")","v":""},{"$f":"IF(CG$6<>\"\",OFFSET(Data!CE$4,$B$10,(View!$B$27-1)*365 + ($B$8 + 1)),\"\")","v":""},{"$f":"IF(CH$6<>\"\",OFFSET(Data!CF$4,$B$10,(View!$B$27-1)*365 + ($B$8 + 1)),\"\")","v":""},{"$f":"IF(CI$6<>\"\",OFFSET(Data!CG$4,$B$10,(View!$B$27-1)*365 + ($B$8 + 1)),\"\")","v":""},{"$f":"IF(CJ$6<>\"\",OFFSET(Data!CH$4,$B$10,(View!$B$27-1)*365 + ($B$8 + 1)),\"\")","v":""},{"$f":"IF(CK$6<>\"\",OFFSET(Data!CI$4,$B$10,(View!$B$27-1)*365 + ($B$8 + 1)),\"\")","v":""},{"$f":"IF(CL$6<>\"\",OFFSET(Data!CJ$4,$B$10,(View!$B$27-1)*365 + ($B$8 + 1)),\"\")","v":""},{"$f":"IF(CM$6<>\"\",OFFSET(Data!CK$4,$B$10,(View!$B$27-1)*365 + ($B$8 + 1)),\"\")","v":""},{"$f":"IF(CN$6<>\"\",OFFSET(Data!CL$4,$B$10,(View!$B$27-1)*365 + ($B$8 + 1)),\"\")","v":""},{"$f":"IF(CO$6<>\"\",OFFSET(Data!CM$4,$B$10,(View!$B$27-1)*365 + ($B$8 + 1)),\"\")","v":""},{"$f":"IF(CP$6<>\"\",OFFSET(Data!CN$4,$B$10,(View!$B$27-1)*365 + ($B$8 + 1)),\"\")","v":""},{"$f":"IF(CQ$6<>\"\",OFFSET(Data!CO$4,$B$10,(View!$B$27-1)*365 + ($B$8 + 1)),\"\")","v":""},{"$f":"IF(CR$6<>\"\",OFFSET(Data!CP$4,$B$10,(View!$B$27-1)*365 + ($B$8 + 1)),\"\")","v":""},{"$f":"IF(CS$6<>\"\",OFFSET(Data!CQ$4,$B$10,(View!$B$27-1)*365 + ($B$8 + 1)),\"\")","v":""},{"$f":"IF(CT$6<>\"\",OFFSET(Data!CR$4,$B$10,(View!$B$27-1)*365 + ($B$8 + 1)),\"\")","v":""},{"$f":"IF(CU$6<>\"\",OFFSET(Data!CS$4,$B$10,(View!$B$27-1)*365 + ($B$8 + 1)),\"\")","v":""},{"$f":"IF(CV$6<>\"\",OFFSET(Data!CT$4,$B$10,(View!$B$27-1)*365 + ($B$8 + 1)),\"\")","v":""},{"$f":"IF(CW$6<>\"\",OFFSET(Data!CU$4,$B$10,(View!$B$27-1)*365 + ($B$8 + 1)),\"\")","v":""},{"$f":"IF(CX$6<>\"\",OFFSET(Data!CV$4,$B$10,(View!$B$27-1)*365 + ($B$8 + 1)),\"\")","v":""},{"$f":"IF(CY$6<>\"\",OFFSET(Data!CW$4,$B$10,(View!$B$27-1)*365 + ($B$8 + 1)),\"\")","v":""},{"$f":"IF(CZ$6<>\"\",OFFSET(Data!CX$4,$B$10,(View!$B$27-1)*365 + ($B$8 + 1)),\"\")","v":""},{"$f":"IF(DA$6<>\"\",OFFSET(Data!CY$4,$B$10,(View!$B$27-1)*365 + ($B$8 + 1)),\"\")","v":""},{"$f":"IF(DB$6<>\"\",OFFSET(Data!CZ$4,$B$10,(View!$B$27-1)*365 + ($B$8 + 1)),\"\")","v":""},{"$f":"IF(DC$6<>\"\",OFFSET(Data!DA$4,$B$10,(View!$B$27-1)*365 + ($B$8 + 1)),\"\")","v":""},{"$f":"IF(DD$6<>\"\",OFFSET(Data!DB$4,$B$10,(View!$B$27-1)*365 + ($B$8 + 1)),\"\")","v":""},{"$f":"IF(DE$6<>\"\",OFFSET(Data!DC$4,$B$10,(View!$B$27-1)*365 + ($B$8 + 1)),\"\")","v":""},{"$f":"IF(DF$6<>\"\",OFFSET(Data!DD$4,$B$10,(View!$B$27-1)*365 + ($B$8 + 1)),\"\")","v":""},{"$f":"IF(DG$6<>\"\",OFFSET(Data!DE$4,$B$10,(View!$B$27-1)*365 + ($B$8 + 1)),\"\")","v":""},{"$f":"IF(DH$6<>\"\",OFFSET(Data!DF$4,$B$10,(View!$B$27-1)*365 + ($B$8 + 1)),\"\")","v":""},{"$f":"IF(DI$6<>\"\",OFFSET(Data!DG$4,$B$10,(View!$B$27-1)*365 + ($B$8 + 1)),\"\")","v":""},{"$f":"IF(DJ$6<>\"\",OFFSET(Data!DH$4,$B$10,(View!$B$27-1)*365 + ($B$8 + 1)),\"\")","v":""},{"$f":"IF(DK$6<>\"\",OFFSET(Data!DI$4,$B$10,(View!$B$27-1)*365 + ($B$8 + 1)),\"\")","v":""},{"$f":"IF(DL$6<>\"\",OFFSET(Data!DJ$4,$B$10,(View!$B$27-1)*365 + ($B$8 + 1)),\"\")","v":""},{"$f":"IF(DM$6<>\"\",OFFSET(Data!DK$4,$B$10,(View!$B$27-1)*365 + ($B$8 + 1)),\"\")","v":""},{"$f":"IF(DN$6<>\"\",OFFSET(Data!DL$4,$B$10,(View!$B$27-1)*365 + ($B$8 + 1)),\"\")","v":""},{"$f":"IF(DO$6<>\"\",OFFSET(Data!DM$4,$B$10,(View!$B$27-1)*365 + ($B$8 + 1)),\"\")","v":""},{"$f":"IF(DP$6<>\"\",OFFSET(Data!DN$4,$B$10,(View!$B$27-1)*365 + ($B$8 + 1)),\"\")","v":""},{"$f":"IF(DQ$6<>\"\",OFFSET(Data!DO$4,$B$10,(View!$B$27-1)*365 + ($B$8 + 1)),\"\")","v":""},{"$f":"IF(DR$6<>\"\",OFFSET(Data!DP$4,$B$10,(View!$B$27-1)*365 + ($B$8 + 1)),\"\")","v":""},{"$f":"IF(DS$6<>\"\",OFFSET(Data!DQ$4,$B$10,(View!$B$27-1)*365 + ($B$8 + 1)),\"\")","v":""},{"$f":"IF(DT$6<>\"\",OFFSET(Data!DR$4,$B$10,(View!$B$27-1)*365 + ($B$8 + 1)),\"\")","v":""},{"$f":"IF(DU$6<>\"\",OFFSET(Data!DS$4,$B$10,(View!$B$27-1)*365 + ($B$8 + 1)),\"\")","v":""}]
[null,null,null,"LZEQ",{"$f":"IF(E$6<>\"\",OFFSET(Data!C$4,$B$10,(View!$B$27-1)*365 + ($B$8 + 1)*2),\"\")","v":0},{"$f":"IF(F$6<>\"\",OFFSET(Data!D$4,$B$10,(View!$B$27-1)*365 + ($B$8 + 1)*2),\"\")","v":0},{"$f":"IF(G$6<>\"\",OFFSET(Data!E$4,$B$10,(View!$B$27-1)*365 + ($B$8 + 1)*2),\"\")","v":0},{"$f":"IF(H$6<>\"\",OFFSET(Data!F$4,$B$10,(View!$B$27-1)*365 + ($B$8 + 1)*2),\"\")","v":0},{"$f":"IF(I$6<>\"\",OFFSET(Data!G$4,$B$10,(View!$B$27-1)*365 + ($B$8 + 1)*2),\"\")","v":0},{"$f":"IF(J$6<>\"\",OFFSET(Data!H$4,$B$10,(View!$B$27-1)*365 + ($B$8 + 1)*2),\"\")","v":0},{"$f":"IF(K$6<>\"\",OFFSET(Data!I$4,$B$10,(View!$B$27-1)*365 + ($B$8 + 1)*2),\"\")","v":0},{"$f":"IF(L$6<>\"\",OFFSET(Data!J$4,$B$10,(View!$B$27-1)*365 + ($B$8 + 1)*2),\"\")","v":0},{"$f":"IF(M$6<>\"\",OFFSET(Data!K$4,$B$10,(View!$B$27-1)*365 + ($B$8 + 1)*2),\"\")","v":0},{"$f":"IF(N$6<>\"\",OFFSET(Data!L$4,$B$10,(View!$B$27-1)*365 + ($B$8 + 1)*2),\"\")","v":0},{"$f":"IF(O$6<>\"\",OFFSET(Data!M$4,$B$10,(View!$B$27-1)*365 + ($B$8 + 1)*2),\"\")","v":0},{"$f":"IF(P$6<>\"\",OFFSET(Data!N$4,$B$10,(View!$B$27-1)*365 + ($B$8 + 1)*2),\"\")","v":""},{"$f":"IF(Q$6<>\"\",OFFSET(Data!O$4,$B$10,(View!$B$27-1)*365 + ($B$8 + 1)*2),\"\")","v":""},{"$f":"IF(R$6<>\"\",OFFSET(Data!P$4,$B$10,(View!$B$27-1)*365 + ($B$8 + 1)*2),\"\")","v":""},{"$f":"IF(S$6<>\"\",OFFSET(Data!Q$4,$B$10,(View!$B$27-1)*365 + ($B$8 + 1)*2),\"\")","v":""},{"$f":"IF(T$6<>\"\",OFFSET(Data!R$4,$B$10,(View!$B$27-1)*365 + ($B$8 + 1)*2),\"\")","v":""},{"$f":"IF(U$6<>\"\",OFFSET(Data!S$4,$B$10,(View!$B$27-1)*365 + ($B$8 + 1)*2),\"\")","v":""},{"$f":"IF(V$6<>\"\",OFFSET(Data!T$4,$B$10,(View!$B$27-1)*365 + ($B$8 + 1)*2),\"\")","v":""},{"$f":"IF(W$6<>\"\",OFFSET(Data!U$4,$B$10,(View!$B$27-1)*365 + ($B$8 + 1)*2),\"\")","v":""},{"$f":"IF(X$6<>\"\",OFFSET(Data!V$4,$B$10,(View!$B$27-1)*365 + ($B$8 + 1)*2),\"\")","v":""},{"$f":"IF(Y$6<>\"\",OFFSET(Data!W$4,$B$10,(View!$B$27-1)*365 + ($B$8 + 1)*2),\"\")","v":""},{"$f":"IF(Z$6<>\"\",OFFSET(Data!X$4,$B$10,(View!$B$27-1)*365 + ($B$8 + 1)*2),\"\")","v":""},{"$f":"IF(AA$6<>\"\",OFFSET(Data!Y$4,$B$10,(View!$B$27-1)*365 + ($B$8 + 1)*2),\"\")","v":""},{"$f":"IF(AB$6<>\"\",OFFSET(Data!Z$4,$B$10,(View!$B$27-1)*365 + ($B$8 + 1)*2),\"\")","v":""},{"$f":"IF(AC$6<>\"\",OFFSET(Data!AA$4,$B$10,(View!$B$27-1)*365 + ($B$8 + 1)*2),\"\")","v":""},{"$f":"IF(AD$6<>\"\",OFFSET(Data!AB$4,$B$10,(View!$B$27-1)*365 + ($B$8 + 1)*2),\"\")","v":""},{"$f":"IF(AE$6<>\"\",OFFSET(Data!AC$4,$B$10,(View!$B$27-1)*365 + ($B$8 + 1)*2),\"\")","v":""},{"$f":"IF(AF$6<>\"\",OFFSET(Data!AD$4,$B$10,(View!$B$27-1)*365 + ($B$8 + 1)*2),\"\")","v":""},{"$f":"IF(AG$6<>\"\",OFFSET(Data!AE$4,$B$10,(View!$B$27-1)*365 + ($B$8 + 1)*2),\"\")","v":""},{"$f":"IF(AH$6<>\"\",OFFSET(Data!AF$4,$B$10,(View!$B$27-1)*365 + ($B$8 + 1)*2),\"\")","v":""},{"$f":"IF(AI$6<>\"\",OFFSET(Data!AG$4,$B$10,(View!$B$27-1)*365 + ($B$8 + 1)*2),\"\")","v":""},{"$f":"IF(AJ$6<>\"\",OFFSET(Data!AH$4,$B$10,(View!$B$27-1)*365 + ($B$8 + 1)*2),\"\")","v":""},{"$f":"IF(AK$6<>\"\",OFFSET(Data!AI$4,$B$10,(View!$B$27-1)*365 + ($B$8 + 1)*2),\"\")","v":""},{"$f":"IF(AL$6<>\"\",OFFSET(Data!AJ$4,$B$10,(View!$B$27-1)*365 + ($B$8 + 1)*2),\"\")","v":""},{"$f":"IF(AM$6<>\"\",OFFSET(Data!AK$4,$B$10,(View!$B$27-1)*365 + ($B$8 + 1)*2),\"\")","v":""},{"$f":"IF(AN$6<>\"\",OFFSET(Data!AL$4,$B$10,(View!$B$27-1)*365 + ($B$8 + 1)*2),\"\")","v":""},{"$f":"IF(AO$6<>\"\",OFFSET(Data!AM$4,$B$10,(View!$B$27-1)*365 + ($B$8 + 1)*2),\"\")","v":""},{"$f":"IF(AP$6<>\"\",OFFSET(Data!AN$4,$B$10,(View!$B$27-1)*365 + ($B$8 + 1)*2),\"\")","v":""},{"$f":"IF(AQ$6<>\"\",OFFSET(Data!AO$4,$B$10,(View!$B$27-1)*365 + ($B$8 + 1)*2),\"\")","v":""},{"$f":"IF(AR$6<>\"\",OFFSET(Data!AP$4,$B$10,(View!$B$27-1)*365 + ($B$8 + 1)*2),\"\")","v":""},{"$f":"IF(AS$6<>\"\",OFFSET(Data!AQ$4,$B$10,(View!$B$27-1)*365 + ($B$8 + 1)*2),\"\")","v":""},{"$f":"IF(AT$6<>\"\",OFFSET(Data!AR$4,$B$10,(View!$B$27-1)*365 + ($B$8 + 1)*2),\"\")","v":""},{"$f":"IF(AU$6<>\"\",OFFSET(Data!AS$4,$B$10,(View!$B$27-1)*365 + ($B$8 + 1)*2),\"\")","v":""},{"$f":"IF(AV$6<>\"\",OFFSET(Data!AT$4,$B$10,(View!$B$27-1)*365 + ($B$8 + 1)*2),\"\")","v":""},{"$f":"IF(AW$6<>\"\",OFFSET(Data!AU$4,$B$10,(View!$B$27-1)*365 + ($B$8 + 1)*2),\"\")","v":""},{"$f":"IF(AX$6<>\"\",OFFSET(Data!AV$4,$B$10,(View!$B$27-1)*365 + ($B$8 + 1)*2),\"\")","v":""},{"$f":"IF(AY$6<>\"\",OFFSET(Data!AW$4,$B$10,(View!$B$27-1)*365 + ($B$8 + 1)*2),\"\")","v":""},{"$f":"IF(AZ$6<>\"\",OFFSET(Data!AX$4,$B$10,(View!$B$27-1)*365 + ($B$8 + 1)*2),\"\")","v":""},{"$f":"IF(BA$6<>\"\",OFFSET(Data!AY$4,$B$10,(View!$B$27-1)*365 + ($B$8 + 1)*2),\"\")","v":""},{"$f":"IF(BB$6<>\"\",OFFSET(Data!AZ$4,$B$10,(View!$B$27-1)*365 + ($B$8 + 1)*2),\"\")","v":""},{"$f":"IF(BC$6<>\"\",OFFSET(Data!BA$4,$B$10,(View!$B$27-1)*365 + ($B$8 + 1)*2),\"\")","v":""},{"$f":"IF(BD$6<>\"\",OFFSET(Data!BB$4,$B$10,(View!$B$27-1)*365 + ($B$8 + 1)*2),\"\")","v":""},{"$f":"IF(BE$6<>\"\",OFFSET(Data!BC$4,$B$10,(View!$B$27-1)*365 + ($B$8 + 1)*2),\"\")","v":""},{"$f":"IF(BF$6<>\"\",OFFSET(Data!BD$4,$B$10,(View!$B$27-1)*365 + ($B$8 + 1)*2),\"\")","v":""},{"$f":"IF(BG$6<>\"\",OFFSET(Data!BE$4,$B$10,(View!$B$27-1)*365 + ($B$8 + 1)*2),\"\")","v":""},{"$f":"IF(BH$6<>\"\",OFFSET(Data!BF$4,$B$10,(View!$B$27-1)*365 + ($B$8 + 1)*2),\"\")","v":""},{"$f":"IF(BI$6<>\"\",OFFSET(Data!BG$4,$B$10,(View!$B$27-1)*365 + ($B$8 + 1)*2),\"\")","v":""},{"$f":"IF(BJ$6<>\"\",OFFSET(Data!BH$4,$B$10,(View!$B$27-1)*365 + ($B$8 + 1)*2),\"\")","v":""},{"$f":"IF(BK$6<>\"\",OFFSET(Data!BI$4,$B$10,(View!$B$27-1)*365 + ($B$8 + 1)*2),\"\")","v":""},{"$f":"IF(BL$6<>\"\",OFFSET(Data!BJ$4,$B$10,(View!$B$27-1)*365 + ($B$8 + 1)*2),\"\")","v":""},{"$f":"IF(BM$6<>\"\",OFFSET(Data!BK$4,$B$10,(View!$B$27-1)*365 + ($B$8 + 1)*2),\"\")","v":""},{"$f":"IF(BN$6<>\"\",OFFSET(Data!BL$4,$B$10,(View!$B$27-1)*365 + ($B$8 + 1)*2),\"\")","v":""},{"$f":"IF(BO$6<>\"\",OFFSET(Data!BM$4,$B$10,(View!$B$27-1)*365 + ($B$8 + 1)*2),\"\")","v":""},{"$f":"IF(BP$6<>\"\",OFFSET(Data!BN$4,$B$10,(View!$B$27-1)*365 + ($B$8 + 1)*2),\"\")","v":""},{"$f":"IF(BQ$6<>\"\",OFFSET(Data!BO$4,$B$10,(View!$B$27-1)*365 + ($B$8 + 1)*2),\"\")","v":""},{"$f":"IF(BR$6<>\"\",OFFSET(Data!BP$4,$B$10,(View!$B$27-1)*365 + ($B$8 + 1)*2),\"\")","v":""},{"$f":"IF(BS$6<>\"\",OFFSET(Data!BQ$4,$B$10,(View!$B$27-1)*365 + ($B$8 + 1)*2),\"\")","v":""},{"$f":"IF(BT$6<>\"\",OFFSET(Data!BR$4,$B$10,(View!$B$27-1)*365 + ($B$8 + 1)*2),\"\")","v":""},{"$f":"IF(BU$6<>\"\",OFFSET(Data!BS$4,$B$10,(View!$B$27-1)*365 + ($B$8 + 1)*2),\"\")","v":""},{"$f":"IF(BV$6<>\"\",OFFSET(Data!BT$4,$B$10,(View!$B$27-1)*365 + ($B$8 + 1)*2),\"\")","v":""},{"$f":"IF(BW$6<>\"\",OFFSET(Data!BU$4,$B$10,(View!$B$27-1)*365 + ($B$8 + 1)*2),\"\")","v":""},{"$f":"IF(BX$6<>\"\",OFFSET(Data!BV$4,$B$10,(View!$B$27-1)*365 + ($B$8 + 1)*2),\"\")","v":""},{"$f":"IF(BY$6<>\"\",OFFSET(Data!BW$4,$B$10,(View!$B$27-1)*365 + ($B$8 + 1)*2),\"\")","v":""},{"$f":"IF(BZ$6<>\"\",OFFSET(Data!BX$4,$B$10,(View!$B$27-1)*365 + ($B$8 + 1)*2),\"\")","v":""},{"$f":"IF(CA$6<>\"\",OFFSET(Data!BY$4,$B$10,(View!$B$27-1)*365 + ($B$8 + 1)*2),\"\")","v":""},{"$f":"IF(CB$6<>\"\",OFFSET(Data!BZ$4,$B$10,(View!$B$27-1)*365 + ($B$8 + 1)*2),\"\")","v":""},{"$f":"IF(CC$6<>\"\",OFFSET(Data!CA$4,$B$10,(View!$B$27-1)*365 + ($B$8 + 1)*2),\"\")","v":""},{"$f":"IF(CD$6<>\"\",OFFSET(Data!CB$4,$B$10,(View!$B$27-1)*365 + ($B$8 + 1)*2),\"\")","v":""},{"$f":"IF(CE$6<>\"\",OFFSET(Data!CC$4,$B$10,(View!$B$27-1)*365 + ($B$8 + 1)*2),\"\")","v":""},{"$f":"IF(CF$6<>\"\",OFFSET(Data!CD$4,$B$10,(View!$B$27-1)*365 + ($B$8 + 1)*2),\"\")","v":""},{"$f":"IF(CG$6<>\"\",OFFSET(Data!CE$4,$B$10,(View!$B$27-1)*365 + ($B$8 + 1)*2),\"\")","v":""},{"$f":"IF(CH$6<>\"\",OFFSET(Data!CF$4,$B$10,(View!$B$27-1)*365 + ($B$8 + 1)*2),\"\")","v":""},{"$f":"IF(CI$6<>\"\",OFFSET(Data!CG$4,$B$10,(View!$B$27-1)*365 + ($B$8 + 1)*2),\"\")","v":""},{"$f":"IF(CJ$6<>\"\",OFFSET(Data!CH$4,$B$10,(View!$B$27-1)*365 + ($B$8 + 1)*2),\"\")","v":""},{"$f":"IF(CK$6<>\"\",OFFSET(Data!CI$4,$B$10,(View!$B$27-1)*365 + ($B$8 + 1)*2),\"\")","v":""},{"$f":"IF(CL$6<>\"\",OFFSET(Data!CJ$4,$B$10,(View!$B$27-1)*365 + ($B$8 + 1)*2),\"\")","v":""},{"$f":"IF(CM$6<>\"\",OFFSET(Data!CK$4,$B$10,(View!$B$27-1)*365 + ($B$8 + 1)*2),\"\")","v":""},{"$f":"IF(CN$6<>\"\",OFFSET(Data!CL$4,$B$10,(View!$B$27-1)*365 + ($B$8 + 1)*2),\"\")","v":""},{"$f":"IF(CO$6<>\"\",OFFSET(Data!CM$4,$B$10,(View!$B$27-1)*365 + ($B$8 + 1)*2),\"\")","v":""},{"$f":"IF(CP$6<>\"\",OFFSET(Data!CN$4,$B$10,(View!$B$27-1)*365 + ($B$8 + 1)*2),\"\")","v":""},{"$f":"IF(CQ$6<>\"\",OFFSET(Data!CO$4,$B$10,(View!$B$27-1)*365 + ($B$8 + 1)*2),\"\")","v":""},{"$f":"IF(CR$6<>\"\",OFFSET(Data!CP$4,$B$10,(View!$B$27-1)*365 + ($B$8 + 1)*2),\"\")","v":""},{"$f":"IF(CS$6<>\"\",OFFSET(Data!CQ$4,$B$10,(View!$B$27-1)*365 + ($B$8 + 1)*2),\"\")","v":""},{"$f":"IF(CT$6<>\"\",OFFSET(Data!CR$4,$B$10,(View!$B$27-1)*365 + ($B$8 + 1)*2),\"\")","v":""},{"$f":"IF(CU$6<>\"\",OFFSET(Data!CS$4,$B$10,(View!$B$27-1)*365 + ($B$8 + 1)*2),\"\")","v":""},{"$f":"IF(CV$6<>\"\",OFFSET(Data!CT$4,$B$10,(View!$B$27-1)*365 + ($B$8 + 1)*2),\"\")","v":""},{"$f":"IF(CW$6<>\"\",OFFSET(Data!CU$4,$B$10,(View!$B$27-1)*365 + ($B$8 + 1)*2),\"\")","v":""},{"$f":"IF(CX$6<>\"\",OFFSET(Data!CV$4,$B$10,(View!$B$27-1)*365 + ($B$8 + 1)*2),\"\")","v":""},{"$f":"IF(CY$6<>\"\",OFFSET(Data!CW$4,$B$10,(View!$B$27-1)*365 + ($B$8 + 1)*2),\"\")","v":""},{"$f":"IF(CZ$6<>\"\",OFFSET(Data!CX$4,$B$10,(View!$B$27-1)*365 + ($B$8 + 1)*2),\"\")","v":""},{"$f":"IF(DA$6<>\"\",OFFSET(Data!CY$4,$B$10,(View!$B$27-1)*365 + ($B$8 + 1)*2),\"\")","v":""},{"$f":"IF(DB$6<>\"\",OFFSET(Data!CZ$4,$B$10,(View!$B$27-1)*365 + ($B$8 + 1)*2),\"\")","v":""},{"$f":"IF(DC$6<>\"\",OFFSET(Data!DA$4,$B$10,(View!$B$27-1)*365 + ($B$8 + 1)*2),\"\")","v":""},{"$f":"IF(DD$6<>\"\",OFFSET(Data!DB$4,$B$10,(View!$B$27-1)*365 + ($B$8 + 1)*2),\"\")","v":""},{"$f":"IF(DE$6<>\"\",OFFSET(Data!DC$4,$B$10,(View!$B$27-1)*365 + ($B$8 + 1)*2),\"\")","v":""},{"$f":"IF(DF$6<>\"\",OFFSET(Data!DD$4,$B$10,(View!$B$27-1)*365 + ($B$8 + 1)*2),\"\")","v":""},{"$f":"IF(DG$6<>\"\",OFFSET(Data!DE$4,$B$10,(View!$B$27-1)*365 + ($B$8 + 1)*2),\"\")","v":""},{"$f":"IF(DH$6<>\"\",OFFSET(Data!DF$4,$B$10,(View!$B$27-1)*365 + ($B$8 + 1)*2),\"\")","v":""},{"$f":"IF(DI$6<>\"\",OFFSET(Data!DG$4,$B$10,(View!$B$27-1)*365 + ($B$8 + 1)*2),\"\")","v":""},{"$f":"IF(DJ$6<>\"\",OFFSET(Data!DH$4,$B$10,(View!$B$27-1)*365 + ($B$8 + 1)*2),\"\")","v":""},{"$f":"IF(DK$6<>\"\",OFFSET(Data!DI$4,$B$10,(View!$B$27-1)*365 + ($B$8 + 1)*2),\"\")","v":""},{"$f":"IF(DL$6<>\"\",OFFSET(Data!DJ$4,$B$10,(View!$B$27-1)*365 + ($B$8 + 1)*2),\"\")","v":""},{"$f":"IF(DM$6<>\"\",OFFSET(Data!DK$4,$B$10,(View!$B$27-1)*365 + ($B$8 + 1)*2),\"\")","v":""},{"$f":"IF(DN$6<>\"\",OFFSET(Data!DL$4,$B$10,(View!$B$27-1)*365 + ($B$8 + 1)*2),\"\")","v":""},{"$f":"IF(DO$6<>\"\",OFFSET(Data!DM$4,$B$10,(View!$B$27-1)*365 + ($B$8 + 1)*2),\"\")","v":""},{"$f":"IF(DP$6<>\"\",OFFSET(Data!DN$4,$B$10,(View!$B$27-1)*365 + ($B$8 + 1)*2),\"\")","v":""},{"$f":"IF(DQ$6<>\"\",OFFSET(Data!DO$4,$B$10,(View!$B$27-1)*365 + ($B$8 + 1)*2),\"\")","v":""},{"$f":"IF(DR$6<>\"\",OFFSET(Data!DP$4,$B$10,(View!$B$27-1)*365 + ($B$8 + 1)*2),\"\")","v":""},{"$f":"IF(DS$6<>\"\",OFFSET(Data!DQ$4,$B$10,(View!$B$27-1)*365 + ($B$8 + 1)*2),\"\")","v":""},{"$f":"IF(DT$6<>\"\",OFFSET(Data!DR$4,$B$10,(View!$B$27-1)*365 + ($B$8 + 1)*2),\"\")","v":""},{"$f":"IF(DU$6<>\"\",OFFSET(Data!DS$4,$B$10,(View!$B$27-1)*365 + ($B$8 + 1)*2),\"\")","v":""}]
["Logging entry index",1]
["Time",{"$f":"OFFSET(Data!A$4,$B$10,(View!$B$27-1)*365)","v":"00:00:00"}]
["Interval (sec)",{"$f":"OFFSET(Data!B$4,$B$10,(View!$B$27-1)*365)","v":0}]
[]
[]
[]
[]
[]
[]
[]
[]
[]
[]
[]
[]
[]
["Filename",{"$f":"OFFSET(Data!A1,0,(View!$B$27-1)*365)","v":0}]
["Index",1]
[]
[]
[null,null,null,null,{"$f":"IF($B$7>3,IF($B$7>6,3,2),IF($B$7>1,1,0))","v":0},31.5,63,125,250,500,1000,2000,4000,8000,16000]
[null,null,null,null,null,25,31.5,40,50,63,80,100,125,160,200,250,315,400,500,625,800,1000,1250,1600,2000,2500,3150,4000,5000,6250,8000,10000,12500,16000,20000]
[null,null,null,null,null,23.7,26.6,29.9,33.5,37.6,42.2,47.3,53,60,67,75,84,94,106,119,133,150,168,188,211,{"$f":"F32*10","v":237},266,299,335,376,422,473,530,600,670,750,840,940,1060,1190,1330,1500,1680,1880,2110,2370,2660,2990,3350,3760,4220,4730,5300,6000,6700,7500,8400,9400,10600,11900,13300,15000,16800,18800,21100]
[null,null,null,null,null,23,24.4,25.9,27.4,29,30.7,32.5,34.5,36.5,38.700000000000003,41,43.4,46,48.7,52,55,58,61,65,69,73,77,82,87,92,97,103,109,115,122,130,137,145,154,163,173,183,194,205,218,230,244,259,274,290,307,325,345,365,387,410,434,460,487,520,550,580,610,650,690,730,770,820,870,920,970,1030,1090,1150,1220,1300,1370,1450,1540,1630,1730,1830,1940,2050,2180,2300,2440,2590,2740,2900,3070,3250,3450,3650,3870,4100,4340,4600,4870,5200,5500,5800,6100,6500,6900,7300,7700,8200,8700,9200,9700,10300,10900,11500,12200,13000,13700,14500,15400,16300,17300,18300,19400,20500,21800]

{"sheet":"Data","index":2,"n_rows":0,"n_cols":0,"rows_kept":0,"cut":false,"hidden":false,"merged":[]}