{"text_format":"1","workbook":"xlsx","n_sheets":4,"sheets":["Import","View","Data","Notes"],"not_rendered":{"charts":1,"images":1,"macros":1,"external_links":0,"defined_names":2,"comments":0,"pivot_tables":0},"unopened":[],"bounds":{"document_bytes":16777216,"sheet_cells":100000,"rows_first":2000,"rows_last":500,"rows_between":2000,"halvings":0,"cell_chars":16384,"cell_head_chars":4096},"cells_cut":0,"cells_raw":0,"read":"whole","date_system":"1900"}

{"sheet":"Import","index":0,"n_rows":19,"n_cols":1,"rows_kept":19,"cut":false,"hidden":false,"merged":[]}
["RTA Data import"]
[]
[]
[]
[]
["How does this worksheet work?"]
["This worksheet allows you to import RTA measurements stored on the Bedrock SMxx. Make sure that the RTA result files are copied onto your computer, or that the instrument is attached to USB and accessible as a mass storage device. Then press the button below (\"Import RTA\"). You can now select the measurement data files that you wish to import. NOTE: by using SHIFT and CTRL you can select multiple files for opening. The measurements are imported into the sheet named \"Data.\" Use the sheet named \"View\" to browse through these measurements, or copy data directly from the \"Data\" sheet to your own Worksheet for further calculations. Note that importing data changes this worksheet, overwriting earlier data imports. We recommend that you keep the original version of this worksheet in a safe location, and that you use a new copy of this original file for each new project."]
[]
["For support or to download the latest version of this file, please refer to our website"]
["www.bedrock-audio.com"]
[]
["Version 2.6.1"]
[]
[]
["COPYRIGHT (C) Bedrock Audio BV, 2022"]
["ALL RIGHTS RESERVED. This worksheet contains material protected under International and Federal Copyright Laws and Treaties. Any unauthorized use of this material is prohibited. No part of this worksheet may be reproduced or transmitted in any form or by any means, electronic or mechanical, including photocopying, recording, or by any information storage and retrieval system without express written permission from the author. "]
[" "]
["DISCLAIMER"]
["THIS DOCUMENT IS PROVIDED \"AS IS\", WITHOUT WARRANTY OF ANY KIND, EXPRESS OR IMPLIED, INCLUDING BUT NOT LIMITED TO THE WARRANTIES OF MERCHANTABILITY, FITNESS FOR A PARTICULAR PURPOSE AND NONINFRINGEMENT. IN NO EVENT SHALL THE AUTHORS OR COPYRIGHT HOLDERS BE LIABLE FOR ANY CLAIM, DAMAGES OR OTHER LIABILITY, WHETHER IN AN ACTION OF CONTRACT, TORT OR OTHERWISE, ARISING FROM, OUT OF OR IN CONNECTION WITH THE SOFTWARE OR THE USE OR OTHER DEALINGS IN THE SOFTWARE"]

{"sheet":"View","index":1,"n_rows":48,"n_cols":123,"rows_kept":48,"cut":false,"hidden":false,"merged":[]}
["Date",{"$f":"OFFSET(Data!B4,View!$B$25,0)","v":"00:00:00"}]
["Time",{"$f":"OFFSET(Data!C4,View!$B$25,0)","v":"00:00:00"}]
["Duration [s]",{"$f":"OFFSET(Data!D4,View!$B$25,0)","v":0}]
[]
[null,"overall",{"$f":"IF(OFFSET(C45,$E$41,0)=\"\",\"\",OFFSET(C45,$E$41,0))","v":31.5},{"$f":"IF(OFFSET(D45,$E$41,0)=\"\",\"\",OFFSET(D45,$E$41,0))","v":63},125,250,500,1000,2000,4000,8000,16000,"","","","","","","","","","","","","","",{"$f":"IF(OFFSET(AA45,$E$41,0)=\"\",\"\",OFFSET(AA45,$E$41,0))","v":""},"","","","","","","","","","","","","","","","","","","","","","","","","","","","","","","","","","","","","","","","",{"$f":"IF(OFFSET(BP45,$E$41,0)=\"\",\"\",OFFSET(BP45,$E$41,0))","v":""},"","","","","","","","","","","","","","","","","","","","","","","","","","","","","","","","","","","","","","","","","","","","","","","","","","","","","",""]
["LZeq",{"$f":"IF(B$5<>\"\",OFFSET(Data!G$4,View!$B$25,$DS6),\"\")","v":0},{"$f":"IF(C$5<>\"\",OFFSET(Data!H$4,View!$B$25,$DS6),\"\")","v":0},{"$f":"IF(D$5<>\"\",OFFSET(Data!I$4,View!$B$25,$DS6),\"\")","v":0},{"$f":"IF(E$5<>\"\",OFFSET(Data!J$4,View!$B$25,$DS6),\"\")","v":0},{"$f":"IF(F$5<>\"\",OFFSET(Data!K$4,View!$B$25,$DS6),\"\")","v":0},{"$f":"IF(G$5<>\"\",OFFSET(Data!L$4,View!$B$25,$DS6),\"\")","v":0},{"$f":"IF(H$5<>\"\",OFFSET(Data!M$4,View!$B$25,$DS6),\"\")","v":0},{"$f":"IF(I$5<>\"\",OFFSET(Data!N$4,View!$B$25,$DS6),\"\")","v":0},{"$f":"IF(J$5<>\"\",OFFSET(Data!O$4,View!$B$25,$DS6),\"\")","v":0},{"$f":"IF(K$5<>\"\",OFFSET(Data!P$4,View!$B$25,$DS6),\"\")","v":0},{"$f":"IF(L$5<>\"\",OFFSET(Data!Q$4,View!$B$25,$DS6),\"\")","v":0},{"$f":"IF(M$5<>\"\",OFFSET(Data!R$4,View!$B$25,$DS6),\"\")","v":""},{"$f":"IF(N$5<>\"\",OFFSET(Data!S$4,View!$B$25,$DS6),\"\")","v":""},{"$f":"IF(O$5<>\"\",OFFSET(Data!T$4,View!$B$25,$DS6),\"\")","v":""},{"$f":"IF(P$5<>\"\",OFFSET(Data!U$4,View!$B$25,$DS6),\"\")","v":""},{"$f":"IF(Q$5<>\"\",OFFSET(Data!V$4,View!$B$25,$DS6),\"\")","v":""},{"$f":"IF(R$5<>\"\",OFFSET(Data!W$4,View!$B$25,$DS6),\"\")","v":""},{"$f":"IF(S$5<>\"\",OFFSET(Data!X$4,View!$B$25,$DS6),\"\")","v":""},{"$f":"IF(T$5<>\"\",OFFSET(Data!Y$4,View!$B$25,$DS6),\"\")","v":""},{"$f":"IF(U$5<>\"\",OFFSET(Data!Z$4,View!$B$25,$DS6),\"\")","v":""},{"$f":"IF(V$5<>\"\",OFFSET(Data!AA$4,View!$B$25,$DS6),\"\")","v":""},{"$f":"IF(W$5<>\"\",OFFSET(Data!AB$4,View!$B$25,$DS6),\"\")","v":""},{"$f":"IF(X$5<>\"\",OFFSET(Data!AC$4,View!$B$25,$DS6),\"\")","v":""},{"$f":"IF(Y$5<>\"\",OFFSET(Data!AD$4,View!$B$25,$DS6),\"\")","v":""},{"$f":"IF(Z$5<>\"\",OFFSET(Data!AE$4,View!$B$25,$DS6),\"\")","v":""},{"$f":"IF(AA$5<>\"\",OFFSET(Data!AF$4,View!$B$25,$DS6),\"\")","v":""},{"$f":"IF(AB$5<>\"\",OFFSET(Data!AG$4,View!$B$25,$DS6),\"\")","v":""},{"$f":"IF(AC$5<>\"\",OFFSET(Data!AH$4,View!$B$25,$DS6),\"\")","v":""},{"$f":"IF(AD$5<>\"\",OFFSET(Data!AI$4,View!$B$25,$DS6),\"\")","v":""},{"$f":"IF(AE$5<>\"\",OFFSET(Data!AJ$4,View!$B$25,$DS6),\"\")","v":""},{"$f":"IF(AF$5<>\"\",OFFSET(Data!AK$4,View!$B$25,$DS6),\"\")","v":""},{"$f":"IF(AG$5<>\"\",OFFSET(Data!AL$4,View!$B$25,$DS6),\"\")","v":""},{"$f":"IF(AH$5<>\"\",OFFSET(Data!AM$4,View!$B$25,$DS6),\"\")","v":""},{"$f":"IF(AI$5<>\"\",OFFSET(Data!AN$4,View!$B$25,$DS6),\"\")","v":""},{"$f":"IF(AJ$5<>\"\",OFFSET(Data!AO$4,View!$B$25,$DS6),\"\")","v":""},{"$f":"IF(AK$5<>\"\",OFFSET(Data!AP$4,View!$B$25,$DS6),\"\")","v":""},{"$f":"IF(AL$5<>\"\",OFFSET(Data!AQ$4,View!$B$25,$DS6),\"\")","v":""},{"$f":"IF(AM$5<>\"\",OFFSET(Data!AR$4,View!$B$25,$DS6),\"\")","v":""},{"$f":"IF(AN$5<>\"\",OFFSET(Data!AS$4,View!$B$25,$DS6),\"\")","v":""},{"$f":"IF(AO$5<>\"\",OFFSET(Data!AT$4,View!$B$25,$DS6),\"\")","v":""},{"$f":"IF(AP$5<>\"\",OFFSET(Data!AU$4,View!$B$25,$DS6),\"\")","v":""},{"$f":"IF(AQ$5<>\"\",OFFSET(Data!AV$4,View!$B$25,$DS6),\"\")","v":""},{"$f":"IF(AR$5<>\"\",OFFSET(Data!AW$4,View!$B$25,$DS6),\"\")","v":""},{"$f":"IF(AS$5<>\"\",OFFSET(Data!AX$4,View!$B$25,$DS6),\"\")","v":""},{"$f":"IF(AT$5<>\"\",OFFSET(Data!AY$4,View!$B$25,$DS6),\"\")","v":""},{"$f":"IF(AU$5<>\"\",OFFSET(Data!AZ$4,View!$B$25,$DS6),\"\")","v":""},{"$f":"IF(AV$5<>\"\",OFFSET(Data!BA$4,View!$B$25,$DS6),\"\")","v":""},{"$f":"IF(AW$5<>\"\",OFFSET(Data!BB$4,View!$B$25,$DS6),\"\")","v":""},{"$f":"IF(AX$5<>\"\",OFFSET(Data!BC$4,View!$B$25,$DS6),\"\")","v":""},{"$f":"IF(AY$5<>\"\",OFFSET(Data!BD$4,View!$B$25,$DS6),\"\")","v":""},{"$f":"IF(AZ$5<>\"\",OFFSET(Data!BE$4,View!$B$25,$DS6),\"\")","v":""},{"$f":"IF(BA$5<>\"\",OFFSET(Data!BF$4,View!$B$25,$DS6),\"\")","v":""},{"$f":"IF(BB$5<>\"\",OFFSET(Data!BG$4,View!$B$25,$DS6),\"\")","v":""},{"$f":"IF(BC$5<>\"\",OFFSET(Data!BH$4,View!$B$25,$DS6),\"\")","v":""},{"$f":"IF(BD$5<>\"\",OFFSET(Data!BI$4,View!$B$25,$DS6),\"\")","v":""},{"$f":"IF(BE$5<>\"\",OFFSET(Data!BJ$4,View!$B$25,$DS6),\"\")","v":""},{"$f":"IF(BF$5<>\"\",OFFSET(Data!BK$4,View!$B$25,$DS6),\"\")","v":""},{"$f":"IF(BG$5<>\"\",OFFSET(Data!BL$4,View!$B$25,$DS6),\"\")","v":""},{"$f":"IF(BH$5<>\"\",OFFSET(Data!BM$4,View!$B$25,$DS6),\"\")","v":""},{"$f":"IF(BI$5<>\"\",OFFSET(Data!BN$4,View!$B$25,$DS6),\"\")","v":""},{"$f":"IF(BJ$5<>\"\",OFFSET(Data!BO$4,View!$B$25,$DS6),\"\")","v":""},{"$f":"IF(BK$5<>\"\",OFFSET(Data!BP$4,View!$B$25,$DS6),\"\")","v":""},{"$f":"IF(BL$5<>\"\",OFFSET(Data!BQ$4,View!$B$25,$DS6),\"\")","v":""},{"$f":"IF(BM$5<>\"\",OFFSET(Data!BR$4,View!$B$25,$DS6),\"\")","v":""},{"$f":"IF(BN$5<>\"\",OFFSET(Data!BS$4,View!$B$25,$DS6),\"\")","v":""},{"$f":"IF(BO$5<>\"\",OFFSET(Data!BT$4,View!$B$25,$DS6),\"\")","v":""},{"$f":"IF(BP$5<>\"\",OFFSET(Data!BU$4,View!$B$25,$DS6),\"\")","v":""},{"$f":"IF(BQ$5<>\"\",OFFSET(Data!BV$4,View!$B$25,$DS6),\"\")","v":""},{"$f":"IF(BR$5<>\"\",OFFSET(Data!BW$4,View!$B$25,$DS6),\"\")","v":""},{"$f":"IF(BS$5<>\"\",OFFSET(Data!BX$4,View!$B$25,$DS6),\"\")","v":""},{"$f":"IF(BT$5<>\"\",OFFSET(Data!BY$4,View!$B$25,$DS6),\"\")","v":""},{"$f":"IF(BU$5<>\"\",OFFSET(Data!BZ$4,View!$B$25,$DS6),\"\")","v":""},{"$f":"IF(BV$5<>\"\",OFFSET(Data!CA$4,View!$B$25,$DS6),\"\")","v":""},{"$f":"IF(BW$5<>\"\",OFFSET(Data!CB$4,View!$B$25,$DS6),\"\")","v":""},{"$f":"IF(BX$5<>\"\",OFFSET(Data!CC$4,View!$B$25,$DS6),\"\")","v":""},{"$f":"IF(BY$5<>\"\",OFFSET(Data!CD$4,View!$B$25,$DS6),\"\")","v":""},{"$f":"IF(BZ$5<>\"\",OFFSET(Data!CE$4,View!$B$25,$DS6),\"\")","v":""},{"$f":"IF(CA$5<>\"\",OFFSET(Data!CF$4,View!$B$25,$DS6),\"\")","v":""},{"$f":"IF(CB$5<>\"\",OFFSET(Data!CG$4,View!$B$25,$DS6),\"\")","v":""},{"$f":"IF(CC$5<>\"\",OFFSET(Data!CH$4,View!$B$25,$DS6),\"\")","v":""},{"$f":"IF(CD$5<>\"\",OFFSET(Data!CI$4,View!$B$25,$DS6),\"\")","v":""},{"$f":"IF(CE$5<>\"\",OFFSET(Data!CJ$4,View!$B$25,$DS6),\"\")","v":""},{"$f":"IF(CF$5<>\"\",OFFSET(Data!CK$4,View!$B$25,$DS6),\"\")","v":""},{"$f":"IF(CG$5<>\"\",OFFSET(Data!CL$4,View!$B$25,$DS6),\"\")","v":""},{"$f":"IF(CH$5<>\"\",OFFSET(Data!CM$4,View!$B$25,$DS6),\"\")","v":""},{"$f":"IF(CI$5<>\"\",OFFSET(Data!CN$4,View!$B$25,$DS6),\"\")","v":""},{"$f":"IF(CJ$5<>\"\",OFFSET(Data!CO$4,View!$B$25,$DS6),\"\")","v":""},{"$f":"IF(CK$5<>\"\",OFFSET(Data!CP$4,View!$B$25,$DS6),\"\")","v":""},{"$f":"IF(CL$5<>\"\",OFFSET(Data!CQ$4,View!$B$25,$DS6),\"\")","v":""},{"$f":"IF(CM$5<>\"\",OFFSET(Data!CR$4,View!$B$25,$DS6),\"\")","v":""},{"$f":"IF(CN$5<>\"\",OFFSET(Data!CS$4,View!$B$25,$DS6),\"\")","v":""},{"$f":"IF(CO$5<>\"\",OFFSET(Data!CT$4,View!$B$25,$DS6),\"\")","v":""},{"$f":"IF(CP$5<>\"\",OFFSET(Data!CU$4,View!$B$25,$DS6),\"\")","v":""},{"$f":"IF(CQ$5<>\"\",OFFSET(Data!CV$4,View!$B$25,$DS6),\"\")","v":""},{"$f":"IF(CR$5<>\"\",OFFSET(Data!CW$4,View!$B$25,$DS6),\"\")","v":""},{"$f":"IF(CS$5<>\"\",OFFSET(Data!CX$4,View!$B$25,$DS6),\"\")","v":""},{"$f":"IF(CT$5<>\"\",OFFSET(Data!CY$4,View!$B$25,$DS6),\"\")","v":""},{"$f":"IF(CU$5<>\"\",OFFSET(Data!CZ$4,View!$B$25,$DS6),\"\")","v":""},{"$f":"IF(CV$5<>\"\",OFFSET(Data!DA$4,View!$B$25,$DS6),\"\")","v":""},{"$f":"IF(CW$5<>\"\",OFFSET(Data!DB$4,View!$B$25,$DS6),\"\")","v":""},{"$f":"IF(CX$5<>\"\",OFFSET(Data!DC$4,View!$B$25,$DS6),\"\")","v":""},{"$f":"IF(CY$5<>\"\",OFFSET(Data!DD$4,View!$B$25,$DS6),\"\")","v":""},{"$f":"IF(CZ$5<>\"\",OFFSET(Data!DE$4,View!$B$25,$DS6),\"\")","v":""},{"$f":"IF(DA$5<>\"\",OFFSET(Data!DF$4,View!$B$25,$DS6),\"\")","v":""},{"$f":"IF(DB$5<>\"\",OFFSET(Data!DG$4,View!$B$25,$DS6),\"\")","v":""},{"$f":"IF(DC$5<>\"\",OFFSET(Data!DH$4,View!$B$25,$DS6),\"\")","v":""},{"$f":"IF(DD$5<>\"\",OFFSET(Data!DI$4,View!$B$25,$DS6),\"\")","v":""},{"$f":"IF(DE$5<>\"\",OFFSET(Data!DJ$4,View!$B$25,$DS6),\"\")","v":""},{"$f":"IF(DF$5<>\"\",OFFSET(Data!DK$4,View!$B$25,$DS6),\"\")","v":""},{"$f":"IF(DG$5<>\"\",OFFSET(Data!DL$4,View!$B$25,$DS6),\"\")","v":""},{"$f":"IF(DH$5<>\"\",OFFSET(Data!DM$4,View!$B$25,$DS6),\"\")","v":""},{"$f":"IF(DI$5<>\"\",OFFSET(Data!DN$4,View!$B$25,$DS6),\"\")","v":""},{"$f":"IF(DJ$5<>\"\",OFFSET(Data!DO$4,View!$B$25,$DS6),\"\")","v":""},{"$f":"IF(DK$5<>\"\",OFFSET(Data!DP$4,View!$B$25,$DS6),\"\")","v":""},{"$f":"IF(DL$5<>\"\",OFFSET(Data!DQ$4,View!$B$25,$DS6),\"\")","v":""},{"$f":"IF(DM$5<>\"\",OFFSET(Data!DR$4,View!$B$25,$DS6),\"\")","v":""},{"$f":"IF(DN$5<>\"\",OFFSET(Data!DS$4,View!$B$25,$DS6),\"\")","v":""},{"$f":"IF(DO$5<>\"\",OFFSET(Data!DT$4,View!$B$25,$DS6),\"\")","v":""},{"$f":"IF(DP$5<>\"\",OFFSET(Data!DU$4,View!$B$25,$DS6),\"\")","v":""},{"$f":"IF(DQ$5<>\"\",OFFSET(Data!DV$4,View!$B$25,$DS6),\"\")","v":""},{"$f":"IF(DR$5<>\"\",OFFSET(Data!DW$4,View!$B$25,$DS6),\"\")","v":""},{"$f":"($C$41+1)*8","v":8}]
["LAeq",{"$f":"IF(B$5<>\"\",OFFSET(Data!G$4,View!$B$25,$DS7),\"\")","v":0},{"$f":"IF(C$5<>\"\",OFFSET(Data!H$4,View!$B$25,$DS7),\"\")","v":0},{"$f":"IF(D$5<>\"\",OFFSET(Data!I$4,View!$B$25,$DS7),\"\")","v":0},{"$f":"IF(E$5<>\"\",OFFSET(Data!J$4,View!$B$25,$DS7),\"\")","v":0},{"$f":"IF(F$5<>\"\",OFFSET(Data!K$4,View!$B$25,$DS7),\"\")","v":0},{"$f":"IF(G$5<>\"\",OFFSET(Data!L$4,View!$B$25,$DS7),\"\")","v":0},{"$f":"IF(H$5<>\"\",OFFSET(Data!M$4,View!$B$25,$DS7),\"\")","v":0},{"$f":"IF(I$5<>\"\",OFFSET(Data!N$4,View!$B$25,$DS7),\"\")","v":0},{"$f":"IF(J$5<>\"\",OFFSET(Data!O$4,View!$B$25,$DS7),\"\")","v":0},{"$f":"IF(K$5<>\"\",OFFSET(Data!P$4,View!$B$25,$DS7),\"\")","v":0},{"$f":"IF(L$5<>\"\",OFFSET(Data!Q$4,View!$B$25,$DS7),\"\")","v":0},{"$f":"IF(M$5<>\"\",OFFSET(Data!R$4,View!$B$25,$DS7),\"\")","v":""},{"$f":"IF(N$5<>\"\",OFFSET(Data!S$4,View!$B$25,$DS7),\"\")","v":""},{"$f":"IF(O$5<>\"\",OFFSET(Data!T$4,View!$B$25,$DS7),\"\")","v":""},{"$f":"IF(P$5<>\"\",OFFSET(Data!U$4,View!$B$25,$DS7),\"\")","v":""},{"$f":"IF(Q$5<>\"\",OFFSET(Data!V$4,View!$B$25,$DS7),\"\")","v":""},{"$f":"IF(R$5<>\"\",OFFSET(Data!W$4,View!$B$25,$DS7),\"\")","v":""},{"$f":"IF(S$5<>\"\",OFFSET(Data!X$4,View!$B$25,$DS7),\"\")","v":""},{"$f":"IF(T$5<>\"\",OFFSET(Data!Y$4,View!$B$25,$DS7),\"\")","v":""},{"$f":"IF(U$5<>\"\",OFFSET(Data!Z$4,View!$B$25,$DS7),\"\")","v":""},{"$f":"IF(V$5<>\"\",OFFSET(Data!AA$4,View!$B$25,$DS7),\"\")","v":""},{"$f":"IF(W$5<>\"\",OFFSET(Data!AB$4,View!$B$25,$DS7),\"\")","v":""},{"$f":"IF(X$5<>\"\",OFFSET(Data!AC$4,View!$B$25,$DS7),\"\")","v":""},{"$f":"IF(Y$5<>\"\",OFFSET(Data!AD$4,View!$B$25,$DS7),\"\")","v":""},{"$f":"IF(Z$5<>\"\",OFFSET(Data!AE$4,View!$B$25,$DS7),\"\")","v":""},{"$f":"IF(AA$5<>\"\",OFFSET(Data!AF$4,View!$B$25,$DS7),\"\")","v":""},{"$f":"IF(AB$5<>\"\",OFFSET(Data!AG$4,View!$B$25,$DS7),\"\")","v":""},{"$f":"IF(AC$5<>\"\",OFFSET(Data!AH$4,View!$B$25,$DS7),\"\")","v":""},{"$f":"IF(AD$5<>\"\",OFFSET(Data!AI$4,View!$B$25,$DS7),\"\")","v":""},{"$f":"IF(AE$5<>\"\",OFFSET(Data!AJ$4,View!$B$25,$DS7),\"\")","v":""},{"$f":"IF(AF$5<>\"\",OFFSET(Data!AK$4,View!$B$25,$DS7),\"\")","v":""},{"$f":"IF(AG$5<>\"\",OFFSET(Data!AL$4,View!$B$25,$DS7),\"\")","v":""},{"$f":"IF(AH$5<>\"\",OFFSET(Data!AM$4,View!$B$25,$DS7),\"\")","v":""},{"$f":"IF(AI$5<>\"\",OFFSET(Data!AN$4,View!$B$25,$DS7),\"\")","v":""},{"$f":"IF(AJ$5<>\"\",OFFSET(Data!AO$4,View!$B$25,$DS7),\"\")","v":""},{"$f":"IF(AK$5<>\"\",OFFSET(Data!AP$4,View!$B$25,$DS7),\"\")","v":""},{"$f":"IF(AL$5<>\"\",OFFSET(Data!AQ$4,View!$B$25,$DS7),\"\")","v":""},{"$f":"IF(AM$5<>\"\",OFFSET(Data!AR$4,View!$B$25,$DS7),\"\")","v":""},{"$f":"IF(AN$5<>\"\",OFFSET(Data!AS$4,View!$B$25,$DS7),\"\")","v":""},{"$f":"IF(AO$5<>\"\",OFFSET(Data!AT$4,View!$B$25,$DS7),\"\")","v":""},{"$f":"IF(AP$5<>\"\",OFFSET(Data!AU$4,View!$B$25,$DS7),\"\")","v":""},{"$f":"IF(AQ$5<>\"\",OFFSET(Data!AV$4,View!$B$25,$DS7),\"\")","v":""},{"$f":"IF(AR$5<>\"\",OFFSET(Data!AW$4,View!$B$25,$DS7),\"\")","v":""},{"$f":"IF(AS$5<>\"\",OFFSET(Data!AX$4,View!$B$25,$DS7),\"\")","v":""},{"$f":"IF(AT$5<>\"\",OFFSET(Data!AY$4,View!$B$25,$DS7),\"\")","v":""},{"$f":"IF(AU$5<>\"\",OFFSET(Data!AZ$4,View!$B$25,$DS7),\"\")","v":""},{"$f":"IF(AV$5<>\"\",OFFSET(Data!BA$4,View!$B$25,$DS7),\"\")","v":""},{"$f":"IF(AW$5<>\"\",OFFSET(Data!BB$4,View!$B$25,$DS7),\"\")","v":""},{"$f":"IF(AX$5<>\"\",OFFSET(Data!BC$4,View!$B$25,$DS7),\"\")","v":""},{"$f":"IF(AY$5<>\"\",OFFSET(Data!BD$4,View!$B$25,$DS7),\"\")","v":""},{"$f":"IF(AZ$5<>\"\",OFFSET(Data!BE$4,View!$B$25,$DS7),\"\")","v":""},{"$f":"IF(BA$5<>\"\",OFFSET(Data!BF$4,View!$B$25,$DS7),\"\")","v":""},{"$f":"IF(BB$5<>\"\",OFFSET(Data!BG$4,View!$B$25,$DS7),\"\")","v":""},{"$f":"IF(BC$5<>\"\",OFFSET(Data!BH$4,View!$B$25,$DS7),\"\")","v":""},{"$f":"IF(BD$5<>\"\",OFFSET(Data!BI$4,View!$B$25,$DS7),\"\")","v":""},{"$f":"IF(BE$5<>\"\",OFFSET(Data!BJ$4,View!$B$25,$DS7),\"\")","v":""},{"$f":"IF(BF$5<>\"\",OFFSET(Data!BK$4,View!$B$25,$DS7),\"\")","v":""},{"$f":"IF(BG$5<>\"\",OFFSET(Data!BL$4,View!$B$25,$DS7),\"\")","v":""},{"$f":"IF(BH$5<>\"\",OFFSET(Data!BM$4,View!$B$25,$DS7),\"\")","v":""},{"$f":"IF(BI$5<>\"\",OFFSET(Data!BN$4,View!$B$25,$DS7),\"\")","v":""},{"$f":"IF(BJ$5<>\"\",OFFSET(Data!BO$4,View!$B$25,$DS7),\"\")","v":""},{"$f":"IF(BK$5<>\"\",OFFSET(Data!BP$4,View!$B$25,$DS7),\"\")","v":""},{"$f":"IF(BL$5<>\"\",OFFSET(Data!BQ$4,View!$B$25,$DS7),\"\")","v":""},{"$f":"IF(BM$5<>\"\",OFFSET(Data!BR$4,View!$B$25,$DS7),\"\")","v":""},{"$f":"IF(BN$5<>\"\",OFFSET(Data!BS$4,View!$B$25,$DS7),\"\")","v":""},{"$f":"IF(BO$5<>\"\",OFFSET(Data!BT$4,View!$B$25,$DS7),\"\")","v":""},{"$f":"IF(BP$5<>\"\",OFFSET(Data!BU$4,View!$B$25,$DS7),\"\")","v":""},{"$f":"IF(BQ$5<>\"\",OFFSET(Data!BV$4,View!$B$25,$DS7),\"\")","v":""},{"$f":"IF(BR$5<>\"\",OFFSET(Data!BW$4,View!$B$25,$DS7),\"\")","v":""},{"$f":"IF(BS$5<>\"\",OFFSET(Data!BX$4,View!$B$25,$DS7),\"\")","v":""},{"$f":"IF(BT$5<>\"\",OFFSET(Data!BY$4,View!$B$25,$DS7),\"\")","v":""},{"$f":"IF(BU$5<>\"\",OFFSET(Data!BZ$4,View!$B$25,$DS7),\"\")","v":""},{"$f":"IF(BV$5<>\"\",OFFSET(Data!CA$4,View!$B$25,$DS7),\"\")","v":""},{"$f":"IF(BW$5<>\"\",OFFSET(Data!CB$4,View!$B$25,$DS7),\"\")","v":""},{"$f":"IF(BX$5<>\"\",OFFSET(Data!CC$4,View!$B$25,$DS7),\"\")","v":""},{"$f":"IF(BY$5<>\"\",OFFSET(Data!CD$4,View!$B$25,$DS7),\"\")","v":""},{"$f":"IF(BZ$5<>\"\",OFFSET(Data!CE$4,View!$B$25,$DS7),\"\")","v":""},{"$f":"IF(CA$5<>\"\",OFFSET(Data!CF$4,View!$B$25,$DS7),\"\")","v":""},{"$f":"IF(CB$5<>\"\",OFFSET(Data!CG$4,View!$B$25,$DS7),\"\")","v":""},{"$f":"IF(CC$5<>\"\",OFFSET(Data!CH$4,View!$B$25,$DS7),\"\")","v":""},{"$f":"IF(CD$5<>\"\",OFFSET(Data!CI$4,View!$B$25,$DS7),\"\")","v":""},{"$f":"IF(CE$5<>\"\",OFFSET(Data!CJ$4,View!$B$25,$DS7),\"\")","v":""},{"$f":"IF(CF$5<>\"\",OFFSET(Data!CK$4,View!$B$25,$DS7),\"\")","v":""},{"$f":"IF(CG$5<>\"\",OFFSET(Data!CL$4,View!$B$25,$DS7),\"\")","v":""},{"$f":"IF(CH$5<>\"\",OFFSET(Data!CM$4,View!$B$25,$DS7),\"\")","v":""},{"$f":"IF(CI$5<>\"\",OFFSET(Data!CN$4,View!$B$25,$DS7),\"\")","v":""},{"$f":"IF(CJ$5<>\"\",OFFSET(Data!CO$4,View!$B$25,$DS7),\"\")","v":""},{"$f":"IF(CK$5<>\"\",OFFSET(Data!CP$4,View!$B$25,$DS7),\"\")","v":""},{"$f":"IF(CL$5<>\"\",OFFSET(Data!CQ$4,View!$B$25,$DS7),\"\")","v":""},{"$f":"IF(CM$5<>\"\",OFFSET(Data!CR$4,View!$B$25,$DS7),\"\")","v":""},{"$f":"IF(CN$5<>\"\",OFFSET(Data!CS$4,View!$B$25,$DS7),\"\")","v":""},{"$f":"IF(CO$5<>\"\",OFFSET(Data!CT$4,View!$B$25,$DS7),\"\")","v":""},{"$f":"IF(CP$5<>\"\",OFFSET(Data!CU$4,View!$B$25,$DS7),\"\")","v":""},{"$f":"IF(CQ$5<>\"\",OFFSET(Data!CV$4,View!$B$25,$DS7),\"\")","v":""},{"$f":"IF(CR$5<>\"\",OFFSET(Data!CW$4,View!$B$25,$DS7),\"\")","v":""},{"$f":"IF(CS$5<>\"\",OFFSET(Data!CX$4,View!$B$25,$DS7),\"\")","v":""},{"$f":"IF(CT$5<>\"\",OFFSET(Data!CY$4,View!$B$25,$DS7),\"\")","v":""},{"$f":"IF(CU$5<>\"\",OFFSET(Data!CZ$4,View!$B$25,$DS7),\"\")","v":""},{"$f":"IF(CV$5<>\"\",OFFSET(Data!DA$4,View!$B$25,$DS7),\"\")","v":""},{"$f":"IF(CW$5<>\"\",OFFSET(Data!DB$4,View!$B$25,$DS7),\"\")","v":""},{"$f":"IF(CX$5<>\"\",OFFSET(Data!DC$4,View!$B$25,$DS7),\"\")","v":""},{"$f":"IF(CY$5<>\"\",OFFSET(Data!DD$4,View!$B$25,$DS7),\"\")","v":""},{"$f":"IF(CZ$5<>\"\",OFFSET(Data!DE$4,View!$B$25,$DS7),\"\")","v":""},{"$f":"IF(DA$5<>\"\",OFFSET(Data!DF$4,View!$B$25,$DS7),\"\")","v":""},{"$f":"IF(DB$5<>\"\",OFFSET(Data!DG$4,View!$B$25,$DS7),\"\")","v":""},{"$f":"IF(DC$5<>\"\",OFFSET(Data!DH$4,View!$B$25,$DS7),\"\")","v":""},{"$f":"IF(DD$5<>\"\",OFFSET(Data!DI$4,View!$B$25,$DS7),\"\")","v":""},{"$f":"IF(DE$5<>\"\",OFFSET(Data!DJ$4,View!$B$25,$DS7),\"\")","v":""},{"$f":"IF(DF$5<>\"\",OFFSET(Data!DK$4,View!$B$25,$DS7),\"\")","v":""},{"$f":"IF(DG$5<>\"\",OFFSET(Data!DL$4,View!$B$25,$DS7),\"\")","v":""},{"$f":"IF(DH$5<>\"\",OFFSET(Data!DM$4,View!$B$25,$DS7),\"\")","v":""},{"$f":"IF(DI$5<>\"\",OFFSET(Data!DN$4,View!$B$25,$DS7),\"\")","v":""},{"$f":"IF(DJ$5<>\"\",OFFSET(Data!DO$4,View!$B$25,$DS7),\"\")","v":""},{"$f":"IF(DK$5<>\"\",OFFSET(Data!DP$4,View!$B$25,$DS7),\"\")","v":""},{"$f":"IF(DL$5<>\"\",OFFSET(Data!DQ$4,View!$B$25,$DS7),\"\")","v":""},{"$f":"IF(DM$5<>\"\",OFFSET(Data!DR$4,View!$B$25,$DS7),\"\")","v":""},{"$f":"IF(DN$5<>\"\",OFFSET(Data!DS$4,View!$B$25,$DS7),\"\")","v":""},{"$f":"IF(DO$5<>\"\",OFFSET(Data!DT$4,View!$B$25,$DS7),\"\")","v":""},{"$f":"IF(DP$5<>\"\",OFFSET(Data!DU$4,View!$B$25,$DS7),\"\")","v":""},{"$f":"IF(DQ$5<>\"\",OFFSET(Data!DV$4,View!$B$25,$DS7),\"\")","v":""},{"$f":"IF(DR$5<>\"\",OFFSET(Data!DW$4,View!$B$25,$DS7),\"\")","v":""},{"$f":"($C$41+1)*0","v":0}]
["LCeq",{"$f":"IF(B$5<>\"\",OFFSET(Data!G$4,View!$B$25,$DS8),\"\")","v":0},{"$f":"IF(C$5<>\"\",OFFSET(Data!H$4,View!$B$25,$DS8),\"\")","v":0},{"$f":"IF(D$5<>\"\",OFFSET(Data!I$4,View!$B$25,$DS8),\"\")","v":0},{"$f":"IF(E$5<>\"\",OFFSET(Data!J$4,View!$B$25,$DS8),\"\")","v":0},{"$f":"IF(F$5<>\"\",OFFSET(Data!K$4,View!$B$25,$DS8),\"\")","v":0},{"$f":"IF(G$5<>\"\",OFFSET(Data!L$4,View!$B$25,$DS8),\"\")","v":0},{"$f":"IF(H$5<>\"\",OFFSET(Data!M$4,View!$B$25,$DS8),\"\")","v":0},{"$f":"IF(I$5<>\"\",OFFSET(Data!N$4,View!$B$25,$DS8),\"\")","v":0},{"$f":"IF(J$5<>\"\",OFFSET(Data!O$4,View!$B$25,$DS8),\"\")","v":0},{"$f":"IF(K$5<>\"\",OFFSET(Data!P$4,View!$B$25,$DS8),\"\")","v":0},{"$f":"IF(L$5<>\"\",OFFSET(Data!Q$4,View!$B$25,$DS8),\"\")","v":0},{"$f":"IF(M$5<>\"\",OFFSET(Data!R$4,View!$B$25,$DS8),\"\")","v":""},{"$f":"IF(N$5<>\"\",OFFSET(Data!S$4,View!$B$25,$DS8),\"\")","v":""},{"$f":"IF(O$5<>\"\",OFFSET(Data!T$4,View!$B$25,$DS8),\"\")","v":""},{"$f":"IF(P$5<>\"\",OFFSET(Data!U$4,View!$B$25,$DS8),\"\")","v":""},{"$f":"IF(Q$5<>\"\",OFFSET(Data!V$4,View!$B$25,$DS8),\"\")","v":""},{"$f":"IF(R$5<>\"\",OFFSET(Data!W$4,View!$B$25,$DS8),\"\")","v":""},{"$f":"IF(S$5<>\"\",OFFSET(Data!X$4,View!$B$25,$DS8),\"\")","v":""},{"$f":"IF(T$5<>\"\",OFFSET(Data!Y$4,View!$B$25,$DS8),\"\")","v":""},{"$f":"IF(U$5<>\"\",OFFSET(Data!Z$4,View!$B$25,$DS8),\"\")","v":""},{"$f":"IF(V$5<>\"\",OFFSET(Data!AA$4,View!$B$25,$DS8),\"\")","v":""},{"$f":"IF(W$5<>\"\",OFFSET(Data!AB$4,View!$B$25,$DS8),\"\")","v":""},{"$f":"IF(X$5<>\"\",OFFSET(Data!AC$4,View!$B$25,$DS8),\"\")","v":""},{"$f":"IF(Y$5<>\"\",OFFSET(Data!AD$4,View!$B$25,$DS8),\"\")","v":""},{"$f":"IF(Z$5<>\"\",OFFSET(Data!AE$4,View!$B$25,$DS8),\"\")","v":""},{"$f":"IF(AA$5<>\"\",OFFSET(Data!AF$4,View!$B$25,$DS8),\"\")","v":""},{"$f":"IF(AB$5<>\"\",OFFSET(Data!AG$4,View!$B$25,$DS8),\"\")","v":""},{"$f":"IF(AC$5<>\"\",OFFSET(Data!AH$4,View!$B$25,$DS8),\"\")","v":""},{"$f":"IF(AD$5<>\"\",OFFSET(Data!AI$4,View!$B$25,$DS8),\"\")","v":""},{"$f":"IF(AE$5<>\"\",OFFSET(Data!AJ$4,View!$B$25,$DS8),\"\")","v":""},{"$f":"IF(AF$5<>\"\",OFFSET(Data!AK$4,View!$B$25,$DS8),\"\")","v":""},{"$f":"IF(AG$5<>\"\",OFFSET(Data!AL$4,View!$B$25,$DS8),\"\")","v":""},{"$f":"IF(AH$5<>\"\",OFFSET(Data!AM$4,View!$B$25,$DS8),\"\")","v":""},{"$f":"IF(AI$5<>\"\",OFFSET(Data!AN$4,View!$B$25,$DS8),\"\")","v":""},{"$f":"IF(AJ$5<>\"\",OFFSET(Data!AO$4,View!$B$25,$DS8),\"\")","v":""},{"$f":"IF(AK$5<>\"\",OFFSET(Data!AP$4,View!$B$25,$DS8),\"\")","v":""},{"$f":"IF(AL$5<>\"\",OFFSET(Data!AQ$4,View!$B$25,$DS8),\"\")","v":""},{"$f":"IF(AM$5<>\"\",OFFSET(Data!AR$4,View!$B$25,$DS8),\"\")","v":""},{"$f":"IF(AN$5<>\"\",OFFSET(Data!AS$4,View!$B$25,$DS8),\"\")","v":""},{"$f":"IF(AO$5<>\"\",OFFSET(Data!AT$4,View!$B$25,$DS8),\"\")","v":""},{"$f":"IF(AP$5<>\"\",OFFSET(Data!AU$4,View!$B$25,$DS8),\"\")","v":""},{"$f":"IF(AQ$5<>\"\",OFFSET(Data!AV$4,View!$B$25,$DS8),\"\")","v":""},{"$f":"IF(AR$5<>\"\",OFFSET(Data!AW$4,View!$B$25,$DS8),\"\")","v":""},{"$f":"IF(AS$5<>\"\",OFFSET(Data!AX$4,View!$B$25,$DS8),\"\")","v":""},{"$f":"IF(AT$5<>\"\",OFFSET(Data!AY$4,View!$B$25,$DS8),\"\")","v":""},{"$f":"IF(AU$5<>\"\",OFFSET(Data!AZ$4,View!$B$25,$DS8),\"\")","v":""},{"$f":"IF(AV$5<>\"\",OFFSET(Data!BA$4,View!$B$25,$DS8),\"\")","v":""},{"$f":"IF(AW$5<>\"\",OFFSET(Data!BB$4,View!$B$25,$DS8),\"\")","v":""},{"$f":"IF(AX$5<>\"\",OFFSET(Data!BC$4,View!$B$25,$DS8),\"\")","v":""},{"$f":"IF(AY$5<>\"\",OFFSET(Data!BD$4,View!$B$25,$DS8),\"\")","v":""},{"$f":"IF(AZ$5<>\"\",OFFSET(Data!BE$4,View!$B$25,$DS8),\"\")","v":""},{"$f":"IF(BA$5<>\"\",OFFSET(Data!BF$4,View!$B$25,$DS8),\"\")","v":""},{"$f":"IF(BB$5<>\"\",OFFSET(Data!BG$4,View!$B$25,$DS8),\"\")","v":""},{"$f":"IF(BC$5<>\"\",OFFSET(Data!BH$4,View!$B$25,$DS8),\"\")","v":""},{"$f":"IF(BD$5<>\"\",OFFSET(Data!BI$4,View!$B$25,$DS8),\"\")","v":""},{"$f":"IF(BE$5<>\"\",OFFSET(Data!BJ$4,View!$B$25,$DS8),\"\")","v":""},{"$f":"IF(BF$5<>\"\",OFFSET(Data!BK$4,View!$B$25,$DS8),\"\")","v":""},{"$f":"IF(BG$5<>\"\",OFFSET(Data!BL$4,View!$B$25,$DS8),\"\")","v":""},{"$f":"IF(BH$5<>\"\",OFFSET(Data!BM$4,View!$B$25,$DS8),\"\")","v":""},{"$f":"IF(BI$5<>\"\",OFFSET(Data!BN$4,View!$B$25,$DS8),\"\")","v":""},{"$f":"IF(BJ$5<>\"\",OFFSET(Data!BO$4,View!$B$25,$DS8),\"\")","v":""},{"$f":"IF(BK$5<>\"\",OFFSET(Data!BP$4,View!$B$25,$DS8),\"\")","v":""},{"$f":"IF(BL$5<>\"\",OFFSET(Data!BQ$4,View!$B$25,$DS8),\"\")","v":""},{"$f":"IF(BM$5<>\"\",OFFSET(Data!BR$4,View!$B$25,$DS8),\"\")","v":""},{"$f":"IF(BN$5<>\"\",OFFSET(Data!BS$4,View!$B$25,$DS8),\"\")","v":""},{"$f":"IF(BO$5<>\"\",OFFSET(Data!BT$4,View!$B$25,$DS8),\"\")","v":""},{"$f":"IF(BP$5<>\"\",OFFSET(Data!BU$4,View!$B$25,$DS8),\"\")","v":""},{"$f":"IF(BQ$5<>\"\",OFFSET(Data!BV$4,View!$B$25,$DS8),\"\")","v":""},{"$f":"IF(BR$5<>\"\",OFFSET(Data!BW$4,View!$B$25,$DS8),\"\")","v":""},{"$f":"IF(BS$5<>\"\",OFFSET(Data!BX$4,View!$B$25,$DS8),\"\")","v":""},{"$f":"IF(BT$5<>\"\",OFFSET(Data!BY$4,View!$B$25,$DS8),\"\")","v":""},{"$f":"IF(BU$5<>\"\",OFFSET(Data!BZ$4,View!$B$25,$DS8),\"\")","v":""},{"$f":"IF(BV$5<>\"\",OFFSET(Data!CA$4,View!$B$25,$DS8),\"\")","v":""},{"$f":"IF(BW$5<>\"\",OFFSET(Data!CB$4,View!$B$25,$DS8),\"\")","v":""},{"$f":"IF(BX$5<>\"\",OFFSET(Data!CC$4,View!$B$25,$DS8),\"\")","v":""},{"$f":"IF(BY$5<>\"\",OFFSET(Data!CD$4,View!$B$25,$DS8),\"\")","v":""},{"$f":"IF(BZ$5<>\"\",OFFSET(Data!CE$4,View!$B$25,$DS8),\"\")","v":""},{"$f":"IF(CA$5<>\"\",OFFSET(Data!CF$4,View!$B$25,$DS8),\"\")","v":""},{"$f":"IF(CB$5<>\"\",OFFSET(Data!CG$4,View!$B$25,$DS8),\"\")","v":""},{"$f":"IF(CC$5<>\"\",OFFSET(Data!CH$4,View!$B$25,$DS8),\"\")","v":""},{"$f":"IF(CD$5<>\"\",OFFSET(Data!CI$4,View!$B$25,$DS8),\"\")","v":""},{"$f":"IF(CE$5<>\"\",OFFSET(Data!CJ$4,View!$B$25,$DS8),\"\")","v":""},{"$f":"IF(CF$5<>\"\",OFFSET(Data!CK$4,View!$B$25,$DS8),\"\")","v":""},{"$f":"IF(CG$5<>\"\",OFFSET(Data!CL$4,View!$B$25,$DS8),\"\")","v":""},{"$f":"IF(CH$5<>\"\",OFFSET(Data!CM$4,View!$B$25,$DS8),\"\")","v":""},{"$f":"IF(CI$5<>\"\",OFFSET(Data!CN$4,View!$B$25,$DS8),\"\")","v":""},{"$f":"IF(CJ$5<>\"\",OFFSET(Data!CO$4,View!$B$25,$DS8),\"\")","v":""},{"$f":"IF(CK$5<>\"\",OFFSET(Data!CP$4,View!$B$25,$DS8),\"\")","v":""},{"$f":"IF(CL$5<>\"\",OFFSET(Data!CQ$4,View!$B$25,$DS8),\"\")","v":""},{"$f":"IF(CM$5<>\"\",OFFSET(Data!CR$4,View!$B$25,$DS8),\"\")","v":""},{"$f":"IF(CN$5<>\"\",OFFSET(Data!CS$4,View!$B$25,$DS8),\"\")","v":""},{"$f":"IF(CO$5<>\"\",OFFSET(Data!CT$4,View!$B$25,$DS8),\"\")","v":""},{"$f":"IF(CP$5<>\"\",OFFSET(Data!CU$4,View!$B$25,$DS8),\"\")","v":""},{"$f":"IF(CQ$5<>\"\",OFFSET(Data!CV$4,View!$B$25,$DS8),\"\")","v":""},{"$f":"IF(CR$5<>\"\",OFFSET(Data!CW$4,View!$B$25,$DS8),\"\")","v":""},{"$f":"IF(CS$5<>\"\",OFFSET(Data!CX$4,View!$B$25,$DS8),\"\")","v":""},{"$f":"IF(CT$5<>\"\",OFFSET(Data!CY$4,View!$B$25,$DS8),\"\")","v":""},{"$f":"IF(CU$5<>\"\",OFFSET(Data!CZ$4,View!$B$25,$DS8),\"\")","v":""},{"$f":"IF(CV$5<>\"\",OFFSET(Data!DA$4,View!$B$25,$DS8),\"\")","v":""},{"$f":"IF(CW$5<>\"\",OFFSET(Data!DB$4,View!$B$25,$DS8),\"\")","v":""},{"$f":"IF(CX$5<>\"\",OFFSET(Data!DC$4,View!$B$25,$DS8),\"\")","v":""},{"$f":"IF(CY$5<>\"\",OFFSET(Data!DD$4,View!$B$25,$DS8),\"\")","v":""},{"$f":"IF(CZ$5<>\"\",OFFSET(Data!DE$4,View!$B$25,$DS8),\"\")","v":""},{"$f":"IF(DA$5<>\"\",OFFSET(Data!DF$4,View!$B$25,$DS8),\"\")","v":""},{"$f":"IF(DB$5<>\"\",OFFSET(Data!DG$4,View!$B$25,$DS8),\"\")","v":""},{"$f":"IF(DC$5<>\"\",OFFSET(Data!DH$4,View!$B$25,$DS8),\"\")","v":""},{"$f":"IF(DD$5<>\"\",OFFSET(Data!DI$4,View!$B$25,$DS8),\"\")","v":""},{"$f":"IF(DE$5<>\"\",OFFSET(Data!DJ$4,View!$B$25,$DS8),\"\")","v":""},{"$f":"IF(DF$5<>\"\",OFFSET(Data!DK$4,View!$B$25,$DS8),\"\")","v":""},{"$f":"IF(DG$5<>\"\",OFFSET(Data!DL$4,View!$B$25,$DS8),\"\")","v":""},{"$f":"IF(DH$5<>\"\",OFFSET(Data!DM$4,View!$B$25,$DS8),\"\")","v":""},{"$f":"IF(DI$5<>\"\",OFFSET(Data!DN$4,View!$B$25,$DS8),\"\")","v":""},{"$f":"IF(DJ$5<>\"\",OFFSET(Data!DO$4,View!$B$25,$DS8),\"\")","v":""},{"$f":"IF(DK$5<>\"\",OFFSET(Data!DP$4,View!$B$25,$DS8),\"\")","v":""},{"$f":"IF(DL$5<>\"\",OFFSET(Data!DQ$4,View!$B$25,$DS8),\"\")","v":""},{"$f":"IF(DM$5<>\"\",OFFSET(Data!DR$4,View!$B$25,$DS8),\"\")","v":""},{"$f":"IF(DN$5<>\"\",OFFSET(Data!DS$4,View!$B$25,$DS8),\"\")","v":""},{"$f":"IF(DO$5<>\"\",OFFSET(Data!DT$4,View!$B$25,$DS8),\"\")","v":""},{"$f":"IF(DP$5<>\"\",OFFSET(Data!DU$4,View!$B$25,$DS8),\"\")","v":""},{"$f":"IF(DQ$5<>\"\",OFFSET(Data!DV$4,View!$B$25,$DS8),\"\")","v":""},{"$f":"IF(DR$5<>\"\",OFFSET(Data!DW$4,View!$B$25,$DS8),\"\")","v":""},{"$f":"($C$41+1)*4","v":4}]
[]
["LZfmax",{"$f":"IF(B$5<>\"\",OFFSET(Data!G$4,View!$B$25,$DS10),\"\")","v":0},{"$f":"IF(C$5<>\"\",OFFSET(Data!H$4,View!$B$25,$DS10),\"\")","v":0},{"$f":"IF(D$5<>\"\",OFFSET(Data!I$4,View!$B$25,$DS10),\"\")","v":0},{"$f":"IF(E$5<>\"\",OFFSET(Data!J$4,View!$B$25,$DS10),\"\")","v":0},{"$f":"IF(F$5<>\"\",OFFSET(Data!K$4,View!$B$25,$DS10),\"\")","v":0},{"$f":"IF(G$5<>\"\",OFFSET(Data!L$4,View!$B$25,$DS10),\"\")","v":0},{"$f":"IF(H$5<>\"\",OFFSET(Data!M$4,View!$B$25,$DS10),\"\")","v":0},{"$f":"IF(I$5<>\"\",OFFSET(Data!N$4,View!$B$25,$DS10),\"\")","v":0},{"$f":"IF(J$5<>\"\",OFFSET(Data!O$4,View!$B$25,$DS10),\"\")","v":0},{"$f":"IF(K$5<>\"\",OFFSET(Data!P$4,View!$B$25,$DS10),\"\")","v":0},{"$f":"IF(L$5<>\"\",OFFSET(Data!Q$4,View!$B$25,$DS10),\"\")","v":0},{"$f":"IF(M$5<>\"\",OFFSET(Data!R$4,View!$B$25,$DS10),\"\")","v":""},{"$f":"IF(N$5<>\"\",OFFSET(Data!S$4,View!$B$25,$DS10),\"\")","v":""},{"$f":"IF(O$5<>\"\",OFFSET(Data!T$4,View!$B$25,$DS10),\"\")","v":""},{"$f":"IF(P$5<>\"\",OFFSET(Data!U$4,View!$B$25,$DS10),\"\")","v":""},{"$f":"IF(Q$5<>\"\",OFFSET(Data!V$4,View!$B$25,$DS10),\"\")","v":""},{"$f":"IF(R$5<>\"\",OFFSET(Data!W$4,View!$B$25,$DS10),\"\")","v":""},{"$f":"IF(S$5<>\"\",OFFSET(Data!X$4,View!$B$25,$DS10),\"\")","v":""},{"$f":"IF(T$5<>\"\",OFFSET(Data!Y$4,View!$B$25,$DS10),\"\")","v":""},{"$f":"IF(U$5<>\"\",OFFSET(Data!Z$4,View!$B$25,$DS10),\"\")","v":""},{"$f":"IF(V$5<>\"\",OFFSET(Data!AA$4,View!$B$25,$DS10),\"\")","v":""},{"$f":"IF(W$5<>\"\",OFFSET(Data!AB$4,View!$B$25,$DS10),\"\")","v":""},{"$f":"IF(X$5<>\"\",OFFSET(Data!AC$4,View!$B$25,$DS10),\"\")","v":""},{"$f":"IF(Y$5<>\"\",OFFSET(Data!AD$4,View!$B$25,$DS10),\"\")","v":""},{"$f":"IF(Z$5<>\"\",OFFSET(Data!AE$4,View!$B$25,$DS10),\"\")","v":""},{"$f":"IF(AA$5<>\"\",OFFSET(Data!AF$4,View!$B$25,$DS10),\"\")","v":""},{"$f":"IF(AB$5<>\"\",OFFSET(Data!AG$4,View!$B$25,$DS10),\"\")","v":""},{"$f":"IF(AC$5<>\"\",OFFSET(Data!AH$4,View!$B$25,$DS10),\"\")","v":""},{"$f":"IF(AD$5<>\"\",OFFSET(Data!AI$4,View!$B$25,$DS10),\"\")","v":""},{"$f":"IF(AE$5<>\"\",OFFSET(Data!AJ$4,View!$B$25,$DS10),\"\")","v":""},{"$f":"IF(AF$5<>\"\",OFFSET(Data!AK$4,View!$B$25,$DS10),\"\")","v":""},{"$f":"IF(AG$5<>\"\",OFFSET(Data!AL$4,View!$B$25,$DS10),\"\")","v":""},{"$f":"IF(AH$5<>\"\",OFFSET(Data!AM$4,View!$B$25,$DS10),\"\")","v":""},{"$f":"IF(AI$5<>\"\",OFFSET(Data!AN$4,View!$B$25,$DS10),\"\")","v":""},{"$f":"IF(AJ$5<>\"\",OFFSET(Data!AO$4,View!$B$25,$DS10),\"\")","v":""},{"$f":"IF(AK$5<>\"\",OFFSET(Data!AP$4,View!$B$25,$DS10),\"\")","v":""},{"$f":"IF(AL$5<>\"\",OFFSET(Data!AQ$4,View!$B$25,$DS10),\"\")","v":""},{"$f":"IF(AM$5<>\"\",OFFSET(Data!AR$4,View!$B$25,$DS10),\"\")","v":""},{"$f":"IF(AN$5<>\"\",OFFSET(Data!AS$4,View!$B$25,$DS10),\"\")","v":""},{"$f":"IF(AO$5<>\"\",OFFSET(Data!AT$4,View!$B$25,$DS10),\"\")","v":""},{"$f":"IF(AP$5<>\"\",OFFSET(Data!AU$4,View!$B$25,$DS10),\"\")","v":""},{"$f":"IF(AQ$5<>\"\",OFFSET(Data!AV$4,View!$B$25,$DS10),\"\")","v":""},{"$f":"IF(AR$5<>\"\",OFFSET(Data!AW$4,View!$B$25,$DS10),\"\")","v":""},{"$f":"IF(AS$5<>\"\",OFFSET(Data!AX$4,View!$B$25,$DS10),\"\")","v":""},{"$f":"IF(AT$5<>\"\",OFFSET(Data!AY$4,View!$B$25,$DS10),\"\")","v":""},{"$f":"IF(AU$5<>\"\",OFFSET(Data!AZ$4,View!$B$25,$DS10),\"\")","v":""},{"$f":"IF(AV$5<>\"\",OFFSET(Data!BA$4,View!$B$25,$DS10),\"\")","v":""},{"$f":"IF(AW$5<>\"\",OFFSET(Data!BB$4,View!$B$25,$DS10),\"\")","v":""},{"$f":"IF(AX$5<>\"\",OFFSET(Data!BC$4,View!$B$25,$DS10),\"\")","v":""},{"$f":"IF(AY$5<>\"\",OFFSET(Data!BD$4,View!$B$25,$DS10),\"\")","v":""},{"$f":"IF(AZ$5<>\"\",OFFSET(Data!BE$4,View!$B$25,$DS10),\"\")","v":""},{"$f":"IF(BA$5<>\"\",OFFSET(Data!BF$4,View!$B$25,$DS10),\"\")","v":""},{"$f":"IF(BB$5<>\"\",OFFSET(Data!BG$4,View!$B$25,$DS10),\"\")","v":""},{"$f":"IF(BC$5<>\"\",OFFSET(Data!BH$4,View!$B$25,$DS10),\"\")","v":""},{"$f":"IF(BD$5<>\"\",OFFSET(Data!BI$4,View!$B$25,$DS10),\"\")","v":""},{"$f":"IF(BE$5<>\"\",OFFSET(Data!BJ$4,View!$B$25,$DS10),\"\")","v":""},{"$f":"IF(BF$5<>\"\",OFFSET(Data!BK$4,View!$B$25,$DS10),\"\")","v":""},{"$f":"IF(BG$5<>\"\",OFFSET(Data!BL$4,View!$B$25,$DS10),\"\")","v":""},{"$f":"IF(BH$5<>\"\",OFFSET(Data!BM$4,View!$B$25,$DS10),\"\")","v":""},{"$f":"IF(BI$5<>\"\",OFFSET(Data!BN$4,View!$B$25,$DS10),\"\")","v":""},{"$f":"IF(BJ$5<>\"\",OFFSET(Data!BO$4,View!$B$25,$DS10),\"\")","v":""},{"$f":"IF(BK$5<>\"\",OFFSET(Data!BP$4,View!$B$25,$DS10),\"\")","v":""},{"$f":"IF(BL$5<>\"\",OFFSET(Data!BQ$4,View!$B$25,$DS10),\"\")","v":""},{"$f":"IF(BM$5<>\"\",OFFSET(Data!BR$4,View!$B$25,$DS10),\"\")","v":""},{"$f":"IF(BN$5<>\"\",OFFSET(Data!BS$4,View!$B$25,$DS10),\"\")","v":""},{"$f":"IF(BO$5<>\"\",OFFSET(Data!BT$4,View!$B$25,$DS10),\"\")","v":""},{"$f":"IF(BP$5<>\"\",OFFSET(Data!BU$4,View!$B$25,$DS10),\"\")","v":""},{"$f":"IF(BQ$5<>\"\",OFFSET(Data!BV$4,View!$B$25,$DS10),\"\")","v":""},{"$f":"IF(BR$5<>\"\",OFFSET(Data!BW$4,View!$B$25,$DS10),\"\")","v":""},{"$f":"IF(BS$5<>\"\",OFFSET(Data!BX$4,View!$B$25,$DS10),\"\")","v":""},{"$f":"IF(BT$5<>\"\",OFFSET(Data!BY$4,View!$B$25,$DS10),\"\")","v":""},{"$f":"IF(BU$5<>\"\",OFFSET(Data!BZ$4,View!$B$25,$DS10),\"\")","v":""},{"$f":"IF(BV$5<>\"\",OFFSET(Data!CA$4,View!$B$25,$DS10),\"\")","v":""},{"$f":"IF(BW$5<>\"\",OFFSET(Data!CB$4,View!$B$25,$DS10),\"\")","v":""},{"$f":"IF(BX$5<>\"\",OFFSET(Data!CC$4,View!$B$25,$DS10),\"\")","v":""},{"$f":"IF(BY$5<>\"\",OFFSET(Data!CD$4,View!$B$25,$DS10),\"\")","v":""},{"$f":"IF(BZ$5<>\"\",OFFSET(Data!CE$4,View!$B$25,$DS10),\"\")","v":""},{"$f":"IF(CA$5<>\"\",OFFSET(Data!CF$4,View!$B$25,$DS10),\"\")","v":""},{"$f":"IF(CB$5<>\"\",OFFSET(Data!CG$4,View!$B$25,$DS10),\"\")","v":""},{"$f":"IF(CC$5<>\"\",OFFSET(Data!CH$4,View!$B$25,$DS10),\"\")","v":""},{"$f":"IF(CD$5<>\"\",OFFSET(Data!CI$4,View!$B$25,$DS10),\"\")","v":""},{"$f":"IF(CE$5<>\"\",OFFSET(Data!CJ$4,View!$B$25,$DS10),\"\")","v":""},{"$f":"IF(CF$5<>\"\",OFFSET(Data!CK$4,View!$B$25,$DS10),\"\")","v":""},{"$f":"IF(CG$5<>\"\",OFFSET(Data!CL$4,View!$B$25,$DS10),\"\")","v":""},{"$f":"IF(CH$5<>\"\",OFFSET(Data!CM$4,View!$B$25,$DS10),\"\")","v":""},{"$f":"IF(CI$5<>\"\",OFFSET(Data!CN$4,View!$B$25,$DS10),\"\")","v":""},{"$f":"IF(CJ$5<>\"\",OFFSET(Data!CO$4,View!$B$25,$DS10),\"\")","v":""},{"$f":"IF(CK$5<>\"\",OFFSET(Data!CP$4,View!$B$25,$DS10),\"\")","v":""},{"$f":"IF(CL$5<>\"\",OFFSET(Data!CQ$4,View!$B$25,$DS10),\"\")","v":""},{"$f":"IF(CM$5<>\"\",OFFSET(Data!CR$4,View!$B$25,$DS10),\"\")","v":""},{"$f":"IF(CN$5<>\"\",OFFSET(Data!CS$4,View!$B$25,$DS10),\"\")","v":""},{"$f":"IF(CO$5<>\"\",OFFSET(Data!CT$4,View!$B$25,$DS10),\"\")","v":""},{"$f":"IF(CP$5<>\"\",OFFSET(Data!CU$4,View!$B$25,$DS10),\"\")","v":""},{"$f":"IF(CQ$5<>\"\",OFFSET(Data!CV$4,View!$B$25,$DS10),\"\")","v":""},{"$f":"IF(CR$5<>\"\",OFFSET(Data!CW$4,View!$B$25,$DS10),\"\")","v":""},{"$f":"IF(CS$5<>\"\",OFFSET(Data!CX$4,View!$B$25,$DS10),\"\")","v":""},{"$f":"IF(CT$5<>\"\",OFFSET(Data!CY$4,View!$B$25,$DS10),\"\")","v":""},{"$f":"IF(CU$5<>\"\",OFFSET(Data!CZ$4,View!$B$25,$DS10),\"\")","v":""},{"$f":"IF(CV$5<>\"\",OFFSET(Data!DA$4,View!$B$25,$DS10),\"\")","v":""},{"$f":"IF(CW$5<>\"\",OFFSET(Data!DB$4,View!$B$25,$DS10),\"\")","v":""},{"$f":"IF(CX$5<>\"\",OFFSET(Data!DC$4,View!$B$25,$DS10),\"\")","v":""},{"$f":"IF(CY$5<>\"\",OFFSET(Data!DD$4,View!$B$25,$DS10),\"\")","v":""},{"$f":"IF(CZ$5<>\"\",OFFSET(Data!DE$4,View!$B$25,$DS10),\"\")","v":""},{"$f":"IF(DA$5<>\"\",OFFSET(Data!DF$4,View!$B$25,$DS10),\"\")","v":""},{"$f":"IF(DB$5<>\"\",OFFSET(Data!DG$4,View!$B$25,$DS10),\"\")","v":""},{"$f":"IF(DC$5<>\"\",OFFSET(Data!DH$4,View!$B$25,$DS10),\"\")","v":""},{"$f":"IF(DD$5<>\"\",OFFSET(Data!DI$4,View!$B$25,$DS10),\"\")","v":""},{"$f":"IF(DE$5<>\"\",OFFSET(Data!DJ$4,View!$B$25,$DS10),\"\")","v":""},{"$f":"IF(DF$5<>\"\",OFFSET(Data!DK$4,View!$B$25,$DS10),\"\")","v":""},{"$f":"IF(DG$5<>\"\",OFFSET(Data!DL$4,View!$B$25,$DS10),\"\")","v":""},{"$f":"IF(DH$5<>\"\",OFFSET(Data!DM$4,View!$B$25,$DS10),\"\")","v":""},{"$f":"IF(DI$5<>\"\",OFFSET(Data!DN$4,View!$B$25,$DS10),\"\")","v":""},{"$f":"IF(DJ$5<>\"\",OFFSET(Data!DO$4,View!$B$25,$DS10),\"\")","v":""},{"$f":"IF(DK$5<>\"\",OFFSET(Data!DP$4,View!$B$25,$DS10),\"\")","v":""},{"$f":"IF(DL$5<>\"\",OFFSET(Data!DQ$4,View!$B$25,$DS10),\"\")","v":""},{"$f":"IF(DM$5<>\"\",OFFSET(Data!DR$4,View!$B$25,$DS10),\"\")","v":""},{"$f":"IF(DN$5<>\"\",OFFSET(Data!DS$4,View!$B$25,$DS10),\"\")","v":""},{"$f":"IF(DO$5<>\"\",OFFSET(Data!DT$4,View!$B$25,$DS10),\"\")","v":""},{"$f":"IF(DP$5<>\"\",OFFSET(Data!DU$4,View!$B$25,$DS10),\"\")","v":""},{"$f":"IF(DQ$5<>\"\",OFFSET(Data!DV$4,View!$B$25,$DS10),\"\")","v":""},{"$f":"IF(DR$5<>\"\",OFFSET(Data!DW$4,View!$B$25,$DS10),\"\")","v":""},{"$f":"($C$41+1)*9","v":9}]
["LAfmax",{"$f":"IF(B$5<>\"\",OFFSET(Data!G$4,View!$B$25,$DS11),\"\")","v":0},{"$f":"IF(C$5<>\"\",OFFSET(Data!H$4,View!$B$25,$DS11),\"\")","v":0},{"$f":"IF(D$5<>\"\",OFFSET(Data!I$4,View!$B$25,$DS11),\"\")","v":0},{"$f":"IF(E$5<>\"\",OFFSET(Data!J$4,View!$B$25,$DS11),\"\")","v":0},{"$f":"IF(F$5<>\"\",OFFSET(Data!K$4,View!$B$25,$DS11),\"\")","v":0},{"$f":"IF(G$5<>\"\",OFFSET(Data!L$4,View!$B$25,$DS11),\"\")","v":0},{"$f":"IF(H$5<>\"\",OFFSET(Data!M$4,View!$B$25,$DS11),\"\")","v":0},{"$f":"IF(I$5<>\"\",OFFSET(Data!N$4,View!$B$25,$DS11),\"\")","v":0},{"$f":"IF(J$5<>\"\",OFFSET(Data!O$4,View!$B$25,$DS11),\"\")","v":0},{"$f":"IF(K$5<>\"\",OFFSET(Data!P$4,View!$B$25,$DS11),\"\")","v":0},{"$f":"IF(L$5<>\"\",OFFSET(Data!Q$4,View!$B$25,$DS11),\"\")","v":0},{"$f":"IF(M$5<>\"\",OFFSET(Data!R$4,View!$B$25,$DS11),\"\")","v":""},{"$f":"IF(N$5<>\"\",OFFSET(Data!S$4,View!$B$25,$DS11),\"\")","v":""},{"$f":"IF(O$5<>\"\",OFFSET(Data!T$4,View!$B$25,$DS11),\"\")","v":""},{"$f":"IF(P$5<>\"\",OFFSET(Data!U$4,View!$B$25,$DS11),\"\")","v":""},{"$f":"IF(Q$5<>\"\",OFFSET(Data!V$4,View!$B$25,$DS11),\"\")","v":""},{"$f":"IF(R$5<>\"\",OFFSET(Data!W$4,View!$B$25,$DS11),\"\")","v":""},{"$f":"IF(S$5<>\"\",OFFSET(Data!X$4,View!$B$25,$DS11),\"\")","v":""},{"$f":"IF(T$5<>\"\",OFFSET(Data!Y$4,View!$B$25,$DS11),\"\")","v":""},{"$f":"IF(U$5<>\"\",OFFSET(Data!Z$4,View!$B$25,$DS11),\"\")","v":""},{"$f":"IF(V$5<>\"\",OFFSET(Data!AA$4,View!$B$25,$DS11),\"\")","v":""},{"$f":"IF(W$5<>\"\",OFFSET(Data!AB$4,View!$B$25,$DS11),\"\")","v":""},{"$f":"IF(X$5<>\"\",OFFSET(Data!AC$4,View!$B$25,$DS11),\"\")","v":""},{"$f":"IF(Y$5<>\"\",OFFSET(Data!AD$4,View!$B$25,$DS11),\"\")","v":""},{"$f":"IF(Z$5<>\"\",OFFSET(Data!AE$4,View!$B$25,$DS11),\"\")","v":""},{"$f":"IF(AA$5<>\"\",OFFSET(Data!AF$4,View!$B$25,$DS11),\"\")","v":""},{"$f":"IF(AB$5<>\"\",OFFSET(Data!AG$4,View!$B$25,$DS11),\"\")","v":""},{"$f":"IF(AC$5<>\"\",OFFSET(Data!AH$4,View!$B$25,$DS11),\"\")","v":""},{"$f":"IF(AD$5<>\"\",OFFSET(Data!AI$4,View!$B$25,$DS11),\"\")","v":""},{"$f":"IF(AE$5<>\"\",OFFSET(Data!AJ$4,View!$B$25,$DS11),\"\")","v":""},{"$f":"IF(AF$5<>\"\",OFFSET(Data!AK$4,View!$B$25,$DS11),\"\")","v":""},{"$f":"IF(AG$5<>\"\",OFFSET(Data!AL$4,View!$B$25,$DS11),\"\")","v":""},{"$f":"IF(AH$5<>\"\",OFFSET(Data!AM$4,View!$B$25,$DS11),\"\")","v":""},{"$f":"IF(AI$5<>\"\",OFFSET(Data!AN$4,View!$B$25,$DS11),\"\")","v":""},{"$f":"IF(AJ$5<>\"\",OFFSET(Data!AO$4,View!$B$25,$DS11),\"\")","v":""},{"$f":"IF(AK$5<>\"\",OFFSET(Data!AP$4,View!$B$25,$DS11),\"\")","v":""},{"$f":"IF(AL$5<>\"\",OFFSET(Data!AQ$4,View!$B$25,$DS11),\"\")","v":""},{"$f":"IF(AM$5<>\"\",OFFSET(Data!AR$4,View!$B$25,$DS11),\"\")","v":""},{"$f":"IF(AN$5<>\"\",OFFSET(Data!AS$4,View!$B$25,$DS11),\"\")","v":""},{"$f":"IF(AO$5<>\"\",OFFSET(Data!AT$4,View!$B$25,$DS11),\"\")","v":""},{"$f":"IF(AP$5<>\"\",OFFSET(Data!AU$4,View!$B$25,$DS11),\"\")","v":""},{"$f":"IF(AQ$5<>\"\",OFFSET(Data!AV$4,View!$B$25,$DS11),\"\")","v":""},{"$f":"IF(AR$5<>\"\",OFFSET(Data!AW$4,View!$B$25,$DS11),\"\")","v":""},{"$f":"IF(AS$5<>\"\",OFFSET(Data!AX$4,View!$B$25,$DS11),\"\")","v":""},{"$f":"IF(AT$5<>\"\",OFFSET(Data!AY$4,View!$B$25,$DS11),\"\")","v":""},{"$f":"IF(AU$5<>\"\",OFFSET(Data!AZ$4,View!$B$25,$DS11),\"\")","v":""},{"$f":"IF(AV$5<>\"\",OFFSET(Data!BA$4,View!$B$25,$DS11),\"\")","v":""},{"$f":"IF(AW$5<>\"\",OFFSET(Data!BB$4,View!$B$25,$DS11),\"\")","v":""},{"$f":"IF(AX$5<>\"\",OFFSET(Data!BC$4,View!$B$25,$DS11),\"\")","v":""},{"$f":"IF(AY$5<>\"\",OFFSET(Data!BD$4,View!$B$25,$DS11),\"\")","v":""},{"$f":"IF(AZ$5<>\"\",OFFSET(Data!BE$4,View!$B$25,$DS11),\"\")","v":""},{"$f":"IF(BA$5<>\"\",OFFSET(Data!BF$4,View!$B$25,$DS11),\"\")","v":""},{"$f":"IF(BB$5<>\"\",OFFSET(Data!BG$4,View!$B$25,$DS11),\"\")","v":""},{"$f":"IF(BC$5<>\"\",OFFSET(Data!BH$4,View!$B$25,$DS11),\"\")","v":""},{"$f":"IF(BD$5<>\"\",OFFSET(Data!BI$4,View!$B$25,$DS11),\"\")","v":""},{"$f":"IF(BE$5<>\"\",OFFSET(Data!BJ$4,View!$B$25,$DS11),\"\")","v":""},{"$f":"IF(BF$5<>\"\",OFFSET(Data!BK$4,View!$B$25,$DS11),\"\")","v":""},{"$f":"IF(BG$5<>\"\",OFFSET(Data!BL$4,View!$B$25,$DS11),\"\")","v":""},{"$f":"IF(BH$5<>\"\",OFFSET(Data!BM$4,View!$B$25,$DS11),\"\")","v":""},{"$f":"IF(BI$5<>\"\",OFFSET(Data!BN$4,View!$B$25,$DS11),\"\")","v":""},{"$f":"IF(BJ$5<>\"\",OFFSET(Data!BO$4,View!$B$25,$DS11),\"\")","v":""},{"$f":"IF(BK$5<>\"\",OFFSET(Data!BP$4,View!$B$25,$DS11),\"\")","v":""},{"$f":"IF(BL$5<>\"\",OFFSET(Data!BQ$4,View!$B$25,$DS11),\"\")","v":""},{"$f":"IF(BM$5<>\"\",OFFSET(Data!BR$4,View!$B$25,$DS11),\"\")","v":""},{"$f":"IF(BN$5<>\"\",OFFSET(Data!BS$4,View!$B$25,$DS11),\"\")","v":""},{"$f":"IF(BO$5<>\"\",OFFSET(Data!BT$4,View!$B$25,$DS11),\"\")","v":""},{"$f":"IF(BP$5<>\"\",OFFSET(Data!BU$4,View!$B$25,$DS11),\"\")","v":""},{"$f":"IF(BQ$5<>\"\",OFFSET(Data!BV$4,View!$B$25,$DS11),\"\")","v":""},{"$f":"IF(BR$5<>\"\",OFFSET(Data!BW$4,View!$B$25,$DS11),\"\")","v":""},{"$f":"IF(BS$5<>\"\",OFFSET(Data!BX$4,View!$B$25,$DS11),\"\")","v":""},{"$f":"IF(BT$5<>\"\",OFFSET(Data!BY$4,View!$B$25,$DS11),\"\")","v":""},{"$f":"IF(BU$5<>\"\",OFFSET(Data!BZ$4,View!$B$25,$DS11),\"\")","v":""},{"$f":"IF(BV$5<>\"\",OFFSET(Data!CA$4,View!$B$25,$DS11),\"\")","v":""},{"$f":"IF(BW$5<>\"\",OFFSET(Data!CB$4,View!$B$25,$DS11),\"\")","v":""},{"$f":"IF(BX$5<>\"\",OFFSET(Data!CC$4,View!$B$25,$DS11),\"\")","v":""},{"$f":"IF(BY$5<>\"\",OFFSET(Data!CD$4,View!$B$25,$DS11),\"\")","v":""},{"$f":"IF(BZ$5<>\"\",OFFSET(Data!CE$4,View!$B$25,$DS11),\"\")","v":""},{"$f":"IF(CA$5<>\"\",OFFSET(Data!CF$4,View!$B$25,$DS11),\"\")","v":""},{"$f":"IF(CB$5<>\"\",OFFSET(Data!CG$4,View!$B$25,$DS11),\"\")","v":""},{"$f":"IF(CC$5<>\"\",OFFSET(Data!CH$4,View!$B$25,$DS11),\"\")","v":""},{"$f":"IF(CD$5<>\"\",OFFSET(Data!CI$4,View!$B$25,$DS11),\"\")","v":""},{"$f":"IF(CE$5<>\"\",OFFSET(Data!CJ$4,View!$B$25,$DS11),\"\")","v":""},{"$f":"IF(CF$5<>\"\",OFFSET(Data!CK$4,View!$B$25,$DS11),\"\")","v":""},{"$f":"IF(CG$5<>\"\",OFFSET(Data!CL$4,View!$B$25,$DS11),\"\")","v":""},{"$f":"IF(CH$5<>\"\",OFFSET(Data!CM$4,View!$B$25,$DS11),\"\")","v":""},{"$f":"IF(CI$5<>\"\",OFFSET(Data!CN$4,View!$B$25,$DS11),\"\")","v":""},{"$f":"IF(CJ$5<>\"\",OFFSET(Data!CO$4,View!$B$25,$DS11),\"\")","v":""},{"$f":"IF(CK$5<>\"\",OFFSET(Data!CP$4,View!$B$25,$DS11),\"\")","v":""},{"$f":"IF(CL$5<>\"\",OFFSET(Data!CQ$4,View!$B$25,$DS11),\"\")","v":""},{"$f":"IF(CM$5<>\"\",OFFSET(Data!CR$4,View!$B$25,$DS11),\"\")","v":""},{"$f":"IF(CN$5<>\"\",OFFSET(Data!CS$4,View!$B$25,$DS11),\"\")","v":""},{"$f":"IF(CO$5<>\"\",OFFSET(Data!CT$4,View!$B$25,$DS11),\"\")","v":""},{"$f":"IF(CP$5<>\"\",OFFSET(Data!CU$4,View!$B$25,$DS11),\"\")","v":""},{"$f":"IF(CQ$5<>\"\",OFFSET(Data!CV$4,View!$B$25,$DS11),\"\")","v":""},{"$f":"IF(CR$5<>\"\",OFFSET(Data!CW$4,View!$B$25,$DS11),\"\")","v":""},{"$f":"IF(CS$5<>\"\",OFFSET(Data!CX$4,View!$B$25,$DS11),\"\")","v":""},{"$f":"IF(CT$5<>\"\",OFFSET(Data!CY$4,View!$B$25,$DS11),\"\")","v":""},{"$f":"IF(CU$5<>\"\",OFFSET(Data!CZ$4,View!$B$25,$DS11),\"\")","v":""},{"$f":"IF(CV$5<>\"\",OFFSET(Data!DA$4,View!$B$25,$DS11),\"\")","v":""},{"$f":"IF(CW$5<>\"\",OFFSET(Data!DB$4,View!$B$25,$DS11),\"\")","v":""},{"$f":"IF(CX$5<>\"\",OFFSET(Data!DC$4,View!$B$25,$DS11),\"\")","v":""},{"$f":"IF(CY$5<>\"\",OFFSET(Data!DD$4,View!$B$25,$DS11),\"\")","v":""},{"$f":"IF(CZ$5<>\"\",OFFSET(Data!DE$4,View!$B$25,$DS11),\"\")","v":""},{"$f":"IF(DA$5<>\"\",OFFSET(Data!DF$4,View!$B$25,$DS11),\"\")","v":""},{"$f":"IF(DB$5<>\"\",OFFSET(Data!DG$4,View!$B$25,$DS11),\"\")","v":""},{"$f":"IF(DC$5<>\"\",OFFSET(Data!DH$4,View!$B$25,$DS11),\"\")","v":""},{"$f":"IF(DD$5<>\"\",OFFSET(Data!DI$4,View!$B$25,$DS11),\"\")","v":""},{"$f":"IF(DE$5<>\"\",OFFSET(Data!DJ$4,View!$B$25,$DS11),\"\")","v":""},{"$f":"IF(DF$5<>\"\",OFFSET(Data!DK$4,View!$B$25,$DS11),\"\")","v":""},{"$f":"IF(DG$5<>\"\",OFFSET(Data!DL$4,View!$B$25,$DS11),\"\")","v":""},{"$f":"IF(DH$5<>\"\",OFFSET(Data!DM$4,View!$B$25,$DS11),\"\")","v":""},{"$f":"IF(DI$5<>\"\",OFFSET(Data!DN$4,View!$B$25,$DS11),\"\")","v":""},{"$f":"IF(DJ$5<>\"\",OFFSET(Data!DO$4,View!$B$25,$DS11),\"\")","v":""},{"$f":"IF(DK$5<>\"\",OFFSET(Data!DP$4,View!$B$25,$DS11),\"\")","v":""},{"$f":"IF(DL$5<>\"\",OFFSET(Data!DQ$4,View!$B$25,$DS11),\"\")","v":""},{"$f":"IF(DM$5<>\"\",OFFSET(Data!DR$4,View!$B$25,$DS11),\"\")","v":""},{"$f":"IF(DN$5<>\"\",OFFSET(Data!DS$4,View!$B$25,$DS11),\"\")","v":""},{"$f":"IF(DO$5<>\"\",OFFSET(Data!DT$4,View!$B$25,$DS11),\"\")","v":""},{"$f":"IF(DP$5<>\"\",OFFSET(Data!DU$4,View!$B$25,$DS11),\"\")","v":""},{"$f":"IF(DQ$5<>\"\",OFFSET(Data!DV$4,View!$B$25,$DS11),\"\")","v":""},{"$f":"IF(DR$5<>\"\",OFFSET(Data!DW$4,View!$B$25,$DS11),\"\")","v":""},{"$f":"($C$41+1)*1","v":1}]
["LCfmax",{"$f":"IF(B$5<>\"\",OFFSET(Data!G$4,View!$B$25,$DS12),\"\")","v":0},{"$f":"IF(C$5<>\"\",OFFSET(Data!H$4,View!$B$25,$DS12),\"\")","v":0},{"$f":"IF(D$5<>\"\",OFFSET(Data!I$4,View!$B$25,$DS12),\"\")","v":0},{"$f":"IF(E$5<>\"\",OFFSET(Data!J$4,View!$B$25,$DS12),\"\")","v":0},{"$f":"IF(F$5<>\"\",OFFSET(Data!K$4,View!$B$25,$DS12),\"\")","v":0},{"$f":"IF(G$5<>\"\",OFFSET(Data!L$4,View!$B$25,$DS12),\"\")","v":0},{"$f":"IF(H$5<>\"\",OFFSET(Data!M$4,View!$B$25,$DS12),\"\")","v":0},{"$f":"IF(I$5<>\"\",OFFSET(Data!N$4,View!$B$25,$DS12),\"\")","v":0},{"$f":"IF(J$5<>\"\",OFFSET(Data!O$4,View!$B$25,$DS12),\"\")","v":0},{"$f":"IF(K$5<>\"\",OFFSET(Data!P$4,View!$B$25,$DS12),\"\")","v":0},{"$f":"IF(L$5<>\"\",OFFSET(Data!Q$4,View!$B$25,$DS12),\"\")","v":0},{"$f":"IF(M$5<>\"\",OFFSET(Data!R$4,View!$B$25,$DS12),\"\")","v":""},{"$f":"IF(N$5<>\"\",OFFSET(Data!S$4,View!$B$25,$DS12),\"\")","v":""},{"$f":"IF(O$5<>\"\",OFFSET(Data!T$4,View!$B$25,$DS12),\"\")","v":""},{"$f":"IF(P$5<>\"\",OFFSET(Data!U$4,View!$B$25,$DS12),\"\")","v":""},{"$f":"IF(Q$5<>\"\",OFFSET(Data!V$4,View!$B$25,$DS12),\"\")","v":""},{"$f":"IF(R$5<>\"\",OFFSET(Data!W$4,View!$B$25,$DS12),\"\")","v":""},{"$f":"IF(S$5<>\"\",OFFSET(Data!X$4,View!$B$25,$DS12),\"\")","v":""},{"$f":"IF(T$5<>\"\",OFFSET(Data!Y$4,View!$B$25,$DS12),\"\")","v":""},{"$f":"IF(U$5<>\"\",OFFSET(Data!Z$4,View!$B$25,$DS12),\"\")","v":""},{"$f":"IF(V$5<>\"\",OFFSET(Data!AA$4,View!$B$25,$DS12),\"\")","v":""},{"$f":"IF(W$5<>\"\",OFFSET(Data!AB$4,View!$B$25,$DS12),\"\")","v":""},{"$f":"IF(X$5<>\"\",OFFSET(Data!AC$4,View!$B$25,$DS12),\"\")","v":""},{"$f":"IF(Y$5<>\"\",OFFSET(Data!AD$4,View!$B$25,$DS12),\"\")","v":""},{"$f":"IF(Z$5<>\"\",OFFSET(Data!AE$4,View!$B$25,$DS12),\"\")","v":""},{"$f":"IF(AA$5<>\"\",OFFSET(Data!AF$4,View!$B$25,$DS12),\"\")","v":""},{"$f":"IF(AB$5<>\"\",OFFSET(Data!AG$4,View!$B$25,$DS12),\"\")","v":""},{"$f":"IF(AC$5<>\"\",OFFSET(Data!AH$4,View!$B$25,$DS12),\"\")","v":""},{"$f":"IF(AD$5<>\"\",OFFSET(Data!AI$4,View!$B$25,$DS12),\"\")","v":""},{"$f":"IF(AE$5<>\"\",OFFSET(Data!AJ$4,View!$B$25,$DS12),\"\")","v":""},{"$f":"IF(AF$5<>\"\",OFFSET(Data!AK$4,View!$B$25,$DS12),\"\")","v":""},{"$f":"IF(AG$5<>\"\",OFFSET(Data!AL$4,View!$B$25,$DS12),\"\")","v":""},{"$f":"IF(AH$5<>\"\",OFFSET(Data!AM$4,View!$B$25,$DS12),\"\")","v":""},{"$f":"IF(AI$5<>\"\",OFFSET(Data!AN$4,View!$B$25,$DS12),\"\")","v":""},{"$f":"IF(AJ$5<>\"\",OFFSET(Data!AO$4,View!$B$25,$DS12),\"\")","v":""},{"$f":"IF(AK$5<>\"\",OFFSET(Data!AP$4,View!$B$25,$DS12),\"\")","v":""},{"$f":"IF(AL$5<>\"\",OFFSET(Data!AQ$4,View!$B$25,$DS12),\"\")","v":""},{"$f":"IF(AM$5<>\"\",OFFSET(Data!AR$4,View!$B$25,$DS12),\"\")","v":""},{"$f":"IF(AN$5<>\"\",OFFSET(Data!AS$4,View!$B$25,$DS12),\"\")","v":""},{"$f":"IF(AO$5<>\"\",OFFSET(Data!AT$4,View!$B$25,$DS12),\"\")","v":""},{"$f":"IF(AP$5<>\"\",OFFSET(Data!AU$4,View!$B$25,$DS12),\"\")","v":""},{"$f":"IF(AQ$5<>\"\",OFFSET(Data!AV$4,View!$B$25,$DS12),\"\")","v":""},{"$f":"IF(AR$5<>\"\",OFFSET(Data!AW$4,View!$B$25,$DS12),\"\")","v":""},{"$f":"IF(AS$5<>\"\",OFFSET(Data!AX$4,View!$B$25,$DS12),\"\")","v":""},{"$f":"IF(AT$5<>\"\",OFFSET(Data!AY$4,View!$B$25,$DS12),\"\")","v":""},{"$f":"IF(AU$5<>\"\",OFFSET(Data!AZ$4,View!$B$25,$DS12),\"\")","v":""},{"$f":"IF(AV$5<>\"\",OFFSET(Data!BA$4,View!$B$25,$DS12),\"\")","v":""},{"$f":"IF(AW$5<>\"\",OFFSET(Data!BB$4,View!$B$25,$DS12),\"\")","v":""},{"$f":"IF(AX$5<>\"\",OFFSET(Data!BC$4,View!$B$25,$DS12),\"\")","v":""},{"$f":"IF(AY$5<>\"\",OFFSET(Data!BD$4,View!$B$25,$DS12),\"\")","v":""},{"$f":"IF(AZ$5<>\"\",OFFSET(Data!BE$4,View!$B$25,$DS12),\"\")","v":""},{"$f":"IF(BA$5<>\"\",OFFSET(Data!BF$4,View!$B$25,$DS12),\"\")","v":""},{"$f":"IF(BB$5<>\"\",OFFSET(Data!BG$4,View!$B$25,$DS12),\"\")","v":""},{"$f":"IF(BC$5<>\"\",OFFSET(Data!BH$4,View!$B$25,$DS12),\"\")","v":""},{"$f":"IF(BD$5<>\"\",OFFSET(Data!BI$4,View!$B$25,$DS12),\"\")","v":""},{"$f":"IF(BE$5<>\"\",OFFSET(Data!BJ$4,View!$B$25,$DS12),\"\")","v":""},{"$f":"IF(BF$5<>\"\",OFFSET(Data!BK$4,View!$B$25,$DS12),\"\")","v":""},{"$f":"IF(BG$5<>\"\",OFFSET(Data!BL$4,View!$B$25,$DS12),\"\")","v":""},{"$f":"IF(BH$5<>\"\",OFFSET(Data!BM$4,View!$B$25,$DS12),\"\")","v":""},{"$f":"IF(BI$5<>\"\",OFFSET(Data!BN$4,View!$B$25,$DS12),\"\")","v":""},{"$f":"IF(BJ$5<>\"\",OFFSET(Data!BO$4,View!$B$25,$DS12),\"\")","v":""},{"$f":"IF(BK$5<>\"\",OFFSET(Data!BP$4,View!$B$25,$DS12),\"\")","v":""},{"$f":"IF(BL$5<>\"\",OFFSET(Data!BQ$4,View!$B$25,$DS12),\"\")","v":""},{"$f":"IF(BM$5<>\"\",OFFSET(Data!BR$4,View!$B$25,$DS12),\"\")","v":""},{"$f":"IF(BN$5<>\"\",OFFSET(Data!BS$4,View!$B$25,$DS12),\"\")","v":""},{"$f":"IF(BO$5<>\"\",OFFSET(Data!BT$4,View!$B$25,$DS12),\"\")","v":""},{"$f":"IF(BP$5<>\"\",OFFSET(Data!BU$4,View!$B$25,$DS12),\"\")","v":""},{"$f":"IF(BQ$5<>\"\",OFFSET(Data!BV$4,View!$B$25,$DS12),\"\")","v":""},{"$f":"IF(BR$5<>\"\",OFFSET(Data!BW$4,View!$B$25,$DS12),\"\")","v":""},{"$f":"IF(BS$5<>\"\",OFFSET(Data!BX$4,View!$B$25,$DS12),\"\")","v":""},{"$f":"IF(BT$5<>\"\",OFFSET(Data!BY$4,View!$B$25,$DS12),\"\")","v":""},{"$f":"IF(BU$5<>\"\",OFFSET(Data!BZ$4,View!$B$25,$DS12),\"\")","v":""},{"$f":"IF(BV$5<>\"\",OFFSET(Data!CA$4,View!$B$25,$DS12),\"\")","v":""},{"$f":"IF(BW$5<>\"\",OFFSET(Data!CB$4,View!$B$25,$DS12),\"\")","v":""},{"$f":"IF(BX$5<>\"\",OFFSET(Data!CC$4,View!$B$25,$DS12),\"\")","v":""},{"$f":"IF(BY$5<>\"\",OFFSET(Data!CD$4,View!$B$25,$DS12),\"\")","v":""},{"$f":"IF(BZ$5<>\"\",OFFSET(Data!CE$4,View!$B$25,$DS12),\"\")","v":""},{"$f":"IF(CA$5<>\"\",OFFSET(Data!CF$4,View!$B$25,$DS12),\"\")","v":""},{"$f":"IF(CB$5<>\"\",OFFSET(Data!CG$4,View!$B$25,$DS12),\"\")","v":""},{"$f":"IF(CC$5<>\"\",OFFSET(Data!CH$4,View!$B$25,$DS12),\"\")","v":""},{"$f":"IF(CD$5<>\"\",OFFSET(Data!CI$4,View!$B$25,$DS12),\"\")","v":""},{"$f":"IF(CE$5<>\"\",OFFSET(Data!CJ$4,View!$B$25,$DS12),\"\")","v":""},{"$f":"IF(CF$5<>\"\",OFFSET(Data!CK$4,View!$B$25,$DS12),\"\")","v":""},{"$f":"IF(CG$5<>\"\",OFFSET(Data!CL$4,View!$B$25,$DS12),\"\")","v":""},{"$f":"IF(CH$5<>\"\",OFFSET(Data!CM$4,View!$B$25,$DS12),\"\")","v":""},{"$f":"IF(CI$5<>\"\",OFFSET(Data!CN$4,View!$B$25,$DS12),\"\")","v":""},{"$f":"IF(CJ$5<>\"\",OFFSET(Data!CO$4,View!$B$25,$DS12),\"\")","v":""},{"$f":"IF(CK$5<>\"\",OFFSET(Data!CP$4,View!$B$25,$DS12),\"\")","v":""},{"$f":"IF(CL$5<>\"\",OFFSET(Data!CQ$4,View!$B$25,$DS12),\"\")","v":""},{"$f":"IF(CM$5<>\"\",OFFSET(Data!CR$4,View!$B$25,$DS12),\"\")","v":""},{"$f":"IF(CN$5<>\"\",OFFSET(Data!CS$4,View!$B$25,$DS12),\"\")","v":""},{"$f":"IF(CO$5<>\"\",OFFSET(Data!CT$4,View!$B$25,$DS12),\"\")","v":""},{"$f":"IF(CP$5<>\"\",OFFSET(Data!CU$4,View!$B$25,$DS12),\"\")","v":""},{"$f":"IF(CQ$5<>\"\",OFFSET(Data!CV$4,View!$B$25,$DS12),\"\")","v":""},{"$f":"IF(CR$5<>\"\",OFFSET(Data!CW$4,View!$B$25,$DS12),\"\")","v":""},{"$f":"IF(CS$5<>\"\",OFFSET(Data!CX$4,View!$B$25,$DS12),\"\")","v":""},{"$f":"IF(CT$5<>\"\",OFFSET(Data!CY$4,View!$B$25,$DS12),\"\")","v":""},{"$f":"IF(CU$5<>\"\",OFFSET(Data!CZ$4,View!$B$25,$DS12),\"\")","v":""},{"$f":"IF(CV$5<>\"\",OFFSET(Data!DA$4,View!$B$25,$DS12),\"\")","v":""},{"$f":"IF(CW$5<>\"\",OFFSET(Data!DB$4,View!$B$25,$DS12),\"\")","v":""},{"$f":"IF(CX$5<>\"\",OFFSET(Data!DC$4,View!$B$25,$DS12),\"\")","v":""},{"$f":"IF(CY$5<>\"\",OFFSET(Data!DD$4,View!$B$25,$DS12),\"\")","v":""},{"$f":"IF(CZ$5<>\"\",OFFSET(Data!DE$4,View!$B$25,$DS12),\"\")","v":""},{"$f":"IF(DA$5<>\"\",OFFSET(Data!DF$4,View!$B$25,$DS12),\"\")","v":""},{"$f":"IF(DB$5<>\"\",OFFSET(Data!DG$4,View!$B$25,$DS12),\"\")","v":""},{"$f":"IF(DC$5<>\"\",OFFSET(Data!DH$4,View!$B$25,$DS12),\"\")","v":""},{"$f":"IF(DD$5<>\"\",OFFSET(Data!DI$4,View!$B$25,$DS12),\"\")","v":""},{"$f":"IF(DE$5<>\"\",OFFSET(Data!DJ$4,View!$B$25,$DS12),\"\")","v":""},{"$f":"IF(DF$5<>\"\",OFFSET(Data!DK$4,View!$B$25,$DS12),\"\")","v":""},{"$f":"IF(DG$5<>\"\",OFFSET(Data!DL$4,View!$B$25,$DS12),\"\")","v":""},{"$f":"IF(DH$5<>\"\",OFFSET(Data!DM$4,View!$B$25,$DS12),\"\")","v":""},{"$f":"IF(DI$5<>\"\",OFFSET(Data!DN$4,View!$B$25,$DS12),\"\")","v":""},{"$f":"IF(DJ$5<>\"\",OFFSET(Data!DO$4,View!$B$25,$DS12),\"\")","v":""},{"$f":"IF(DK$5<>\"\",OFFSET(Data!DP$4,View!$B$25,$DS12),\"\")","v":""},{"$f":"IF(DL$5<>\"\",OFFSET(Data!DQ$4,View!$B$25,$DS12),\"\")","v":""},{"$f":"IF(DM$5<>\"\",OFFSET(Data!DR$4,View!$B$25,$DS12),\"\")","v":""},{"$f":"IF(DN$5<>\"\",OFFSET(Data!DS$4,View!$B$25,$DS12),\"\")","v":""},{"$f":"IF(DO$5<>\"\",OFFSET(Data!DT$4,View!$B$25,$DS12),\"\")","v":""},{"$f":"IF(DP$5<>\"\",OFFSET(Data!DU$4,View!$B$25,$DS12),\"\")","v":""},{"$f":"IF(DQ$5<>\"\",OFFSET(Data!DV$4,View!$B$25,$DS12),\"\")","v":""},{"$f":"IF(DR$5<>\"\",OFFSET(Data!DW$4,View!$B$25,$DS12),\"\")","v":""},{"$f":"($C$41+1)*5","v":5}]
[]
["LZsmax",{"$f":"IF(B$5<>\"\",OFFSET(Data!G$4,View!$B$25,$DS14),\"\")","v":0},{"$f":"IF(C$5<>\"\",OFFSET(Data!H$4,View!$B$25,$DS14),\"\")","v":0},{"$f":"IF(D$5<>\"\",OFFSET(Data!I$4,View!$B$25,$DS14),\"\")","v":0},{"$f":"IF(E$5<>\"\",OFFSET(Data!J$4,View!$B$25,$DS14),\"\")","v":0},{"$f":"IF(F$5<>\"\",OFFSET(Data!K$4,View!$B$25,$DS14),\"\")","v":0},{"$f":"IF(G$5<>\"\",OFFSET(Data!L$4,View!$B$25,$DS14),\"\")","v":0},{"$f":"IF(H$5<>\"\",OFFSET(Data!M$4,View!$B$25,$DS14),\"\")","v":0},{"$f":"IF(I$5<>\"\",OFFSET(Data!N$4,View!$B$25,$DS14),\"\")","v":0},{"$f":"IF(J$5<>\"\",OFFSET(Data!O$4,View!$B$25,$DS14),\"\")","v":0},{"$f":"IF(K$5<>\"\",OFFSET(Data!P$4,View!$B$25,$DS14),\"\")","v":0},{"$f":"IF(L$5<>\"\",OFFSET(Data!Q$4,View!$B$25,$DS14),\"\")","v":0},{"$f":"IF(M$5<>\"\",OFFSET(Data!R$4,View!$B$25,$DS14),\"\")","v":""},{"$f":"IF(N$5<>\"\",OFFSET(Data!S$4,View!$B$25,$DS14),\"\")","v":""},{"$f":"IF(O$5<>\"\",OFFSET(Data!T$4,View!$B$25,$DS14),\"\")","v":""},{"$f":"IF(P$5<>\"\",OFFSET(Data!U$4,View!$B$25,$DS14),\"\")","v":""},{"$f":"IF(Q$5<>\"\",OFFSET(Data!V$4,View!$B$25,$DS14),\"\")","v":""},{"$f":"IF(R$5<>\"\",OFFSET(Data!W$4,View!$B$25,$DS14),\"\")","v":""},{"$f":"IF(S$5<>\"\",OFFSET(Data!X$4,View!$B$25,$DS14),\"\")","v":""},{"$f":"IF(T$5<>\"\",OFFSET(Data!Y$4,View!$B$25,$DS14),\"\")","v":""},{"$f":"IF(U$5<>\"\",OFFSET(Data!Z$4,View!$B$25,$DS14),\"\")","v":""},{"$f":"IF(V$5<>\"\",OFFSET(Data!AA$4,View!$B$25,$DS14),\"\")","v":""},{"$f":"IF(W$5<>\"\",OFFSET(Data!AB$4,View!$B$25,$DS14),\"\")","v":""},{"$f":"IF(X$5<>\"\",OFFSET(Data!AC$4,View!$B$25,$DS14),\"\")","v":""},{"$f":"IF(Y$5<>\"\",OFFSET(Data!AD$4,View!$B$25,$DS14),\"\")","v":""},{"$f":"IF(Z$5<>\"\",OFFSET(Data!AE$4,View!$B$25,$DS14),\"\")","v":""},{"$f":"IF(AA$5<>\"\",OFFSET(Data!AF$4,View!$B$25,$DS14),\"\")","v":""},{"$f":"IF(AB$5<>\"\",OFFSET(Data!AG$4,View!$B$25,$DS14),\"\")","v":""},{"$f":"IF(AC$5<>\"\",OFFSET(Data!AH$4,View!$B$25,$DS14),\"\")","v":""},{"$f":"IF(AD$5<>\"\",OFFSET(Data!AI$4,View!$B$25,$DS14),\"\")","v":""},{"$f":"IF(AE$5<>\"\",OFFSET(Data!AJ$4,View!$B$25,$DS14),\"\")","v":""},{"$f":"IF(AF$5<>\"\",OFFSET(Data!AK$4,View!$B$25,$DS14),\"\")","v":""},{"$f":"IF(AG$5<>\"\",OFFSET(Data!AL$4,View!$B$25,$DS14),\"\")","v":""},{"$f":"IF(AH$5<>\"\",OFFSET(Data!AM$4,View!$B$25,$DS14),\"\")","v":""},{"$f":"IF(AI$5<>\"\",OFFSET(Data!AN$4,View!$B$25,$DS14),\"\")","v":""},{"$f":"IF(AJ$5<>\"\",OFFSET(Data!AO$4,View!$B$25,$DS14),\"\")","v":""},{"$f":"IF(AK$5<>\"\",OFFSET(Data!AP$4,View!$B$25,$DS14),\"\")","v":""},{"$f":"IF(AL$5<>\"\",OFFSET(Data!AQ$4,View!$B$25,$DS14),\"\")","v":""},{"$f":"IF(AM$5<>\"\",OFFSET(Data!AR$4,View!$B$25,$DS14),\"\")","v":""},{"$f":"IF(AN$5<>\"\",OFFSET(Data!AS$4,View!$B$25,$DS14),\"\")","v":""},{"$f":"IF(AO$5<>\"\",OFFSET(Data!AT$4,View!$B$25,$DS14),\"\")","v":""},{"$f":"IF(AP$5<>\"\",OFFSET(Data!AU$4,View!$B$25,$DS14),\"\")","v":""},{"$f":"IF(AQ$5<>\"\",OFFSET(Data!AV$4,View!$B$25,$DS14),\"\")","v":""},{"$f":"IF(AR$5<>\"\",OFFSET(Data!AW$4,View!$B$25,$DS14),\"\")","v":""},{"$f":"IF(AS$5<>\"\",OFFSET(Data!AX$4,View!$B$25,$DS14),\"\")","v":""},{"$f":"IF(AT$5<>\"\",OFFSET(Data!AY$4,View!$B$25,$DS14),\"\")","v":""},{"$f":"IF(AU$5<>\"\",OFFSET(Data!AZ$4,View!$B$25,$DS14),\"\")","v":""},{"$f":"IF(AV$5<>\"\",OFFSET(Data!BA$4,View!$B$25,$DS14),\"\")","v":""},{"$f":"IF(AW$5<>\"\",OFFSET(Data!BB$4,View!$B$25,$DS14),\"\")","v":""},{"$f":"IF(AX$5<>\"\",OFFSET(Data!BC$4,View!$B$25,$DS14),\"\")","v":""},{"$f":"IF(AY$5<>\"\",OFFSET(Data!BD$4,View!$B$25,$DS14),\"\")","v":""},{"$f":"IF(AZ$5<>\"\",OFFSET(Data!BE$4,View!$B$25,$DS14),\"\")","v":""},{"$f":"IF(BA$5<>\"\",OFFSET(Data!BF$4,View!$B$25,$DS14),\"\")","v":""},{"$f":"IF(BB$5<>\"\",OFFSET(Data!BG$4,View!$B$25,$DS14),\"\")","v":""},{"$f":"IF(BC$5<>\"\",OFFSET(Data!BH$4,View!$B$25,$DS14),\"\")","v":""},{"$f":"IF(BD$5<>\"\",OFFSET(Data!BI$4,View!$B$25,$DS14),\"\")","v":""},{"$f":"IF(BE$5<>\"\",OFFSET(Data!BJ$4,View!$B$25,$DS14),\"\")","v":""},{"$f":"IF(BF$5<>\"\",OFFSET(Data!BK$4,View!$B$25,$DS14),\"\")","v":""},{"$f":"IF(BG$5<>\"\",OFFSET(Data!BL$4,View!$B$25,$DS14),\"\")","v":""},{"$f":"IF(BH$5<>\"\",OFFSET(Data!BM$4,View!$B$25,$DS14),\"\")","v":""},{"$f":"IF(BI$5<>\"\",OFFSET(Data!BN$4,View!$B$25,$DS14),\"\")","v":""},{"$f":"IF(BJ$5<>\"\",OFFSET(Data!BO$4,View!$B$25,$DS14),\"\")","v":""},{"$f":"IF(BK$5<>\"\",OFFSET(Data!BP$4,View!$B$25,$DS14),\"\")","v":""},{"$f":"IF(BL$5<>\"\",OFFSET(Data!BQ$4,View!$B$25,$DS14),\"\")","v":""},{"$f":"IF(BM$5<>\"\",OFFSET(Data!BR$4,View!$B$25,$DS14),\"\")","v":""},{"$f":"IF(BN$5<>\"\",OFFSET(Data!BS$4,View!$B$25,$DS14),\"\")","v":""},{"$f":"IF(BO$5<>\"\",OFFSET(Data!BT$4,View!$B$25,$DS14),\"\")","v":""},{"$f":"IF(BP$5<>\"\",OFFSET(Data!BU$4,View!$B$25,$DS14),\"\")","v":""},{"$f":"IF(BQ$5<>\"\",OFFSET(Data!BV$4,View!$B$25,$DS14),\"\")","v":""},{"$f":"IF(BR$5<>\"\",OFFSET(Data!BW$4,View!$B$25,$DS14),\"\")","v":""},{"$f":"IF(BS$5<>\"\",OFFSET(Data!BX$4,View!$B$25,$DS14),\"\")","v":""},{"$f":"IF(BT$5<>\"\",OFFSET(Data!BY$4,View!$B$25,$DS14),\"\")","v":""},{"$f":"IF(BU$5<>\"\",OFFSET(Data!BZ$4,View!$B$25,$DS14),\"\")","v":""},{"$f":"IF(BV$5<>\"\",OFFSET(Data!CA$4,View!$B$25,$DS14),\"\")","v":""},{"$f":"IF(BW$5<>\"\",OFFSET(Data!CB$4,View!$B$25,$DS14),\"\")","v":""},{"$f":"IF(BX$5<>\"\",OFFSET(Data!CC$4,View!$B$25,$DS14),\"\")","v":""},{"$f":"IF(BY$5<>\"\",OFFSET(Data!CD$4,View!$B$25,$DS14),\"\")","v":""},{"$f":"IF(BZ$5<>\"\",OFFSET(Data!CE$4,View!$B$25,$DS14),\"\")","v":""},{"$f":"IF(CA$5<>\"\",OFFSET(Data!CF$4,View!$B$25,$DS14),\"\")","v":""},{"$f":"IF(CB$5<>\"\",OFFSET(Data!CG$4,View!$B$25,$DS14),\"\")","v":""},{"$f":"IF(CC$5<>\"\",OFFSET(Data!CH$4,View!$B$25,$DS14),\"\")","v":""},{"$f":"IF(CD$5<>\"\",OFFSET(Data!CI$4,View!$B$25,$DS14),\"\")","v":""},{"$f":"IF(CE$5<>\"\",OFFSET(Data!CJ$4,View!$B$25,$DS14),\"\")","v":""},{"$f":"IF(CF$5<>\"\",OFFSET(Data!CK$4,View!$B$25,$DS14),\"\")","v":""},{"$f":"IF(CG$5<>\"\",OFFSET(Data!CL$4,View!$B$25,$DS14),\"\")","v":""},{"$f":"IF(CH$5<>\"\",OFFSET(Data!CM$4,View!$B$25,$DS14),\"\")","v":""},{"$f":"IF(CI$5<>\"\",OFFSET(Data!CN$4,View!$B$25,$DS14),\"\")","v":""},{"$f":"IF(CJ$5<>\"\",OFFSET(Data!CO$4,View!$B$25,$DS14),\"\")","v":""},{"$f":"IF(CK$5<>\"\",OFFSET(Data!CP$4,View!$B$25,$DS14),\"\")","v":""},{"$f":"IF(CL$5<>\"\",OFFSET(Data!CQ$4,View!$B$25,$DS14),\"\")","v":""},{"$f":"IF(CM$5<>\"\",OFFSET(Data!CR$4,View!$B$25,$DS14),\"\")","v":""},{"$f":"IF(CN$5<>\"\",OFFSET(Data!CS$4,View!$B$25,$DS14),\"\")","v":""},{"$f":"IF(CO$5<>\"\",OFFSET(Data!CT$4,View!$B$25,$DS14),\"\")","v":""},{"$f":"IF(CP$5<>\"\",OFFSET(Data!CU$4,View!$B$25,$DS14),\"\")","v":""},{"$f":"IF(CQ$5<>\"\",OFFSET(Data!CV$4,View!$B$25,$DS14),\"\")","v":""},{"$f":"IF(CR$5<>\"\",OFFSET(Data!CW$4,View!$B$25,$DS14),\"\")","v":""},{"$f":"IF(CS$5<>\"\",OFFSET(Data!CX$4,View!$B$25,$DS14),\"\")","v":""},{"$f":"IF(CT$5<>\"\",OFFSET(Data!CY$4,View!$B$25,$DS14),\"\")","v":""},{"$f":"IF(CU$5<>\"\",OFFSET(Data!CZ$4,View!$B$25,$DS14),\"\")","v":""},{"$f":"IF(CV$5<>\"\",OFFSET(Data!DA$4,View!$B$25,$DS14),\"\")","v":""},{"$f":"IF(CW$5<>\"\",OFFSET(Data!DB$4,View!$B$25,$DS14),\"\")","v":""},{"$f":"IF(CX$5<>\"\",OFFSET(Data!DC$4,View!$B$25,$DS14),\"\")","v":""},{"$f":"IF(CY$5<>\"\",OFFSET(Data!DD$4,View!$B$25,$DS14),\"\")","v":""},{"$f":"IF(CZ$5<>\"\",OFFSET(Data!DE$4,View!$B$25,$DS14),\"\")","v":""},{"$f":"IF(DA$5<>\"\",OFFSET(Data!DF$4,View!$B$25,$DS14),\"\")","v":""},{"$f":"IF(DB$5<>\"\",OFFSET(Data!DG$4,View!$B$25,$DS14),\"\")","v":""},{"$f":"IF(DC$5<>\"\",OFFSET(Data!DH$4,View!$B$25,$DS14),\"\")","v":""},{"$f":"IF(DD$5<>\"\",OFFSET(Data!DI$4,View!$B$25,$DS14),\"\")","v":""},{"$f":"IF(DE$5<>\"\",OFFSET(Data!DJ$4,View!$B$25,$DS14),\"\")","v":""},{"$f":"IF(DF$5<>\"\",OFFSET(Data!DK$4,View!$B$25,$DS14),\"\")","v":""},{"$f":"IF(DG$5<>\"\",OFFSET(Data!DL$4,View!$B$25,$DS14),\"\")","v":""},{"$f":"IF(DH$5<>\"\",OFFSET(Data!DM$4,View!$B$25,$DS14),\"\")","v":""},{"$f":"IF(DI$5<>\"\",OFFSET(Data!DN$4,View!$B$25,$DS14),\"\")","v":""},{"$f":"IF(DJ$5<>\"\",OFFSET(Data!DO$4,View!$B$25,$DS14),\"\")","v":""},{"$f":"IF(DK$5<>\"\",OFFSET(Data!DP$4,View!$B$25,$DS14),\"\")","v":""},{"$f":"IF(DL$5<>\"\",OFFSET(Data!DQ$4,View!$B$25,$DS14),\"\")","v":""},{"$f":"IF(DM$5<>\"\",OFFSET(Data!DR$4,View!$B$25,$DS14),\"\")","v":""},{"$f":"IF(DN$5<>\"\",OFFSET(Data!DS$4,View!$B$25,$DS14),\"\")","v":""},{"$f":"IF(DO$5<>\"\",OFFSET(Data!DT$4,View!$B$25,$DS14),\"\")","v":""},{"$f":"IF(DP$5<>\"\",OFFSET(Data!DU$4,View!$B$25,$DS14),\"\")","v":""},{"$f":"IF(DQ$5<>\"\",OFFSET(Data!DV$4,View!$B$25,$DS14),\"\")","v":""},{"$f":"IF(DR$5<>\"\",OFFSET(Data!DW$4,View!$B$25,$DS14),\"\")","v":""},{"$f":"($C$41+1)*10","v":10}]
["LAsmax",{"$f":"IF(B$5<>\"\",OFFSET(Data!G$4,View!$B$25,$DS15),\"\")","v":0},{"$f":"IF(C$5<>\"\",OFFSET(Data!H$4,View!$B$25,$DS15),\"\")","v":0},{"$f":"IF(D$5<>\"\",OFFSET(Data!I$4,View!$B$25,$DS15),\"\")","v":0},{"$f":"IF(E$5<>\"\",OFFSET(Data!J$4,View!$B$25,$DS15),\"\")","v":0},{"$f":"IF(F$5<>\"\",OFFSET(Data!K$4,View!$B$25,$DS15),\"\")","v":0},{"$f":"IF(G$5<>\"\",OFFSET(Data!L$4,View!$B$25,$DS15),\"\")","v":0},{"$f":"IF(H$5<>\"\",OFFSET(Data!M$4,View!$B$25,$DS15),\"\")","v":0},{"$f":"IF(I$5<>\"\",OFFSET(Data!N$4,View!$B$25,$DS15),\"\")","v":0},{"$f":"IF(J$5<>\"\",OFFSET(Data!O$4,View!$B$25,$DS15),\"\")","v":0},{"$f":"IF(K$5<>\"\",OFFSET(Data!P$4,View!$B$25,$DS15),\"\")","v":0},{"$f":"IF(L$5<>\"\",OFFSET(Data!Q$4,View!$B$25,$DS15),\"\")","v":0},{"$f":"IF(M$5<>\"\",OFFSET(Data!R$4,View!$B$25,$DS15),\"\")","v":""},{"$f":"IF(N$5<>\"\",OFFSET(Data!S$4,View!$B$25,$DS15),\"\")","v":""},{"$f":"IF(O$5<>\"\",OFFSET(Data!T$4,View!$B$25,$DS15),\"\")","v":""},{"$f":"IF(P$5<>\"\",OFFSET(Data!U$4,View!$B$25,$DS15),\"\")","v":""},{"$f":"IF(Q$5<>\"\",OFFSET(Data!V$4,View!$B$25,$DS15),\"\")","v":""},{"$f":"IF(R$5<>\"\",OFFSET(Data!W$4,View!$B$25,$DS15),\"\")","v":""},{"$f":"IF(S$5<>\"\",OFFSET(Data!X$4,View!$B$25,$DS15),\"\")","v":""},{"$f":"IF(T$5<>\"\",OFFSET(Data!Y$4,View!$B$25,$DS15),\"\")","v":""},{"$f":"IF(U$5<>\"\",OFFSET(Data!Z$4,View!$B$25,$DS15),\"\")","v":""},{"$f":"IF(V$5<>\"\",OFFSET(Data!AA$4,View!$B$25,$DS15),\"\")","v":""},{"$f":"IF(W$5<>\"\",OFFSET(Data!AB$4,View!$B$25,$DS15),\"\")","v":""},{"$f":"IF(X$5<>\"\",OFFSET(Data!AC$4,View!$B$25,$DS15),\"\")","v":""},{"$f":"IF(Y$5<>\"\",OFFSET(Data!AD$4,View!$B$25,$DS15),\"\")","v":""},{"$f":"IF(Z$5<>\"\",OFFSET(Data!AE$4,View!$B$25,$DS15),\"\")","v":""},{"$f":"IF(AA$5<>\"\",OFFSET(Data!AF$4,View!$B$25,$DS15),\"\")","v":""},{"$f":"IF(AB$5<>\"\",OFFSET(Data!AG$4,View!$B$25,$DS15),\"\")","v":""},{"$f":"IF(AC$5<>\"\",OFFSET(Data!AH$4,View!$B$25,$DS15),\"\")","v":""},{"$f":"IF(AD$5<>\"\",OFFSET(Data!AI$4,View!$B$25,$DS15),\"\")","v":""},{"$f":"IF(AE$5<>\"\",OFFSET(Data!AJ$4,View!$B$25,$DS15),\"\")","v":""},{"$f":"IF(AF$5<>\"\",OFFSET(Data!AK$4,View!$B$25,$DS15),\"\")","v":""},{"$f":"IF(AG$5<>\"\",OFFSET(Data!AL$4,View!$B$25,$DS15),\"\")","v":""},{"$f":"IF(AH$5<>\"\",OFFSET(Data!AM$4,View!$B$25,$DS15),\"\")","v":""},{"$f":"IF(AI$5<>\"\",OFFSET(Data!AN$4,View!$B$25,$DS15),\"\")","v":""},{"$f":"IF(AJ$5<>\"\",OFFSET(Data!AO$4,View!$B$25,$DS15),\"\")","v":""},{"$f":"IF(AK$5<>\"\",OFFSET(Data!AP$4,View!$B$25,$DS15),\"\")","v":""},{"$f":"IF(AL$5<>\"\",OFFSET(Data!AQ$4,View!$B$25,$DS15),\"\")","v":""},{"$f":"IF(AM$5<>\"\",OFFSET(Data!AR$4,View!$B$25,$DS15),\"\")","v":""},{"$f":"IF(AN$5<>\"\",OFFSET(Data!AS$4,View!$B$25,$DS15),\"\")","v":""},{"$f":"IF(AO$5<>\"\",OFFSET(Data!AT$4,View!$B$25,$DS15),\"\")","v":""},{"$f":"IF(AP$5<>\"\",OFFSET(Data!AU$4,View!$B$25,$DS15),\"\")","v":""},{"$f":"IF(AQ$5<>\"\",OFFSET(Data!AV$4,View!$B$25,$DS15),\"\")","v":""},{"$f":"IF(AR$5<>\"\",OFFSET(Data!AW$4,View!$B$25,$DS15),\"\")","v":""},{"$f":"IF(AS$5<>\"\",OFFSET(Data!AX$4,View!$B$25,$DS15),\"\")","v":""},{"$f":"IF(AT$5<>\"\",OFFSET(Data!AY$4,View!$B$25,$DS15),\"\")","v":""},{"$f":"IF(AU$5<>\"\",OFFSET(Data!AZ$4,View!$B$25,$DS15),\"\")","v":""},{"$f":"IF(AV$5<>\"\",OFFSET(Data!BA$4,View!$B$25,$DS15),\"\")","v":""},{"$f":"IF(AW$5<>\"\",OFFSET(Data!BB$4,View!$B$25,$DS15),\"\")","v":""},{"$f":"IF(AX$5<>\"\",OFFSET(Data!BC$4,View!$B$25,$DS15),\"\")","v":""},{"$f":"IF(AY$5<>\"\",OFFSET(Data!BD$4,View!$B$25,$DS15),\"\")","v":""},{"$f":"IF(AZ$5<>\"\",OFFSET(Data!BE$4,View!$B$25,$DS15),\"\")","v":""},{"$f":"IF(BA$5<>\"\",OFFSET(Data!BF$4,View!$B$25,$DS15),\"\")","v":""},{"$f":"IF(BB$5<>\"\",OFFSET(Data!BG$4,View!$B$25,$DS15),\"\")","v":""},{"$f":"IF(BC$5<>\"\",OFFSET(Data!BH$4,View!$B$25,$DS15),\"\")","v":""},{"$f":"IF(BD$5<>\"\",OFFSET(Data!BI$4,View!$B$25,$DS15),\"\")","v":""},{"$f":"IF(BE$5<>\"\",OFFSET(Data!BJ$4,View!$B$25,$DS15),\"\")","v":""},{"$f":"IF(BF$5<>\"\",OFFSET(Data!BK$4,View!$B$25,$DS15),\"\")","v":""},{"$f":"IF(BG$5<>\"\",OFFSET(Data!BL$4,View!$B$25,$DS15),\"\")","v":""},{"$f":"IF(BH$5<>\"\",OFFSET(Data!BM$4,View!$B$25,$DS15),\"\")","v":""},{"$f":"IF(BI$5<>\"\",OFFSET(Data!BN$4,View!$B$25,$DS15),\"\")","v":""},{"$f":"IF(BJ$5<>\"\",OFFSET(Data!BO$4,View!$B$25,$DS15),\"\")","v":""},{"$f":"IF(BK$5<>\"\",OFFSET(Data!BP$4,View!$B$25,$DS15),\"\")","v":""},{"$f":"IF(BL$5<>\"\",OFFSET(Data!BQ$4,View!$B$25,$DS15),\"\")","v":""},{"$f":"IF(BM$5<>\"\",OFFSET(Data!BR$4,View!$B$25,$DS15),\"\")","v":""},{"$f":"IF(BN$5<>\"\",OFFSET(Data!BS$4,View!$B$25,$DS15),\"\")","v":""},{"$f":"IF(BO$5<>\"\",OFFSET(Data!BT$4,View!$B$25,$DS15),\"\")","v":""},{"$f":"IF(BP$5<>\"\",OFFSET(Data!BU$4,View!$B$25,$DS15),\"\")","v":""},{"$f":"IF(BQ$5<>\"\",OFFSET(Data!BV$4,View!$B$25,$DS15),\"\")","v":""},{"$f":"IF(BR$5<>\"\",OFFSET(Data!BW$4,View!$B$25,$DS15),\"\")","v":""},{"$f":"IF(BS$5<>\"\",OFFSET(Data!BX$4,View!$B$25,$DS15),\"\")","v":""},{"$f":"IF(BT$5<>\"\",OFFSET(Data!BY$4,View!$B$25,$DS15),\"\")","v":""},{"$f":"IF(BU$5<>\"\",OFFSET(Data!BZ$4,View!$B$25,$DS15),\"\")","v":""},{"$f":"IF(BV$5<>\"\",OFFSET(Data!CA$4,View!$B$25,$DS15),\"\")","v":""},{"$f":"IF(BW$5<>\"\",OFFSET(Data!CB$4,View!$B$25,$DS15),\"\")","v":""},{"$f":"IF(BX$5<>\"\",OFFSET(Data!CC$4,View!$B$25,$DS15),\"\")","v":""},{"$f":"IF(BY$5<>\"\",OFFSET(Data!CD$4,View!$B$25,$DS15),\"\")","v":""},{"$f":"IF(BZ$5<>\"\",OFFSET(Data!CE$4,View!$B$25,$DS15),\"\")","v":""},{"$f":"IF(CA$5<>\"\",OFFSET(Data!CF$4,View!$B$25,$DS15),\"\")","v":""},{"$f":"IF(CB$5<>\"\",OFFSET(Data!CG$4,View!$B$25,$DS15),\"\")","v":""},{"$f":"IF(CC$5<>\"\",OFFSET(Data!CH$4,View!$B$25,$DS15),\"\")","v":""},{"$f":"IF(CD$5<>\"\",OFFSET(Data!CI$4,View!$B$25,$DS15),\"\")","v":""},{"$f":"IF(CE$5<>\"\",OFFSET(Data!CJ$4,View!$B$25,$DS15),\"\")","v":""},{"$f":"IF(CF$5<>\"\",OFFSET(Data!CK$4,View!$B$25,$DS15),\"\")","v":""},{"$f":"IF(CG$5<>\"\",OFFSET(Data!CL$4,View!$B$25,$DS15),\"\")","v":""},{"$f":"IF(CH$5<>\"\",OFFSET(Data!CM$4,View!$B$25,$DS15),\"\")","v":""},{"$f":"IF(CI$5<>\"\",OFFSET(Data!CN$4,View!$B$25,$DS15),\"\")","v":""},{"$f":"IF(CJ$5<>\"\",OFFSET(Data!CO$4,View!$B$25,$DS15),\"\")","v":""},{"$f":"IF(CK$5<>\"\",OFFSET(Data!CP$4,View!$B$25,$DS15),\"\")","v":""},{"$f":"IF(CL$5<>\"\",OFFSET(Data!CQ$4,View!$B$25,$DS15),\"\")","v":""},{"$f":"IF(CM$5<>\"\",OFFSET(Data!CR$4,View!$B$25,$DS15),\"\")","v":""},{"$f":"IF(CN$5<>\"\",OFFSET(Data!CS$4,View!$B$25,$DS15),\"\")","v":""},{"$f":"IF(CO$5<>\"\",OFFSET(Data!CT$4,View!$B$25,$DS15),\"\")","v":""},{"$f":"IF(CP$5<>\"\",OFFSET(Data!CU$4,View!$B$25,$DS15),\"\")","v":""},{"$f":"IF(CQ$5<>\"\",OFFSET(Data!CV$4,View!$B$25,$DS15),\"\")","v":""},{"$f":"IF(CR$5<>\"\",OFFSET(Data!CW$4,View!$B$25,$DS15),\"\")","v":""},{"$f":"IF(CS$5<>\"\",OFFSET(Data!CX$4,View!$B$25,$DS15),\"\")","v":""},{"$f":"IF(CT$5<>\"\",OFFSET(Data!CY$4,View!$B$25,$DS15),\"\")","v":""},{"$f":"IF(CU$5<>\"\",OFFSET(Data!CZ$4,View!$B$25,$DS15),\"\")","v":""},{"$f":"IF(CV$5<>\"\",OFFSET(Data!DA$4,View!$B$25,$DS15),\"\")","v":""},{"$f":"IF(CW$5<>\"\",OFFSET(Data!DB$4,View!$B$25,$DS15),\"\")","v":""},{"$f":"IF(CX$5<>\"\",OFFSET(Data!DC$4,View!$B$25,$DS15),\"\")","v":""},{"$f":"IF(CY$5<>\"\",OFFSET(Data!DD$4,View!$B$25,$DS15),\"\")","v":""},{"$f":"IF(CZ$5<>\"\",OFFSET(Data!DE$4,View!$B$25,$DS15),\"\")","v":""},{"$f":"IF(DA$5<>\"\",OFFSET(Data!DF$4,View!$B$25,$DS15),\"\")","v":""},{"$f":"IF(DB$5<>\"\",OFFSET(Data!DG$4,View!$B$25,$DS15),\"\")","v":""},{"$f":"IF(DC$5<>\"\",OFFSET(Data!DH$4,View!$B$25,$DS15),\"\")","v":""},{"$f":"IF(DD$5<>\"\",OFFSET(Data!DI$4,View!$B$25,$DS15),\"\")","v":""},{"$f":"IF(DE$5<>\"\",OFFSET(Data!DJ$4,View!$B$25,$DS15),\"\")","v":""},{"$f":"IF(DF$5<>\"\",OFFSET(Data!DK$4,View!$B$25,$DS15),\"\")","v":""},{"$f":"IF(DG$5<>\"\",OFFSET(Data!DL$4,View!$B$25,$DS15),\"\")","v":""},{"$f":"IF(DH$5<>\"\",OFFSET(Data!DM$4,View!$B$25,$DS15),\"\")","v":""},{"$f":"IF(DI$5<>\"\",OFFSET(Data!DN$4,View!$B$25,$DS15),\"\")","v":""},{"$f":"IF(DJ$5<>\"\",OFFSET(Data!DO$4,View!$B$25,$DS15),\"\")","v":""},{"$f":"IF(DK$5<>\"\",OFFSET(Data!DP$4,View!$B$25,$DS15),\"\")","v":""},{"$f":"IF(DL$5<>\"\",OFFSET(Data!DQ$4,View!$B$25,$DS15),\"\")","v":""},{"$f":"IF(DM$5<>\"\",OFFSET(Data!DR$4,View!$B$25,$DS15),\"\")","v":""},{"$f":"IF(DN$5<>\"\",OFFSET(Data!DS$4,View!$B$25,$DS15),\"\")","v":""},{"$f":"IF(DO$5<>\"\",OFFSET(Data!DT$4,View!$B$25,$DS15),\"\")","v":""},{"$f":"IF(DP$5<>\"\",OFFSET(Data!DU$4,View!$B$25,$DS15),\"\")","v":""},{"$f":"IF(DQ$5<>\"\",OFFSET(Data!DV$4,View!$B$25,$DS15),\"\")","v":""},{"$f":"IF(DR$5<>\"\",OFFSET(Data!DW$4,View!$B$25,$DS15),\"\")","v":""},{"$f":"($C$41+1)*2","v":2}]
["LCsmax",{"$f":"IF(B$5<>\"\",OFFSET(Data!G$4,View!$B$25,$DS16),\"\")","v":0},{"$f":"IF(C$5<>\"\",OFFSET(Data!H$4,View!$B$25,$DS16),\"\")","v":0},{"$f":"IF(D$5<>\"\",OFFSET(Data!I$4,View!$B$25,$DS16),\"\")","v":0},{"$f":"IF(E$5<>\"\",OFFSET(Data!J$4,View!$B$25,$DS16),\"\")","v":0},{"$f":"IF(F$5<>\"\",OFFSET(Data!K$4,View!$B$25,$DS16),\"\")","v":0},{"$f":"IF(G$5<>\"\",OFFSET(Data!L$4,View!$B$25,$DS16),\"\")","v":0},{"$f":"IF(H$5<>\"\",OFFSET(Data!M$4,View!$B$25,$DS16),\"\")","v":0},{"$f":"IF(I$5<>\"\",OFFSET(Data!N$4,View!$B$25,$DS16),\"\")","v":0},{"$f":"IF(J$5<>\"\",OFFSET(Data!O$4,View!$B$25,$DS16),\"\")","v":0},{"$f":"IF(K$5<>\"\",OFFSET(Data!P$4,View!$B$25,$DS16),\"\")","v":0},{"$f":"IF(L$5<>\"\",OFFSET(Data!Q$4,View!$B$25,$DS16),\"\")","v":0},{"$f":"IF(M$5<>\"\",OFFSET(Data!R$4,View!$B$25,$DS16),\"\")","v":""},{"$f":"IF(N$5<>\"\",OFFSET(Data!S$4,View!$B$25,$DS16),\"\")","v":""},{"$f":"IF(O$5<>\"\",OFFSET(Data!T$4,View!$B$25,$DS16),\"\")","v":""},{"$f":"IF(P$5<>\"\",OFFSET(Data!U$4,View!$B$25,$DS16),\"\")","v":""},{"$f":"IF(Q$5<>\"\",OFFSET(Data!V$4,View!$B$25,$DS16),\"\")","v":""},{"$f":"IF(R$5<>\"\",OFFSET(Data!W$4,View!$B$25,$DS16),\"\")","v":""},{"$f":"IF(S$5<>\"\",OFFSET(Data!X$4,View!$B$25,$DS16),\"\")","v":""},{"$f":"IF(T$5<>\"\",OFFSET(Data!Y$4,View!$B$25,$DS16),\"\")","v":""},{"$f":"IF(U$5<>\"\",OFFSET(Data!Z$4,View!$B$25,$DS16),\"\")","v":""},{"$f":"IF(V$5<>\"\",OFFSET(Data!AA$4,View!$B$25,$DS16),\"\")","v":""},{"$f":"IF(W$5<>\"\",OFFSET(Data!AB$4,View!$B$25,$DS16),\"\")","v":""},{"$f":"IF(X$5<>\"\",OFFSET(Data!AC$4,View!$B$25,$DS16),\"\")","v":""},{"$f":"IF(Y$5<>\"\",OFFSET(Data!AD$4,View!$B$25,$DS16),\"\")","v":""},{"$f":"IF(Z$5<>\"\",OFFSET(Data!AE$4,View!$B$25,$DS16),\"\")","v":""},{"$f":"IF(AA$5<>\"\",OFFSET(Data!AF$4,View!$B$25,$DS16),\"\")","v":""},{"$f":"IF(AB$5<>\"\",OFFSET(Data!AG$4,View!$B$25,$DS16),\"\")","v":""},{"$f":"IF(AC$5<>\"\",OFFSET(Data!AH$4,View!$B$25,$DS16),\"\")","v":""},{"$f":"IF(AD$5<>\"\",OFFSET(Data!AI$4,View!$B$25,$DS16),\"\")","v":""},{"$f":"IF(AE$5<>\"\",OFFSET(Data!AJ$4,View!$B$25,$DS16),\"\")","v":""},{"$f":"IF(AF$5<>\"\",OFFSET(Data!AK$4,View!$B$25,$DS16),\"\")","v":""},{"$f":"IF(AG$5<>\"\",OFFSET(Data!AL$4,View!$B$25,$DS16),\"\")","v":""},{"$f":"IF(AH$5<>\"\",OFFSET(Data!AM$4,View!$B$25,$DS16),\"\")","v":""},{"$f":"IF(AI$5<>\"\",OFFSET(Data!AN$4,View!$B$25,$DS16),\"\")","v":""},{"$f":"IF(AJ$5<>\"\",OFFSET(Data!AO$4,View!$B$25,$DS16),\"\")","v":""},{"$f":"IF(AK$5<>\"\",OFFSET(Data!AP$4,View!$B$25,$DS16),\"\")","v":""},{"$f":"IF(AL$5<>\"\",OFFSET(Data!AQ$4,View!$B$25,$DS16),\"\")","v":""},{"$f":"IF(AM$5<>\"\",OFFSET(Data!AR$4,View!$B$25,$DS16),\"\")","v":""},{"$f":"IF(AN$5<>\"\",OFFSET(Data!AS$4,View!$B$25,$DS16),\"\")","v":""},{"$f":"IF(AO$5<>\"\",OFFSET(Data!AT$4,View!$B$25,$DS16),\"\")","v":""},{"$f":"IF(AP$5<>\"\",OFFSET(Data!AU$4,View!$B$25,$DS16),\"\")","v":""},{"$f":"IF(AQ$5<>\"\",OFFSET(Data!AV$4,View!$B$25,$DS16),\"\")","v":""},{"$f":"IF(AR$5<>\"\",OFFSET(Data!AW$4,View!$B$25,$DS16),\"\")","v":""},{"$f":"IF(AS$5<>\"\",OFFSET(Data!AX$4,View!$B$25,$DS16),\"\")","v":""},{"$f":"IF(AT$5<>\"\",OFFSET(Data!AY$4,View!$B$25,$DS16),\"\")","v":""},{"$f":"IF(AU$5<>\"\",OFFSET(Data!AZ$4,View!$B$25,$DS16),\"\")","v":""},{"$f":"IF(AV$5<>\"\",OFFSET(Data!BA$4,View!$B$25,$DS16),\"\")","v":""},{"$f":"IF(AW$5<>\"\",OFFSET(Data!BB$4,View!$B$25,$DS16),\"\")","v":""},{"$f":"IF(AX$5<>\"\",OFFSET(Data!BC$4,View!$B$25,$DS16),\"\")","v":""},{"$f":"IF(AY$5<>\"\",OFFSET(Data!BD$4,View!$B$25,$DS16),\"\")","v":""},{"$f":"IF(AZ$5<>\"\",OFFSET(Data!BE$4,View!$B$25,$DS16),\"\")","v":""},{"$f":"IF(BA$5<>\"\",OFFSET(Data!BF$4,View!$B$25,$DS16),\"\")","v":""},{"$f":"IF(BB$5<>\"\",OFFSET(Data!BG$4,View!$B$25,$DS16),\"\")","v":""},{"$f":"IF(BC$5<>\"\",OFFSET(Data!BH$4,View!$B$25,$DS16),\"\")","v":""},{"$f":"IF(BD$5<>\"\",OFFSET(Data!BI$4,View!$B$25,$DS16),\"\")","v":""},{"$f":"IF(BE$5<>\"\",OFFSET(Data!BJ$4,View!$B$25,$DS16),\"\")","v":""},{"$f":"IF(BF$5<>\"\",OFFSET(Data!BK$4,View!$B$25,$DS16),\"\")","v":""},{"$f":"IF(BG$5<>\"\",OFFSET(Data!BL$4,View!$B$25,$DS16),\"\")","v":""},{"$f":"IF(BH$5<>\"\",OFFSET(Data!BM$4,View!$B$25,$DS16),\"\")","v":""},{"$f":"IF(BI$5<>\"\",OFFSET(Data!BN$4,View!$B$25,$DS16),\"\")","v":""},{"$f":"IF(BJ$5<>\"\",OFFSET(Data!BO$4,View!$B$25,$DS16),\"\")","v":""},{"$f":"IF(BK$5<>\"\",OFFSET(Data!BP$4,View!$B$25,$DS16),\"\")","v":""},{"$f":"IF(BL$5<>\"\",OFFSET(Data!BQ$4,View!$B$25,$DS16),\"\")","v":""},{"$f":"IF(BM$5<>\"\",OFFSET(Data!BR$4,View!$B$25,$DS16),\"\")","v":""},{"$f":"IF(BN$5<>\"\",OFFSET(Data!BS$4,View!$B$25,$DS16),\"\")","v":""},{"$f":"IF(BO$5<>\"\",OFFSET(Data!BT$4,View!$B$25,$DS16),\"\")","v":""},{"$f":"IF(BP$5<>\"\",OFFSET(Data!BU$4,View!$B$25,$DS16),\"\")","v":""},{"$f":"IF(BQ$5<>\"\",OFFSET(Data!BV$4,View!$B$25,$DS16),\"\")","v":""},{"$f":"IF(BR$5<>\"\",OFFSET(Data!BW$4,View!$B$25,$DS16),\"\")","v":""},{"$f":"IF(BS$5<>\"\",OFFSET(Data!BX$4,View!$B$25,$DS16),\"\")","v":""},{"$f":"IF(BT$5<>\"\",OFFSET(Data!BY$4,View!$B$25,$DS16),\"\")","v":""},{"$f":"IF(BU$5<>\"\",OFFSET(Data!BZ$4,View!$B$25,$DS16),\"\")","v":""},{"$f":"IF(BV$5<>\"\",OFFSET(Data!CA$4,View!$B$25,$DS16),\"\")","v":""},{"$f":"IF(BW$5<>\"\",OFFSET(Data!CB$4,View!$B$25,$DS16),\"\")","v":""},{"$f":"IF(BX$5<>\"\",OFFSET(Data!CC$4,View!$B$25,$DS16),\"\")","v":""},{"$f":"IF(BY$5<>\"\",OFFSET(Data!CD$4,View!$B$25,$DS16),\"\")","v":""},{"$f":"IF(BZ$5<>\"\",OFFSET(Data!CE$4,View!$B$25,$DS16),\"\")","v":""},{"$f":"IF(CA$5<>\"\",OFFSET(Data!CF$4,View!$B$25,$DS16),\"\")","v":""},{"$f":"IF(CB$5<>\"\",OFFSET(Data!CG$4,View!$B$25,$DS16),\"\")","v":""},{"$f":"IF(CC$5<>\"\",OFFSET(Data!CH$4,View!$B$25,$DS16),\"\")","v":""},{"$f":"IF(CD$5<>\"\",OFFSET(Data!CI$4,View!$B$25,$DS16),\"\")","v":""},{"$f":"IF(CE$5<>\"\",OFFSET(Data!CJ$4,View!$B$25,$DS16),\"\")","v":""},{"$f":"IF(CF$5<>\"\",OFFSET(Data!CK$4,View!$B$25,$DS16),\"\")","v":""},{"$f":"IF(CG$5<>\"\",OFFSET(Data!CL$4,View!$B$25,$DS16),\"\")","v":""},{"$f":"IF(CH$5<>\"\",OFFSET(Data!CM$4,View!$B$25,$DS16),\"\")","v":""},{"$f":"IF(CI$5<>\"\",OFFSET(Data!CN$4,View!$B$25,$DS16),\"\")","v":""},{"$f":"IF(CJ$5<>\"\",OFFSET(Data!CO$4,View!$B$25,$DS16),\"\")","v":""},{"$f":"IF(CK$5<>\"\",OFFSET(Data!CP$4,View!$B$25,$DS16),\"\")","v":""},{"$f":"IF(CL$5<>\"\",OFFSET(Data!CQ$4,View!$B$25,$DS16),\"\")","v":""},{"$f":"IF(CM$5<>\"\",OFFSET(Data!CR$4,View!$B$25,$DS16),\"\")","v":""},{"$f":"IF(CN$5<>\"\",OFFSET(Data!CS$4,View!$B$25,$DS16),\"\")","v":""},{"$f":"IF(CO$5<>\"\",OFFSET(Data!CT$4,View!$B$25,$DS16),\"\")","v":""},{"$f":"IF(CP$5<>\"\",OFFSET(Data!CU$4,View!$B$25,$DS16),\"\")","v":""},{"$f":"IF(CQ$5<>\"\",OFFSET(Data!CV$4,View!$B$25,$DS16),\"\")","v":""},{"$f":"IF(CR$5<>\"\",OFFSET(Data!CW$4,View!$B$25,$DS16),\"\")","v":""},{"$f":"IF(CS$5<>\"\",OFFSET(Data!CX$4,View!$B$25,$DS16),\"\")","v":""},{"$f":"IF(CT$5<>\"\",OFFSET(Data!CY$4,View!$B$25,$DS16),\"\")","v":""},{"$f":"IF(CU$5<>\"\",OFFSET(Data!CZ$4,View!$B$25,$DS16),\"\")","v":""},{"$f":"IF(CV$5<>\"\",OFFSET(Data!DA$4,View!$B$25,$DS16),\"\")","v":""},{"$f":"IF(CW$5<>\"\",OFFSET(Data!DB$4,View!$B$25,$DS16),\"\")","v":""},{"$f":"IF(CX$5<>\"\",OFFSET(Data!DC$4,View!$B$25,$DS16),\"\")","v":""},{"$f":"IF(CY$5<>\"\",OFFSET(Data!DD$4,View!$B$25,$DS16),\"\")","v":""},{"$f":"IF(CZ$5<>\"\",OFFSET(Data!DE$4,View!$B$25,$DS16),\"\")","v":""},{"$f":"IF(DA$5<>\"\",OFFSET(Data!DF$4,View!$B$25,$DS16),\"\")","v":""},{"$f":"IF(DB$5<>\"\",OFFSET(Data!DG$4,View!$B$25,$DS16),\"\")","v":""},{"$f":"IF(DC$5<>\"\",OFFSET(Data!DH$4,View!$B$25,$DS16),\"\")","v":""},{"$f":"IF(DD$5<>\"\",OFFSET(Data!DI$4,View!$B$25,$DS16),\"\")","v":""},{"$f":"IF(DE$5<>\"\",OFFSET(Data!DJ$4,View!$B$25,$DS16),\"\")","v":""},{"$f":"IF(DF$5<>\"\",OFFSET(Data!DK$4,View!$B$25,$DS16),\"\")","v":""},{"$f":"IF(DG$5<>\"\",OFFSET(Data!DL$4,View!$B$25,$DS16),\"\")","v":""},{"$f":"IF(DH$5<>\"\",OFFSET(Data!DM$4,View!$B$25,$DS16),\"\")","v":""},{"$f":"IF(DI$5<>\"\",OFFSET(Data!DN$4,View!$B$25,$DS16),\"\")","v":""},{"$f":"IF(DJ$5<>\"\",OFFSET(Data!DO$4,View!$B$25,$DS16),\"\")","v":""},{"$f":"IF(DK$5<>\"\",OFFSET(Data!DP$4,View!$B$25,$DS16),\"\")","v":""},{"$f":"IF(DL$5<>\"\",OFFSET(Data!DQ$4,View!$B$25,$DS16),\"\")","v":""},{"$f":"IF(DM$5<>\"\",OFFSET(Data!DR$4,View!$B$25,$DS16),\"\")","v":""},{"$f":"IF(DN$5<>\"\",OFFSET(Data!DS$4,View!$B$25,$DS16),\"\")","v":""},{"$f":"IF(DO$5<>\"\",OFFSET(Data!DT$4,View!$B$25,$DS16),\"\")","v":""},{"$f":"IF(DP$5<>\"\",OFFSET(Data!DU$4,View!$B$25,$DS16),\"\")","v":""},{"$f":"IF(DQ$5<>\"\",OFFSET(Data!DV$4,View!$B$25,$DS16),\"\")","v":""},{"$f":"IF(DR$5<>\"\",OFFSET(Data!DW$4,View!$B$25,$DS16),\"\")","v":""},{"$f":"($C$41+1)*6","v":6}]
[]
["LZimax",{"$f":"IF(B$5<>\"\",OFFSET(Data!G$4,View!$B$25,$DS18),\"\")","v":0},{"$f":"IF(C$5<>\"\",OFFSET(Data!H$4,View!$B$25,$DS18),\"\")","v":0},{"$f":"IF(D$5<>\"\",OFFSET(Data!I$4,View!$B$25,$DS18),\"\")","v":0},{"$f":"IF(E$5<>\"\",OFFSET(Data!J$4,View!$B$25,$DS18),\"\")","v":0},{"$f":"IF(F$5<>\"\",OFFSET(Data!K$4,View!$B$25,$DS18),\"\")","v":0},{"$f":"IF(G$5<>\"\",OFFSET(Data!L$4,View!$B$25,$DS18),\"\")","v":0},{"$f":"IF(H$5<>\"\",OFFSET(Data!M$4,View!$B$25,$DS18),\"\")","v":0},{"$f":"IF(I$5<>\"\",OFFSET(Data!N$4,View!$B$25,$DS18),\"\")","v":0},{"$f":"IF(J$5<>\"\",OFFSET(Data!O$4,View!$B$25,$DS18),\"\")","v":0},{"$f":"IF(K$5<>\"\",OFFSET(Data!P$4,View!$B$25,$DS18),\"\")","v":0},{"$f":"IF(L$5<>\"\",OFFSET(Data!Q$4,View!$B$25,$DS18),\"\")","v":0},{"$f":"IF(M$5<>\"\",OFFSET(Data!R$4,View!$B$25,$DS18),\"\")","v":""},{"$f":"IF(N$5<>\"\",OFFSET(Data!S$4,View!$B$25,$DS18),\"\")","v":""},{"$f":"IF(O$5<>\"\",OFFSET(Data!T$4,View!$B$25,$DS18),\"\")","v":""},{"$f":"IF(P$5<>\"\",OFFSET(Data!U$4,View!$B$25,$DS18),\"\")","v":""},{"$f":"IF(Q$5<>\"\",OFFSET(Data!V$4,View!$B$25,$DS18),\"\")","v":""},{"$f":"IF(R$5<>\"\",OFFSET(Data!W$4,View!$B$25,$DS18),\"\")","v":""},{"$f":"IF(S$5<>\"\",OFFSET(Data!X$4,View!$B$25,$DS18),\"\")","v":""},{"$f":"IF(T$5<>\"\",OFFSET(Data!Y$4,View!$B$25,$DS18),\"\")","v":""},{"$f":"IF(U$5<>\"\",OFFSET(Data!Z$4,View!$B$25,$DS18),\"\")","v":""},{"$f":"IF(V$5<>\"\",OFFSET(Data!AA$4,View!$B$25,$DS18),\"\")","v":""},{"$f":"IF(W$5<>\"\",OFFSET(Data!AB$4,View!$B$25,$DS18),\"\")","v":""},{"$f":"IF(X$5<>\"\",OFFSET(Data!AC$4,View!$B$25,$DS18),\"\")","v":""},{"$f":"IF(Y$5<>\"\",OFFSET(Data!AD$4,View!$B$25,$DS18),\"\")","v":""},{"$f":"IF(Z$5<>\"\",OFFSET(Data!AE$4,View!$B$25,$DS18),\"\")","v":""},{"$f":"IF(AA$5<>\"\",OFFSET(Data!AF$4,View!$B$25,$DS18),\"\")","v":""},{"$f":"IF(AB$5<>\"\",OFFSET(Data!AG$4,View!$B$25,$DS18),\"\")","v":""},{"$f":"IF(AC$5<>\"\",OFFSET(Data!AH$4,View!$B$25,$DS18),\"\")","v":""},{"$f":"IF(AD$5<>\"\",OFFSET(Data!AI$4,View!$B$25,$DS18),\"\")","v":""},{"$f":"IF(AE$5<>\"\",OFFSET(Data!AJ$4,View!$B$25,$DS18),\"\")","v":""},{"$f":"IF(AF$5<>\"\",OFFSET(Data!AK$4,View!$B$25,$DS18),\"\")","v":""},{"$f":"IF(AG$5<>\"\",OFFSET(Data!AL$4,View!$B$25,$DS18),\"\")","v":""},{"$f":"IF(AH$5<>\"\",OFFSET(Data!AM$4,View!$B$25,$DS18),\"\")","v":""},{"$f":"IF(AI$5<>\"\",OFFSET(Data!AN$4,View!$B$25,$DS18),\"\")","v":""},{"$f":"IF(AJ$5<>\"\",OFFSET(Data!AO$4,View!$B$25,$DS18),\"\")","v":""},{"$f":"IF(AK$5<>\"\",OFFSET(Data!AP$4,View!$B$25,$DS18),\"\")","v":""},{"$f":"IF(AL$5<>\"\",OFFSET(Data!AQ$4,View!$B$25,$DS18),\"\")","v":""},{"$f":"IF(AM$5<>\"\",OFFSET(Data!AR$4,View!$B$25,$DS18),\"\")","v":""},{"$f":"IF(AN$5<>\"\",OFFSET(Data!AS$4,View!$B$25,$DS18),\"\")","v":""},{"$f":"IF(AO$5<>\"\",OFFSET(Data!AT$4,View!$B$25,$DS18),\"\")","v":""},{"$f":"IF(AP$5<>\"\",OFFSET(Data!AU$4,View!$B$25,$DS18),\"\")","v":""},{"$f":"IF(AQ$5<>\"\",OFFSET(Data!AV$4,View!$B$25,$DS18),\"\")","v":""},{"$f":"IF(AR$5<>\"\",OFFSET(Data!AW$4,View!$B$25,$DS18),\"\")","v":""},{"$f":"IF(AS$5<>\"\",OFFSET(Data!AX$4,View!$B$25,$DS18),\"\")","v":""},{"$f":"IF(AT$5<>\"\",OFFSET(Data!AY$4,View!$B$25,$DS18),\"\")","v":""},{"$f":"IF(AU$5<>\"\",OFFSET(Data!AZ$4,View!$B$25,$DS18),\"\")","v":""},{"$f":"IF(AV$5<>\"\",OFFSET(Data!BA$4,View!$B$25,$DS18),\"\")","v":""},{"$f":"IF(AW$5<>\"\",OFFSET(Data!BB$4,View!$B$25,$DS18),\"\")","v":""},{"$f":"IF(AX$5<>\"\",OFFSET(Data!BC$4,View!$B$25,$DS18),\"\")","v":""},{"$f":"IF(AY$5<>\"\",OFFSET(Data!BD$4,View!$B$25,$DS18),\"\")","v":""},{"$f":"IF(AZ$5<>\"\",OFFSET(Data!BE$4,View!$B$25,$DS18),\"\")","v":""},{"$f":"IF(BA$5<>\"\",OFFSET(Data!BF$4,View!$B$25,$DS18),\"\")","v":""},{"$f":"IF(BB$5<>\"\",OFFSET(Data!BG$4,View!$B$25,$DS18),\"\")","v":""},{"$f":"IF(BC$5<>\"\",OFFSET(Data!BH$4,View!$B$25,$DS18),\"\")","v":""},{"$f":"IF(BD$5<>\"\",OFFSET(Data!BI$4,View!$B$25,$DS18),\"\")","v":""},{"$f":"IF(BE$5<>\"\",OFFSET(Data!BJ$4,View!$B$25,$DS18),\"\")","v":""},{"$f":"IF(BF$5<>\"\",OFFSET(Data!BK$4,View!$B$25,$DS18),\"\")","v":""},{"$f":"IF(BG$5<>\"\",OFFSET(Data!BL$4,View!$B$25,$DS18),\"\")","v":""},{"$f":"IF(BH$5<>\"\",OFFSET(Data!BM$4,View!$B$25,$DS18),\"\")","v":""},{"$f":"IF(BI$5<>\"\",OFFSET(Data!BN$4,View!$B$25,$DS18),\"\")","v":""},{"$f":"IF(BJ$5<>\"\",OFFSET(Data!BO$4,View!$B$25,$DS18),\"\")","v":""},{"$f":"IF(BK$5<>\"\",OFFSET(Data!BP$4,View!$B$25,$DS18),\"\")","v":""},{"$f":"IF(BL$5<>\"\",OFFSET(Data!BQ$4,View!$B$25,$DS18),\"\")","v":""},{"$f":"IF(BM$5<>\"\",OFFSET(Data!BR$4,View!$B$25,$DS18),\"\")","v":""},{"$f":"IF(BN$5<>\"\",OFFSET(Data!BS$4,View!$B$25,$DS18),\"\")","v":""},{"$f":"IF(BO$5<>\"\",OFFSET(Data!BT$4,View!$B$25,$DS18),\"\")","v":""},{"$f":"IF(BP$5<>\"\",OFFSET(Data!BU$4,View!$B$25,$DS18),\"\")","v":""},{"$f":"IF(BQ$5<>\"\",OFFSET(Data!BV$4,View!$B$25,$DS18),\"\")","v":""},{"$f":"IF(BR$5<>\"\",OFFSET(Data!BW$4,View!$B$25,$DS18),\"\")","v":""},{"$f":"IF(BS$5<>\"\",OFFSET(Data!BX$4,View!$B$25,$DS18),\"\")","v":""},{"$f":"IF(BT$5<>\"\",OFFSET(Data!BY$4,View!$B$25,$DS18),\"\")","v":""},{"$f":"IF(BU$5<>\"\",OFFSET(Data!BZ$4,View!$B$25,$DS18),\"\")","v":""},{"$f":"IF(BV$5<>\"\",OFFSET(Data!CA$4,View!$B$25,$DS18),\"\")","v":""},{"$f":"IF(BW$5<>\"\",OFFSET(Data!CB$4,View!$B$25,$DS18),\"\")","v":""},{"$f":"IF(BX$5<>\"\",OFFSET(Data!CC$4,View!$B$25,$DS18),\"\")","v":""},{"$f":"IF(BY$5<>\"\",OFFSET(Data!CD$4,View!$B$25,$DS18),\"\")","v":""},{"$f":"IF(BZ$5<>\"\",OFFSET(Data!CE$4,View!$B$25,$DS18),\"\")","v":""},{"$f":"IF(CA$5<>\"\",OFFSET(Data!CF$4,View!$B$25,$DS18),\"\")","v":""},{"$f":"IF(CB$5<>\"\",OFFSET(Data!CG$4,View!$B$25,$DS18),\"\")","v":""},{"$f":"IF(CC$5<>\"\",OFFSET(Data!CH$4,View!$B$25,$DS18),\"\")","v":""},{"$f":"IF(CD$5<>\"\",OFFSET(Data!CI$4,View!$B$25,$DS18),\"\")","v":""},{"$f":"IF(CE$5<>\"\",OFFSET(Data!CJ$4,View!$B$25,$DS18),\"\")","v":""},{"$f":"IF(CF$5<>\"\",OFFSET(Data!CK$4,View!$B$25,$DS18),\"\")","v":""},{"$f":"IF(CG$5<>\"\",OFFSET(Data!CL$4,View!$B$25,$DS18),\"\")","v":""},{"$f":"IF(CH$5<>\"\",OFFSET(Data!CM$4,View!$B$25,$DS18),\"\")","v":""},{"$f":"IF(CI$5<>\"\",OFFSET(Data!CN$4,View!$B$25,$DS18),\"\")","v":""},{"$f":"IF(CJ$5<>\"\",OFFSET(Data!CO$4,View!$B$25,$DS18),\"\")","v":""},{"$f":"IF(CK$5<>\"\",OFFSET(Data!CP$4,View!$B$25,$DS18),\"\")","v":""},{"$f":"IF(CL$5<>\"\",OFFSET(Data!CQ$4,View!$B$25,$DS18),\"\")","v":""},{"$f":"IF(CM$5<>\"\",OFFSET(Data!CR$4,View!$B$25,$DS18),\"\")","v":""},{"$f":"IF(CN$5<>\"\",OFFSET(Data!CS$4,View!$B$25,$DS18),\"\")","v":""},{"$f":"IF(CO$5<>\"\",OFFSET(Data!CT$4,View!$B$25,$DS18),\"\")","v":""},{"$f":"IF(CP$5<>\"\",OFFSET(Data!CU$4,View!$B$25,$DS18),\"\")","v":""},{"$f":"IF(CQ$5<>\"\",OFFSET(Data!CV$4,View!$B$25,$DS18),\"\")","v":""},{"$f":"IF(CR$5<>\"\",OFFSET(Data!CW$4,View!$B$25,$DS18),\"\")","v":""},{"$f":"IF(CS$5<>\"\",OFFSET(Data!CX$4,View!$B$25,$DS18),\"\")","v":""},{"$f":"IF(CT$5<>\"\",OFFSET(Data!CY$4,View!$B$25,$DS18),\"\")","v":""},{"$f":"IF(CU$5<>\"\",OFFSET(Data!CZ$4,View!$B$25,$DS18),\"\")","v":""},{"$f":"IF(CV$5<>\"\",OFFSET(Data!DA$4,View!$B$25,$DS18),\"\")","v":""},{"$f":"IF(CW$5<>\"\",OFFSET(Data!DB$4,View!$B$25,$DS18),\"\")","v":""},{"$f":"IF(CX$5<>\"\",OFFSET(Data!DC$4,View!$B$25,$DS18),\"\")","v":""},{"$f":"IF(CY$5<>\"\",OFFSET(Data!DD$4,View!$B$25,$DS18),\"\")","v":""},{"$f":"IF(CZ$5<>\"\",OFFSET(Data!DE$4,View!$B$25,$DS18),\"\")","v":""},{"$f":"IF(DA$5<>\"\",OFFSET(Data!DF$4,View!$B$25,$DS18),\"\")","v":""},{"$f":"IF(DB$5<>\"\",OFFSET(Data!DG$4,View!$B$25,$DS18),\"\")","v":""},{"$f":"IF(DC$5<>\"\",OFFSET(Data!DH$4,View!$B$25,$DS18),\"\")","v":""},{"$f":"IF(DD$5<>\"\",OFFSET(Data!DI$4,View!$B$25,$DS18),\"\")","v":""},{"$f":"IF(DE$5<>\"\",OFFSET(Data!DJ$4,View!$B$25,$DS18),\"\")","v":""},{"$f":"IF(DF$5<>\"\",OFFSET(Data!DK$4,View!$B$25,$DS18),\"\")","v":""},{"$f":"IF(DG$5<>\"\",OFFSET(Data!DL$4,View!$B$25,$DS18),\"\")","v":""},{"$f":"IF(DH$5<>\"\",OFFSET(Data!DM$4,View!$B$25,$DS18),\"\")","v":""},{"$f":"IF(DI$5<>\"\",OFFSET(Data!DN$4,View!$B$25,$DS18),\"\")","v":""},{"$f":"IF(DJ$5<>\"\",OFFSET(Data!DO$4,View!$B$25,$DS18),\"\")","v":""},{"$f":"IF(DK$5<>\"\",OFFSET(Data!DP$4,View!$B$25,$DS18),\"\")","v":""},{"$f":"IF(DL$5<>\"\",OFFSET(Data!DQ$4,View!$B$25,$DS18),\"\")","v":""},{"$f":"IF(DM$5<>\"\",OFFSET(Data!DR$4,View!$B$25,$DS18),\"\")","v":""},{"$f":"IF(DN$5<>\"\",OFFSET(Data!DS$4,View!$B$25,$DS18),\"\")","v":""},{"$f":"IF(DO$5<>\"\",OFFSET(Data!DT$4,View!$B$25,$DS18),\"\")","v":""},{"$f":"IF(DP$5<>\"\",OFFSET(Data!DU$4,View!$B$25,$DS18),\"\")","v":""},{"$f":"IF(DQ$5<>\"\",OFFSET(Data!DV$4,View!$B$25,$DS18),\"\")","v":""},{"$f":"IF(DR$5<>\"\",OFFSET(Data!DW$4,View!$B$25,$DS18),\"\")","v":""},{"$f":"($C$41+1)*11","v":11}]
["LAimax",{"$f":"IF(B$5<>\"\",OFFSET(Data!G$4,View!$B$25,$DS19),\"\")","v":0},{"$f":"IF(C$5<>\"\",OFFSET(Data!H$4,View!$B$25,$DS19),\"\")","v":0},{"$f":"IF(D$5<>\"\",OFFSET(Data!I$4,View!$B$25,$DS19),\"\")","v":0},{"$f":"IF(E$5<>\"\",OFFSET(Data!J$4,View!$B$25,$DS19),\"\")","v":0},{"$f":"IF(F$5<>\"\",OFFSET(Data!K$4,View!$B$25,$DS19),\"\")","v":0},{"$f":"IF(G$5<>\"\",OFFSET(Data!L$4,View!$B$25,$DS19),\"\")","v":0},{"$f":"IF(H$5<>\"\",OFFSET(Data!M$4,View!$B$25,$DS19),\"\")","v":0},{"$f":"IF(I$5<>\"\",OFFSET(Data!N$4,View!$B$25,$DS19),\"\")","v":0},{"$f":"IF(J$5<>\"\",OFFSET(Data!O$4,View!$B$25,$DS19),\"\")","v":0},{"$f":"IF(K$5<>\"\",OFFSET(Data!P$4,View!$B$25,$DS19),\"\")","v":0},{"$f":"IF(L$5<>\"\",OFFSET(Data!Q$4,View!$B$25,$DS19),\"\")","v":0},{"$f":"IF(M$5<>\"\",OFFSET(Data!R$4,View!$B$25,$DS19),\"\")","v":""},{"$f":"IF(N$5<>\"\",OFFSET(Data!S$4,View!$B$25,$DS19),\"\")","v":""},{"$f":"IF(O$5<>\"\",OFFSET(Data!T$4,View!$B$25,$DS19),\"\")","v":""},{"$f":"IF(P$5<>\"\",OFFSET(Data!U$4,View!$B$25,$DS19),\"\")","v":""},{"$f":"IF(Q$5<>\"\",OFFSET(Data!V$4,View!$B$25,$DS19),\"\")","v":""},{"$f":"IF(R$5<>\"\",OFFSET(Data!W$4,View!$B$25,$DS19),\"\")","v":""},{"$f":"IF(S$5<>\"\",OFFSET(Data!X$4,View!$B$25,$DS19),\"\")","v":""},{"$f":"IF(T$5<>\"\",OFFSET(Data!Y$4,View!$B$25,$DS19),\"\")","v":""},{"$f":"IF(U$5<>\"\",OFFSET(Data!Z$4,View!$B$25,$DS19),\"\")","v":""},{"$f":"IF(V$5<>\"\",OFFSET(Data!AA$4,View!$B$25,$DS19),\"\")","v":""},{"$f":"IF(W$5<>\"\",OFFSET(Data!AB$4,View!$B$25,$DS19),\"\")","v":""},{"$f":"IF(X$5<>\"\",OFFSET(Data!AC$4,View!$B$25,$DS19),\"\")","v":""},{"$f":"IF(Y$5<>\"\",OFFSET(Data!AD$4,View!$B$25,$DS19),\"\")","v":""},{"$f":"IF(Z$5<>\"\",OFFSET(Data!AE$4,View!$B$25,$DS19),\"\")","v":""},{"$f":"IF(AA$5<>\"\",OFFSET(Data!AF$4,View!$B$25,$DS19),\"\")","v":""},{"$f":"IF(AB$5<>\"\",OFFSET(Data!AG$4,View!$B$25,$DS19),\"\")","v":""},{"$f":"IF(AC$5<>\"\",OFFSET(Data!AH$4,View!$B$25,$DS19),\"\")","v":""},{"$f":"IF(AD$5<>\"\",OFFSET(Data!AI$4,View!$B$25,$DS19),\"\")","v":""},{"$f":"IF(AE$5<>\"\",OFFSET(Data!AJ$4,View!$B$25,$DS19),\"\")","v":""},{"$f":"IF(AF$5<>\"\",OFFSET(Data!AK$4,View!$B$25,$DS19),\"\")","v":""},{"$f":"IF(AG$5<>\"\",OFFSET(Data!AL$4,View!$B$25,$DS19),\"\")","v":""},{"$f":"IF(AH$5<>\"\",OFFSET(Data!AM$4,View!$B$25,$DS19),\"\")","v":""},{"$f":"IF(AI$5<>\"\",OFFSET(Data!AN$4,View!$B$25,$DS19),\"\")","v":""},{"$f":"IF(AJ$5<>\"\",OFFSET(Data!AO$4,View!$B$25,$DS19),\"\")","v":""},{"$f":"IF(AK$5<>\"\",OFFSET(Data!AP$4,View!$B$25,$DS19),\"\")","v":""},{"$f":"IF(AL$5<>\"\",OFFSET(Data!AQ$4,View!$B$25,$DS19),\"\")","v":""},{"$f":"IF(AM$5<>\"\",OFFSET(Data!AR$4,View!$B$25,$DS19),\"\")","v":""},{"$f":"IF(AN$5<>\"\",OFFSET(Data!AS$4,View!$B$25,$DS19),\"\")","v":""},{"$f":"IF(AO$5<>\"\",OFFSET(Data!AT$4,View!$B$25,$DS19),\"\")","v":""},{"$f":"IF(AP$5<>\"\",OFFSET(Data!AU$4,View!$B$25,$DS19),\"\")","v":""},{"$f":"IF(AQ$5<>\"\",OFFSET(Data!AV$4,View!$B$25,$DS19),\"\")","v":""},{"$f":"IF(AR$5<>\"\",OFFSET(Data!AW$4,View!$B$25,$DS19),\"\")","v":""},{"$f":"IF(AS$5<>\"\",OFFSET(Data!AX$4,View!$B$25,$DS19),\"\")","v":""},{"$f":"IF(AT$5<>\"\",OFFSET(Data!AY$4,View!$B$25,$DS19),\"\")","v":""},{"$f":"IF(AU$5<>\"\",OFFSET(Data!AZ$4,View!$B$25,$DS19),\"\")","v":""},{"$f":"IF(AV$5<>\"\",OFFSET(Data!BA$4,View!$B$25,$DS19),\"\")","v":""},{"$f":"IF(AW$5<>\"\",OFFSET(Data!BB$4,View!$B$25,$DS19),\"\")","v":""},{"$f":"IF(AX$5<>\"\",OFFSET(Data!BC$4,View!$B$25,$DS19),\"\")","v":""},{"$f":"IF(AY$5<>\"\",OFFSET(Data!BD$4,View!$B$25,$DS19),\"\")","v":""},{"$f":"IF(AZ$5<>\"\",OFFSET(Data!BE$4,View!$B$25,$DS19),\"\")","v":""},{"$f":"IF(BA$5<>\"\",OFFSET(Data!BF$4,View!$B$25,$DS19),\"\")","v":""},{"$f":"IF(BB$5<>\"\",OFFSET(Data!BG$4,View!$B$25,$DS19),\"\")","v":""},{"$f":"IF(BC$5<>\"\",OFFSET(Data!BH$4,View!$B$25,$DS19),\"\")","v":""},{"$f":"IF(BD$5<>\"\",OFFSET(Data!BI$4,View!$B$25,$DS19),\"\")","v":""},{"$f":"IF(BE$5<>\"\",OFFSET(Data!BJ$4,View!$B$25,$DS19),\"\")","v":""},{"$f":"IF(BF$5<>\"\",OFFSET(Data!BK$4,View!$B$25,$DS19),\"\")","v":""},{"$f":"IF(BG$5<>\"\",OFFSET(Data!BL$4,View!$B$25,$DS19),\"\")","v":""},{"$f":"IF(BH$5<>\"\",OFFSET(Data!BM$4,View!$B$25,$DS19),\"\")","v":""},{"$f":"IF(BI$5<>\"\",OFFSET(Data!BN$4,View!$B$25,$DS19),\"\")","v":""},{"$f":"IF(BJ$5<>\"\",OFFSET(Data!BO$4,View!$B$25,$DS19),\"\")","v":""},{"$f":"IF(BK$5<>\"\",OFFSET(Data!BP$4,View!$B$25,$DS19),\"\")","v":""},{"$f":"IF(BL$5<>\"\",OFFSET(Data!BQ$4,View!$B$25,$DS19),\"\")","v":""},{"$f":"IF(BM$5<>\"\",OFFSET(Data!BR$4,View!$B$25,$DS19),\"\")","v":""},{"$f":"IF(BN$5<>\"\",OFFSET(Data!BS$4,View!$B$25,$DS19),\"\")","v":""},{"$f":"IF(BO$5<>\"\",OFFSET(Data!BT$4,View!$B$25,$DS19),\"\")","v":""},{"$f":"IF(BP$5<>\"\",OFFSET(Data!BU$4,View!$B$25,$DS19),\"\")","v":""},{"$f":"IF(BQ$5<>\"\",OFFSET(Data!BV$4,View!$B$25,$DS19),\"\")","v":""},{"$f":"IF(BR$5<>\"\",OFFSET(Data!BW$4,View!$B$25,$DS19),\"\")","v":""},{"$f":"IF(BS$5<>\"\",OFFSET(Data!BX$4,View!$B$25,$DS19),\"\")","v":""},{"$f":"IF(BT$5<>\"\",OFFSET(Data!BY$4,View!$B$25,$DS19),\"\")","v":""},{"$f":"IF(BU$5<>\"\",OFFSET(Data!BZ$4,View!$B$25,$DS19),\"\")","v":""},{"$f":"IF(BV$5<>\"\",OFFSET(Data!CA$4,View!$B$25,$DS19),\"\")","v":""},{"$f":"IF(BW$5<>\"\",OFFSET(Data!CB$4,View!$B$25,$DS19),\"\")","v":""},{"$f":"IF(BX$5<>\"\",OFFSET(Data!CC$4,View!$B$25,$DS19),\"\")","v":""},{"$f":"IF(BY$5<>\"\",OFFSET(Data!CD$4,View!$B$25,$DS19),\"\")","v":""},{"$f":"IF(BZ$5<>\"\",OFFSET(Data!CE$4,View!$B$25,$DS19),\"\")","v":""},{"$f":"IF(CA$5<>\"\",OFFSET(Data!CF$4,View!$B$25,$DS19),\"\")","v":""},{"$f":"IF(CB$5<>\"\",OFFSET(Data!CG$4,View!$B$25,$DS19),\"\")","v":""},{"$f":"IF(CC$5<>\"\",OFFSET(Data!CH$4,View!$B$25,$DS19),\"\")","v":""},{"$f":"IF(CD$5<>\"\",OFFSET(Data!CI$4,View!$B$25,$DS19),\"\")","v":""},{"$f":"IF(CE$5<>\"\",OFFSET(Data!CJ$4,View!$B$25,$DS19),\"\")","v":""},{"$f":"IF(CF$5<>\"\",OFFSET(Data!CK$4,View!$B$25,$DS19),\"\")","v":""},{"$f":"IF(CG$5<>\"\",OFFSET(Data!CL$4,View!$B$25,$DS19),\"\")","v":""},{"$f":"IF(CH$5<>\"\",OFFSET(Data!CM$4,View!$B$25,$DS19),\"\")","v":""},{"$f":"IF(CI$5<>\"\",OFFSET(Data!CN$4,View!$B$25,$DS19),\"\")","v":""},{"$f":"IF(CJ$5<>\"\",OFFSET(Data!CO$4,View!$B$25,$DS19),\"\")","v":""},{"$f":"IF(CK$5<>\"\",OFFSET(Data!CP$4,View!$B$25,$DS19),\"\")","v":""},{"$f":"IF(CL$5<>\"\",OFFSET(Data!CQ$4,View!$B$25,$DS19),\"\")","v":""},{"$f":"IF(CM$5<>\"\",OFFSET(Data!CR$4,View!$B$25,$DS19),\"\")","v":""},{"$f":"IF(CN$5<>\"\",OFFSET(Data!CS$4,View!$B$25,$DS19),\"\")","v":""},{"$f":"IF(CO$5<>\"\",OFFSET(Data!CT$4,View!$B$25,$DS19),\"\")","v":""},{"$f":"IF(CP$5<>\"\",OFFSET(Data!CU$4,View!$B$25,$DS19),\"\")","v":""},{"$f":"IF(CQ$5<>\"\",OFFSET(Data!CV$4,View!$B$25,$DS19),\"\")","v":""},{"$f":"IF(CR$5<>\"\",OFFSET(Data!CW$4,View!$B$25,$DS19),\"\")","v":""},{"$f":"IF(CS$5<>\"\",OFFSET(Data!CX$4,View!$B$25,$DS19),\"\")","v":""},{"$f":"IF(CT$5<>\"\",OFFSET(Data!CY$4,View!$B$25,$DS19),\"\")","v":""},{"$f":"IF(CU$5<>\"\",OFFSET(Data!CZ$4,View!$B$25,$DS19),\"\")","v":""},{"$f":"IF(CV$5<>\"\",OFFSET(Data!DA$4,View!$B$25,$DS19),\"\")","v":""},{"$f":"IF(CW$5<>\"\",OFFSET(Data!DB$4,View!$B$25,$DS19),\"\")","v":""},{"$f":"IF(CX$5<>\"\",OFFSET(Data!DC$4,View!$B$25,$DS19),\"\")","v":""},{"$f":"IF(CY$5<>\"\",OFFSET(Data!DD$4,View!$B$25,$DS19),\"\")","v":""},{"$f":"IF(CZ$5<>\"\",OFFSET(Data!DE$4,View!$B$25,$DS19),\"\")","v":""},{"$f":"IF(DA$5<>\"\",OFFSET(Data!DF$4,View!$B$25,$DS19),\"\")","v":""},{"$f":"IF(DB$5<>\"\",OFFSET(Data!DG$4,View!$B$25,$DS19),\"\")","v":""},{"$f":"IF(DC$5<>\"\",OFFSET(Data!DH$4,View!$B$25,$DS19),\"\")","v":""},{"$f":"IF(DD$5<>\"\",OFFSET(Data!DI$4,View!$B$25,$DS19),\"\")","v":""},{"$f":"IF(DE$5<>\"\",OFFSET(Data!DJ$4,View!$B$25,$DS19),\"\")","v":""},{"$f":"IF(DF$5<>\"\",OFFSET(Data!DK$4,View!$B$25,$DS19),\"\")","v":""},{"$f":"IF(DG$5<>\"\",OFFSET(Data!DL$4,View!$B$25,$DS19),\"\")","v":""},{"$f":"IF(DH$5<>\"\",OFFSET(Data!DM$4,View!$B$25,$DS19),\"\")","v":""},{"$f":"IF(DI$5<>\"\",OFFSET(Data!DN$4,View!$B$25,$DS19),\"\")","v":""},{"$f":"IF(DJ$5<>\"\",OFFSET(Data!DO$4,View!$B$25,$DS19),\"\")","v":""},{"$f":"IF(DK$5<>\"\",OFFSET(Data!DP$4,View!$B$25,$DS19),\"\")","v":""},{"$f":"IF(DL$5<>\"\",OFFSET(Data!DQ$4,View!$B$25,$DS19),\"\")","v":""},{"$f":"IF(DM$5<>\"\",OFFSET(Data!DR$4,View!$B$25,$DS19),\"\")","v":""},{"$f":"IF(DN$5<>\"\",OFFSET(Data!DS$4,View!$B$25,$DS19),\"\")","v":""},{"$f":"IF(DO$5<>\"\",OFFSET(Data!DT$4,View!$B$25,$DS19),\"\")","v":""},{"$f":"IF(DP$5<>\"\",OFFSET(Data!DU$4,View!$B$25,$DS19),\"\")","v":""},{"$f":"IF(DQ$5<>\"\",OFFSET(Data!DV$4,View!$B$25,$DS19),\"\")","v":""},{"$f":"IF(DR$5<>\"\",OFFSET(Data!DW$4,View!$B$25,$DS19),\"\")","v":""},{"$f":"($C$41+1)*3","v":3}]
["LCimax",{"$f":"IF(B$5<>\"\",OFFSET(Data!G$4,View!$B$25,$DS20),\"\")","v":0},{"$f":"IF(C$5<>\"\",OFFSET(Data!H$4,View!$B$25,$DS20),\"\")","v":0},{"$f":"IF(D$5<>\"\",OFFSET(Data!I$4,View!$B$25,$DS20),\"\")","v":0},{"$f":"IF(E$5<>\"\",OFFSET(Data!J$4,View!$B$25,$DS20),\"\")","v":0},{"$f":"IF(F$5<>\"\",OFFSET(Data!K$4,View!$B$25,$DS20),\"\")","v":0},{"$f":"IF(G$5<>\"\",OFFSET(Data!L$4,View!$B$25,$DS20),\"\")","v":0},{"$f":"IF(H$5<>\"\",OFFSET(Data!M$4,View!$B$25,$DS20),\"\")","v":0},{"$f":"IF(I$5<>\"\",OFFSET(Data!N$4,View!$B$25,$DS20),\"\")","v":0},{"$f":"IF(J$5<>\"\",OFFSET(Data!O$4,View!$B$25,$DS20),\"\")","v":0},{"$f":"IF(K$5<>\"\",OFFSET(Data!P$4,View!$B$25,$DS20),\"\")","v":0},{"$f":"IF(L$5<>\"\",OFFSET(Data!Q$4,View!$B$25,$DS20),\"\")","v":0},{"$f":"IF(M$5<>\"\",OFFSET(Data!R$4,View!$B$25,$DS20),\"\")","v":""},{"$f":"IF(N$5<>\"\",OFFSET(Data!S$4,View!$B$25,$DS20),\"\")","v":""},{"$f":"IF(O$5<>\"\",OFFSET(Data!T$4,View!$B$25,$DS20),\"\")","v":""},{"$f":"IF(P$5<>\"\",OFFSET(Data!U$4,View!$B$25,$DS20),\"\")","v":""},{"$f":"IF(Q$5<>\"\",OFFSET(Data!V$4,View!$B$25,$DS20),\"\")","v":""},{"$f":"IF(R$5<>\"\",OFFSET(Data!W$4,View!$B$25,$DS20),\"\")","v":""},{"$f":"IF(S$5<>\"\",OFFSET(Data!X$4,View!$B$25,$DS20),\"\")","v":""},{"$f":"IF(T$5<>\"\",OFFSET(Data!Y$4,View!$B$25,$DS20),\"\")","v":""},{"$f":"IF(U$5<>\"\",OFFSET(Data!Z$4,View!$B$25,$DS20),\"\")","v":""},{"$f":"IF(V$5<>\"\",OFFSET(Data!AA$4,View!$B$25,$DS20),\"\")","v":""},{"$f":"IF(W$5<>\"\",OFFSET(Data!AB$4,View!$B$25,$DS20),\"\")","v":""},{"$f":"IF(X$5<>\"\",OFFSET(Data!AC$4,View!$B$25,$DS20),\"\")","v":""},{"$f":"IF(Y$5<>\"\",OFFSET(Data!AD$4,View!$B$25,$DS20),\"\")","v":""},{"$f":"IF(Z$5<>\"\",OFFSET(Data!AE$4,View!$B$25,$DS20),\"\")","v":""},{"$f":"IF(AA$5<>\"\",OFFSET(Data!AF$4,View!$B$25,$DS20),\"\")","v":""},{"$f":"IF(AB$5<>\"\",OFFSET(Data!AG$4,View!$B$25,$DS20),\"\")","v":""},{"$f":"IF(AC$5<>\"\",OFFSET(Data!AH$4,View!$B$25,$DS20),\"\")","v":""},{"$f":"IF(AD$5<>\"\",OFFSET(Data!AI$4,View!$B$25,$DS20),\"\")","v":""},{"$f":"IF(AE$5<>\"\",OFFSET(Data!AJ$4,View!$B$25,$DS20),\"\")","v":""},{"$f":"IF(AF$5<>\"\",OFFSET(Data!AK$4,View!$B$25,$DS20),\"\")","v":""},{"$f":"IF(AG$5<>\"\",OFFSET(Data!AL$4,View!$B$25,$DS20),\"\")","v":""},{"$f":"IF(AH$5<>\"\",OFFSET(Data!AM$4,View!$B$25,$DS20),\"\")","v":""},{"$f":"IF(AI$5<>\"\",OFFSET(Data!AN$4,View!$B$25,$DS20),\"\")","v":""},{"$f":"IF(AJ$5<>\"\",OFFSET(Data!AO$4,View!$B$25,$DS20),\"\")","v":""},{"$f":"IF(AK$5<>\"\",OFFSET(Data!AP$4,View!$B$25,$DS20),\"\")","v":""},{"$f":"IF(AL$5<>\"\",OFFSET(Data!AQ$4,View!$B$25,$DS20),\"\")","v":""},{"$f":"IF(AM$5<>\"\",OFFSET(Data!AR$4,View!$B$25,$DS20),\"\")","v":""},{"$f":"IF(AN$5<>\"\",OFFSET(Data!AS$4,View!$B$25,$DS20),\"\")","v":""},{"$f":"IF(AO$5<>\"\",OFFSET(Data!AT$4,View!$B$25,$DS20),\"\")","v":""},{"$f":"IF(AP$5<>\"\",OFFSET(Data!AU$4,View!$B$25,$DS20),\"\")","v":""},{"$f":"IF(AQ$5<>\"\",OFFSET(Data!AV$4,View!$B$25,$DS20),\"\")","v":""},{"$f":"IF(AR$5<>\"\",OFFSET(Data!AW$4,View!$B$25,$DS20),\"\")","v":""},{"$f":"IF(AS$5<>\"\",OFFSET(Data!AX$4,View!$B$25,$DS20),\"\")","v":""},{"$f":"IF(AT$5<>\"\",OFFSET(Data!AY$4,View!$B$25,$DS20),\"\")","v":""},{"$f":"IF(AU$5<>\"\",OFFSET(Data!AZ$4,View!$B$25,$DS20),\"\")","v":""},{"$f":"IF(AV$5<>\"\",OFFSET(Data!BA$4,View!$B$25,$DS20),\"\")","v":""},{"$f":"IF(AW$5<>\"\",OFFSET(Data!BB$4,View!$B$25,$DS20),\"\")","v":""},{"$f":"IF(AX$5<>\"\",OFFSET(Data!BC$4,View!$B$25,$DS20),\"\")","v":""},{"$f":"IF(AY$5<>\"\",OFFSET(Data!BD$4,View!$B$25,$DS20),\"\")","v":""},{"$f":"IF(AZ$5<>\"\",OFFSET(Data!BE$4,View!$B$25,$DS20),\"\")","v":""},{"$f":"IF(BA$5<>\"\",OFFSET(Data!BF$4,View!$B$25,$DS20),\"\")","v":""},{"$f":"IF(BB$5<>\"\",OFFSET(Data!BG$4,View!$B$25,$DS20),\"\")","v":""},{"$f":"IF(BC$5<>\"\",OFFSET(Data!BH$4,View!$B$25,$DS20),\"\")","v":""},{"$f":"IF(BD$5<>\"\",OFFSET(Data!BI$4,View!$B$25,$DS20),\"\")","v":""},{"$f":"IF(BE$5<>\"\",OFFSET(Data!BJ$4,View!$B$25,$DS20),\"\")","v":""},{"$f":"IF(BF$5<>\"\",OFFSET(Data!BK$4,View!$B$25,$DS20),\"\")","v":""},{"$f":"IF(BG$5<>\"\",OFFSET(Data!BL$4,View!$B$25,$DS20),\"\")","v":""},{"$f":"IF(BH$5<>\"\",OFFSET(Data!BM$4,View!$B$25,$DS20),\"\")","v":""},{"$f":"IF(BI$5<>\"\",OFFSET(Data!BN$4,View!$B$25,$DS20),\"\")","v":""},{"$f":"IF(BJ$5<>\"\",OFFSET(Data!BO$4,View!$B$25,$DS20),\"\")","v":""},{"$f":"IF(BK$5<>\"\",OFFSET(Data!BP$4,View!$B$25,$DS20),\"\")","v":""},{"$f":"IF(BL$5<>\"\",OFFSET(Data!BQ$4,View!$B$25,$DS20),\"\")","v":""},{"$f":"IF(BM$5<>\"\",OFFSET(Data!BR$4,View!$B$25,$DS20),\"\")","v":""},{"$f":"IF(BN$5<>\"\",OFFSET(Data!BS$4,View!$B$25,$DS20),\"\")","v":""},{"$f":"IF(BO$5<>\"\",OFFSET(Data!BT$4,View!$B$25,$DS20),\"\")","v":""},{"$f":"IF(BP$5<>\"\",OFFSET(Data!BU$4,View!$B$25,$DS20),\"\")","v":""},{"$f":"IF(BQ$5<>\"\",OFFSET(Data!BV$4,View!$B$25,$DS20),\"\")","v":""},{"$f":"IF(BR$5<>\"\",OFFSET(Data!BW$4,View!$B$25,$DS20),\"\")","v":""},{"$f":"IF(BS$5<>\"\",OFFSET(Data!BX$4,View!$B$25,$DS20),\"\")","v":""},{"$f":"IF(BT$5<>\"\",OFFSET(Data!BY$4,View!$B$25,$DS20),\"\")","v":""},{"$f":"IF(BU$5<>\"\",OFFSET(Data!BZ$4,View!$B$25,$DS20),\"\")","v":""},{"$f":"IF(BV$5<>\"\",OFFSET(Data!CA$4,View!$B$25,$DS20),\"\")","v":""},{"$f":"IF(BW$5<>\"\",OFFSET(Data!CB$4,View!$B$25,$DS20),\"\")","v":""},{"$f":"IF(BX$5<>\"\",OFFSET(Data!CC$4,View!$B$25,$DS20),\"\")","v":""},{"$f":"IF(BY$5<>\"\",OFFSET(Data!CD$4,View!$B$25,$DS20),\"\")","v":""},{"$f":"IF(BZ$5<>\"\",OFFSET(Data!CE$4,View!$B$25,$DS20),\"\")","v":""},{"$f":"IF(CA$5<>\"\",OFFSET(Data!CF$4,View!$B$25,$DS20),\"\")","v":""},{"$f":"IF(CB$5<>\"\",OFFSET(Data!CG$4,View!$B$25,$DS20),\"\")","v":""},{"$f":"IF(CC$5<>\"\",OFFSET(Data!CH$4,View!$B$25,$DS20),\"\")","v":""},{"$f":"IF(CD$5<>\"\",OFFSET(Data!CI$4,View!$B$25,$DS20),\"\")","v":""},{"$f":"IF(CE$5<>\"\",OFFSET(Data!CJ$4,View!$B$25,$DS20),\"\")","v":""},{"$f":"IF(CF$5<>\"\",OFFSET(Data!CK$4,View!$B$25,$DS20),\"\")","v":""},{"$f":"IF(CG$5<>\"\",OFFSET(Data!CL$4,View!$B$25,$DS20),\"\")","v":""},{"$f":"IF(CH$5<>\"\",OFFSET(Data!CM$4,View!$B$25,$DS20),\"\")","v":""},{"$f":"IF(CI$5<>\"\",OFFSET(Data!CN$4,View!$B$25,$DS20),\"\")","v":""},{"$f":"IF(CJ$5<>\"\",OFFSET(Data!CO$4,View!$B$25,$DS20),\"\")","v":""},{"$f":"IF(CK$5<>\"\",OFFSET(Data!CP$4,View!$B$25,$DS20),\"\")","v":""},{"$f":"IF(CL$5<>\"\",OFFSET(Data!CQ$4,View!$B$25,$DS20),\"\")","v":""},{"$f":"IF(CM$5<>\"\",OFFSET(Data!CR$4,View!$B$25,$DS20),\"\")","v":""},{"$f":"IF(CN$5<>\"\",OFFSET(Data!CS$4,View!$B$25,$DS20),\"\")","v":""},{"$f":"IF(CO$5<>\"\",OFFSET(Data!CT$4,View!$B$25,$DS20),\"\")","v":""},{"$f":"IF(CP$5<>\"\",OFFSET(Data!CU$4,View!$B$25,$DS20),\"\")","v":""},{"$f":"IF(CQ$5<>\"\",OFFSET(Data!CV$4,View!$B$25,$DS20),\"\")","v":""},{"$f":"IF(CR$5<>\"\",OFFSET(Data!CW$4,View!$B$25,$DS20),\"\")","v":""},{"$f":"IF(CS$5<>\"\",OFFSET(Data!CX$4,View!$B$25,$DS20),\"\")","v":""},{"$f":"IF(CT$5<>\"\",OFFSET(Data!CY$4,View!$B$25,$DS20),\"\")","v":""},{"$f":"IF(CU$5<>\"\",OFFSET(Data!CZ$4,View!$B$25,$DS20),\"\")","v":""},{"$f":"IF(CV$5<>\"\",OFFSET(Data!DA$4,View!$B$25,$DS20),\"\")","v":""},{"$f":"IF(CW$5<>\"\",OFFSET(Data!DB$4,View!$B$25,$DS20),\"\")","v":""},{"$f":"IF(CX$5<>\"\",OFFSET(Data!DC$4,View!$B$25,$DS20),\"\")","v":""},{"$f":"IF(CY$5<>\"\",OFFSET(Data!DD$4,View!$B$25,$DS20),\"\")","v":""},{"$f":"IF(CZ$5<>\"\",OFFSET(Data!DE$4,View!$B$25,$DS20),\"\")","v":""},{"$f":"IF(DA$5<>\"\",OFFSET(Data!DF$4,View!$B$25,$DS20),\"\")","v":""},{"$f":"IF(DB$5<>\"\",OFFSET(Data!DG$4,View!$B$25,$DS20),\"\")","v":""},{"$f":"IF(DC$5<>\"\",OFFSET(Data!DH$4,View!$B$25,$DS20),\"\")","v":""},{"$f":"IF(DD$5<>\"\",OFFSET(Data!DI$4,View!$B$25,$DS20),\"\")","v":""},{"$f":"IF(DE$5<>\"\",OFFSET(Data!DJ$4,View!$B$25,$DS20),\"\")","v":""},{"$f":"IF(DF$5<>\"\",OFFSET(Data!DK$4,View!$B$25,$DS20),\"\")","v":""},{"$f":"IF(DG$5<>\"\",OFFSET(Data!DL$4,View!$B$25,$DS20),\"\")","v":""},{"$f":"IF(DH$5<>\"\",OFFSET(Data!DM$4,View!$B$25,$DS20),\"\")","v":""},{"$f":"IF(DI$5<>\"\",OFFSET(Data!DN$4,View!$B$25,$DS20),\"\")","v":""},{"$f":"IF(DJ$5<>\"\",OFFSET(Data!DO$4,View!$B$25,$DS20),\"\")","v":""},{"$f":"IF(DK$5<>\"\",OFFSET(Data!DP$4,View!$B$25,$DS20),\"\")","v":""},{"$f":"IF(DL$5<>\"\",OFFSET(Data!DQ$4,View!$B$25,$DS20),\"\")","v":""},{"$f":"IF(DM$5<>\"\",OFFSET(Data!DR$4,View!$B$25,$DS20),\"\")","v":""},{"$f":"IF(DN$5<>\"\",OFFSET(Data!DS$4,View!$B$25,$DS20),\"\")","v":""},{"$f":"IF(DO$5<>\"\",OFFSET(Data!DT$4,View!$B$25,$DS20),\"\")","v":""},{"$f":"IF(DP$5<>\"\",OFFSET(Data!DU$4,View!$B$25,$DS20),\"\")","v":""},{"$f":"IF(DQ$5<>\"\",OFFSET(Data!DV$4,View!$B$25,$DS20),\"\")","v":""},{"$f":"IF(DR$5<>\"\",OFFSET(Data!DW$4,View!$B$25,$DS20),\"\")","v":""},{"$f":"($C$41+1)*7","v":7}]
[]
[]
[]
["Filename",{"$f":"OFFSET(Data!A4,View!$B$25,0)&\"\"","v":""}]
["Index",1]
["Note",{"$f":"OFFSET(Notes!B4,View!$B$25,0)&\"\"","v":""}]
[]
[]
[]
[]
[]
[]
[]
[]
[]
[]
[]
[]
[]
[]
[null,1,{"$f":"OFFSET(Data!F4,View!$B$25,0)","v":0},{"$f":"OFFSET(Data!E4,View!$B$25,0)","v":0},{"$f":"IF(D41>0,CEILING(LOG(D41*2/3)/LOG(2),1),0)","v":0}]
[null,{"$f":"B5","v":"overall"},31.5,63,125,250,500,1000,{"$f":"I5","v":2000},{"$f":"J5","v":4000},8000,16000,"","","","","","","","","","","","","","","","","","","","","","","","","","","","","",{"$f":"AP5","v":""},"","","","","","","","","","","","","","","","","","","","","","","","","","","","","","","",{"$f":"BV5","v":""},"","","","","","","","","","","","","","","","","","","","","","","","","","","","","","","",{"$f":"DB5","v":""},"","","","","","","","","","","","","","","",""]
[{"$f":"OFFSET(A5,$B$41,0)","v":"LZeq"},0,0,0,0,0,0,0,0,0,0,0,"","","","","","","","","","","","","","","","","","","","",{"$f":"OFFSET(AG5,$B$41,0)","v":""},"","","","","","","","","","","","","","","","","","","","","","","","","","","","","","","",{"$f":"OFFSET(BM5,$B$41,0)","v":""},"","","","","","","","","","","","","","","","","","","","","","","","","","","","","","","",{"$f":"OFFSET(CS5,$B$41,0)","v":""},"","","","","","","","","","","","","","","","","","","","","","","","",""]
[]
[null,null,31.5,63,125,250,500,1000,2000,4000,8000,16000]
[null,null,25,31.5,40,50,63,80,100,125,160,200,250,315,400,500,625,800,1000,1250,1600,2000,2500,3150,4000,5000,6250,8000,10000,12500,16000,20000]
[null,null,23.7,26.6,29.9,33.5,37.6,42.2,47.3,53,60,67,75,84,94,106,119,133,150,168,188,211,{"$f":"C47*10","v":237},266,299,335,376,422,473,530,600,670,750,840,940,1060,1190,1330,1500,1680,1880,2110,2370,2660,2990,3350,3760,4220,{"$f":"AC47*10","v":4730},{"$f":"AD47*10","v":5300},{"$f":"AE47*10","v":6000},{"$f":"AF47*10","v":6700},{"$f":"AG47*10","v":7500},{"$f":"AH47*10","v":8400},{"$f":"AI47*10","v":9400},{"$f":"AJ47*10","v":10600},{"$f":"AK47*10","v":11900},{"$f":"AL47*10","v":13300},{"$f":"AM47*10","v":15000},{"$f":"AN47*10","v":16800},{"$f":"AO47*10","v":18800},{"$f":"AP47*10","v":21100}]
[null,null,23,24.4,25.9,27.4,29,30.7,32.5,34.5,36.5,38.700000000000003,41,43.4,46,48.7,52,55,58,61,65,69,73,77,82,87,92,97,103,109,115,122,130,137,145,154,163,173,183,194,205,218,230,244,259,274,290,307,325,345,365,387,410,434,460,487,520,550,580,610,650,690,730,770,820,870,920,970,1030,1090,1150,1220,1300,1370,1450,1540,1630,1730,1830,1940,2050,2180,2300,2440,2590,2740,2900,3070,3250,3450,3650,3870,4100,4340,4600,4870,5200,5500,5800,6100,6500,6900,7300,7700,8200,8700,9200,9700,10300,10900,11500,12200,13000,13700,14500,15400,16300,17300,18300,19400,20500,21800]

{"sheet":"Data","index":2,"n_rows":4,"n_cols":1458,"rows_kept":4,"cut":false,"hidden":false,"merged":[]}
[null,"date","time","duration","bandtype","bandcount","LAeq","LAeq_31.5","LAeq_63","LAeq_125","LAeq_250","LAeq_500","LAeq_1000","LAeq_2000","LAeq_4000","LAeq_8000","LAeq_16000","LAfmax","LAfmax_31.5","LAfmax_63","LAfmax_125","LAfmax_250","LAfmax_500","LAfmax_1000","LAfmax_2000","LAfmax_4000","LAfmax_8000","LAfmax_16000","LAsmax","LAsmax_31.5","LAsmax_63","LAsmax_125","LAsmax_250","LAsmax_500","LAsmax_1000","LAsmax_2000","LAsmax_4000","LAsmax_8000","LAsmax_16000","LAimax","LAimax_31.5","LAimax_63","LAimax_125","LAimax_250","LAimax_500","LAimax_1000","LAimax_2000","LAimax_4000","LAimax_8000","LAimax_16000","LCeq","LCeq_31.5","LCeq_63","LCeq_125","LCeq_250","LCeq_500","LCeq_1000","LCeq_2000","LCeq_4000","LCeq_8000","LCeq_16000","LCfmax","LCfmax_31.5","LCfmax_63","LCfmax_125","LCfmax_250","LCfmax_500","LCfmax_1000","LCfmax_2000","LCfmax_4000","LCfmax_8000","LCfmax_16000","LCsmax","LCsmax_31.5","LCsmax_63","LCsmax_125","LCsmax_250","LCsmax_500","LCsmax_1000","LCsmax_2000","LCsmax_4000","LCsmax_8000","LCsmax_16000","LCimax","LCimax_31.5","LCimax_63","LCimax_125","LCimax_250","LCimax_500","LCimax_1000","LCimax_2000","LCimax_4000","LCimax_8000","LCimax_16000","LZeq","LZeq_31.5","LZeq_63","LZeq_125","LZeq_250","LZeq_500","LZeq_1000","LZeq_2000","LZeq_4000","LZeq_8000","LZeq_16000","LZfmax","LZfmax_31.5","LZfmax_63","LZfmax_125","LZfmax_250","LZfmax_500","LZfmax_1000","LZfmax_2000","LZfmax_4000","LZfmax_8000","LZfmax_16000","LZsmax","LZsmax_31.5","LZsmax_63","LZsmax_125","LZsmax_250","LZsmax_500","LZsmax_1000","LZsmax_2000","LZsmax_4000","LZsmax_8000","LZsmax_16000","LZimax","LZimax_31.5","LZimax_63","LZimax_125","LZimax_250","LZimax_500","LZimax_1000","LZimax_2000","LZimax_4000","LZimax_8000","LZimax_16000"]
[null,"date","time","duration","bandtype","bandcount","LAeq","LAeq_25","LAeq_31.5","LAeq_40","LAeq_50","LAeq_63","LAeq_80","LAeq_100","LAeq_125","LAeq_160","LAeq_200","LAeq_250","LAeq_315","LAeq_400","LAeq_500","LAeq_625","LAeq_800","LAeq_1000","LAeq_1250","LAeq_1600","LAeq_2000","LAeq_2500","LAeq_3150","LAeq_4000","LAeq_5000","LAeq_6250","LAeq_8000","LAeq_10000","LAeq_12500","LAeq_16000","LAeq_20000","LAfmax","LAfmax_25","LAfmax_31.5","LAfmax_40","LAfmax_50","LAfmax_63","LAfmax_80","LAfmax_100","LAfmax_125","LAfmax_160","LAfmax_200","LAfmax_250","LAfmax_315","LAfmax_400","LAfmax_500","LAfmax_625","LAfmax_800","LAfmax_1000","LAfmax_1250","LAfmax_1600","LAfmax_2000","LAfmax_2500","LAfmax_3150","LAfmax_4000","LAfmax_5000","LAfmax_6250","LAfmax_8000","LAfmax_10000","LAfmax_12500","LAfmax_16000","LAfmax_20000","LAsmax","LAsmax_25","LAsmax_31.5","LAsmax_40","LAsmax_50","LAsmax_63","LAsmax_80","LAsmax_100","LAsmax_125","LAsmax_160","LAsmax_200","LAsmax_250","LAsmax_315","LAsmax_400","LAsmax_500","LAsmax_625","LAsmax_800","LAsmax_1000","LAsmax_1250","LAsmax_1600","LAsmax_2000","LAsmax_2500","LAsmax_3150","LAsmax_4000","LAsmax_5000","LAsmax_6250","LAsmax_8000","LAsmax_10000","LAsmax_12500","LAsmax_16000","LAsmax_20000","LAimax","LAimax_25","LAimax_31.5","LAimax_40","LAimax_50","LAimax_63","LAimax_80","LAimax_100","LAimax_125","LAimax_160","LAimax_200","LAimax_250","LAimax_315","LAimax_400","LAimax_500","LAimax_625","LAimax_800","LAimax_1000","LAimax_1250","LAimax_1600","LAimax_2000","LAimax_2500","LAimax_3150","LAimax_4000","LAimax_5000","LAimax_6250","LAimax_8000","LAimax_10000","LAimax_12500","LAimax_16000","LAimax_20000","LCeq","LCeq_25","LCeq_31.5","LCeq_40","LCeq_50","LCeq_63","LCeq_80","LCeq_100","LCeq_125","LCeq_160","LCeq_200","LCeq_250","LCeq_315","LCeq_400","LCeq_500","LCeq_625","LCeq_800","LCeq_1000","LCeq_1250","LCeq_1600","LCeq_2000","LCeq_2500","LCeq_3150","LCeq_4000","LCeq_5000","LCeq_6250","LCeq_8000","LCeq_10000","LCeq_12500","LCeq_16000","LCeq_20000","LCfmax","LCfmax_25","LCfmax_31.5","LCfmax_40","LCfmax_50","LCfmax_63","LCfmax_80","LCfmax_100","LCfmax_125","LCfmax_160","LCfmax_200","LCfmax_250","LCfmax_315","LCfmax_400","LCfmax_500","LCfmax_625","LCfmax_800","LCfmax_1000","LCfmax_1250","LCfmax_1600","LCfmax_2000","LCfmax_2500","LCfmax_3150","LCfmax_4000","LCfmax_5000","LCfmax_6250","LCfmax_8000","LCfmax_10000","LCfmax_12500","LCfmax_16000","LCfmax_20000","LCsmax","LCsmax_25","LCsmax_31.5","LCsmax_40","LCsmax_50","LCsmax_63","LCsmax_80","LCsmax_100","LCsmax_125","LCsmax_160","LCsmax_200","LCsmax_250","LCsmax_315","LCsmax_400","LCsmax_500","LCsmax_625","LCsmax_800","LCsmax_1000","LCsmax_1250","LCsmax_1600","LCsmax_2000","LCsmax_2500","LCsmax_3150","LCsmax_4000","LCsmax_5000","LCsmax_6250","LCsmax_8000","LCsmax_10000","LCsmax_12500","LCsmax_16000","LCsmax_20000","LCimax","LCimax_25","LCimax_31.5","LCimax_40","LCimax_50","LCimax_63","LCimax_80","LCimax_100","LCimax_125","LCimax_160","LCimax_200","LCimax_250","LCimax_315","LCimax_400","LCimax_500","LCimax_625","LCimax_800","LCimax_1000","LCimax_1250","LCimax_1600","LCimax_2000","LCimax_2500","LCimax_3150","LCimax_4000","LCimax_5000","LCimax_6250","LCimax_8000","LCimax_10000","LCimax_12500","LCimax_16000","LCimax_20000","LZeq","LZeq_25","LZeq_31.5","LZeq_40","LZeq_50","LZeq_63","LZeq_80","LZeq_100","LZeq_125","LZeq_160","LZeq_200","LZeq_250","LZeq_315","LZeq_400","LZeq_500","LZeq_625","LZeq_800","LZeq_1000","LZeq_1250","LZeq_1600","LZeq_2000","LZeq_2500","LZeq_3150","LZeq_4000","LZeq_5000","LZeq_6250","LZeq_8000","LZeq_10000","LZeq_12500","LZeq_16000","LZeq_20000","LZfmax","LZfmax_25","LZfmax_31.5","LZfmax_40","LZfmax_50","LZfmax_63","LZfmax_80","LZfmax_100","LZfmax_125","LZfmax_160","LZfmax_200","LZfmax_250","LZfmax_315","LZfmax_400","LZfmax_500","LZfmax_625","LZfmax_800","LZfmax_1000","LZfmax_1250","LZfmax_1600","LZfmax_2000","LZfmax_2500","LZfmax_3150","LZfmax_4000","LZfmax_5000","LZfmax_6250","LZfmax_8000","LZfmax_10000","LZfmax_12500","LZfmax_16000","LZfmax_20000","LZsmax","LZsmax_25","LZsmax_31.5","LZsmax_40","LZsmax_50","LZsmax_63","LZsmax_80","LZsmax_100","LZsmax_125","LZsmax_160","LZsmax_200","LZsmax_250","LZsmax_315","LZsmax_400","LZsmax_500","LZsmax_625","LZsmax_800","LZsmax_1000","LZsmax_1250","LZsmax_1600","LZsmax_2000","LZsmax_2500","LZsmax_3150","LZsmax_4000","LZsmax_5000","LZsmax_6250","LZsmax_8000","LZsmax_10000","LZsmax_12500","LZsmax_16000","LZsmax_20000","LZimax","LZimax_25","LZimax_31.5","LZimax_40","LZimax_50","LZimax_63","LZimax_80","LZimax_100","LZimax_125","LZimax_160","LZimax_200","LZimax_250","LZimax_315","LZimax_400","LZimax_500","LZimax_625","LZimax_800","LZimax_1000","LZimax_1250","LZimax_1600","LZimax_2000","LZimax_2500","LZimax_3150","LZimax_4000","LZimax_5000","LZimax_6250","LZimax_8000","LZimax_10000","LZimax_12500","LZimax_16000","LZimax_20000"]
[null,"date","time","duration","bandtype","bandcount","LAeq","LAeq_23.7","LAeq_26.6","LAeq_29.9","LAeq_33.5","LAeq_37.6","LAeq_42.2","LAeq_47.3","LAeq_53","LAeq_60","LAeq_67","LAeq_75","LAeq_84","LAeq_94","LAeq_106","LAeq_119","LAeq_133","LAeq_150","LAeq_168","LAeq_188","LAeq_211","LAeq_237","LAeq_266","LAeq_299","LAeq_335","LAeq_376","LAeq_422","LAeq_473","LAeq_530","LAeq_600","LAeq_670","LAeq_750","LAeq_840","LAeq_940","LAeq_1060","LAeq_1190","LAeq_1330","LAeq_1500","LAeq_1680","LAeq_1880","LAeq_2110","LAeq_2370","LAeq_2660","LAeq_2990","LAeq_3350","LAeq_3760","LAeq_4220","LAeq_4730","LAeq_5300","LAeq_6000","LAeq_6700","LAeq_7500","LAeq_8400","LAeq_9400","LAeq_10600","LAeq_11900","LAeq_13300","LAeq_15000","LAeq_16800","LAeq_18800","LAeq_21100","LAfmax","LAfmax_23.7","LAfmax_26.6","LAfmax_29.9","LAfmax_33.5","LAfmax_37.6","LAfmax_42.2","LAfmax_47.3","LAfmax_53","LAfmax_60","LAfmax_67","LAfmax_75","LAfmax_84","LAfmax_94","LAfmax_106","LAfmax_119","LAfmax_133","LAfmax_150","LAfmax_168","LAfmax_188","LAfmax_211","LAfmax_237","LAfmax_266","LAfmax_299","LAfmax_335","LAfmax_376","LAfmax_422","LAfmax_473","LAfmax_530","LAfmax_600","LAfmax_670","LAfmax_750","LAfmax_840","LAfmax_940","LAfmax_1060","LAfmax_1190","LAfmax_1330","LAfmax_1500","LAfmax_1680","LAfmax_1880","LAfmax_2110","LAfmax_2370","LAfmax_2660","LAfmax_2990","LAfmax_3350","LAfmax_3760","LAfmax_4220","LAfmax_4730","LAfmax_5300","LAfmax_6000","LAfmax_6700","LAfmax_7500","LAfmax_8400","LAfmax_9400","LAfmax_10600","LAfmax_11900","LAfmax_13300","LAfmax_15000","LAfmax_16800","LAfmax_18800","LAfmax_21100","LAsmax","LAsmax_23.7","LAsmax_26.6","LAsmax_29.9","LAsmax_33.5","LAsmax_37.6","LAsmax_42.2","LAsmax_47.3","LAsmax_53","LAsmax_60","LAsmax_67","LAsmax_75","LAsmax_84","LAsmax_94","LAsmax_106","LAsmax_119","LAsmax_133","LAsmax_150","LAsmax_168","LAsmax_188","LAsmax_211","LAsmax_237","LAsmax_266","LAsmax_299","LAsmax_335","LAsmax_376","LAsmax_422","LAsmax_473","LAsmax_530","LAsmax_600","LAsmax_670","LAsmax_750","LAsmax_840","LAsmax_940","LAsmax_1060","LAsmax_1190","LAsmax_1330","LAsmax_1500","LAsmax_1680","LAsmax_1880","LAsmax_2110","LAsmax_2370","LAsmax_2660","LAsmax_2990","LAsmax_3350","LAsmax_3760","LAsmax_4220","LAsmax_4730","LAsmax_5300","LAsmax_6000","LAsmax_6700","LAsmax_7500","LAsmax_8400","LAsmax_9400","LAsmax_10600","LAsmax_11900","LAsmax_13300","LAsmax_15000","LAsmax_16800","LAsmax_18800","LAsmax_21100","LAimax","LAimax_23.7","LAimax_26.6","LAimax_29.9","LAimax_33.5","LAimax_37.6","LAimax_42.2","LAimax_47.3","LAimax_53","LAimax_60","LAimax_67","LAimax_75","LAimax_84","LAimax_94","LAimax_106","LAimax_119","LAimax_133","LAimax_150","LAimax_168","LAimax_188","LAimax_211","LAimax_237","LAimax_266","LAimax_299","LAimax_335","LAimax_376","LAimax_422","LAimax_473","LAimax_530","LAimax_600","LAimax_670","LAimax_750","LAimax_840","LAimax_940","LAimax_1060","LAimax_1190","LAimax_1330","LAimax_1500","LAimax_1680","LAimax_1880","LAimax_2110","LAimax_2370","LAimax_2660","LAimax_2990","LAimax_3350","LAimax_3760","LAimax_4220","LAimax_4730","LAimax_5300","LAimax_6000","LAimax_6700","LAimax_7500","LAimax_8400","LAimax_9400","LAimax_10600","LAimax_11900","LAimax_13300","LAimax_15000","LAimax_16800","LAimax_18800","LAimax_21100","LCeq","LCeq_23.7","LCeq_26.6","LCeq_29.9","LCeq_33.5","LCeq_37.6","LCeq_42.2","LCeq_47.3","LCeq_53","LCeq_60","LCeq_67","LCeq_75","LCeq_84","LCeq_94","LCeq_106","LCeq_119","LCeq_133","LCeq_150","LCeq_168","LCeq_188","LCeq_211","LCeq_237","LCeq_266","LCeq_299","LCeq_335","LCeq_376","LCeq_422","LCeq_473","LCeq_530","LCeq_600","LCeq_670","LCeq_750","LCeq_840","LCeq_940","LCeq_1060","LCeq_1190","LCeq_1330","LCeq_1500","LCeq_1680","LCeq_1880","LCeq_2110","LCeq_2370","LCeq_2660","LCeq_2990","LCeq_3350","LCeq_3760","LCeq_4220","LCeq_4730","LCeq_5300","LCeq_6000","LCeq_6700","LCeq_7500","LCeq_8400","LCeq_9400","LCeq_10600","LCeq_11900","LCeq_13300","LCeq_15000","LCeq_16800","LCeq_18800","LCeq_21100","LCfmax","LCfmax_23.7","LCfmax_26.6","LCfmax_29.9","LCfmax_33.5","LCfmax_37.6","LCfmax_42.2","LCfmax_47.3","LCfmax_53","LCfmax_60","LCfmax_67","LCfmax_75","LCfmax_84","LCfmax_94","LCfmax_106","LCfmax_119","LCfmax_133","LCfmax_150","LCfmax_168","LCfmax_188","LCfmax_211","LCfmax_237","LCfmax_266","LCfmax_299","LCfmax_335","LCfmax_376","LCfmax_422","LCfmax_473","LCfmax_530","LCfmax_600","LCfmax_670","LCfmax_750","LCfmax_840","LCfmax_940","LCfmax_1060","LCfmax_1190","LCfmax_1330","LCfmax_1500","LCfmax_1680","LCfmax_1880","LCfmax_2110","LCfmax_2370","LCfmax_2660","LCfmax_2990","LCfmax_3350","LCfmax_3760","LCfmax_4220","LCfmax_4730","LCfmax_5300","LCfmax_6000","LCfmax_6700","LCfmax_7500","LCfmax_8400","LCfmax_9400","LCfmax_10600","LCfmax_11900","LCfmax_13300","LCfmax_15000","LCfmax_16800","LCfmax_18800","LCfmax_21100","LCsmax","LCsmax_23.7","LCsmax_26.6","LCsmax_29.9","LCsmax_33.5","LCsmax_37.6","LCsmax_42.2","LCsmax_47.3","LCsmax_53","LCsmax_60","LCsmax_67","LCsmax_75","LCsmax_84","LCsmax_94","LCsmax_106","LCsmax_119","LCsmax_133","LCsmax_150","LCsmax_168","LCsmax_188","LCsmax_211","LCsmax_237","LCsmax_266","LCsmax_299","LCsmax_335","LCsmax_376","LCsmax_422","LCsmax_473","LCsmax_530","LCsmax_600","LCsmax_670","LCsmax_750","LCsmax_840","LCsmax_940","LCsmax_1060","LCsmax_1190","LCsmax_1330","LCsmax_1500","LCsmax_1680","LCsmax_1880","LCsmax_2110","LCsmax_2370","LCsmax_2660","LCsmax_2990","LCsmax_3350","LCsmax_3760","LCsmax_4220","LCsmax_4730","LCsmax_5300","LCsmax_6000","LCsmax_6700","LCsmax_7500","LCsmax_8400","LCsmax_9400","LCsmax_10600","LCsmax_11900","LCsmax_13300","LCsmax_15000","LCsmax_16800","LCsmax_18800","LCsmax_21100","LCimax","LCimax_23.7","LCimax_26.6","LCimax_29.9","LCimax_33.5","LCimax_37.6","LCimax_42.2","LCimax_47.3","LCimax_53","LCimax_60","LCimax_67","LCimax_75","LCimax_84","LCimax_94","LCimax_106","LCimax_119","LCimax_133","LCimax_150","LCimax_168","LCimax_188","LCimax_211","LCimax_237","LCimax_266","LCimax_299","LCimax_335","LCimax_376","LCimax_422","LCimax_473","LCimax_530","LCimax_600","LCimax_670","LCimax_750","LCimax_840","LCimax_940","LCimax_1060","LCimax_1190","LCimax_1330","LCimax_1500","LCimax_1680","LCimax_1880","LCimax_2110","LCimax_2370","LCimax_2660","LCimax_2990","LCimax_3350","LCimax_3760","LCimax_4220","LCimax_4730","LCimax_5300","LCimax_6000","LCimax_6700","LCimax_7500","LCimax_8400","LCimax_9400","LCimax_10600","LCimax_11900","LCimax_13300","LCimax_15000","LCimax_16800","LCimax_18800","LCimax_21100","LZeq","LZeq_23.7","LZeq_26.6","LZeq_29.9","LZeq_33.5","LZeq_37.6","LZeq_42.2","LZeq_47.3","LZeq_53","LZeq_60","LZeq_67","LZeq_75","LZeq_84","LZeq_94","LZeq_106","LZeq_119","LZeq_133","LZeq_150","LZeq_168","LZeq_188","LZeq_211","LZeq_237","LZeq_266","LZeq_299","LZeq_335","LZeq_376","LZeq_422","LZeq_473","LZeq_530","LZeq_600","LZeq_670","LZeq_750","LZeq_840","LZeq_940","LZeq_1060","LZeq_1190","LZeq_1330","LZeq_1500","LZeq_1680","LZeq_1880","LZeq_2110","LZeq_2370","LZeq_2660","LZeq_2990","LZeq_3350","LZeq_3760","LZeq_4220","LZeq_4730","LZeq_5300","LZeq_6000","LZeq_6700","LZeq_7500","LZeq_8400","LZeq_9400","LZeq_10600","LZeq_11900","LZeq_13300","LZeq_15000","LZeq_16800","LZeq_18800","LZeq_21100","LZfmax","LZfmax_23.7","LZfmax_26.6","LZfmax_29.9","LZfmax_33.5","LZfmax_37.6","LZfmax_42.2","LZfmax_47.3","LZfmax_53","LZfmax_60","LZfmax_67","LZfmax_75","LZfmax_84","LZfmax_94","LZfmax_106","LZfmax_119","LZfmax_133","LZfmax_150","LZfmax_168","LZfmax_188","LZfmax_211","LZfmax_237","LZfmax_266","LZfmax_299","LZfmax_335","LZfmax_376","LZfmax_422","LZfmax_473","LZfmax_530","LZfmax_600","LZfmax_670","LZfmax_750","LZfmax_840","LZfmax_940","LZfmax_1060","LZfmax_1190","LZfmax_1330","LZfmax_1500","LZfmax_1680","LZfmax_1880","LZfmax_2110","LZfmax_2370","LZfmax_2660","LZfmax_2990","LZfmax_3350","LZfmax_3760","LZfmax_4220","LZfmax_4730","LZfmax_5300","LZfmax_6000","LZfmax_6700","LZfmax_7500","LZfmax_8400","LZfmax_9400","LZfmax_10600","LZfmax_11900","LZfmax_13300","LZfmax_15000","LZfmax_16800","LZfmax_18800","LZfmax_21100","LZsmax","LZsmax_23.7","LZsmax_26.6","LZsmax_29.9","LZsmax_33.5","LZsmax_37.6","LZsmax_42.2","LZsmax_47.3","LZsmax_53","LZsmax_60","LZsmax_67","LZsmax_75","LZsmax_84","LZsmax_94","LZsmax_106","LZsmax_119","LZsmax_133","LZsmax_150","LZsmax_168","LZsmax_188","LZsmax_211","LZsmax_237","LZsmax_266","LZsmax_299","LZsmax_335","LZsmax_376","LZsmax_422","LZsmax_473","LZsmax_530","LZsmax_600","LZsmax_670","LZsmax_750","LZsmax_840","LZsmax_940","LZsmax_1060","LZsmax_1190","LZsmax_1330","LZsmax_1500","LZsmax_1680","LZsmax_1880","LZsmax_2110","LZsmax_2370","LZsmax_2660","LZsmax_2990","LZsmax_3350","LZsmax_3760","LZsmax_4220","LZsmax_4730","LZsmax_5300","LZsmax_6000","LZsmax_6700","LZsmax_7500","LZsmax_8400","LZsmax_9400","LZsmax_10600","LZsmax_11900","LZsmax_13300","LZsmax_15000","LZsmax_16800","LZsmax_18800","LZsmax_21100","LZimax","LZimax_23.7","LZimax_26.6","LZimax_29.9","LZimax_33.5","LZimax_37.6","LZimax_42.2","LZimax_47.3","LZimax_53","LZimax_60","LZimax_67","LZimax_75","LZimax_84","LZimax_94","LZimax_106","LZimax_119","LZimax_133","LZimax_150","LZimax_168","LZimax_188","LZimax_211","LZimax_237","LZimax_266","LZimax_299","LZimax_335","LZimax_376","LZimax_422","LZimax_473","LZimax_530","LZimax_600","LZimax_670","LZimax_750","LZimax_840","LZimax_940","LZimax_1060","LZimax_1190","LZimax_1330","LZimax_1500","LZimax_1680","LZimax_1880","LZimax_2110","LZimax_2370","LZimax_2660","LZimax_2990","LZimax_3350","LZimax_3760","LZimax_4220","LZimax_4730","LZimax_5300","LZimax_6000","LZimax_6700","LZimax_7500","LZimax_8400","LZimax_9400","LZimax_10600","LZimax_11900","LZimax_13300","LZimax_15000","LZimax_16800","LZimax_18800","LZimax_21100"]
[null,"date","time","duration","bandtype","bandcount","LAeq","LAeq_23","LAeq_24.4","LAeq_25.9","LAeq_27.4","LAeq_29","LAeq_30.7","LAeq_32.5","LAeq_34.5","LAeq_36.5","LAeq_38.7","LAeq_41","LAeq_43.4","LAeq_46","LAeq_48.7","LAeq_52","LAeq_55","LAeq_58","LAeq_61","LAeq_65","LAeq_69","LAeq_73","LAeq_77","LAeq_82","LAeq_87","LAeq_92","LAeq_97","LAeq_103","LAeq_109","LAeq_115","LAeq_122","LAeq_130","LAeq_137","LAeq_145","LAeq_154","LAeq_163","LAeq_173","LAeq_183","LAeq_194","LAeq_205","LAeq_218","LAeq_230","LAeq_244","LAeq_259","LAeq_274","LAeq_290","LAeq_307","LAeq_325","LAeq_345","LAeq_365","LAeq_387","LAeq_410","LAeq_434","LAeq_460","LAeq_487","LAeq_520","LAeq_550","LAeq_580","LAeq_610","LAeq_650","LAeq_690","LAeq_730","LAeq_770","LAeq_820","LAeq_870","LAeq_920","LAeq_970","LAeq_1030","LAeq_1090","LAeq_1150","LAeq_1220","LAeq_1300","LAeq_1370","LAeq_1450","LAeq_1540","LAeq_1630","LAeq_1730","LAeq_1830","LAeq_1940","LAeq_2050","LAeq_2180","LAeq_2300","LAeq_2440","LAeq_2590","LAeq_2740","LAeq_2900","LAeq_3070","LAeq_3250","LAeq_3450","LAeq_3650","LAeq_3870","LAeq_4100","LAeq_4340","LAeq_4600","LAeq_4870","LAeq_5200","LAeq_5500","LAeq_5800","LAeq_6100","LAeq_6500","LAeq_6900","LAeq_7300","LAeq_7700","LAeq_8200","LAeq_8700","LAeq_9200","LAeq_9700","LAeq_10300","LAeq_10900","LAeq_11500","LAeq_12200","LAeq_13000","LAeq_13700","LAeq_14500","LAeq_15400","LAeq_16300","LAeq_17300","LAeq_18300","LAeq_19400","LAeq_20500","LAeq_21800","LAfmax","LAfmax_23","LAfmax_24.4","LAfmax_25.9","LAfmax_27.4","LAfmax_29","LAfmax_30.7","LAfmax_32.5","LAfmax_34.5","LAfmax_36.5","LAfmax_38.7","LAfmax_41","LAfmax_43.4","LAfmax_46","LAfmax_48.7","LAfmax_52","LAfmax_55","LAfmax_58","LAfmax_61","LAfmax_65","LAfmax_69","LAfmax_73","LAfmax_77","LAfmax_82","LAfmax_87","LAfmax_92","LAfmax_97","LAfmax_103","LAfmax_109","LAfmax_115","LAfmax_122","LAfmax_130","LAfmax_137","LAfmax_145","LAfmax_154","LAfmax_163","LAfmax_173","LAfmax_183","LAfmax_194","LAfmax_205","LAfmax_218","LAfmax_230","LAfmax_244","LAfmax_259","LAfmax_274","LAfmax_290","LAfmax_307","LAfmax_325","LAfmax_345","LAfmax_365","LAfmax_387","LAfmax_410","LAfmax_434","LAfmax_460","LAfmax_487","LAfmax_520","LAfmax_550","LAfmax_580","LAfmax_610","LAfmax_650","LAfmax_690","LAfmax_730","LAfmax_770","LAfmax_820","LAfmax_870","LAfmax_920","LAfmax_970","LAfmax_1030","LAfmax_1090","LAfmax_1150","LAfmax_1220","LAfmax_1300","LAfmax_1370","LAfmax_1450","LAfmax_1540","LAfmax_1630","LAfmax_1730","LAfmax_1830","LAfmax_1940","LAfmax_2050","LAfmax_2180","LAfmax_2300","LAfmax_2440","LAfmax_2590","LAfmax_2740","LAfmax_2900","LAfmax_3070","LAfmax_3250","LAfmax_3450","LAfmax_3650","LAfmax_3870","LAfmax_4100","LAfmax_4340","LAfmax_4600","LAfmax_4870","LAfmax_5200","LAfmax_5500","LAfmax_5800","LAfmax_6100","LAfmax_6500","LAfmax_6900","LAfmax_7300","LAfmax_7700","LAfmax_8200","LAfmax_8700","LAfmax_9200","LAfmax_9700","LAfmax_10300","LAfmax_10900","LAfmax_11500","LAfmax_12200","LAfmax_13000","LAfmax_13700","LAfmax_14500","LAfmax_15400","LAfmax_16300","LAfmax_17300","LAfmax_18300","LAfmax_19400","LAfmax_20500","LAfmax_21800","LAsmax","LAsmax_23","LAsmax_24.4","LAsmax_25.9","LAsmax_27.4","LAsmax_29","LAsmax_30.7","LAsmax_32.5","LAsmax_34.5","LAsmax_36.5","LAsmax_38.7","LAsmax_41","LAsmax_43.4","LAsmax_46","LAsmax_48.7","LAsmax_52","LAsmax_55","LAsmax_58","LAsmax_61","LAsmax_65","LAsmax_69","LAsmax_73","LAsmax_77","LAsmax_82","LAsmax_87","LAsmax_92","LAsmax_97","LAsmax_103","LAsmax_109","LAsmax_115","LAsmax_122","LAsmax_130","LAsmax_137","LAsmax_145","LAsmax_154","LAsmax_163","LAsmax_173","LAsmax_183","LAsmax_194","LAsmax_205","LAsmax_218","LAsmax_230","LAsmax_244","LAsmax_259","LAsmax_274","LAsmax_290","LAsmax_307","LAsmax_325","LAsmax_345","LAsmax_365","LAsmax_387","LAsmax_410","LAsmax_434","LAsmax_460","LAsmax_487","LAsmax_520","LAsmax_550","LAsmax_580","LAsmax_610","LAsmax_650","LAsmax_690","LAsmax_730","LAsmax_770","LAsmax_820","LAsmax_870","LAsmax_920","LAsmax_970","LAsmax_1030","LAsmax_1090","LAsmax_1150","LAsmax_1220","LAsmax_1300","LAsmax_1370","LAsmax_1450","LAsmax_1540","LAsmax_1630","LAsmax_1730","LAsmax_1830","LAsmax_1940","LAsmax_2050","LAsmax_2180","LAsmax_2300","LAsmax_2440","LAsmax_2590","LAsmax_2740","LAsmax_2900","LAsmax_3070","LAsmax_3250","LAsmax_3450","LAsmax_3650","LAsmax_3870","LAsmax_4100","LAsmax_4340","LAsmax_4600","LAsmax_4870","LAsmax_5200","LAsmax_5500","LAsmax_5800","LAsmax_6100","LAsmax_6500","LAsmax_6900","LAsmax_7300","LAsmax_7700","LAsmax_8200","LAsmax_8700","LAsmax_9200","LAsmax_9700","LAsmax_10300","LAsmax_10900","LAsmax_11500","LAsmax_12200","LAsmax_13000","LAsmax_13700","LAsmax_14500","LAsmax_15400","LAsmax_16300","LAsmax_17300","LAsmax_18300","LAsmax_19400","LAsmax_20500","LAsmax_21800","LAimax","LAimax_23","LAimax_24.4","LAimax_25.9","LAimax_27.4","LAimax_29","LAimax_30.7","LAimax_32.5","LAimax_34.5","LAimax_36.5","LAimax_38.7","LAimax_41","LAimax_43.4","LAimax_46","LAimax_48.7","LAimax_52","LAimax_55","LAimax_58","LAimax_61","LAimax_65","LAimax_69","LAimax_73","LAimax_77","LAimax_82","LAimax_87","LAimax_92","LAimax_97","LAimax_103","LAimax_109","LAimax_115","LAimax_122","LAimax_130","LAimax_137","LAimax_145","LAimax_154","LAimax_163","LAimax_173","LAimax_183","LAimax_194","LAimax_205","LAimax_218","LAimax_230","LAimax_244","LAimax_259","LAimax_274","LAimax_290","LAimax_307","LAimax_325","LAimax_345","LAimax_365","LAimax_387","LAimax_410","LAimax_434","LAimax_460","LAimax_487","LAimax_520","LAimax_550","LAimax_580","LAimax_610","LAimax_650","LAimax_690","LAimax_730","LAimax_770","LAimax_820","LAimax_870","LAimax_920","LAimax_970","LAimax_1030","LAimax_1090","LAimax_1150","LAimax_1220","LAimax_1300","LAimax_1370","LAimax_1450","LAimax_1540","LAimax_1630","LAimax_1730","LAimax_1830","LAimax_1940","LAimax_2050","LAimax_2180","LAimax_2300","LAimax_2440","LAimax_2590","LAimax_2740","LAimax_2900","LAimax_3070","LAimax_3250","LAimax_3450","LAimax_3650","LAimax_3870","LAimax_4100","LAimax_4340","LAimax_4600","LAimax_4870","LAimax_5200","LAimax_5500","LAimax_5800","LAimax_6100","LAimax_6500","LAimax_6900","LAimax_7300","LAimax_7700","LAimax_8200","LAimax_8700","LAimax_9200","LAimax_9700","LAimax_10300","LAimax_10900","LAimax_11500","LAimax_12200","LAimax_13000","LAimax_13700","LAimax_14500","LAimax_15400","LAimax_16300","LAimax_17300","LAimax_18300","LAimax_19400","LAimax_20500","LAimax_21800","LCeq","LCeq_23","LCeq_24.4","LCeq_25.9","LCeq_27.4","LCeq_29","LCeq_30.7","LCeq_32.5","LCeq_34.5","LCeq_36.5","LCeq_38.7","LCeq_41","LCeq_43.4","LCeq_46","LCeq_48.7","LCeq_52","LCeq_55","LCeq_58","LCeq_61","LCeq_65","LCeq_69","LCeq_73","LCeq_77","LCeq_82","LCeq_87","LCeq_92","LCeq_97","LCeq_103","LCeq_109","LCeq_115","LCeq_122","LCeq_130","LCeq_137","LCeq_145","LCeq_154","LCeq_163","LCeq_173","LCeq_183","LCeq_194","LCeq_205","LCeq_218","LCeq_230","LCeq_244","LCeq_259","LCeq_274","LCeq_290","LCeq_307","LCeq_325","LCeq_345","LCeq_365","LCeq_387","LCeq_410","LCeq_434","LCeq_460","LCeq_487","LCeq_520","LCeq_550","LCeq_580","LCeq_610","LCeq_650","LCeq_690","LCeq_730","LCeq_770","LCeq_820","LCeq_870","LCeq_920","LCeq_970","LCeq_1030","LCeq_1090","LCeq_1150","LCeq_1220","LCeq_1300","LCeq_1370","LCeq_1450","LCeq_1540","LCeq_1630","LCeq_1730","LCeq_1830","LCeq_1940","LCeq_2050","LCeq_2180","LCeq_2300","LCeq_2440","LCeq_2590","LCeq_2740","LCeq_2900","LCeq_3070","LCeq_3250","LCeq_3450","LCeq_3650","LCeq_3870","LCeq_4100","LCeq_4340","LCeq_4600","LCeq_4870","LCeq_5200","LCeq_5500","LCeq_5800","LCeq_6100","LCeq_6500","LCeq_6900","LCeq_7300","LCeq_7700","LCeq_8200","LCeq_8700","LCeq_9200","LCeq_9700","LCeq_10300","LCeq_10900","LCeq_11500","LCeq_12200","LCeq_13000","LCeq_13700","LCeq_14500","LCeq_15400","LCeq_16300","LCeq_17300","LCeq_18300","LCeq_19400","LCeq_20500","LCeq_21800","LCfmax","LCfmax_23","LCfmax_24.4","LCfmax_25.9","LCfmax_27.4","LCfmax_29","LCfmax_30.7","LCfmax_32.5","LCfmax_34.5","LCfmax_36.5","LCfmax_38.7","LCfmax_41","LCfmax_43.4","LCfmax_46","LCfmax_48.7","LCfmax_52","LCfmax_55","LCfmax_58","LCfmax_61","LCfmax_65","LCfmax_69","LCfmax_73","LCfmax_77","LCfmax_82","LCfmax_87","LCfmax_92","LCfmax_97","LCfmax_103","LCfmax_109","LCfmax_115","LCfmax_122","LCfmax_130","LCfmax_137","LCfmax_145","LCfmax_154","LCfmax_163","LCfmax_173","LCfmax_183","LCfmax_194","LCfmax_205","LCfmax_218","LCfmax_230","LCfmax_244","LCfmax_259","LCfmax_274","LCfmax_290","LCfmax_307","LCfmax_325","LCfmax_345","LCfmax_365","LCfmax_387","LCfmax_410","LCfmax_434","LCfmax_460","LCfmax_487","LCfmax_520","LCfmax_550","LCfmax_580","LCfmax_610","LCfmax_650","LCfmax_690","LCfmax_730","LCfmax_770","LCfmax_820","LCfmax_870","LCfmax_920","LCfmax_970","LCfmax_1030","LCfmax_1090","LCfmax_1150","LCfmax_1220","LCfmax_1300","LCfmax_1370","LCfmax_1450","LCfmax_1540","LCfmax_1630","LCfmax_1730","LCfmax_1830","LCfmax_1940","LCfmax_2050","LCfmax_2180","LCfmax_2300","LCfmax_2440","LCfmax_2590","LCfmax_2740","LCfmax_2900","LCfmax_3070","LCfmax_3250","LCfmax_3450","LCfmax_3650","LCfmax_3870","LCfmax_4100","LCfmax_4340","LCfmax_4600","LCfmax_4870","LCfmax_5200","LCfmax_5500","LCfmax_5800","LCfmax_6100","LCfmax_6500","LCfmax_6900","LCfmax_7300","LCfmax_7700","LCfmax_8200","LCfmax_8700","LCfmax_9200","LCfmax_9700","LCfmax_10300","LCfmax_10900","LCfmax_11500","LCfmax_12200","LCfmax_13000","LCfmax_13700","LCfmax_14500","LCfmax_15400","LCfmax_16300","LCfmax_17300","LCfmax_18300","LCfmax_19400","LCfmax_20500","LCfmax_21800","LCsmax","LCsmax_23","LCsmax_24.4","LCsmax_25.9","LCsmax_27.4","LCsmax_29","LCsmax_30.7","LCsmax_32.5","LCsmax_34.5","LCsmax_36.5","LCsmax_38.7","LCsmax_41","LCsmax_43.4","LCsmax_46","LCsmax_48.7","LCsmax_52","LCsmax_55","LCsmax_58","LCsmax_61","LCsmax_65","LCsmax_69","LCsmax_73","LCsmax_77","LCsmax_82","LCsmax_87","LCsmax_92","LCsmax_97","LCsmax_103","LCsmax_109","LCsmax_115","LCsmax_122","LCsmax_130","LCsmax_137","LCsmax_145","LCsmax_154","LCsmax_163","LCsmax_173","LCsmax_183","LCsmax_194","LCsmax_205","LCsmax_218","LCsmax_230","LCsmax_244","LCsmax_259","LCsmax_274","LCsmax_290","LCsmax_307","LCsmax_325","LCsmax_345","LCsmax_365","LCsmax_387","LCsmax_410","LCsmax_434","LCsmax_460","LCsmax_487","LCsmax_520","LCsmax_550","LCsmax_580","LCsmax_610","LCsmax_650","LCsmax_690","LCsmax_730","LCsmax_770","LCsmax_820","LCsmax_870","LCsmax_920","LCsmax_970","LCsmax_1030","LCsmax_1090","LCsmax_1150","LCsmax_1220","LCsmax_1300","LCsmax_1370","LCsmax_1450","LCsmax_1540","LCsmax_1630","LCsmax_1730","LCsmax_1830","LCsmax_1940","LCsmax_2050","LCsmax_2180","LCsmax_2300","LCsmax_2440","LCsmax_2590","LCsmax_2740","LCsmax_2900","LCsmax_3070","LCsmax_3250","LCsmax_3450","LCsmax_3650","LCsmax_3870","LCsmax_4100","LCsmax_4340","LCsmax_4600","LCsmax_4870","LCsmax_5200","LCsmax_5500","LCsmax_5800","LCsmax_6100","LCsmax_6500","LCsmax_6900","LCsmax_7300","LCsmax_7700","LCsmax_8200","LCsmax_8700","LCsmax_9200","LCsmax_9700","LCsmax_10300","LCsmax_10900","LCsmax_11500","LCsmax_12200","LCsmax_13000","LCsmax_13700","LCsmax_14500","LCsmax_15400","LCsmax_16300","LCsmax_17300","LCsmax_18300","LCsmax_19400","LCsmax_20500","LCsmax_21800","LCimax","LCimax_23","LCimax_24.4","LCimax_25.9","LCimax_27.4","LCimax_29","LCimax_30.7","LCimax_32.5","LCimax_34.5","LCimax_36.5","LCimax_38.7","LCimax_41","LCimax_43.4","LCimax_46","LCimax_48.7","LCimax_52","LCimax_55","LCimax_58","LCimax_61","LCimax_65","LCimax_69","LCimax_73","LCimax_77","LCimax_82","LCimax_87","LCimax_92","LCimax_97","LCimax_103","LCimax_109","LCimax_115","LCimax_122","LCimax_130","LCimax_137","LCimax_145","LCimax_154","LCimax_163","LCimax_173","LCimax_183","LCimax_194","LCimax_205","LCimax_218","LCimax_230","LCimax_244","LCimax_259","LCimax_274","LCimax_290","LCimax_307","LCimax_325","LCimax_345","LCimax_365","LCimax_387","LCimax_410","LCimax_434","LCimax_460","LCimax_487","LCimax_520","LCimax_550","LCimax_580","LCimax_610","LCimax_650","LCimax_690","LCimax_730","LCimax_770","LCimax_820","LCimax_870","LCimax_920","LCimax_970","LCimax_1030","LCimax_1090","LCimax_1150","LCimax_1220","LCimax_1300","LCimax_1370","LCimax_1450","LCimax_1540","LCimax_1630","LCimax_1730","LCimax_1830","LCimax_1940","LCimax_2050","LCimax_2180","LCimax_2300","LCimax_2440","LCimax_2590","LCimax_2740","LCimax_2900","LCimax_3070","LCimax_3250","LCimax_3450","LCimax_3650","LCimax_3870","LCimax_4100","LCimax_4340","LCimax_4600","LCimax_4870","LCimax_5200","LCimax_5500","LCimax_5800","LCimax_6100","LCimax_6500","LCimax_6900","LCimax_7300","LCimax_7700","LCimax_8200","LCimax_8700","LCimax_9200","LCimax_9700","LCimax_10300","LCimax_10900","LCimax_11500","LCimax_12200","LCimax_13000","LCimax_13700","LCimax_14500","LCimax_15400","LCimax_16300","LCimax_17300","LCimax_18300","LCimax_19400","LCimax_20500","LCimax_21800","LZeq","LZeq_23","LZeq_24.4","LZeq_25.9","LZeq_27.4","LZeq_29","LZeq_30.7","LZeq_32.5","LZeq_34.5","LZeq_36.5","LZeq_38.7","LZeq_41","LZeq_43.4","LZeq_46","LZeq_48.7","LZeq_52","LZeq_55","LZeq_58","LZeq_61","LZeq_65","LZeq_69","LZeq_73","LZeq_77","LZeq_82","LZeq_87","LZeq_92","LZeq_97","LZeq_103","LZeq_109","LZeq_115","LZeq_122","LZeq_130","LZeq_137","LZeq_145","LZeq_154","LZeq_163","LZeq_173","LZeq_183","LZeq_194","LZeq_205","LZeq_218","LZeq_230","LZeq_244","LZeq_259","LZeq_274","LZeq_290","LZeq_307","LZeq_325","LZeq_345","LZeq_365","LZeq_387","LZeq_410","LZeq_434","LZeq_460","LZeq_487","LZeq_520","LZeq_550","LZeq_580","LZeq_610","LZeq_650","LZeq_690","LZeq_730","LZeq_770","LZeq_820","LZeq_870","LZeq_920","LZeq_970","LZeq_1030","LZeq_1090","LZeq_1150","LZeq_1220","LZeq_1300","LZeq_1370","LZeq_1450","LZeq_1540","LZeq_1630","LZeq_1730","LZeq_1830","LZeq_1940","LZeq_2050","LZeq_2180","LZeq_2300","LZeq_2440","LZeq_2590","LZeq_2740","LZeq_2900","LZeq_3070","LZeq_3250","LZeq_3450","LZeq_3650","LZeq_3870","LZeq_4100","LZeq_4340","LZeq_4600","LZeq_4870","LZeq_5200","LZeq_5500","LZeq_5800","LZeq_6100","LZeq_6500","LZeq_6900","LZeq_7300","LZeq_7700","LZeq_8200","LZeq_8700","LZeq_9200","LZeq_9700","LZeq_10300","LZeq_10900","LZeq_11500","LZeq_12200","LZeq_13000","LZeq_13700","LZeq_14500","LZeq_15400","LZeq_16300","LZeq_17300","LZeq_18300","LZeq_19400","LZeq_20500","LZeq_21800","LZfmax","LZfmax_23","LZfmax_24.4","LZfmax_25.9","LZfmax_27.4","LZfmax_29","LZfmax_30.7","LZfmax_32.5","LZfmax_34.5","LZfmax_36.5","LZfmax_38.7","LZfmax_41","LZfmax_43.4","LZfmax_46","LZfmax_48.7","LZfmax_52","LZfmax_55","LZfmax_58","LZfmax_61","LZfmax_65","LZfmax_69","LZfmax_73","LZfmax_77","LZfmax_82","LZfmax_87","LZfmax_92","LZfmax_97","LZfmax_103","LZfmax_109","LZfmax_115","LZfmax_122","LZfmax_130","LZfmax_137","LZfmax_145","LZfmax_154","LZfmax_163","LZfmax_173","LZfmax_183","LZfmax_194","LZfmax_205","LZfmax_218","LZfmax_230","LZfmax_244","LZfmax_259","LZfmax_274","LZfmax_290","LZfmax_307","LZfmax_325","LZfmax_345","LZfmax_365","LZfmax_387","LZfmax_410","LZfmax_434","LZfmax_460","LZfmax_487","LZfmax_520","LZfmax_550","LZfmax_580","LZfmax_610","LZfmax_650","LZfmax_690","LZfmax_730","LZfmax_770","LZfmax_820","LZfmax_870","LZfmax_920","LZfmax_970","LZfmax_1030","LZfmax_1090","LZfmax_1150","LZfmax_1220","LZfmax_1300","LZfmax_1370","LZfmax_1450","LZfmax_1540","LZfmax_1630","LZfmax_1730","LZfmax_1830","LZfmax_1940","LZfmax_2050","LZfmax_2180","LZfmax_2300","LZfmax_2440","LZfmax_2590","LZfmax_2740","LZfmax_2900","LZfmax_3070","LZfmax_3250","LZfmax_3450","LZfmax_3650","LZfmax_3870","LZfmax_4100","LZfmax_4340","LZfmax_4600","LZfmax_4870","LZfmax_5200","LZfmax_5500","LZfmax_5800","LZfmax_6100","LZfmax_6500","LZfmax_6900","LZfmax_7300","LZfmax_7700","LZfmax_8200","LZfmax_8700","LZfmax_9200","LZfmax_9700","LZfmax_10300","LZfmax_10900","LZfmax_11500","LZfmax_12200","LZfmax_13000","LZfmax_13700","LZfmax_14500","LZfmax_15400","LZfmax_16300","LZfmax_17300","LZfmax_18300","LZfmax_19400","LZfmax_20500","LZfmax_21800","LZsmax","LZsmax_23","LZsmax_24.4","LZsmax_25.9","LZsmax_27.4","LZsmax_29","LZsmax_30.7","LZsmax_32.5","LZsmax_34.5","LZsmax_36.5","LZsmax_38.7","LZsmax_41","LZsmax_43.4","LZsmax_46","LZsmax_48.7","LZsmax_52","LZsmax_55","LZsmax_58","LZsmax_61","LZsmax_65","LZsmax_69","LZsmax_73","LZsmax_77","LZsmax_82","LZsmax_87","LZsmax_92","LZsmax_97","LZsmax_103","LZsmax_109","LZsmax_115","LZsmax_122","LZsmax_130","LZsmax_137","LZsmax_145","LZsmax_154","LZsmax_163","LZsmax_173","LZsmax_183","LZsmax_194","LZsmax_205","LZsmax_218","LZsmax_230","LZsmax_244","LZsmax_259","LZsmax_274","LZsmax_290","LZsmax_307","LZsmax_325","LZsmax_345","LZsmax_365","LZsmax_387","LZsmax_410","LZsmax_434","LZsmax_460","LZsmax_487","LZsmax_520","LZsmax_550","LZsmax_580","LZsmax_610","LZsmax_650","LZsmax_690","LZsmax_730","LZsmax_770","LZsmax_820","LZsmax_870","LZsmax_920","LZsmax_970","LZsmax_1030","LZsmax_1090","LZsmax_1150","LZsmax_1220","LZsmax_1300","LZsmax_1370","LZsmax_1450","LZsmax_1540","LZsmax_1630","LZsmax_1730","LZsmax_1830","LZsmax_1940","LZsmax_2050","LZsmax_2180","LZsmax_2300","LZsmax_2440","LZsmax_2590","LZsmax_2740","LZsmax_2900","LZsmax_3070","LZsmax_3250","LZsmax_3450","LZsmax_3650","LZsmax_3870","LZsmax_4100","LZsmax_4340","LZsmax_4600","LZsmax_4870","LZsmax_5200","LZsmax_5500","LZsmax_5800","LZsmax_6100","LZsmax_6500","LZsmax_6900","LZsmax_7300","LZsmax_7700","LZsmax_8200","LZsmax_8700","LZsmax_9200","LZsmax_9700","LZsmax_10300","LZsmax_10900","LZsmax_11500","LZsmax_12200","LZsmax_13000","LZsmax_13700","LZsmax_14500","LZsmax_15400","LZsmax_16300","LZsmax_17300","LZsmax_18300","LZsmax_19400","LZsmax_20500","LZsmax_21800","LZimax","LZimax_23","LZimax_24.4","LZimax_25.9","LZimax_27.4","LZimax_29","LZimax_30.7","LZimax_32.5","LZimax_34.5","LZimax_36.5","LZimax_38.7","LZimax_41","LZimax_43.4","LZimax_46","LZimax_48.7","LZimax_52","LZimax_55","LZimax_58","LZimax_61","LZimax_65","LZimax_69","LZimax_73","LZimax_77","LZimax_82","LZimax_87","LZimax_92","LZimax_97","LZimax_103","LZimax_109","LZimax_115","LZimax_122","LZimax_130","LZimax_137","LZimax_145","LZimax_154","LZimax_163","LZimax_173","LZimax_183","LZimax_194","LZimax_205","LZimax_218","LZimax_230","LZimax_244","LZimax_259","LZimax_274","LZimax_290","LZimax_307","LZimax_325","LZimax_345","LZimax_365","LZimax_387","LZimax_410","LZimax_434","LZimax_460","LZimax_487","LZimax_520","LZimax_550","LZimax_580","LZimax_610","LZimax_650","LZimax_690","LZimax_730","LZimax_770","LZimax_820","LZimax_870","LZimax_920","LZimax_970","LZimax_1030","LZimax_1090","LZimax_1150","LZimax_1220","LZimax_1300","LZimax_1370","LZimax_1450","LZimax_1540","LZimax_1630","LZimax_1730","LZimax_1830","LZimax_1940","LZimax_2050","LZimax_2180","LZimax_2300","LZimax_2440","LZimax_2590","LZimax_2740","LZimax_2900","LZimax_3070","LZimax_3250","LZimax_3450","LZimax_3650","LZimax_3870","LZimax_4100","LZimax_4340","LZimax_4600","LZimax_4870","LZimax_5200","LZimax_5500","LZimax_5800","LZimax_6100","LZimax_6500","LZimax_6900","LZimax_7300","LZimax_7700","LZimax_8200","LZimax_8700","LZimax_9200","LZimax_9700","LZimax_10300","LZimax_10900","LZimax_11500","LZimax_12200","LZimax_13000","LZimax_13700","LZimax_14500","LZimax_15400","LZimax_16300","LZimax_17300","LZimax_18300","LZimax_19400","LZimax_20500","LZimax_21800"]

{"sheet":"Notes","index":3,"n_rows":0,"n_cols":0,"rows_kept":0,"cut":false,"hidden":false,"merged":[]}