{"text_format":"1","workbook":"xlsx","n_sheets":7,"sheets":["Import","RT Browser","EDT","T20","T30","Data","Notes"],"not_rendered":{"charts":1,"images":1,"macros":1,"external_links":0,"defined_names":2,"comments":4,"pivot_tables":0},"unopened":[],"bounds":{"document_bytes":16777216,"sheet_cells":100000,"rows_first":2000,"rows_last":500,"rows_between":2000,"halvings":0,"cell_chars":16384,"cell_head_chars":4096},"cells_cut":0,"cells_raw":0,"read":"whole","date_system":"1900"}

{"sheet":"Import","index":0,"n_rows":22,"n_cols":1,"rows_kept":22,"cut":false,"hidden":false,"merged":[]}
["RT60 Data import"]
[]
[]
[]
[]
[]
[]
[]
["How does this worksheet work?"]
["This worksheet allows you to import RT60 measurements measured with your SMxx measurement device. Make sure that the RT60 result files are copied onto your computer, or that the instrument is attached to USB and accessible as a mass storage device. Then press the button below (\"Import RT60\"). You can now select the measurement data files that you wish to import. NOTE: by using SHIFT and CTRL you can select multiple files for opening (for the correct file order, select the last measurement, hold shift and then select the first measurement and press open).The measurements are imported into the sheet named \"Data.\" Use the sheet named \"RT Browser\" to browse through these measurements, or copy data directly from the \"Data\" sheet to your own Worksheet for further calculations. Note that importing data changes this worksheet, overwriting earlier data imports. We recommend that you keep the original version of this worksheet in a safe location, and that you use a new copy of this original file for each new project."]
[]
["For support or to download the latest version of this file, please refer to our website"]
["www.bedrock-audio.com"]
[]
["Version 2.6.0"]
[]
[]
["COPYRIGHT (C) Bedrock Audio BV, 2020"]
["ALL RIGHTS RESERVED. This worksheet contains material protected under International and Federal Copyright Laws and Treaties. Any unauthorized use of this material is prohibited. No part of this worksheet may be reproduced or transmitted in any form or by any means, electronic or mechanical, including photocopying, recording, or by any information storage and retrieval system without express written permission from the author. "]
[" "]
["DISCLAIMER"]
["THIS DOCUMENT IS PROVIDED \"AS IS\", WITHOUT WARRANTY OF ANY KIND, EXPRESS OR IMPLIED, INCLUDING BUT NOT LIMITED TO THE WARRANTIES OF MERCHANTABILITY, FITNESS FOR A PARTICULAR PURPOSE AND NONINFRINGEMENT. IN NO EVENT SHALL THE AUTHORS OR COPYRIGHT HOLDERS BE LIABLE FOR ANY CLAIM, DAMAGES OR OTHER LIABILITY, WHETHER IN AN ACTION OF CONTRACT, TORT OR OTHERWISE, ARISING FROM, OUT OF OR IN CONNECTION WITH THE SOFTWARE OR THE USE OR OTHER DEALINGS IN THE SOFTWARE"]

{"sheet":"RT Browser","index":1,"n_rows":17,"n_cols":67,"rows_kept":17,"cut":false,"hidden":false,"merged":[]}
[]
["Index",1,null,"Band Hz",25,31.5,40,50,63,80,100,125,160,200,250,315,400,500,630,800,1000,1250,1600,2000,2500,3150,4000,5000,6300,8000,10000,12500,16000,20000,null,null,"Band Hz",25,31.5,40,50,63,80,100,125,160,200,250,315,400,500,630,800,1000,1250,1600,2000,2500,3150,4000,5000,6300,8000,10000,12500,16000,20000]
[null,null,null,"BW Hz",{"$f":"IF($B$8=30,(2^(1/6)-2^(-1/6))*E2,\"\")","v":""},{"$f":"IF($B$8=30,(2^(1/6)-2^(-1/6))*F2,IF($B$8=10,(2^(1/2)-2^(-1/2))*F2,\"\"))","v":""},{"$f":"IF($B$8=30,(2^(1/6)-2^(-1/6))*G2,\"\")","v":""},{"$f":"IF($B$8=30,(2^(1/6)-2^(-1/6))*H2,\"\")","v":""},{"$f":"IF($B$8=30,(2^(1/6)-2^(-1/6))*I2,IF($B$8=10,(2^(1/2)-2^(-1/2))*I2,\"\"))","v":""},{"$f":"IF($B$8=30,(2^(1/6)-2^(-1/6))*J2,\"\")","v":""},{"$f":"IF($B$8=30,(2^(1/6)-2^(-1/6))*K2,\"\")","v":""},{"$f":"IF($B$8=30,(2^(1/6)-2^(-1/6))*L2,IF($B$8=10,(2^(1/2)-2^(-1/2))*L2,\"\"))","v":""},{"$f":"IF($B$8=30,(2^(1/6)-2^(-1/6))*M2,\"\")","v":""},{"$f":"IF($B$8=30,(2^(1/6)-2^(-1/6))*N2,\"\")","v":""},{"$f":"IF($B$8=30,(2^(1/6)-2^(-1/6))*O2,IF($B$8=10,(2^(1/2)-2^(-1/2))*O2,\"\"))","v":""},{"$f":"IF($B$8=30,(2^(1/6)-2^(-1/6))*P2,\"\")","v":""},{"$f":"IF($B$8=30,(2^(1/6)-2^(-1/6))*Q2,\"\")","v":""},{"$f":"IF($B$8=30,(2^(1/6)-2^(-1/6))*R2,IF($B$8=10,(2^(1/2)-2^(-1/2))*R2,\"\"))","v":""},{"$f":"IF($B$8=30,(2^(1/6)-2^(-1/6))*S2,\"\")","v":""},{"$f":"IF($B$8=30,(2^(1/6)-2^(-1/6))*T2,\"\")","v":""},{"$f":"IF($B$8=30,(2^(1/6)-2^(-1/6))*U2,IF($B$8=10,(2^(1/2)-2^(-1/2))*U2,\"\"))","v":""},{"$f":"IF($B$8=30,(2^(1/6)-2^(-1/6))*V2,\"\")","v":""},{"$f":"IF($B$8=30,(2^(1/6)-2^(-1/6))*W2,\"\")","v":""},{"$f":"IF($B$8=30,(2^(1/6)-2^(-1/6))*X2,IF($B$8=10,(2^(1/2)-2^(-1/2))*X2,\"\"))","v":""},{"$f":"IF($B$8=30,(2^(1/6)-2^(-1/6))*Y2,\"\")","v":""},{"$f":"IF($B$8=30,(2^(1/6)-2^(-1/6))*Z2,\"\")","v":""},{"$f":"IF($B$8=30,(2^(1/6)-2^(-1/6))*AA2,IF($B$8=10,(2^(1/2)-2^(-1/2))*AA2,\"\"))","v":""},{"$f":"IF($B$8=30,(2^(1/6)-2^(-1/6))*AB2,\"\")","v":""},{"$f":"IF($B$8=30,(2^(1/6)-2^(-1/6))*AC2,\"\")","v":""},{"$f":"IF($B$8=30,(2^(1/6)-2^(-1/6))*AD2,IF($B$8=10,(2^(1/2)-2^(-1/2))*AD2,\"\"))","v":""},{"$f":"IF($B$8=30,(2^(1/6)-2^(-1/6))*AE2,\"\")","v":""},{"$f":"IF($B$8=30,(2^(1/6)-2^(-1/6))*AF2,\"\")","v":""},{"$f":"IF($B$8=30,(2^(1/6)-2^(-1/6))*AG2,IF($B$8=10,(2^(1/2)-2^(-1/2))*AG2,\"\"))","v":""},{"$f":"IF($B$8=30,(2^(1/6)-2^(-1/6))*AH2,\"\")","v":""}]
["Filename",{"$f":"OFFSET(Data!A2,'RT Browser'!$B$2,0)","v":0},null,"EDT",{"$f":"OFFSET(EDT!C$2,'RT Browser'!$B$2,0)","v":""},{"$f":"OFFSET(EDT!D$2,'RT Browser'!$B$2,0)","v":""},{"$f":"OFFSET(EDT!E$2,'RT Browser'!$B$2,0)","v":""},{"$f":"OFFSET(EDT!F$2,'RT Browser'!$B$2,0)","v":""},{"$f":"OFFSET(EDT!G$2,'RT Browser'!$B$2,0)","v":""},{"$f":"OFFSET(EDT!H$2,'RT Browser'!$B$2,0)","v":""},{"$f":"OFFSET(EDT!I$2,'RT Browser'!$B$2,0)","v":""},{"$f":"OFFSET(EDT!J$2,'RT Browser'!$B$2,0)","v":""},{"$f":"OFFSET(EDT!K$2,'RT Browser'!$B$2,0)","v":""},{"$f":"OFFSET(EDT!L$2,'RT Browser'!$B$2,0)","v":""},{"$f":"OFFSET(EDT!M$2,'RT Browser'!$B$2,0)","v":""},{"$f":"OFFSET(EDT!N$2,'RT Browser'!$B$2,0)","v":""},{"$f":"OFFSET(EDT!O$2,'RT Browser'!$B$2,0)","v":""},{"$f":"OFFSET(EDT!P$2,'RT Browser'!$B$2,0)","v":""},{"$f":"OFFSET(EDT!Q$2,'RT Browser'!$B$2,0)","v":""},{"$f":"OFFSET(EDT!R$2,'RT Browser'!$B$2,0)","v":""},{"$f":"OFFSET(EDT!S$2,'RT Browser'!$B$2,0)","v":""},{"$f":"OFFSET(EDT!T$2,'RT Browser'!$B$2,0)","v":""},{"$f":"OFFSET(EDT!U$2,'RT Browser'!$B$2,0)","v":""},{"$f":"OFFSET(EDT!V$2,'RT Browser'!$B$2,0)","v":""},{"$f":"OFFSET(EDT!W$2,'RT Browser'!$B$2,0)","v":""},{"$f":"OFFSET(EDT!X$2,'RT Browser'!$B$2,0)","v":""},{"$f":"OFFSET(EDT!Y$2,'RT Browser'!$B$2,0)","v":""},{"$f":"OFFSET(EDT!Z$2,'RT Browser'!$B$2,0)","v":""},{"$f":"OFFSET(EDT!AA$2,'RT Browser'!$B$2,0)","v":""},{"$f":"OFFSET(EDT!AB$2,'RT Browser'!$B$2,0)","v":""},{"$f":"OFFSET(EDT!AC$2,'RT Browser'!$B$2,0)","v":""},{"$f":"OFFSET(EDT!AD$2,'RT Browser'!$B$2,0)","v":""},{"$f":"OFFSET(EDT!AE$2,'RT Browser'!$B$2,0)","v":""},{"$f":"OFFSET(EDT!AF$2,'RT Browser'!$B$2,0)","v":""}]
["Note",{"$f":"OFFSET(Notes!B2,'RT Browser'!$B$2,0)&\"\"","v":""},null," "]
["Date",{"$f":"OFFSET(Data!B2,'RT Browser'!$B$2,0)","v":"00:00:00"},null,"BWxEDT>16",{"$f":"IF(E$3<>\"\",IF(E$3*E4>16,\"√\",\"X\"),\"\")","v":""},{"$f":"IF(F$3<>\"\",IF(F$3*F4>16,\"√\",\"X\"),\"\")","v":""},"","","","","","","","","","","","","","","","","","","","","","","","","","","",""]
["Time",{"$f":"OFFSET(Data!C2,'RT Browser'!$B$2,0)","v":"00:00:00"},null,"SNR",{"$f":"IF(E$3<>\"\",IF(ISNUMBER(FIND(\"n\",OFFSET(EDT!AJ$2,'RT Browser'!$B$2,0))),\"X\",\"√\"),\"\")","v":""},{"$f":"IF(F$3<>\"\",IF(ISNUMBER(FIND(\"n\",OFFSET(EDT!AK$2,'RT Browser'!$B$2,0))),\"X\",\"√\"),\"\")","v":""},{"$f":"IF(G$3<>\"\",IF(ISNUMBER(FIND(\"n\",OFFSET(EDT!AL$2,'RT Browser'!$B$2,0))),\"X\",\"√\"),\"\")","v":""},{"$f":"IF(H$3<>\"\",IF(ISNUMBER(FIND(\"n\",OFFSET(EDT!AM$2,'RT Browser'!$B$2,0))),\"X\",\"√\"),\"\")","v":""},{"$f":"IF(I$3<>\"\",IF(ISNUMBER(FIND(\"n\",OFFSET(EDT!AN$2,'RT Browser'!$B$2,0))),\"X\",\"√\"),\"\")","v":""},{"$f":"IF(J$3<>\"\",IF(ISNUMBER(FIND(\"n\",OFFSET(EDT!AO$2,'RT Browser'!$B$2,0))),\"X\",\"√\"),\"\")","v":""},{"$f":"IF(K$3<>\"\",IF(ISNUMBER(FIND(\"n\",OFFSET(EDT!AP$2,'RT Browser'!$B$2,0))),\"X\",\"√\"),\"\")","v":""},{"$f":"IF(L$3<>\"\",IF(ISNUMBER(FIND(\"n\",OFFSET(EDT!AQ$2,'RT Browser'!$B$2,0))),\"X\",\"√\"),\"\")","v":""},{"$f":"IF(M$3<>\"\",IF(ISNUMBER(FIND(\"n\",OFFSET(EDT!AR$2,'RT Browser'!$B$2,0))),\"X\",\"√\"),\"\")","v":""},{"$f":"IF(N$3<>\"\",IF(ISNUMBER(FIND(\"n\",OFFSET(EDT!AS$2,'RT Browser'!$B$2,0))),\"X\",\"√\"),\"\")","v":""},{"$f":"IF(O$3<>\"\",IF(ISNUMBER(FIND(\"n\",OFFSET(EDT!AT$2,'RT Browser'!$B$2,0))),\"X\",\"√\"),\"\")","v":""},{"$f":"IF(P$3<>\"\",IF(ISNUMBER(FIND(\"n\",OFFSET(EDT!AU$2,'RT Browser'!$B$2,0))),\"X\",\"√\"),\"\")","v":""},{"$f":"IF(Q$3<>\"\",IF(ISNUMBER(FIND(\"n\",OFFSET(EDT!AV$2,'RT Browser'!$B$2,0))),\"X\",\"√\"),\"\")","v":""},{"$f":"IF(R$3<>\"\",IF(ISNUMBER(FIND(\"n\",OFFSET(EDT!AW$2,'RT Browser'!$B$2,0))),\"X\",\"√\"),\"\")","v":""},{"$f":"IF(S$3<>\"\",IF(ISNUMBER(FIND(\"n\",OFFSET(EDT!AX$2,'RT Browser'!$B$2,0))),\"X\",\"√\"),\"\")","v":""},{"$f":"IF(T$3<>\"\",IF(ISNUMBER(FIND(\"n\",OFFSET(EDT!AY$2,'RT Browser'!$B$2,0))),\"X\",\"√\"),\"\")","v":""},{"$f":"IF(U$3<>\"\",IF(ISNUMBER(FIND(\"n\",OFFSET(EDT!AZ$2,'RT Browser'!$B$2,0))),\"X\",\"√\"),\"\")","v":""},{"$f":"IF(V$3<>\"\",IF(ISNUMBER(FIND(\"n\",OFFSET(EDT!BA$2,'RT Browser'!$B$2,0))),\"X\",\"√\"),\"\")","v":""},{"$f":"IF(W$3<>\"\",IF(ISNUMBER(FIND(\"n\",OFFSET(EDT!BB$2,'RT Browser'!$B$2,0))),\"X\",\"√\"),\"\")","v":""},{"$f":"IF(X$3<>\"\",IF(ISNUMBER(FIND(\"n\",OFFSET(EDT!BC$2,'RT Browser'!$B$2,0))),\"X\",\"√\"),\"\")","v":""},{"$f":"IF(Y$3<>\"\",IF(ISNUMBER(FIND(\"n\",OFFSET(EDT!BD$2,'RT Browser'!$B$2,0))),\"X\",\"√\"),\"\")","v":""},{"$f":"IF(Z$3<>\"\",IF(ISNUMBER(FIND(\"n\",OFFSET(EDT!BE$2,'RT Browser'!$B$2,0))),\"X\",\"√\"),\"\")","v":""},{"$f":"IF(AA$3<>\"\",IF(ISNUMBER(FIND(\"n\",OFFSET(EDT!BF$2,'RT Browser'!$B$2,0))),\"X\",\"√\"),\"\")","v":""},{"$f":"IF(AB$3<>\"\",IF(ISNUMBER(FIND(\"n\",OFFSET(EDT!BG$2,'RT Browser'!$B$2,0))),\"X\",\"√\"),\"\")","v":""},{"$f":"IF(AC$3<>\"\",IF(ISNUMBER(FIND(\"n\",OFFSET(EDT!BH$2,'RT Browser'!$B$2,0))),\"X\",\"√\"),\"\")","v":""},{"$f":"IF(AD$3<>\"\",IF(ISNUMBER(FIND(\"n\",OFFSET(EDT!BI$2,'RT Browser'!$B$2,0))),\"X\",\"√\"),\"\")","v":""},{"$f":"IF(AE$3<>\"\",IF(ISNUMBER(FIND(\"n\",OFFSET(EDT!BJ$2,'RT Browser'!$B$2,0))),\"X\",\"√\"),\"\")","v":""},{"$f":"IF(AF$3<>\"\",IF(ISNUMBER(FIND(\"n\",OFFSET(EDT!BK$2,'RT Browser'!$B$2,0))),\"X\",\"√\"),\"\")","v":""},{"$f":"IF(AG$3<>\"\",IF(ISNUMBER(FIND(\"n\",OFFSET(EDT!BL$2,'RT Browser'!$B$2,0))),\"X\",\"√\"),\"\")","v":""},{"$f":"IF(AH$3<>\"\",IF(ISNUMBER(FIND(\"n\",OFFSET(EDT!BM$2,'RT Browser'!$B$2,0))),\"X\",\"√\"),\"\")","v":""}]
["Bands",{"$f":"OFFSET(Data!E2,'RT Browser'!$B$2,0)","v":0},null,"T20",{"$f":"OFFSET('T20'!C$2,'RT Browser'!$B$2,0)","v":""},{"$f":"OFFSET('T20'!D$2,'RT Browser'!$B$2,0)","v":""},{"$f":"OFFSET('T20'!E$2,'RT Browser'!$B$2,0)","v":""},{"$f":"OFFSET('T20'!F$2,'RT Browser'!$B$2,0)","v":""},{"$f":"OFFSET('T20'!G$2,'RT Browser'!$B$2,0)","v":""},{"$f":"OFFSET('T20'!H$2,'RT Browser'!$B$2,0)","v":""},{"$f":"OFFSET('T20'!I$2,'RT Browser'!$B$2,0)","v":""},{"$f":"OFFSET('T20'!J$2,'RT Browser'!$B$2,0)","v":""},{"$f":"OFFSET('T20'!K$2,'RT Browser'!$B$2,0)","v":""},{"$f":"OFFSET('T20'!L$2,'RT Browser'!$B$2,0)","v":""},{"$f":"OFFSET('T20'!M$2,'RT Browser'!$B$2,0)","v":""},{"$f":"OFFSET('T20'!N$2,'RT Browser'!$B$2,0)","v":""},{"$f":"OFFSET('T20'!O$2,'RT Browser'!$B$2,0)","v":""},{"$f":"OFFSET('T20'!P$2,'RT Browser'!$B$2,0)","v":""},{"$f":"OFFSET('T20'!Q$2,'RT Browser'!$B$2,0)","v":""},{"$f":"OFFSET('T20'!R$2,'RT Browser'!$B$2,0)","v":""},{"$f":"OFFSET('T20'!S$2,'RT Browser'!$B$2,0)","v":""},{"$f":"OFFSET('T20'!T$2,'RT Browser'!$B$2,0)","v":""},{"$f":"OFFSET('T20'!U$2,'RT Browser'!$B$2,0)","v":""},{"$f":"OFFSET('T20'!V$2,'RT Browser'!$B$2,0)","v":""},{"$f":"OFFSET('T20'!W$2,'RT Browser'!$B$2,0)","v":""},{"$f":"OFFSET('T20'!X$2,'RT Browser'!$B$2,0)","v":""},{"$f":"OFFSET('T20'!Y$2,'RT Browser'!$B$2,0)","v":""},{"$f":"OFFSET('T20'!Z$2,'RT Browser'!$B$2,0)","v":""},{"$f":"OFFSET('T20'!AA$2,'RT Browser'!$B$2,0)","v":""},{"$f":"OFFSET('T20'!AB$2,'RT Browser'!$B$2,0)","v":""},{"$f":"OFFSET('T20'!AC$2,'RT Browser'!$B$2,0)","v":""},{"$f":"OFFSET('T20'!AD$2,'RT Browser'!$B$2,0)","v":""},{"$f":"OFFSET('T20'!AE$2,'RT Browser'!$B$2,0)","v":""},{"$f":"OFFSET('T20'!AF$2,'RT Browser'!$B$2,0)","v":""}]
["Measurements",{"$f":"OFFSET(Data!D2,'RT Browser'!$B$2,0)","v":0},null,"stdev",{"$f":"IF(AND(E8<>\"\",E8>0),0.88*E8*SQRT((1+1.9/$B$11)/($B$10*E$3*E8)),\"\")","v":""},"","","","","","","","","","","","","","","","","","","","","","","","","","","","",""]
["Locations",1,null,"BWxT20>16",{"$f":"IF(E$3<>\"\",IF(E$3*E8>16,\"√\",\"X\"),\"\")","v":""},{"$f":"IF(F$3<>\"\",IF(F$3*F8>16,\"√\",\"X\"),\"\")","v":""},"","","","","","","","","","","","","","","","","","","","","","","","","","","",""]
["Meas per loc",{"$f":"B9/B10","v":0},null,"SNR",{"$f":"IF(E$3<>\"\",IF(ISNUMBER(FIND(\"n\",OFFSET('T20'!AJ$2,'RT Browser'!$B$2,0))),\"X\",\"√\"),\"\")","v":""},{"$f":"IF(F$3<>\"\",IF(ISNUMBER(FIND(\"n\",OFFSET('T20'!AK$2,'RT Browser'!$B$2,0))),\"X\",\"√\"),\"\")","v":""},{"$f":"IF(G$3<>\"\",IF(ISNUMBER(FIND(\"n\",OFFSET('T20'!AL$2,'RT Browser'!$B$2,0))),\"X\",\"√\"),\"\")","v":""},{"$f":"IF(H$3<>\"\",IF(ISNUMBER(FIND(\"n\",OFFSET('T20'!AM$2,'RT Browser'!$B$2,0))),\"X\",\"√\"),\"\")","v":""},{"$f":"IF(I$3<>\"\",IF(ISNUMBER(FIND(\"n\",OFFSET('T20'!AN$2,'RT Browser'!$B$2,0))),\"X\",\"√\"),\"\")","v":""},{"$f":"IF(J$3<>\"\",IF(ISNUMBER(FIND(\"n\",OFFSET('T20'!AO$2,'RT Browser'!$B$2,0))),\"X\",\"√\"),\"\")","v":""},{"$f":"IF(K$3<>\"\",IF(ISNUMBER(FIND(\"n\",OFFSET('T20'!AP$2,'RT Browser'!$B$2,0))),\"X\",\"√\"),\"\")","v":""},{"$f":"IF(L$3<>\"\",IF(ISNUMBER(FIND(\"n\",OFFSET('T20'!AQ$2,'RT Browser'!$B$2,0))),\"X\",\"√\"),\"\")","v":""},{"$f":"IF(M$3<>\"\",IF(ISNUMBER(FIND(\"n\",OFFSET('T20'!AR$2,'RT Browser'!$B$2,0))),\"X\",\"√\"),\"\")","v":""},{"$f":"IF(N$3<>\"\",IF(ISNUMBER(FIND(\"n\",OFFSET('T20'!AS$2,'RT Browser'!$B$2,0))),\"X\",\"√\"),\"\")","v":""},{"$f":"IF(O$3<>\"\",IF(ISNUMBER(FIND(\"n\",OFFSET('T20'!AT$2,'RT Browser'!$B$2,0))),\"X\",\"√\"),\"\")","v":""},{"$f":"IF(P$3<>\"\",IF(ISNUMBER(FIND(\"n\",OFFSET('T20'!AU$2,'RT Browser'!$B$2,0))),\"X\",\"√\"),\"\")","v":""},{"$f":"IF(Q$3<>\"\",IF(ISNUMBER(FIND(\"n\",OFFSET('T20'!AV$2,'RT Browser'!$B$2,0))),\"X\",\"√\"),\"\")","v":""},{"$f":"IF(R$3<>\"\",IF(ISNUMBER(FIND(\"n\",OFFSET('T20'!AW$2,'RT Browser'!$B$2,0))),\"X\",\"√\"),\"\")","v":""},{"$f":"IF(S$3<>\"\",IF(ISNUMBER(FIND(\"n\",OFFSET('T20'!AX$2,'RT Browser'!$B$2,0))),\"X\",\"√\"),\"\")","v":""},{"$f":"IF(T$3<>\"\",IF(ISNUMBER(FIND(\"n\",OFFSET('T20'!AY$2,'RT Browser'!$B$2,0))),\"X\",\"√\"),\"\")","v":""},{"$f":"IF(U$3<>\"\",IF(ISNUMBER(FIND(\"n\",OFFSET('T20'!AZ$2,'RT Browser'!$B$2,0))),\"X\",\"√\"),\"\")","v":""},{"$f":"IF(V$3<>\"\",IF(ISNUMBER(FIND(\"n\",OFFSET('T20'!BA$2,'RT Browser'!$B$2,0))),\"X\",\"√\"),\"\")","v":""},{"$f":"IF(W$3<>\"\",IF(ISNUMBER(FIND(\"n\",OFFSET('T20'!BB$2,'RT Browser'!$B$2,0))),\"X\",\"√\"),\"\")","v":""},{"$f":"IF(X$3<>\"\",IF(ISNUMBER(FIND(\"n\",OFFSET('T20'!BC$2,'RT Browser'!$B$2,0))),\"X\",\"√\"),\"\")","v":""},{"$f":"IF(Y$3<>\"\",IF(ISNUMBER(FIND(\"n\",OFFSET('T20'!BD$2,'RT Browser'!$B$2,0))),\"X\",\"√\"),\"\")","v":""},{"$f":"IF(Z$3<>\"\",IF(ISNUMBER(FIND(\"n\",OFFSET('T20'!BE$2,'RT Browser'!$B$2,0))),\"X\",\"√\"),\"\")","v":""},{"$f":"IF(AA$3<>\"\",IF(ISNUMBER(FIND(\"n\",OFFSET('T20'!BF$2,'RT Browser'!$B$2,0))),\"X\",\"√\"),\"\")","v":""},{"$f":"IF(AB$3<>\"\",IF(ISNUMBER(FIND(\"n\",OFFSET('T20'!BG$2,'RT Browser'!$B$2,0))),\"X\",\"√\"),\"\")","v":""},{"$f":"IF(AC$3<>\"\",IF(ISNUMBER(FIND(\"n\",OFFSET('T20'!BH$2,'RT Browser'!$B$2,0))),\"X\",\"√\"),\"\")","v":""},{"$f":"IF(AD$3<>\"\",IF(ISNUMBER(FIND(\"n\",OFFSET('T20'!BI$2,'RT Browser'!$B$2,0))),\"X\",\"√\"),\"\")","v":""},{"$f":"IF(AE$3<>\"\",IF(ISNUMBER(FIND(\"n\",OFFSET('T20'!BJ$2,'RT Browser'!$B$2,0))),\"X\",\"√\"),\"\")","v":""},{"$f":"IF(AF$3<>\"\",IF(ISNUMBER(FIND(\"n\",OFFSET('T20'!BK$2,'RT Browser'!$B$2,0))),\"X\",\"√\"),\"\")","v":""},{"$f":"IF(AG$3<>\"\",IF(ISNUMBER(FIND(\"n\",OFFSET('T20'!BL$2,'RT Browser'!$B$2,0))),\"X\",\"√\"),\"\")","v":""},{"$f":"IF(AH$3<>\"\",IF(ISNUMBER(FIND(\"n\",OFFSET('T20'!BM$2,'RT Browser'!$B$2,0))),\"X\",\"√\"),\"\")","v":""}]
[null,null,null,"T30",{"$f":"OFFSET('T30'!C$2,'RT Browser'!$B$2,0)","v":""},{"$f":"OFFSET('T30'!D$2,'RT Browser'!$B$2,0)","v":""},{"$f":"OFFSET('T30'!E$2,'RT Browser'!$B$2,0)","v":""},{"$f":"OFFSET('T30'!F$2,'RT Browser'!$B$2,0)","v":""},{"$f":"OFFSET('T30'!G$2,'RT Browser'!$B$2,0)","v":""},{"$f":"OFFSET('T30'!H$2,'RT Browser'!$B$2,0)","v":""},{"$f":"OFFSET('T30'!I$2,'RT Browser'!$B$2,0)","v":""},{"$f":"OFFSET('T30'!J$2,'RT Browser'!$B$2,0)","v":""},{"$f":"OFFSET('T30'!K$2,'RT Browser'!$B$2,0)","v":""},{"$f":"OFFSET('T30'!L$2,'RT Browser'!$B$2,0)","v":""},{"$f":"OFFSET('T30'!M$2,'RT Browser'!$B$2,0)","v":""},{"$f":"OFFSET('T30'!N$2,'RT Browser'!$B$2,0)","v":""},{"$f":"OFFSET('T30'!O$2,'RT Browser'!$B$2,0)","v":""},{"$f":"OFFSET('T30'!P$2,'RT Browser'!$B$2,0)","v":""},{"$f":"OFFSET('T30'!Q$2,'RT Browser'!$B$2,0)","v":""},{"$f":"OFFSET('T30'!R$2,'RT Browser'!$B$2,0)","v":""},{"$f":"OFFSET('T30'!S$2,'RT Browser'!$B$2,0)","v":""},{"$f":"OFFSET('T30'!T$2,'RT Browser'!$B$2,0)","v":""},{"$f":"OFFSET('T30'!U$2,'RT Browser'!$B$2,0)","v":""},{"$f":"OFFSET('T30'!V$2,'RT Browser'!$B$2,0)","v":""},{"$f":"OFFSET('T30'!W$2,'RT Browser'!$B$2,0)","v":""},{"$f":"OFFSET('T30'!X$2,'RT Browser'!$B$2,0)","v":""},{"$f":"OFFSET('T30'!Y$2,'RT Browser'!$B$2,0)","v":""},{"$f":"OFFSET('T30'!Z$2,'RT Browser'!$B$2,0)","v":""},{"$f":"OFFSET('T30'!AA$2,'RT Browser'!$B$2,0)","v":""},{"$f":"OFFSET('T30'!AB$2,'RT Browser'!$B$2,0)","v":""},{"$f":"OFFSET('T30'!AC$2,'RT Browser'!$B$2,0)","v":""},{"$f":"OFFSET('T30'!AD$2,'RT Browser'!$B$2,0)","v":""},{"$f":"OFFSET('T30'!AE$2,'RT Browser'!$B$2,0)","v":""},{"$f":"OFFSET('T30'!AF$2,'RT Browser'!$B$2,0)","v":""}]
[null,null,null,"stdev",{"$f":"IF(AND(E12<>\"\",E12>0),0.55*E12*SQRT((1+1.52/$B$11)/($B$10*E$3*E12)),\"\")","v":""},"","","","","","","","","","","","","","","","","","","","","","","","","","","","",""]
[null,null,null,"BWxT30>16",{"$f":"IF(E$3<>\"\",IF(E$3*E12>16,\"√\",\"X\"),\"\")","v":""},{"$f":"IF(F$3<>\"\",IF(F$3*F12>16,\"√\",\"X\"),\"\")","v":""},"","","","","","","","","","","","","","","","","","","","","","","","","","","",""]
[null,null,null,"SNR",{"$f":"IF(E$3<>\"\",IF(ISNUMBER(FIND(\"n\",OFFSET('T30'!AJ$2,'RT Browser'!$B$2,0))),\"X\",\"√\"),\"\")","v":""},{"$f":"IF(F$3<>\"\",IF(ISNUMBER(FIND(\"n\",OFFSET('T30'!AK$2,'RT Browser'!$B$2,0))),\"X\",\"√\"),\"\")","v":""},{"$f":"IF(G$3<>\"\",IF(ISNUMBER(FIND(\"n\",OFFSET('T30'!AL$2,'RT Browser'!$B$2,0))),\"X\",\"√\"),\"\")","v":""},{"$f":"IF(H$3<>\"\",IF(ISNUMBER(FIND(\"n\",OFFSET('T30'!AM$2,'RT Browser'!$B$2,0))),\"X\",\"√\"),\"\")","v":""},{"$f":"IF(I$3<>\"\",IF(ISNUMBER(FIND(\"n\",OFFSET('T30'!AN$2,'RT Browser'!$B$2,0))),\"X\",\"√\"),\"\")","v":""},{"$f":"IF(J$3<>\"\",IF(ISNUMBER(FIND(\"n\",OFFSET('T30'!AO$2,'RT Browser'!$B$2,0))),\"X\",\"√\"),\"\")","v":""},{"$f":"IF(K$3<>\"\",IF(ISNUMBER(FIND(\"n\",OFFSET('T30'!AP$2,'RT Browser'!$B$2,0))),\"X\",\"√\"),\"\")","v":""},{"$f":"IF(L$3<>\"\",IF(ISNUMBER(FIND(\"n\",OFFSET('T30'!AQ$2,'RT Browser'!$B$2,0))),\"X\",\"√\"),\"\")","v":""},{"$f":"IF(M$3<>\"\",IF(ISNUMBER(FIND(\"n\",OFFSET('T30'!AR$2,'RT Browser'!$B$2,0))),\"X\",\"√\"),\"\")","v":""},{"$f":"IF(N$3<>\"\",IF(ISNUMBER(FIND(\"n\",OFFSET('T30'!AS$2,'RT Browser'!$B$2,0))),\"X\",\"√\"),\"\")","v":""},{"$f":"IF(O$3<>\"\",IF(ISNUMBER(FIND(\"n\",OFFSET('T30'!AT$2,'RT Browser'!$B$2,0))),\"X\",\"√\"),\"\")","v":""},{"$f":"IF(P$3<>\"\",IF(ISNUMBER(FIND(\"n\",OFFSET('T30'!AU$2,'RT Browser'!$B$2,0))),\"X\",\"√\"),\"\")","v":""},{"$f":"IF(Q$3<>\"\",IF(ISNUMBER(FIND(\"n\",OFFSET('T30'!AV$2,'RT Browser'!$B$2,0))),\"X\",\"√\"),\"\")","v":""},{"$f":"IF(R$3<>\"\",IF(ISNUMBER(FIND(\"n\",OFFSET('T30'!AW$2,'RT Browser'!$B$2,0))),\"X\",\"√\"),\"\")","v":""},{"$f":"IF(S$3<>\"\",IF(ISNUMBER(FIND(\"n\",OFFSET('T30'!AX$2,'RT Browser'!$B$2,0))),\"X\",\"√\"),\"\")","v":""},{"$f":"IF(T$3<>\"\",IF(ISNUMBER(FIND(\"n\",OFFSET('T30'!AY$2,'RT Browser'!$B$2,0))),\"X\",\"√\"),\"\")","v":""},{"$f":"IF(U$3<>\"\",IF(ISNUMBER(FIND(\"n\",OFFSET('T30'!AZ$2,'RT Browser'!$B$2,0))),\"X\",\"√\"),\"\")","v":""},{"$f":"IF(V$3<>\"\",IF(ISNUMBER(FIND(\"n\",OFFSET('T30'!BA$2,'RT Browser'!$B$2,0))),\"X\",\"√\"),\"\")","v":""},{"$f":"IF(W$3<>\"\",IF(ISNUMBER(FIND(\"n\",OFFSET('T30'!BB$2,'RT Browser'!$B$2,0))),\"X\",\"√\"),\"\")","v":""},{"$f":"IF(X$3<>\"\",IF(ISNUMBER(FIND(\"n\",OFFSET('T30'!BC$2,'RT Browser'!$B$2,0))),\"X\",\"√\"),\"\")","v":""},{"$f":"IF(Y$3<>\"\",IF(ISNUMBER(FIND(\"n\",OFFSET('T30'!BD$2,'RT Browser'!$B$2,0))),\"X\",\"√\"),\"\")","v":""},{"$f":"IF(Z$3<>\"\",IF(ISNUMBER(FIND(\"n\",OFFSET('T30'!BE$2,'RT Browser'!$B$2,0))),\"X\",\"√\"),\"\")","v":""},{"$f":"IF(AA$3<>\"\",IF(ISNUMBER(FIND(\"n\",OFFSET('T30'!BF$2,'RT Browser'!$B$2,0))),\"X\",\"√\"),\"\")","v":""},{"$f":"IF(AB$3<>\"\",IF(ISNUMBER(FIND(\"n\",OFFSET('T30'!BG$2,'RT Browser'!$B$2,0))),\"X\",\"√\"),\"\")","v":""},{"$f":"IF(AC$3<>\"\",IF(ISNUMBER(FIND(\"n\",OFFSET('T30'!BH$2,'RT Browser'!$B$2,0))),\"X\",\"√\"),\"\")","v":""},{"$f":"IF(AD$3<>\"\",IF(ISNUMBER(FIND(\"n\",OFFSET('T30'!BI$2,'RT Browser'!$B$2,0))),\"X\",\"√\"),\"\")","v":""},{"$f":"IF(AE$3<>\"\",IF(ISNUMBER(FIND(\"n\",OFFSET('T30'!BJ$2,'RT Browser'!$B$2,0))),\"X\",\"√\"),\"\")","v":""},{"$f":"IF(AF$3<>\"\",IF(ISNUMBER(FIND(\"n\",OFFSET('T30'!BK$2,'RT Browser'!$B$2,0))),\"X\",\"√\"),\"\")","v":""},{"$f":"IF(AG$3<>\"\",IF(ISNUMBER(FIND(\"n\",OFFSET('T30'!BL$2,'RT Browser'!$B$2,0))),\"X\",\"√\"),\"\")","v":""},{"$f":"IF(AH$3<>\"\",IF(ISNUMBER(FIND(\"n\",OFFSET('T30'!BM$2,'RT Browser'!$B$2,0))),\"X\",\"√\"),\"\")","v":""}]
[]
[null,null,null," "]

{"sheet":"EDT","index":2,"n_rows":100,"n_cols":65,"rows_kept":100,"cut":false,"hidden":false,"merged":[]}
[]
[null,"ID",25,31.5,40,50,63,80,100,125,160,200,250,315,400,500,630,800,1000,1250,1600,2000,2500,3150,4000,5000,6300,8000,10000,12500,16000,20000,null,null,null,25,31.5,40,50,63,80,100,125,160,200,250,315,400,500,630,800,1000,1250,1600,2000,2500,3150,4000,5000,6300,8000,10000,12500,16000,20000]
[null,{"$f":"IF(Data!A3<>\"\",Data!A3,\"\")","v":""},{"$f":"IF(Data!$E3=30,Data!F3,\"\")","v":""},{"$f":"IF(Data!$E3=30,Data!G3,IF(Data!F3<>\"\",Data!F3,\"\"))","v":""},{"$f":"IF(Data!$E3=30,Data!H3,\"\")","v":""},{"$f":"IF(Data!$E3=30,Data!I3,\"\")","v":""},{"$f":"IF(Data!$E3=30,Data!J3,IF(Data!G3<>\"\",Data!G3,\"\"))","v":""},{"$f":"IF(Data!$E3=30,Data!K3,\"\")","v":""},{"$f":"IF(Data!$E3=30,Data!L3,\"\")","v":""},{"$f":"IF(Data!$E3=30,Data!M3,IF(Data!H3<>\"\",Data!H3,\"\"))","v":""},{"$f":"IF(Data!$E3=30,Data!N3,\"\")","v":""},{"$f":"IF(Data!$E3=30,Data!O3,\"\")","v":""},{"$f":"IF(Data!$E3=30,Data!P3,IF(Data!I3<>\"\",Data!I3,\"\"))","v":""},{"$f":"IF(Data!$E3=30,Data!Q3,\"\")","v":""},{"$f":"IF(Data!$E3=30,Data!R3,\"\")","v":""},{"$f":"IF(Data!$E3=30,Data!S3,IF(Data!J3<>\"\",Data!J3,\"\"))","v":""},{"$f":"IF(Data!$E3=30,Data!T3,\"\")","v":""},{"$f":"IF(Data!$E3=30,Data!U3,\"\")","v":""},{"$f":"IF(Data!$E3=30,Data!V3,IF(Data!K3<>\"\",Data!K3,\"\"))","v":""},{"$f":"IF(Data!$E3=30,Data!W3,\"\")","v":""},{"$f":"IF(Data!$E3=30,Data!X3,\"\")","v":""},{"$f":"IF(Data!$E3=30,Data!Y3,IF(Data!L3<>\"\",Data!L3,\"\"))","v":""},{"$f":"IF(Data!$E3=30,Data!Z3,\"\")","v":""},{"$f":"IF(Data!$E3=30,Data!AA3,\"\")","v":""},{"$f":"IF(Data!$E3=30,Data!AB3,IF(Data!M3<>\"\",Data!M3,\"\"))","v":""},{"$f":"IF(Data!$E3=30,Data!AC3,\"\")","v":""},{"$f":"IF(Data!$E3=30,Data!AD3,\"\")","v":""},{"$f":"IF(Data!$E3=30,Data!AE3,IF(Data!N3<>\"\",Data!N3,\"\"))","v":""},{"$f":"IF(Data!$E3=30,Data!AF3,\"\")","v":""},{"$f":"IF(Data!$E3=30,Data!AG3,\"\")","v":""},{"$f":"IF(Data!$E3=30,Data!AH3,IF(Data!O3<>\"\",Data!O3,\"\"))","v":""},{"$f":"IF(Data!$E3=30,Data!AI3,\"\")","v":""},null,null,null,{"$f":"IF(Data!$E3=30,Data!AJ3,\"\")","v":""},{"$f":"IF(Data!$E3=30,Data!AK3,IF(Data!P3<>\"\",Data!P3,\"\"))","v":""},{"$f":"IF(Data!$E3=30,Data!AL3,\"\")","v":""},{"$f":"IF(Data!$E3=30,Data!AM3,\"\")","v":""},{"$f":"IF(Data!$E3=30,Data!AN3,IF(Data!Q3<>\"\",Data!Q3,\"\"))","v":""},{"$f":"IF(Data!$E3=30,Data!AO3,\"\")","v":""},{"$f":"IF(Data!$E3=30,Data!AP3,\"\")","v":""},{"$f":"IF(Data!$E3=30,Data!AQ3,IF(Data!R3<>\"\",Data!R3,\"\"))","v":""},{"$f":"IF(Data!$E3=30,Data!AR3,\"\")","v":""},{"$f":"IF(Data!$E3=30,Data!AS3,\"\")","v":""},{"$f":"IF(Data!$E3=30,Data!AT3,IF(Data!S3<>\"\",Data!S3,\"\"))","v":""},{"$f":"IF(Data!$E3=30,Data!AU3,\"\")","v":""},{"$f":"IF(Data!$E3=30,Data!AV3,\"\")","v":""},{"$f":"IF(Data!$E3=30,Data!AW3,IF(Data!T3<>\"\",Data!T3,\"\"))","v":""},{"$f":"IF(Data!$E3=30,Data!AX3,\"\")","v":""},{"$f":"IF(Data!$E3=30,Data!AY3,\"\")","v":""},{"$f":"IF(Data!$E3=30,Data!AZ3,IF(Data!U3<>\"\",Data!U3,\"\"))","v":""},{"$f":"IF(Data!$E3=30,Data!BA3,\"\")","v":""},{"$f":"IF(Data!$E3=30,Data!BB3,\"\")","v":""},{"$f":"IF(Data!$E3=30,Data!BC3,IF(Data!V3<>\"\",Data!V3,\"\"))","v":""},{"$f":"IF(Data!$E3=30,Data!BD3,\"\")","v":""},{"$f":"IF(Data!$E3=30,Data!BE3,\"\")","v":""},{"$f":"IF(Data!$E3=30,Data!BF3,IF(Data!W3<>\"\",Data!W3,\"\"))","v":""},{"$f":"IF(Data!$E3=30,Data!BG3,\"\")","v":""},{"$f":"IF(Data!$E3=30,Data!BH3,\"\")","v":""},{"$f":"IF(Data!$E3=30,Data!BI3,IF(Data!X3<>\"\",Data!X3,\"\"))","v":""},{"$f":"IF(Data!$E3=30,Data!BJ3,\"\")","v":""},{"$f":"IF(Data!$E3=30,Data!BK3,\"\")","v":""},{"$f":"IF(Data!$E3=30,Data!BL3,IF(Data!Y3<>\"\",Data!Y3,\"\"))","v":""},{"$f":"IF(Data!$E3=30,Data!BM3,\"\")","v":""}]
[null,{"$f":"IF(Data!A4<>\"\",Data!A4,\"\")","v":""},{"$f":"IF(Data!$E4=30,Data!F4,\"\")","v":""},{"$f":"IF(Data!$E4=30,Data!G4,IF(Data!F4<>\"\",Data!F4,\"\"))","v":""},{"$f":"IF(Data!$E4=30,Data!H4,\"\")","v":""},{"$f":"IF(Data!$E4=30,Data!I4,\"\")","v":""},{"$f":"IF(Data!$E4=30,Data!J4,IF(Data!G4<>\"\",Data!G4,\"\"))","v":""},{"$f":"IF(Data!$E4=30,Data!K4,\"\")","v":""},{"$f":"IF(Data!$E4=30,Data!L4,\"\")","v":""},{"$f":"IF(Data!$E4=30,Data!M4,IF(Data!H4<>\"\",Data!H4,\"\"))","v":""},{"$f":"IF(Data!$E4=30,Data!N4,\"\")","v":""},{"$f":"IF(Data!$E4=30,Data!O4,\"\")","v":""},{"$f":"IF(Data!$E4=30,Data!P4,IF(Data!I4<>\"\",Data!I4,\"\"))","v":""},{"$f":"IF(Data!$E4=30,Data!Q4,\"\")","v":""},{"$f":"IF(Data!$E4=30,Data!R4,\"\")","v":""},{"$f":"IF(Data!$E4=30,Data!S4,IF(Data!J4<>\"\",Data!J4,\"\"))","v":""},{"$f":"IF(Data!$E4=30,Data!T4,\"\")","v":""},{"$f":"IF(Data!$E4=30,Data!U4,\"\")","v":""},{"$f":"IF(Data!$E4=30,Data!V4,IF(Data!K4<>\"\",Data!K4,\"\"))","v":""},{"$f":"IF(Data!$E4=30,Data!W4,\"\")","v":""},{"$f":"IF(Data!$E4=30,Data!X4,\"\")","v":""},{"$f":"IF(Data!$E4=30,Data!Y4,IF(Data!L4<>\"\",Data!L4,\"\"))","v":""},{"$f":"IF(Data!$E4=30,Data!Z4,\"\")","v":""},{"$f":"IF(Data!$E4=30,Data!AA4,\"\")","v":""},{"$f":"IF(Data!$E4=30,Data!AB4,IF(Data!M4<>\"\",Data!M4,\"\"))","v":""},{"$f":"IF(Data!$E4=30,Data!AC4,\"\")","v":""},{"$f":"IF(Data!$E4=30,Data!AD4,\"\")","v":""},{"$f":"IF(Data!$E4=30,Data!AE4,IF(Data!N4<>\"\",Data!N4,\"\"))","v":""},{"$f":"IF(Data!$E4=30,Data!AF4,\"\")","v":""},{"$f":"IF(Data!$E4=30,Data!AG4,\"\")","v":""},{"$f":"IF(Data!$E4=30,Data!AH4,IF(Data!O4<>\"\",Data!O4,\"\"))","v":""},{"$f":"IF(Data!$E4=30,Data!AI4,\"\")","v":""},null,null,null,{"$f":"IF(Data!$E4=30,Data!AJ4,\"\")","v":""},{"$f":"IF(Data!$E4=30,Data!AK4,IF(Data!P4<>\"\",Data!P4,\"\"))","v":""},{"$f":"IF(Data!$E4=30,Data!AL4,\"\")","v":""},{"$f":"IF(Data!$E4=30,Data!AM4,\"\")","v":""},{"$f":"IF(Data!$E4=30,Data!AN4,IF(Data!Q4<>\"\",Data!Q4,\"\"))","v":""},{"$f":"IF(Data!$E4=30,Data!AO4,\"\")","v":""},{"$f":"IF(Data!$E4=30,Data!AP4,\"\")","v":""},{"$f":"IF(Data!$E4=30,Data!AQ4,IF(Data!R4<>\"\",Data!R4,\"\"))","v":""},{"$f":"IF(Data!$E4=30,Data!AR4,\"\")","v":""},{"$f":"IF(Data!$E4=30,Data!AS4,\"\")","v":""},{"$f":"IF(Data!$E4=30,Data!AT4,IF(Data!S4<>\"\",Data!S4,\"\"))","v":""},{"$f":"IF(Data!$E4=30,Data!AU4,\"\")","v":""},{"$f":"IF(Data!$E4=30,Data!AV4,\"\")","v":""},{"$f":"IF(Data!$E4=30,Data!AW4,IF(Data!T4<>\"\",Data!T4,\"\"))","v":""},{"$f":"IF(Data!$E4=30,Data!AX4,\"\")","v":""},{"$f":"IF(Data!$E4=30,Data!AY4,\"\")","v":""},{"$f":"IF(Data!$E4=30,Data!AZ4,IF(Data!U4<>\"\",Data!U4,\"\"))","v":""},{"$f":"IF(Data!$E4=30,Data!BA4,\"\")","v":""},{"$f":"IF(Data!$E4=30,Data!BB4,\"\")","v":""},{"$f":"IF(Data!$E4=30,Data!BC4,IF(Data!V4<>\"\",Data!V4,\"\"))","v":""},{"$f":"IF(Data!$E4=30,Data!BD4,\"\")","v":""},{"$f":"IF(Data!$E4=30,Data!BE4,\"\")","v":""},{"$f":"IF(Data!$E4=30,Data!BF4,IF(Data!W4<>\"\",Data!W4,\"\"))","v":""},{"$f":"IF(Data!$E4=30,Data!BG4,\"\")","v":""},{"$f":"IF(Data!$E4=30,Data!BH4,\"\")","v":""},{"$f":"IF(Data!$E4=30,Data!BI4,IF(Data!X4<>\"\",Data!X4,\"\"))","v":""},{"$f":"IF(Data!$E4=30,Data!BJ4,\"\")","v":""},{"$f":"IF(Data!$E4=30,Data!BK4,\"\")","v":""},{"$f":"IF(Data!$E4=30,Data!BL4,IF(Data!Y4<>\"\",Data!Y4,\"\"))","v":""},{"$f":"IF(Data!$E4=30,Data!BM4,\"\")","v":""}]
[null,{"$f":"IF(Data!A5<>\"\",Data!A5,\"\")","v":""},{"$f":"IF(Data!$E5=30,Data!F5,\"\")","v":""},{"$f":"IF(Data!$E5=30,Data!G5,IF(Data!F5<>\"\",Data!F5,\"\"))","v":""},{"$f":"IF(Data!$E5=30,Data!H5,\"\")","v":""},{"$f":"IF(Data!$E5=30,Data!I5,\"\")","v":""},{"$f":"IF(Data!$E5=30,Data!J5,IF(Data!G5<>\"\",Data!G5,\"\"))","v":""},{"$f":"IF(Data!$E5=30,Data!K5,\"\")","v":""},{"$f":"IF(Data!$E5=30,Data!L5,\"\")","v":""},{"$f":"IF(Data!$E5=30,Data!M5,IF(Data!H5<>\"\",Data!H5,\"\"))","v":""},{"$f":"IF(Data!$E5=30,Data!N5,\"\")","v":""},{"$f":"IF(Data!$E5=30,Data!O5,\"\")","v":""},{"$f":"IF(Data!$E5=30,Data!P5,IF(Data!I5<>\"\",Data!I5,\"\"))","v":""},{"$f":"IF(Data!$E5=30,Data!Q5,\"\")","v":""},{"$f":"IF(Data!$E5=30,Data!R5,\"\")","v":""},{"$f":"IF(Data!$E5=30,Data!S5,IF(Data!J5<>\"\",Data!J5,\"\"))","v":""},{"$f":"IF(Data!$E5=30,Data!T5,\"\")","v":""},{"$f":"IF(Data!$E5=30,Data!U5,\"\")","v":""},{"$f":"IF(Data!$E5=30,Data!V5,IF(Data!K5<>\"\",Data!K5,\"\"))","v":""},{"$f":"IF(Data!$E5=30,Data!W5,\"\")","v":""},{"$f":"IF(Data!$E5=30,Data!X5,\"\")","v":""},{"$f":"IF(Data!$E5=30,Data!Y5,IF(Data!L5<>\"\",Data!L5,\"\"))","v":""},{"$f":"IF(Data!$E5=30,Data!Z5,\"\")","v":""},{"$f":"IF(Data!$E5=30,Data!AA5,\"\")","v":""},{"$f":"IF(Data!$E5=30,Data!AB5,IF(Data!M5<>\"\",Data!M5,\"\"))","v":""},{"$f":"IF(Data!$E5=30,Data!AC5,\"\")","v":""},{"$f":"IF(Data!$E5=30,Data!AD5,\"\")","v":""},{"$f":"IF(Data!$E5=30,Data!AE5,IF(Data!N5<>\"\",Data!N5,\"\"))","v":""},{"$f":"IF(Data!$E5=30,Data!AF5,\"\")","v":""},{"$f":"IF(Data!$E5=30,Data!AG5,\"\")","v":""},{"$f":"IF(Data!$E5=30,Data!AH5,IF(Data!O5<>\"\",Data!O5,\"\"))","v":""},{"$f":"IF(Data!$E5=30,Data!AI5,\"\")","v":""},null,null,null,{"$f":"IF(Data!$E5=30,Data!AJ5,\"\")","v":""},{"$f":"IF(Data!$E5=30,Data!AK5,IF(Data!P5<>\"\",Data!P5,\"\"))","v":""},{"$f":"IF(Data!$E5=30,Data!AL5,\"\")","v":""},{"$f":"IF(Data!$E5=30,Data!AM5,\"\")","v":""},{"$f":"IF(Data!$E5=30,Data!AN5,IF(Data!Q5<>\"\",Data!Q5,\"\"))","v":""},{"$f":"IF(Data!$E5=30,Data!AO5,\"\")","v":""},{"$f":"IF(Data!$E5=30,Data!AP5,\"\")","v":""},{"$f":"IF(Data!$E5=30,Data!AQ5,IF(Data!R5<>\"\",Data!R5,\"\"))","v":""},{"$f":"IF(Data!$E5=30,Data!AR5,\"\")","v":""},{"$f":"IF(Data!$E5=30,Data!AS5,\"\")","v":""},{"$f":"IF(Data!$E5=30,Data!AT5,IF(Data!S5<>\"\",Data!S5,\"\"))","v":""},{"$f":"IF(Data!$E5=30,Data!AU5,\"\")","v":""},{"$f":"IF(Data!$E5=30,Data!AV5,\"\")","v":""},{"$f":"IF(Data!$E5=30,Data!AW5,IF(Data!T5<>\"\",Data!T5,\"\"))","v":""},{"$f":"IF(Data!$E5=30,Data!AX5,\"\")","v":""},{"$f":"IF(Data!$E5=30,Data!AY5,\"\")","v":""},{"$f":"IF(Data!$E5=30,Data!AZ5,IF(Data!U5<>\"\",Data!U5,\"\"))","v":""},{"$f":"IF(Data!$E5=30,Data!BA5,\"\")","v":""},{"$f":"IF(Data!$E5=30,Data!BB5,\"\")","v":""},{"$f":"IF(Data!$E5=30,Data!BC5,IF(Data!V5<>\"\",Data!V5,\"\"))","v":""},{"$f":"IF(Data!$E5=30,Data!BD5,\"\")","v":""},{"$f":"IF(Data!$E5=30,Data!BE5,\"\")","v":""},{"$f":"IF(Data!$E5=30,Data!BF5,IF(Data!W5<>\"\",Data!W5,\"\"))","v":""},{"$f":"IF(Data!$E5=30,Data!BG5,\"\")","v":""},{"$f":"IF(Data!$E5=30,Data!BH5,\"\")","v":""},{"$f":"IF(Data!$E5=30,Data!BI5,IF(Data!X5<>\"\",Data!X5,\"\"))","v":""},{"$f":"IF(Data!$E5=30,Data!BJ5,\"\")","v":""},{"$f":"IF(Data!$E5=30,Data!BK5,\"\")","v":""},{"$f":"IF(Data!$E5=30,Data!BL5,IF(Data!Y5<>\"\",Data!Y5,\"\"))","v":""},{"$f":"IF(Data!$E5=30,Data!BM5,\"\")","v":""}]
[null,{"$f":"IF(Data!A6<>\"\",Data!A6,\"\")","v":""},{"$f":"IF(Data!$E6=30,Data!F6,\"\")","v":""},{"$f":"IF(Data!$E6=30,Data!G6,IF(Data!F6<>\"\",Data!F6,\"\"))","v":""},{"$f":"IF(Data!$E6=30,Data!H6,\"\")","v":""},{"$f":"IF(Data!$E6=30,Data!I6,\"\")","v":""},{"$f":"IF(Data!$E6=30,Data!J6,IF(Data!G6<>\"\",Data!G6,\"\"))","v":""},{"$f":"IF(Data!$E6=30,Data!K6,\"\")","v":""},{"$f":"IF(Data!$E6=30,Data!L6,\"\")","v":""},{"$f":"IF(Data!$E6=30,Data!M6,IF(Data!H6<>\"\",Data!H6,\"\"))","v":""},{"$f":"IF(Data!$E6=30,Data!N6,\"\")","v":""},{"$f":"IF(Data!$E6=30,Data!O6,\"\")","v":""},{"$f":"IF(Data!$E6=30,Data!P6,IF(Data!I6<>\"\",Data!I6,\"\"))","v":""},{"$f":"IF(Data!$E6=30,Data!Q6,\"\")","v":""},{"$f":"IF(Data!$E6=30,Data!R6,\"\")","v":""},{"$f":"IF(Data!$E6=30,Data!S6,IF(Data!J6<>\"\",Data!J6,\"\"))","v":""},{"$f":"IF(Data!$E6=30,Data!T6,\"\")","v":""},{"$f":"IF(Data!$E6=30,Data!U6,\"\")","v":""},{"$f":"IF(Data!$E6=30,Data!V6,IF(Data!K6<>\"\",Data!K6,\"\"))","v":""},{"$f":"IF(Data!$E6=30,Data!W6,\"\")","v":""},{"$f":"IF(Data!$E6=30,Data!X6,\"\")","v":""},{"$f":"IF(Data!$E6=30,Data!Y6,IF(Data!L6<>\"\",Data!L6,\"\"))","v":""},{"$f":"IF(Data!$E6=30,Data!Z6,\"\")","v":""},{"$f":"IF(Data!$E6=30,Data!AA6,\"\")","v":""},{"$f":"IF(Data!$E6=30,Data!AB6,IF(Data!M6<>\"\",Data!M6,\"\"))","v":""},{"$f":"IF(Data!$E6=30,Data!AC6,\"\")","v":""},{"$f":"IF(Data!$E6=30,Data!AD6,\"\")","v":""},{"$f":"IF(Data!$E6=30,Data!AE6,IF(Data!N6<>\"\",Data!N6,\"\"))","v":""},{"$f":"IF(Data!$E6=30,Data!AF6,\"\")","v":""},{"$f":"IF(Data!$E6=30,Data!AG6,\"\")","v":""},{"$f":"IF(Data!$E6=30,Data!AH6,IF(Data!O6<>\"\",Data!O6,\"\"))","v":""},{"$f":"IF(Data!$E6=30,Data!AI6,\"\")","v":""},null,null,null,{"$f":"IF(Data!$E6=30,Data!AJ6,\"\")","v":""},{"$f":"IF(Data!$E6=30,Data!AK6,IF(Data!P6<>\"\",Data!P6,\"\"))","v":""},{"$f":"IF(Data!$E6=30,Data!AL6,\"\")","v":""},{"$f":"IF(Data!$E6=30,Data!AM6,\"\")","v":""},{"$f":"IF(Data!$E6=30,Data!AN6,IF(Data!Q6<>\"\",Data!Q6,\"\"))","v":""},{"$f":"IF(Data!$E6=30,Data!AO6,\"\")","v":""},{"$f":"IF(Data!$E6=30,Data!AP6,\"\")","v":""},{"$f":"IF(Data!$E6=30,Data!AQ6,IF(Data!R6<>\"\",Data!R6,\"\"))","v":""},{"$f":"IF(Data!$E6=30,Data!AR6,\"\")","v":""},{"$f":"IF(Data!$E6=30,Data!AS6,\"\")","v":""},{"$f":"IF(Data!$E6=30,Data!AT6,IF(Data!S6<>\"\",Data!S6,\"\"))","v":""},{"$f":"IF(Data!$E6=30,Data!AU6,\"\")","v":""},{"$f":"IF(Data!$E6=30,Data!AV6,\"\")","v":""},{"$f":"IF(Data!$E6=30,Data!AW6,IF(Data!T6<>\"\",Data!T6,\"\"))","v":""},{"$f":"IF(Data!$E6=30,Data!AX6,\"\")","v":""},{"$f":"IF(Data!$E6=30,Data!AY6,\"\")","v":""},{"$f":"IF(Data!$E6=30,Data!AZ6,IF(Data!U6<>\"\",Data!U6,\"\"))","v":""},{"$f":"IF(Data!$E6=30,Data!BA6,\"\")","v":""},{"$f":"IF(Data!$E6=30,Data!BB6,\"\")","v":""},{"$f":"IF(Data!$E6=30,Data!BC6,IF(Data!V6<>\"\",Data!V6,\"\"))","v":""},{"$f":"IF(Data!$E6=30,Data!BD6,\"\")","v":""},{"$f":"IF(Data!$E6=30,Data!BE6,\"\")","v":""},{"$f":"IF(Data!$E6=30,Data!BF6,IF(Data!W6<>\"\",Data!W6,\"\"))","v":""},{"$f":"IF(Data!$E6=30,Data!BG6,\"\")","v":""},{"$f":"IF(Data!$E6=30,Data!BH6,\"\")","v":""},{"$f":"IF(Data!$E6=30,Data!BI6,IF(Data!X6<>\"\",Data!X6,\"\"))","v":""},{"$f":"IF(Data!$E6=30,Data!BJ6,\"\")","v":""},{"$f":"IF(Data!$E6=30,Data!BK6,\"\")","v":""},{"$f":"IF(Data!$E6=30,Data!BL6,IF(Data!Y6<>\"\",Data!Y6,\"\"))","v":""},{"$f":"IF(Data!$E6=30,Data!BM6,\"\")","v":""}]
[null,{"$f":"IF(Data!A7<>\"\",Data!A7,\"\")","v":""},{"$f":"IF(Data!$E7=30,Data!F7,\"\")","v":""},{"$f":"IF(Data!$E7=30,Data!G7,IF(Data!F7<>\"\",Data!F7,\"\"))","v":""},{"$f":"IF(Data!$E7=30,Data!H7,\"\")","v":""},{"$f":"IF(Data!$E7=30,Data!I7,\"\")","v":""},{"$f":"IF(Data!$E7=30,Data!J7,IF(Data!G7<>\"\",Data!G7,\"\"))","v":""},{"$f":"IF(Data!$E7=30,Data!K7,\"\")","v":""},{"$f":"IF(Data!$E7=30,Data!L7,\"\")","v":""},{"$f":"IF(Data!$E7=30,Data!M7,IF(Data!H7<>\"\",Data!H7,\"\"))","v":""},{"$f":"IF(Data!$E7=30,Data!N7,\"\")","v":""},{"$f":"IF(Data!$E7=30,Data!O7,\"\")","v":""},{"$f":"IF(Data!$E7=30,Data!P7,IF(Data!I7<>\"\",Data!I7,\"\"))","v":""},{"$f":"IF(Data!$E7=30,Data!Q7,\"\")","v":""},{"$f":"IF(Data!$E7=30,Data!R7,\"\")","v":""},{"$f":"IF(Data!$E7=30,Data!S7,IF(Data!J7<>\"\",Data!J7,\"\"))","v":""},{"$f":"IF(Data!$E7=30,Data!T7,\"\")","v":""},{"$f":"IF(Data!$E7=30,Data!U7,\"\")","v":""},{"$f":"IF(Data!$E7=30,Data!V7,IF(Data!K7<>\"\",Data!K7,\"\"))","v":""},{"$f":"IF(Data!$E7=30,Data!W7,\"\")","v":""},{"$f":"IF(Data!$E7=30,Data!X7,\"\")","v":""},{"$f":"IF(Data!$E7=30,Data!Y7,IF(Data!L7<>\"\",Data!L7,\"\"))","v":""},{"$f":"IF(Data!$E7=30,Data!Z7,\"\")","v":""},{"$f":"IF(Data!$E7=30,Data!AA7,\"\")","v":""},{"$f":"IF(Data!$E7=30,Data!AB7,IF(Data!M7<>\"\",Data!M7,\"\"))","v":""},{"$f":"IF(Data!$E7=30,Data!AC7,\"\")","v":""},{"$f":"IF(Data!$E7=30,Data!AD7,\"\")","v":""},{"$f":"IF(Data!$E7=30,Data!AE7,IF(Data!N7<>\"\",Data!N7,\"\"))","v":""},{"$f":"IF(Data!$E7=30,Data!AF7,\"\")","v":""},{"$f":"IF(Data!$E7=30,Data!AG7,\"\")","v":""},{"$f":"IF(Data!$E7=30,Data!AH7,IF(Data!O7<>\"\",Data!O7,\"\"))","v":""},{"$f":"IF(Data!$E7=30,Data!AI7,\"\")","v":""},null,null,null,{"$f":"IF(Data!$E7=30,Data!AJ7,\"\")","v":""},{"$f":"IF(Data!$E7=30,Data!AK7,IF(Data!P7<>\"\",Data!P7,\"\"))","v":""},{"$f":"IF(Data!$E7=30,Data!AL7,\"\")","v":""},{"$f":"IF(Data!$E7=30,Data!AM7,\"\")","v":""},{"$f":"IF(Data!$E7=30,Data!AN7,IF(Data!Q7<>\"\",Data!Q7,\"\"))","v":""},{"$f":"IF(Data!$E7=30,Data!AO7,\"\")","v":""},{"$f":"IF(Data!$E7=30,Data!AP7,\"\")","v":""},{"$f":"IF(Data!$E7=30,Data!AQ7,IF(Data!R7<>\"\",Data!R7,\"\"))","v":""},{"$f":"IF(Data!$E7=30,Data!AR7,\"\")","v":""},{"$f":"IF(Data!$E7=30,Data!AS7,\"\")","v":""},{"$f":"IF(Data!$E7=30,Data!AT7,IF(Data!S7<>\"\",Data!S7,\"\"))","v":""},{"$f":"IF(Data!$E7=30,Data!AU7,\"\")","v":""},{"$f":"IF(Data!$E7=30,Data!AV7,\"\")","v":""},{"$f":"IF(Data!$E7=30,Data!AW7,IF(Data!T7<>\"\",Data!T7,\"\"))","v":""},{"$f":"IF(Data!$E7=30,Data!AX7,\"\")","v":""},{"$f":"IF(Data!$E7=30,Data!AY7,\"\")","v":""},{"$f":"IF(Data!$E7=30,Data!AZ7,IF(Data!U7<>\"\",Data!U7,\"\"))","v":""},{"$f":"IF(Data!$E7=30,Data!BA7,\"\")","v":""},{"$f":"IF(Data!$E7=30,Data!BB7,\"\")","v":""},{"$f":"IF(Data!$E7=30,Data!BC7,IF(Data!V7<>\"\",Data!V7,\"\"))","v":""},{"$f":"IF(Data!$E7=30,Data!BD7,\"\")","v":""},{"$f":"IF(Data!$E7=30,Data!BE7,\"\")","v":""},{"$f":"IF(Data!$E7=30,Data!BF7,IF(Data!W7<>\"\",Data!W7,\"\"))","v":""},{"$f":"IF(Data!$E7=30,Data!BG7,\"\")","v":""},{"$f":"IF(Data!$E7=30,Data!BH7,\"\")","v":""},{"$f":"IF(Data!$E7=30,Data!BI7,IF(Data!X7<>\"\",Data!X7,\"\"))","v":""},{"$f":"IF(Data!$E7=30,Data!BJ7,\"\")","v":""},{"$f":"IF(Data!$E7=30,Data!BK7,\"\")","v":""},{"$f":"IF(Data!$E7=30,Data!BL7,IF(Data!Y7<>\"\",Data!Y7,\"\"))","v":""},{"$f":"IF(Data!$E7=30,Data!BM7,\"\")","v":""}]
[null,{"$f":"IF(Data!A8<>\"\",Data!A8,\"\")","v":""},{"$f":"IF(Data!$E8=30,Data!F8,\"\")","v":""},{"$f":"IF(Data!$E8=30,Data!G8,IF(Data!F8<>\"\",Data!F8,\"\"))","v":""},{"$f":"IF(Data!$E8=30,Data!H8,\"\")","v":""},{"$f":"IF(Data!$E8=30,Data!I8,\"\")","v":""},{"$f":"IF(Data!$E8=30,Data!J8,IF(Data!G8<>\"\",Data!G8,\"\"))","v":""},{"$f":"IF(Data!$E8=30,Data!K8,\"\")","v":""},{"$f":"IF(Data!$E8=30,Data!L8,\"\")","v":""},{"$f":"IF(Data!$E8=30,Data!M8,IF(Data!H8<>\"\",Data!H8,\"\"))","v":""},{"$f":"IF(Data!$E8=30,Data!N8,\"\")","v":""},{"$f":"IF(Data!$E8=30,Data!O8,\"\")","v":""},{"$f":"IF(Data!$E8=30,Data!P8,IF(Data!I8<>\"\",Data!I8,\"\"))","v":""},{"$f":"IF(Data!$E8=30,Data!Q8,\"\")","v":""},{"$f":"IF(Data!$E8=30,Data!R8,\"\")","v":""},{"$f":"IF(Data!$E8=30,Data!S8,IF(Data!J8<>\"\",Data!J8,\"\"))","v":""},{"$f":"IF(Data!$E8=30,Data!T8,\"\")","v":""},{"$f":"IF(Data!$E8=30,Data!U8,\"\")","v":""},{"$f":"IF(Data!$E8=30,Data!V8,IF(Data!K8<>\"\",Data!K8,\"\"))","v":""},{"$f":"IF(Data!$E8=30,Data!W8,\"\")","v":""},{"$f":"IF(Data!$E8=30,Data!X8,\"\")","v":""},{"$f":"IF(Data!$E8=30,Data!Y8,IF(Data!L8<>\"\",Data!L8,\"\"))","v":""},{"$f":"IF(Data!$E8=30,Data!Z8,\"\")","v":""},{"$f":"IF(Data!$E8=30,Data!AA8,\"\")","v":""},{"$f":"IF(Data!$E8=30,Data!AB8,IF(Data!M8<>\"\",Data!M8,\"\"))","v":""},{"$f":"IF(Data!$E8=30,Data!AC8,\"\")","v":""},{"$f":"IF(Data!$E8=30,Data!AD8,\"\")","v":""},{"$f":"IF(Data!$E8=30,Data!AE8,IF(Data!N8<>\"\",Data!N8,\"\"))","v":""},{"$f":"IF(Data!$E8=30,Data!AF8,\"\")","v":""},{"$f":"IF(Data!$E8=30,Data!AG8,\"\")","v":""},{"$f":"IF(Data!$E8=30,Data!AH8,IF(Data!O8<>\"\",Data!O8,\"\"))","v":""},{"$f":"IF(Data!$E8=30,Data!AI8,\"\")","v":""},null,null,null,{"$f":"IF(Data!$E8=30,Data!AJ8,\"\")","v":""},{"$f":"IF(Data!$E8=30,Data!AK8,IF(Data!P8<>\"\",Data!P8,\"\"))","v":""},{"$f":"IF(Data!$E8=30,Data!AL8,\"\")","v":""},{"$f":"IF(Data!$E8=30,Data!AM8,\"\")","v":""},{"$f":"IF(Data!$E8=30,Data!AN8,IF(Data!Q8<>\"\",Data!Q8,\"\"))","v":""},{"$f":"IF(Data!$E8=30,Data!AO8,\"\")","v":""},{"$f":"IF(Data!$E8=30,Data!AP8,\"\")","v":""},{"$f":"IF(Data!$E8=30,Data!AQ8,IF(Data!R8<>\"\",Data!R8,\"\"))","v":""},{"$f":"IF(Data!$E8=30,Data!AR8,\"\")","v":""},{"$f":"IF(Data!$E8=30,Data!AS8,\"\")","v":""},{"$f":"IF(Data!$E8=30,Data!AT8,IF(Data!S8<>\"\",Data!S8,\"\"))","v":""},{"$f":"IF(Data!$E8=30,Data!AU8,\"\")","v":""},{"$f":"IF(Data!$E8=30,Data!AV8,\"\")","v":""},{"$f":"IF(Data!$E8=30,Data!AW8,IF(Data!T8<>\"\",Data!T8,\"\"))","v":""},{"$f":"IF(Data!$E8=30,Data!AX8,\"\")","v":""},{"$f":"IF(Data!$E8=30,Data!AY8,\"\")","v":""},{"$f":"IF(Data!$E8=30,Data!AZ8,IF(Data!U8<>\"\",Data!U8,\"\"))","v":""},{"$f":"IF(Data!$E8=30,Data!BA8,\"\")","v":""},{"$f":"IF(Data!$E8=30,Data!BB8,\"\")","v":""},{"$f":"IF(Data!$E8=30,Data!BC8,IF(Data!V8<>\"\",Data!V8,\"\"))","v":""},{"$f":"IF(Data!$E8=30,Data!BD8,\"\")","v":""},{"$f":"IF(Data!$E8=30,Data!BE8,\"\")","v":""},{"$f":"IF(Data!$E8=30,Data!BF8,IF(Data!W8<>\"\",Data!W8,\"\"))","v":""},{"$f":"IF(Data!$E8=30,Data!BG8,\"\")","v":""},{"$f":"IF(Data!$E8=30,Data!BH8,\"\")","v":""},{"$f":"IF(Data!$E8=30,Data!BI8,IF(Data!X8<>\"\",Data!X8,\"\"))","v":""},{"$f":"IF(Data!$E8=30,Data!BJ8,\"\")","v":""},{"$f":"IF(Data!$E8=30,Data!BK8,\"\")","v":""},{"$f":"IF(Data!$E8=30,Data!BL8,IF(Data!Y8<>\"\",Data!Y8,\"\"))","v":""},{"$f":"IF(Data!$E8=30,Data!BM8,\"\")","v":""}]
[null,{"$f":"IF(Data!A9<>\"\",Data!A9,\"\")","v":""},{"$f":"IF(Data!$E9=30,Data!F9,\"\")","v":""},{"$f":"IF(Data!$E9=30,Data!G9,IF(Data!F9<>\"\",Data!F9,\"\"))","v":""},{"$f":"IF(Data!$E9=30,Data!H9,\"\")","v":""},{"$f":"IF(Data!$E9=30,Data!I9,\"\")","v":""},{"$f":"IF(Data!$E9=30,Data!J9,IF(Data!G9<>\"\",Data!G9,\"\"))","v":""},{"$f":"IF(Data!$E9=30,Data!K9,\"\")","v":""},{"$f":"IF(Data!$E9=30,Data!L9,\"\")","v":""},{"$f":"IF(Data!$E9=30,Data!M9,IF(Data!H9<>\"\",Data!H9,\"\"))","v":""},{"$f":"IF(Data!$E9=30,Data!N9,\"\")","v":""},{"$f":"IF(Data!$E9=30,Data!O9,\"\")","v":""},{"$f":"IF(Data!$E9=30,Data!P9,IF(Data!I9<>\"\",Data!I9,\"\"))","v":""},{"$f":"IF(Data!$E9=30,Data!Q9,\"\")","v":""},{"$f":"IF(Data!$E9=30,Data!R9,\"\")","v":""},{"$f":"IF(Data!$E9=30,Data!S9,IF(Data!J9<>\"\",Data!J9,\"\"))","v":""},{"$f":"IF(Data!$E9=30,Data!T9,\"\")","v":""},{"$f":"IF(Data!$E9=30,Data!U9,\"\")","v":""},{"$f":"IF(Data!$E9=30,Data!V9,IF(Data!K9<>\"\",Data!K9,\"\"))","v":""},{"$f":"IF(Data!$E9=30,Data!W9,\"\")","v":""},{"$f":"IF(Data!$E9=30,Data!X9,\"\")","v":""},{"$f":"IF(Data!$E9=30,Data!Y9,IF(Data!L9<>\"\",Data!L9,\"\"))","v":""},{"$f":"IF(Data!$E9=30,Data!Z9,\"\")","v":""},{"$f":"IF(Data!$E9=30,Data!AA9,\"\")","v":""},{"$f":"IF(Data!$E9=30,Data!AB9,IF(Data!M9<>\"\",Data!M9,\"\"))","v":""},{"$f":"IF(Data!$E9=30,Data!AC9,\"\")","v":""},{"$f":"IF(Data!$E9=30,Data!AD9,\"\")","v":""},{"$f":"IF(Data!$E9=30,Data!AE9,IF(Data!N9<>\"\",Data!N9,\"\"))","v":""},{"$f":"IF(Data!$E9=30,Data!AF9,\"\")","v":""},{"$f":"IF(Data!$E9=30,Data!AG9,\"\")","v":""},{"$f":"IF(Data!$E9=30,Data!AH9,IF(Data!O9<>\"\",Data!O9,\"\"))","v":""},{"$f":"IF(Data!$E9=30,Data!AI9,\"\")","v":""},null,null,null,{"$f":"IF(Data!$E9=30,Data!AJ9,\"\")","v":""},{"$f":"IF(Data!$E9=30,Data!AK9,IF(Data!P9<>\"\",Data!P9,\"\"))","v":""},{"$f":"IF(Data!$E9=30,Data!AL9,\"\")","v":""},{"$f":"IF(Data!$E9=30,Data!AM9,\"\")","v":""},{"$f":"IF(Data!$E9=30,Data!AN9,IF(Data!Q9<>\"\",Data!Q9,\"\"))","v":""},{"$f":"IF(Data!$E9=30,Data!AO9,\"\")","v":""},{"$f":"IF(Data!$E9=30,Data!AP9,\"\")","v":""},{"$f":"IF(Data!$E9=30,Data!AQ9,IF(Data!R9<>\"\",Data!R9,\"\"))","v":""},{"$f":"IF(Data!$E9=30,Data!AR9,\"\")","v":""},{"$f":"IF(Data!$E9=30,Data!AS9,\"\")","v":""},{"$f":"IF(Data!$E9=30,Data!AT9,IF(Data!S9<>\"\",Data!S9,\"\"))","v":""},{"$f":"IF(Data!$E9=30,Data!AU9,\"\")","v":""},{"$f":"IF(Data!$E9=30,Data!AV9,\"\")","v":""},{"$f":"IF(Data!$E9=30,Data!AW9,IF(Data!T9<>\"\",Data!T9,\"\"))","v":""},{"$f":"IF(Data!$E9=30,Data!AX9,\"\")","v":""},{"$f":"IF(Data!$E9=30,Data!AY9,\"\")","v":""},{"$f":"IF(Data!$E9=30,Data!AZ9,IF(Data!U9<>\"\",Data!U9,\"\"))","v":""},{"$f":"IF(Data!$E9=30,Data!BA9,\"\")","v":""},{"$f":"IF(Data!$E9=30,Data!BB9,\"\")","v":""},{"$f":"IF(Data!$E9=30,Data!BC9,IF(Data!V9<>\"\",Data!V9,\"\"))","v":""},{"$f":"IF(Data!$E9=30,Data!BD9,\"\")","v":""},{"$f":"IF(Data!$E9=30,Data!BE9,\"\")","v":""},{"$f":"IF(Data!$E9=30,Data!BF9,IF(Data!W9<>\"\",Data!W9,\"\"))","v":""},{"$f":"IF(Data!$E9=30,Data!BG9,\"\")","v":""},{"$f":"IF(Data!$E9=30,Data!BH9,\"\")","v":""},{"$f":"IF(Data!$E9=30,Data!BI9,IF(Data!X9<>\"\",Data!X9,\"\"))","v":""},{"$f":"IF(Data!$E9=30,Data!BJ9,\"\")","v":""},{"$f":"IF(Data!$E9=30,Data!BK9,\"\")","v":""},{"$f":"IF(Data!$E9=30,Data!BL9,IF(Data!Y9<>\"\",Data!Y9,\"\"))","v":""},{"$f":"IF(Data!$E9=30,Data!BM9,\"\")","v":""}]
[null,{"$f":"IF(Data!A10<>\"\",Data!A10,\"\")","v":""},{"$f":"IF(Data!$E10=30,Data!F10,\"\")","v":""},{"$f":"IF(Data!$E10=30,Data!G10,IF(Data!F10<>\"\",Data!F10,\"\"))","v":""},{"$f":"IF(Data!$E10=30,Data!H10,\"\")","v":""},{"$f":"IF(Data!$E10=30,Data!I10,\"\")","v":""},{"$f":"IF(Data!$E10=30,Data!J10,IF(Data!G10<>\"\",Data!G10,\"\"))","v":""},{"$f":"IF(Data!$E10=30,Data!K10,\"\")","v":""},{"$f":"IF(Data!$E10=30,Data!L10,\"\")","v":""},{"$f":"IF(Data!$E10=30,Data!M10,IF(Data!H10<>\"\",Data!H10,\"\"))","v":""},{"$f":"IF(Data!$E10=30,Data!N10,\"\")","v":""},{"$f":"IF(Data!$E10=30,Data!O10,\"\")","v":""},{"$f":"IF(Data!$E10=30,Data!P10,IF(Data!I10<>\"\",Data!I10,\"\"))","v":""},{"$f":"IF(Data!$E10=30,Data!Q10,\"\")","v":""},{"$f":"IF(Data!$E10=30,Data!R10,\"\")","v":""},{"$f":"IF(Data!$E10=30,Data!S10,IF(Data!J10<>\"\",Data!J10,\"\"))","v":""},{"$f":"IF(Data!$E10=30,Data!T10,\"\")","v":""},{"$f":"IF(Data!$E10=30,Data!U10,\"\")","v":""},{"$f":"IF(Data!$E10=30,Data!V10,IF(Data!K10<>\"\",Data!K10,\"\"))","v":""},{"$f":"IF(Data!$E10=30,Data!W10,\"\")","v":""},{"$f":"IF(Data!$E10=30,Data!X10,\"\")","v":""},{"$f":"IF(Data!$E10=30,Data!Y10,IF(Data!L10<>\"\",Data!L10,\"\"))","v":""},{"$f":"IF(Data!$E10=30,Data!Z10,\"\")","v":""},{"$f":"IF(Data!$E10=30,Data!AA10,\"\")","v":""},{"$f":"IF(Data!$E10=30,Data!AB10,IF(Data!M10<>\"\",Data!M10,\"\"))","v":""},{"$f":"IF(Data!$E10=30,Data!AC10,\"\")","v":""},{"$f":"IF(Data!$E10=30,Data!AD10,\"\")","v":""},{"$f":"IF(Data!$E10=30,Data!AE10,IF(Data!N10<>\"\",Data!N10,\"\"))","v":""},{"$f":"IF(Data!$E10=30,Data!AF10,\"\")","v":""},{"$f":"IF(Data!$E10=30,Data!AG10,\"\")","v":""},{"$f":"IF(Data!$E10=30,Data!AH10,IF(Data!O10<>\"\",Data!O10,\"\"))","v":""},{"$f":"IF(Data!$E10=30,Data!AI10,\"\")","v":""},null,null,null,{"$f":"IF(Data!$E10=30,Data!AJ10,\"\")","v":""},{"$f":"IF(Data!$E10=30,Data!AK10,IF(Data!P10<>\"\",Data!P10,\"\"))","v":""},{"$f":"IF(Data!$E10=30,Data!AL10,\"\")","v":""},{"$f":"IF(Data!$E10=30,Data!AM10,\"\")","v":""},{"$f":"IF(Data!$E10=30,Data!AN10,IF(Data!Q10<>\"\",Data!Q10,\"\"))","v":""},{"$f":"IF(Data!$E10=30,Data!AO10,\"\")","v":""},{"$f":"IF(Data!$E10=30,Data!AP10,\"\")","v":""},{"$f":"IF(Data!$E10=30,Data!AQ10,IF(Data!R10<>\"\",Data!R10,\"\"))","v":""},{"$f":"IF(Data!$E10=30,Data!AR10,\"\")","v":""},{"$f":"IF(Data!$E10=30,Data!AS10,\"\")","v":""},{"$f":"IF(Data!$E10=30,Data!AT10,IF(Data!S10<>\"\",Data!S10,\"\"))","v":""},{"$f":"IF(Data!$E10=30,Data!AU10,\"\")","v":""},{"$f":"IF(Data!$E10=30,Data!AV10,\"\")","v":""},{"$f":"IF(Data!$E10=30,Data!AW10,IF(Data!T10<>\"\",Data!T10,\"\"))","v":""},{"$f":"IF(Data!$E10=30,Data!AX10,\"\")","v":""},{"$f":"IF(Data!$E10=30,Data!AY10,\"\")","v":""},{"$f":"IF(Data!$E10=30,Data!AZ10,IF(Data!U10<>\"\",Data!U10,\"\"))","v":""},{"$f":"IF(Data!$E10=30,Data!BA10,\"\")","v":""},{"$f":"IF(Data!$E10=30,Data!BB10,\"\")","v":""},{"$f":"IF(Data!$E10=30,Data!BC10,IF(Data!V10<>\"\",Data!V10,\"\"))","v":""},{"$f":"IF(Data!$E10=30,Data!BD10,\"\")","v":""},{"$f":"IF(Data!$E10=30,Data!BE10,\"\")","v":""},{"$f":"IF(Data!$E10=30,Data!BF10,IF(Data!W10<>\"\",Data!W10,\"\"))","v":""},{"$f":"IF(Data!$E10=30,Data!BG10,\"\")","v":""},{"$f":"IF(Data!$E10=30,Data!BH10,\"\")","v":""},{"$f":"IF(Data!$E10=30,Data!BI10,IF(Data!X10<>\"\",Data!X10,\"\"))","v":""},{"$f":"IF(Data!$E10=30,Data!BJ10,\"\")","v":""},{"$f":"IF(Data!$E10=30,Data!BK10,\"\")","v":""},{"$f":"IF(Data!$E10=30,Data!BL10,IF(Data!Y10<>\"\",Data!Y10,\"\"))","v":""},{"$f":"IF(Data!$E10=30,Data!BM10,\"\")","v":""}]
[null,{"$f":"IF(Data!A11<>\"\",Data!A11,\"\")","v":""},{"$f":"IF(Data!$E11=30,Data!F11,\"\")","v":""},{"$f":"IF(Data!$E11=30,Data!G11,IF(Data!F11<>\"\",Data!F11,\"\"))","v":""},{"$f":"IF(Data!$E11=30,Data!H11,\"\")","v":""},{"$f":"IF(Data!$E11=30,Data!I11,\"\")","v":""},{"$f":"IF(Data!$E11=30,Data!J11,IF(Data!G11<>\"\",Data!G11,\"\"))","v":""},{"$f":"IF(Data!$E11=30,Data!K11,\"\")","v":""},{"$f":"IF(Data!$E11=30,Data!L11,\"\")","v":""},{"$f":"IF(Data!$E11=30,Data!M11,IF(Data!H11<>\"\",Data!H11,\"\"))","v":""},{"$f":"IF(Data!$E11=30,Data!N11,\"\")","v":""},{"$f":"IF(Data!$E11=30,Data!O11,\"\")","v":""},{"$f":"IF(Data!$E11=30,Data!P11,IF(Data!I11<>\"\",Data!I11,\"\"))","v":""},{"$f":"IF(Data!$E11=30,Data!Q11,\"\")","v":""},{"$f":"IF(Data!$E11=30,Data!R11,\"\")","v":""},{"$f":"IF(Data!$E11=30,Data!S11,IF(Data!J11<>\"\",Data!J11,\"\"))","v":""},{"$f":"IF(Data!$E11=30,Data!T11,\"\")","v":""},{"$f":"IF(Data!$E11=30,Data!U11,\"\")","v":""},{"$f":"IF(Data!$E11=30,Data!V11,IF(Data!K11<>\"\",Data!K11,\"\"))","v":""},{"$f":"IF(Data!$E11=30,Data!W11,\"\")","v":""},{"$f":"IF(Data!$E11=30,Data!X11,\"\")","v":""},{"$f":"IF(Data!$E11=30,Data!Y11,IF(Data!L11<>\"\",Data!L11,\"\"))","v":""},{"$f":"IF(Data!$E11=30,Data!Z11,\"\")","v":""},{"$f":"IF(Data!$E11=30,Data!AA11,\"\")","v":""},{"$f":"IF(Data!$E11=30,Data!AB11,IF(Data!M11<>\"\",Data!M11,\"\"))","v":""},{"$f":"IF(Data!$E11=30,Data!AC11,\"\")","v":""},{"$f":"IF(Data!$E11=30,Data!AD11,\"\")","v":""},{"$f":"IF(Data!$E11=30,Data!AE11,IF(Data!N11<>\"\",Data!N11,\"\"))","v":""},{"$f":"IF(Data!$E11=30,Data!AF11,\"\")","v":""},{"$f":"IF(Data!$E11=30,Data!AG11,\"\")","v":""},{"$f":"IF(Data!$E11=30,Data!AH11,IF(Data!O11<>\"\",Data!O11,\"\"))","v":""},{"$f":"IF(Data!$E11=30,Data!AI11,\"\")","v":""},null,null,null,{"$f":"IF(Data!$E11=30,Data!AJ11,\"\")","v":""},{"$f":"IF(Data!$E11=30,Data!AK11,IF(Data!P11<>\"\",Data!P11,\"\"))","v":""},{"$f":"IF(Data!$E11=30,Data!AL11,\"\")","v":""},{"$f":"IF(Data!$E11=30,Data!AM11,\"\")","v":""},{"$f":"IF(Data!$E11=30,Data!AN11,IF(Data!Q11<>\"\",Data!Q11,\"\"))","v":""},{"$f":"IF(Data!$E11=30,Data!AO11,\"\")","v":""},{"$f":"IF(Data!$E11=30,Data!AP11,\"\")","v":""},{"$f":"IF(Data!$E11=30,Data!AQ11,IF(Data!R11<>\"\",Data!R11,\"\"))","v":""},{"$f":"IF(Data!$E11=30,Data!AR11,\"\")","v":""},{"$f":"IF(Data!$E11=30,Data!AS11,\"\")","v":""},{"$f":"IF(Data!$E11=30,Data!AT11,IF(Data!S11<>\"\",Data!S11,\"\"))","v":""},{"$f":"IF(Data!$E11=30,Data!AU11,\"\")","v":""},{"$f":"IF(Data!$E11=30,Data!AV11,\"\")","v":""},{"$f":"IF(Data!$E11=30,Data!AW11,IF(Data!T11<>\"\",Data!T11,\"\"))","v":""},{"$f":"IF(Data!$E11=30,Data!AX11,\"\")","v":""},{"$f":"IF(Data!$E11=30,Data!AY11,\"\")","v":""},{"$f":"IF(Data!$E11=30,Data!AZ11,IF(Data!U11<>\"\",Data!U11,\"\"))","v":""},{"$f":"IF(Data!$E11=30,Data!BA11,\"\")","v":""},{"$f":"IF(Data!$E11=30,Data!BB11,\"\")","v":""},{"$f":"IF(Data!$E11=30,Data!BC11,IF(Data!V11<>\"\",Data!V11,\"\"))","v":""},{"$f":"IF(Data!$E11=30,Data!BD11,\"\")","v":""},{"$f":"IF(Data!$E11=30,Data!BE11,\"\")","v":""},{"$f":"IF(Data!$E11=30,Data!BF11,IF(Data!W11<>\"\",Data!W11,\"\"))","v":""},{"$f":"IF(Data!$E11=30,Data!BG11,\"\")","v":""},{"$f":"IF(Data!$E11=30,Data!BH11,\"\")","v":""},{"$f":"IF(Data!$E11=30,Data!BI11,IF(Data!X11<>\"\",Data!X11,\"\"))","v":""},{"$f":"IF(Data!$E11=30,Data!BJ11,\"\")","v":""},{"$f":"IF(Data!$E11=30,Data!BK11,\"\")","v":""},{"$f":"IF(Data!$E11=30,Data!BL11,IF(Data!Y11<>\"\",Data!Y11,\"\"))","v":""},{"$f":"IF(Data!$E11=30,Data!BM11,\"\")","v":""}]
[null,{"$f":"IF(Data!A12<>\"\",Data!A12,\"\")","v":""},{"$f":"IF(Data!$E12=30,Data!F12,\"\")","v":""},{"$f":"IF(Data!$E12=30,Data!G12,IF(Data!F12<>\"\",Data!F12,\"\"))","v":""},{"$f":"IF(Data!$E12=30,Data!H12,\"\")","v":""},{"$f":"IF(Data!$E12=30,Data!I12,\"\")","v":""},{"$f":"IF(Data!$E12=30,Data!J12,IF(Data!G12<>\"\",Data!G12,\"\"))","v":""},{"$f":"IF(Data!$E12=30,Data!K12,\"\")","v":""},{"$f":"IF(Data!$E12=30,Data!L12,\"\")","v":""},{"$f":"IF(Data!$E12=30,Data!M12,IF(Data!H12<>\"\",Data!H12,\"\"))","v":""},{"$f":"IF(Data!$E12=30,Data!N12,\"\")","v":""},{"$f":"IF(Data!$E12=30,Data!O12,\"\")","v":""},{"$f":"IF(Data!$E12=30,Data!P12,IF(Data!I12<>\"\",Data!I12,\"\"))","v":""},{"$f":"IF(Data!$E12=30,Data!Q12,\"\")","v":""},{"$f":"IF(Data!$E12=30,Data!R12,\"\")","v":""},{"$f":"IF(Data!$E12=30,Data!S12,IF(Data!J12<>\"\",Data!J12,\"\"))","v":""},{"$f":"IF(Data!$E12=30,Data!T12,\"\")","v":""},{"$f":"IF(Data!$E12=30,Data!U12,\"\")","v":""},{"$f":"IF(Data!$E12=30,Data!V12,IF(Data!K12<>\"\",Data!K12,\"\"))","v":""},{"$f":"IF(Data!$E12=30,Data!W12,\"\")","v":""},{"$f":"IF(Data!$E12=30,Data!X12,\"\")","v":""},{"$f":"IF(Data!$E12=30,Data!Y12,IF(Data!L12<>\"\",Data!L12,\"\"))","v":""},{"$f":"IF(Data!$E12=30,Data!Z12,\"\")","v":""},{"$f":"IF(Data!$E12=30,Data!AA12,\"\")","v":""},{"$f":"IF(Data!$E12=30,Data!AB12,IF(Data!M12<>\"\",Data!M12,\"\"))","v":""},{"$f":"IF(Data!$E12=30,Data!AC12,\"\")","v":""},{"$f":"IF(Data!$E12=30,Data!AD12,\"\")","v":""},{"$f":"IF(Data!$E12=30,Data!AE12,IF(Data!N12<>\"\",Data!N12,\"\"))","v":""},{"$f":"IF(Data!$E12=30,Data!AF12,\"\")","v":""},{"$f":"IF(Data!$E12=30,Data!AG12,\"\")","v":""},{"$f":"IF(Data!$E12=30,Data!AH12,IF(Data!O12<>\"\",Data!O12,\"\"))","v":""},{"$f":"IF(Data!$E12=30,Data!AI12,\"\")","v":""},null,null,null,{"$f":"IF(Data!$E12=30,Data!AJ12,\"\")","v":""},{"$f":"IF(Data!$E12=30,Data!AK12,IF(Data!P12<>\"\",Data!P12,\"\"))","v":""},{"$f":"IF(Data!$E12=30,Data!AL12,\"\")","v":""},{"$f":"IF(Data!$E12=30,Data!AM12,\"\")","v":""},{"$f":"IF(Data!$E12=30,Data!AN12,IF(Data!Q12<>\"\",Data!Q12,\"\"))","v":""},{"$f":"IF(Data!$E12=30,Data!AO12,\"\")","v":""},{"$f":"IF(Data!$E12=30,Data!AP12,\"\")","v":""},{"$f":"IF(Data!$E12=30,Data!AQ12,IF(Data!R12<>\"\",Data!R12,\"\"))","v":""},{"$f":"IF(Data!$E12=30,Data!AR12,\"\")","v":""},{"$f":"IF(Data!$E12=30,Data!AS12,\"\")","v":""},{"$f":"IF(Data!$E12=30,Data!AT12,IF(Data!S12<>\"\",Data!S12,\"\"))","v":""},{"$f":"IF(Data!$E12=30,Data!AU12,\"\")","v":""},{"$f":"IF(Data!$E12=30,Data!AV12,\"\")","v":""},{"$f":"IF(Data!$E12=30,Data!AW12,IF(Data!T12<>\"\",Data!T12,\"\"))","v":""},{"$f":"IF(Data!$E12=30,Data!AX12,\"\")","v":""},{"$f":"IF(Data!$E12=30,Data!AY12,\"\")","v":""},{"$f":"IF(Data!$E12=30,Data!AZ12,IF(Data!U12<>\"\",Data!U12,\"\"))","v":""},{"$f":"IF(Data!$E12=30,Data!BA12,\"\")","v":""},{"$f":"IF(Data!$E12=30,Data!BB12,\"\")","v":""},{"$f":"IF(Data!$E12=30,Data!BC12,IF(Data!V12<>\"\",Data!V12,\"\"))","v":""},{"$f":"IF(Data!$E12=30,Data!BD12,\"\")","v":""},{"$f":"IF(Data!$E12=30,Data!BE12,\"\")","v":""},{"$f":"IF(Data!$E12=30,Data!BF12,IF(Data!W12<>\"\",Data!W12,\"\"))","v":""},{"$f":"IF(Data!$E12=30,Data!BG12,\"\")","v":""},{"$f":"IF(Data!$E12=30,Data!BH12,\"\")","v":""},{"$f":"IF(Data!$E12=30,Data!BI12,IF(Data!X12<>\"\",Data!X12,\"\"))","v":""},{"$f":"IF(Data!$E12=30,Data!BJ12,\"\")","v":""},{"$f":"IF(Data!$E12=30,Data!BK12,\"\")","v":""},{"$f":"IF(Data!$E12=30,Data!BL12,IF(Data!Y12<>\"\",Data!Y12,\"\"))","v":""},{"$f":"IF(Data!$E12=30,Data!BM12,\"\")","v":""}]
[null,{"$f":"IF(Data!A13<>\"\",Data!A13,\"\")","v":""},{"$f":"IF(Data!$E13=30,Data!F13,\"\")","v":""},{"$f":"IF(Data!$E13=30,Data!G13,IF(Data!F13<>\"\",Data!F13,\"\"))","v":""},{"$f":"IF(Data!$E13=30,Data!H13,\"\")","v":""},{"$f":"IF(Data!$E13=30,Data!I13,\"\")","v":""},{"$f":"IF(Data!$E13=30,Data!J13,IF(Data!G13<>\"\",Data!G13,\"\"))","v":""},{"$f":"IF(Data!$E13=30,Data!K13,\"\")","v":""},{"$f":"IF(Data!$E13=30,Data!L13,\"\")","v":""},{"$f":"IF(Data!$E13=30,Data!M13,IF(Data!H13<>\"\",Data!H13,\"\"))","v":""},{"$f":"IF(Data!$E13=30,Data!N13,\"\")","v":""},{"$f":"IF(Data!$E13=30,Data!O13,\"\")","v":""},{"$f":"IF(Data!$E13=30,Data!P13,IF(Data!I13<>\"\",Data!I13,\"\"))","v":""},{"$f":"IF(Data!$E13=30,Data!Q13,\"\")","v":""},{"$f":"IF(Data!$E13=30,Data!R13,\"\")","v":""},{"$f":"IF(Data!$E13=30,Data!S13,IF(Data!J13<>\"\",Data!J13,\"\"))","v":""},{"$f":"IF(Data!$E13=30,Data!T13,\"\")","v":""},{"$f":"IF(Data!$E13=30,Data!U13,\"\")","v":""},{"$f":"IF(Data!$E13=30,Data!V13,IF(Data!K13<>\"\",Data!K13,\"\"))","v":""},{"$f":"IF(Data!$E13=30,Data!W13,\"\")","v":""},{"$f":"IF(Data!$E13=30,Data!X13,\"\")","v":""},{"$f":"IF(Data!$E13=30,Data!Y13,IF(Data!L13<>\"\",Data!L13,\"\"))","v":""},{"$f":"IF(Data!$E13=30,Data!Z13,\"\")","v":""},{"$f":"IF(Data!$E13=30,Data!AA13,\"\")","v":""},{"$f":"IF(Data!$E13=30,Data!AB13,IF(Data!M13<>\"\",Data!M13,\"\"))","v":""},{"$f":"IF(Data!$E13=30,Data!AC13,\"\")","v":""},{"$f":"IF(Data!$E13=30,Data!AD13,\"\")","v":""},{"$f":"IF(Data!$E13=30,Data!AE13,IF(Data!N13<>\"\",Data!N13,\"\"))","v":""},{"$f":"IF(Data!$E13=30,Data!AF13,\"\")","v":""},{"$f":"IF(Data!$E13=30,Data!AG13,\"\")","v":""},{"$f":"IF(Data!$E13=30,Data!AH13,IF(Data!O13<>\"\",Data!O13,\"\"))","v":""},{"$f":"IF(Data!$E13=30,Data!AI13,\"\")","v":""},null,null,null,{"$f":"IF(Data!$E13=30,Data!AJ13,\"\")","v":""},{"$f":"IF(Data!$E13=30,Data!AK13,IF(Data!P13<>\"\",Data!P13,\"\"))","v":""},{"$f":"IF(Data!$E13=30,Data!AL13,\"\")","v":""},{"$f":"IF(Data!$E13=30,Data!AM13,\"\")","v":""},{"$f":"IF(Data!$E13=30,Data!AN13,IF(Data!Q13<>\"\",Data!Q13,\"\"))","v":""},{"$f":"IF(Data!$E13=30,Data!AO13,\"\")","v":""},{"$f":"IF(Data!$E13=30,Data!AP13,\"\")","v":""},{"$f":"IF(Data!$E13=30,Data!AQ13,IF(Data!R13<>\"\",Data!R13,\"\"))","v":""},{"$f":"IF(Data!$E13=30,Data!AR13,\"\")","v":""},{"$f":"IF(Data!$E13=30,Data!AS13,\"\")","v":""},{"$f":"IF(Data!$E13=30,Data!AT13,IF(Data!S13<>\"\",Data!S13,\"\"))","v":""},{"$f":"IF(Data!$E13=30,Data!AU13,\"\")","v":""},{"$f":"IF(Data!$E13=30,Data!AV13,\"\")","v":""},{"$f":"IF(Data!$E13=30,Data!AW13,IF(Data!T13<>\"\",Data!T13,\"\"))","v":""},{"$f":"IF(Data!$E13=30,Data!AX13,\"\")","v":""},{"$f":"IF(Data!$E13=30,Data!AY13,\"\")","v":""},{"$f":"IF(Data!$E13=30,Data!AZ13,IF(Data!U13<>\"\",Data!U13,\"\"))","v":""},{"$f":"IF(Data!$E13=30,Data!BA13,\"\")","v":""},{"$f":"IF(Data!$E13=30,Data!BB13,\"\")","v":""},{"$f":"IF(Data!$E13=30,Data!BC13,IF(Data!V13<>\"\",Data!V13,\"\"))","v":""},{"$f":"IF(Data!$E13=30,Data!BD13,\"\")","v":""},{"$f":"IF(Data!$E13=30,Data!BE13,\"\")","v":""},{"$f":"IF(Data!$E13=30,Data!BF13,IF(Data!W13<>\"\",Data!W13,\"\"))","v":""},{"$f":"IF(Data!$E13=30,Data!BG13,\"\")","v":""},{"$f":"IF(Data!$E13=30,Data!BH13,\"\")","v":""},{"$f":"IF(Data!$E13=30,Data!BI13,IF(Data!X13<>\"\",Data!X13,\"\"))","v":""},{"$f":"IF(Data!$E13=30,Data!BJ13,\"\")","v":""},{"$f":"IF(Data!$E13=30,Data!BK13,\"\")","v":""},{"$f":"IF(Data!$E13=30,Data!BL13,IF(Data!Y13<>\"\",Data!Y13,\"\"))","v":""},{"$f":"IF(Data!$E13=30,Data!BM13,\"\")","v":""}]
[null,{"$f":"IF(Data!A14<>\"\",Data!A14,\"\")","v":""},{"$f":"IF(Data!$E14=30,Data!F14,\"\")","v":""},{"$f":"IF(Data!$E14=30,Data!G14,IF(Data!F14<>\"\",Data!F14,\"\"))","v":""},{"$f":"IF(Data!$E14=30,Data!H14,\"\")","v":""},{"$f":"IF(Data!$E14=30,Data!I14,\"\")","v":""},{"$f":"IF(Data!$E14=30,Data!J14,IF(Data!G14<>\"\",Data!G14,\"\"))","v":""},{"$f":"IF(Data!$E14=30,Data!K14,\"\")","v":""},{"$f":"IF(Data!$E14=30,Data!L14,\"\")","v":""},{"$f":"IF(Data!$E14=30,Data!M14,IF(Data!H14<>\"\",Data!H14,\"\"))","v":""},{"$f":"IF(Data!$E14=30,Data!N14,\"\")","v":""},{"$f":"IF(Data!$E14=30,Data!O14,\"\")","v":""},{"$f":"IF(Data!$E14=30,Data!P14,IF(Data!I14<>\"\",Data!I14,\"\"))","v":""},{"$f":"IF(Data!$E14=30,Data!Q14,\"\")","v":""},{"$f":"IF(Data!$E14=30,Data!R14,\"\")","v":""},{"$f":"IF(Data!$E14=30,Data!S14,IF(Data!J14<>\"\",Data!J14,\"\"))","v":""},{"$f":"IF(Data!$E14=30,Data!T14,\"\")","v":""},{"$f":"IF(Data!$E14=30,Data!U14,\"\")","v":""},{"$f":"IF(Data!$E14=30,Data!V14,IF(Data!K14<>\"\",Data!K14,\"\"))","v":""},{"$f":"IF(Data!$E14=30,Data!W14,\"\")","v":""},{"$f":"IF(Data!$E14=30,Data!X14,\"\")","v":""},{"$f":"IF(Data!$E14=30,Data!Y14,IF(Data!L14<>\"\",Data!L14,\"\"))","v":""},{"$f":"IF(Data!$E14=30,Data!Z14,\"\")","v":""},{"$f":"IF(Data!$E14=30,Data!AA14,\"\")","v":""},{"$f":"IF(Data!$E14=30,Data!AB14,IF(Data!M14<>\"\",Data!M14,\"\"))","v":""},{"$f":"IF(Data!$E14=30,Data!AC14,\"\")","v":""},{"$f":"IF(Data!$E14=30,Data!AD14,\"\")","v":""},{"$f":"IF(Data!$E14=30,Data!AE14,IF(Data!N14<>\"\",Data!N14,\"\"))","v":""},{"$f":"IF(Data!$E14=30,Data!AF14,\"\")","v":""},{"$f":"IF(Data!$E14=30,Data!AG14,\"\")","v":""},{"$f":"IF(Data!$E14=30,Data!AH14,IF(Data!O14<>\"\",Data!O14,\"\"))","v":""},{"$f":"IF(Data!$E14=30,Data!AI14,\"\")","v":""},null,null,null,{"$f":"IF(Data!$E14=30,Data!AJ14,\"\")","v":""},{"$f":"IF(Data!$E14=30,Data!AK14,IF(Data!P14<>\"\",Data!P14,\"\"))","v":""},{"$f":"IF(Data!$E14=30,Data!AL14,\"\")","v":""},{"$f":"IF(Data!$E14=30,Data!AM14,\"\")","v":""},{"$f":"IF(Data!$E14=30,Data!AN14,IF(Data!Q14<>\"\",Data!Q14,\"\"))","v":""},{"$f":"IF(Data!$E14=30,Data!AO14,\"\")","v":""},{"$f":"IF(Data!$E14=30,Data!AP14,\"\")","v":""},{"$f":"IF(Data!$E14=30,Data!AQ14,IF(Data!R14<>\"\",Data!R14,\"\"))","v":""},{"$f":"IF(Data!$E14=30,Data!AR14,\"\")","v":""},{"$f":"IF(Data!$E14=30,Data!AS14,\"\")","v":""},{"$f":"IF(Data!$E14=30,Data!AT14,IF(Data!S14<>\"\",Data!S14,\"\"))","v":""},{"$f":"IF(Data!$E14=30,Data!AU14,\"\")","v":""},{"$f":"IF(Data!$E14=30,Data!AV14,\"\")","v":""},{"$f":"IF(Data!$E14=30,Data!AW14,IF(Data!T14<>\"\",Data!T14,\"\"))","v":""},{"$f":"IF(Data!$E14=30,Data!AX14,\"\")","v":""},{"$f":"IF(Data!$E14=30,Data!AY14,\"\")","v":""},{"$f":"IF(Data!$E14=30,Data!AZ14,IF(Data!U14<>\"\",Data!U14,\"\"))","v":""},{"$f":"IF(Data!$E14=30,Data!BA14,\"\")","v":""},{"$f":"IF(Data!$E14=30,Data!BB14,\"\")","v":""},{"$f":"IF(Data!$E14=30,Data!BC14,IF(Data!V14<>\"\",Data!V14,\"\"))","v":""},{"$f":"IF(Data!$E14=30,Data!BD14,\"\")","v":""},{"$f":"IF(Data!$E14=30,Data!BE14,\"\")","v":""},{"$f":"IF(Data!$E14=30,Data!BF14,IF(Data!W14<>\"\",Data!W14,\"\"))","v":""},{"$f":"IF(Data!$E14=30,Data!BG14,\"\")","v":""},{"$f":"IF(Data!$E14=30,Data!BH14,\"\")","v":""},{"$f":"IF(Data!$E14=30,Data!BI14,IF(Data!X14<>\"\",Data!X14,\"\"))","v":""},{"$f":"IF(Data!$E14=30,Data!BJ14,\"\")","v":""},{"$f":"IF(Data!$E14=30,Data!BK14,\"\")","v":""},{"$f":"IF(Data!$E14=30,Data!BL14,IF(Data!Y14<>\"\",Data!Y14,\"\"))","v":""},{"$f":"IF(Data!$E14=30,Data!BM14,\"\")","v":""}]
[null,{"$f":"IF(Data!A15<>\"\",Data!A15,\"\")","v":""},{"$f":"IF(Data!$E15=30,Data!F15,\"\")","v":""},{"$f":"IF(Data!$E15=30,Data!G15,IF(Data!F15<>\"\",Data!F15,\"\"))","v":""},{"$f":"IF(Data!$E15=30,Data!H15,\"\")","v":""},{"$f":"IF(Data!$E15=30,Data!I15,\"\")","v":""},{"$f":"IF(Data!$E15=30,Data!J15,IF(Data!G15<>\"\",Data!G15,\"\"))","v":""},{"$f":"IF(Data!$E15=30,Data!K15,\"\")","v":""},{"$f":"IF(Data!$E15=30,Data!L15,\"\")","v":""},{"$f":"IF(Data!$E15=30,Data!M15,IF(Data!H15<>\"\",Data!H15,\"\"))","v":""},{"$f":"IF(Data!$E15=30,Data!N15,\"\")","v":""},{"$f":"IF(Data!$E15=30,Data!O15,\"\")","v":""},{"$f":"IF(Data!$E15=30,Data!P15,IF(Data!I15<>\"\",Data!I15,\"\"))","v":""},{"$f":"IF(Data!$E15=30,Data!Q15,\"\")","v":""},{"$f":"IF(Data!$E15=30,Data!R15,\"\")","v":""},{"$f":"IF(Data!$E15=30,Data!S15,IF(Data!J15<>\"\",Data!J15,\"\"))","v":""},{"$f":"IF(Data!$E15=30,Data!T15,\"\")","v":""},{"$f":"IF(Data!$E15=30,Data!U15,\"\")","v":""},{"$f":"IF(Data!$E15=30,Data!V15,IF(Data!K15<>\"\",Data!K15,\"\"))","v":""},{"$f":"IF(Data!$E15=30,Data!W15,\"\")","v":""},{"$f":"IF(Data!$E15=30,Data!X15,\"\")","v":""},{"$f":"IF(Data!$E15=30,Data!Y15,IF(Data!L15<>\"\",Data!L15,\"\"))","v":""},{"$f":"IF(Data!$E15=30,Data!Z15,\"\")","v":""},{"$f":"IF(Data!$E15=30,Data!AA15,\"\")","v":""},{"$f":"IF(Data!$E15=30,Data!AB15,IF(Data!M15<>\"\",Data!M15,\"\"))","v":""},{"$f":"IF(Data!$E15=30,Data!AC15,\"\")","v":""},{"$f":"IF(Data!$E15=30,Data!AD15,\"\")","v":""},{"$f":"IF(Data!$E15=30,Data!AE15,IF(Data!N15<>\"\",Data!N15,\"\"))","v":""},{"$f":"IF(Data!$E15=30,Data!AF15,\"\")","v":""},{"$f":"IF(Data!$E15=30,Data!AG15,\"\")","v":""},{"$f":"IF(Data!$E15=30,Data!AH15,IF(Data!O15<>\"\",Data!O15,\"\"))","v":""},{"$f":"IF(Data!$E15=30,Data!AI15,\"\")","v":""},null,null,null,{"$f":"IF(Data!$E15=30,Data!AJ15,\"\")","v":""},{"$f":"IF(Data!$E15=30,Data!AK15,IF(Data!P15<>\"\",Data!P15,\"\"))","v":""},{"$f":"IF(Data!$E15=30,Data!AL15,\"\")","v":""},{"$f":"IF(Data!$E15=30,Data!AM15,\"\")","v":""},{"$f":"IF(Data!$E15=30,Data!AN15,IF(Data!Q15<>\"\",Data!Q15,\"\"))","v":""},{"$f":"IF(Data!$E15=30,Data!AO15,\"\")","v":""},{"$f":"IF(Data!$E15=30,Data!AP15,\"\")","v":""},{"$f":"IF(Data!$E15=30,Data!AQ15,IF(Data!R15<>\"\",Data!R15,\"\"))","v":""},{"$f":"IF(Data!$E15=30,Data!AR15,\"\")","v":""},{"$f":"IF(Data!$E15=30,Data!AS15,\"\")","v":""},{"$f":"IF(Data!$E15=30,Data!AT15,IF(Data!S15<>\"\",Data!S15,\"\"))","v":""},{"$f":"IF(Data!$E15=30,Data!AU15,\"\")","v":""},{"$f":"IF(Data!$E15=30,Data!AV15,\"\")","v":""},{"$f":"IF(Data!$E15=30,Data!AW15,IF(Data!T15<>\"\",Data!T15,\"\"))","v":""},{"$f":"IF(Data!$E15=30,Data!AX15,\"\")","v":""},{"$f":"IF(Data!$E15=30,Data!AY15,\"\")","v":""},{"$f":"IF(Data!$E15=30,Data!AZ15,IF(Data!U15<>\"\",Data!U15,\"\"))","v":""},{"$f":"IF(Data!$E15=30,Data!BA15,\"\")","v":""},{"$f":"IF(Data!$E15=30,Data!BB15,\"\")","v":""},{"$f":"IF(Data!$E15=30,Data!BC15,IF(Data!V15<>\"\",Data!V15,\"\"))","v":""},{"$f":"IF(Data!$E15=30,Data!BD15,\"\")","v":""},{"$f":"IF(Data!$E15=30,Data!BE15,\"\")","v":""},{"$f":"IF(Data!$E15=30,Data!BF15,IF(Data!W15<>\"\",Data!W15,\"\"))","v":""},{"$f":"IF(Data!$E15=30,Data!BG15,\"\")","v":""},{"$f":"IF(Data!$E15=30,Data!BH15,\"\")","v":""},{"$f":"IF(Data!$E15=30,Data!BI15,IF(Data!X15<>\"\",Data!X15,\"\"))","v":""},{"$f":"IF(Data!$E15=30,Data!BJ15,\"\")","v":""},{"$f":"IF(Data!$E15=30,Data!BK15,\"\")","v":""},{"$f":"IF(Data!$E15=30,Data!BL15,IF(Data!Y15<>\"\",Data!Y15,\"\"))","v":""},{"$f":"IF(Data!$E15=30,Data!BM15,\"\")","v":""}]
[null,{"$f":"IF(Data!A16<>\"\",Data!A16,\"\")","v":""},{"$f":"IF(Data!$E16=30,Data!F16,\"\")","v":""},{"$f":"IF(Data!$E16=30,Data!G16,IF(Data!F16<>\"\",Data!F16,\"\"))","v":""},{"$f":"IF(Data!$E16=30,Data!H16,\"\")","v":""},{"$f":"IF(Data!$E16=30,Data!I16,\"\")","v":""},{"$f":"IF(Data!$E16=30,Data!J16,IF(Data!G16<>\"\",Data!G16,\"\"))","v":""},{"$f":"IF(Data!$E16=30,Data!K16,\"\")","v":""},{"$f":"IF(Data!$E16=30,Data!L16,\"\")","v":""},{"$f":"IF(Data!$E16=30,Data!M16,IF(Data!H16<>\"\",Data!H16,\"\"))","v":""},{"$f":"IF(Data!$E16=30,Data!N16,\"\")","v":""},{"$f":"IF(Data!$E16=30,Data!O16,\"\")","v":""},{"$f":"IF(Data!$E16=30,Data!P16,IF(Data!I16<>\"\",Data!I16,\"\"))","v":""},{"$f":"IF(Data!$E16=30,Data!Q16,\"\")","v":""},{"$f":"IF(Data!$E16=30,Data!R16,\"\")","v":""},{"$f":"IF(Data!$E16=30,Data!S16,IF(Data!J16<>\"\",Data!J16,\"\"))","v":""},{"$f":"IF(Data!$E16=30,Data!T16,\"\")","v":""},{"$f":"IF(Data!$E16=30,Data!U16,\"\")","v":""},{"$f":"IF(Data!$E16=30,Data!V16,IF(Data!K16<>\"\",Data!K16,\"\"))","v":""},{"$f":"IF(Data!$E16=30,Data!W16,\"\")","v":""},{"$f":"IF(Data!$E16=30,Data!X16,\"\")","v":""},{"$f":"IF(Data!$E16=30,Data!Y16,IF(Data!L16<>\"\",Data!L16,\"\"))","v":""},{"$f":"IF(Data!$E16=30,Data!Z16,\"\")","v":""},{"$f":"IF(Data!$E16=30,Data!AA16,\"\")","v":""},{"$f":"IF(Data!$E16=30,Data!AB16,IF(Data!M16<>\"\",Data!M16,\"\"))","v":""},{"$f":"IF(Data!$E16=30,Data!AC16,\"\")","v":""},{"$f":"IF(Data!$E16=30,Data!AD16,\"\")","v":""},{"$f":"IF(Data!$E16=30,Data!AE16,IF(Data!N16<>\"\",Data!N16,\"\"))","v":""},{"$f":"IF(Data!$E16=30,Data!AF16,\"\")","v":""},{"$f":"IF(Data!$E16=30,Data!AG16,\"\")","v":""},{"$f":"IF(Data!$E16=30,Data!AH16,IF(Data!O16<>\"\",Data!O16,\"\"))","v":""},{"$f":"IF(Data!$E16=30,Data!AI16,\"\")","v":""},null,null,null,{"$f":"IF(Data!$E16=30,Data!AJ16,\"\")","v":""},{"$f":"IF(Data!$E16=30,Data!AK16,IF(Data!P16<>\"\",Data!P16,\"\"))","v":""},{"$f":"IF(Data!$E16=30,Data!AL16,\"\")","v":""},{"$f":"IF(Data!$E16=30,Data!AM16,\"\")","v":""},{"$f":"IF(Data!$E16=30,Data!AN16,IF(Data!Q16<>\"\",Data!Q16,\"\"))","v":""},{"$f":"IF(Data!$E16=30,Data!AO16,\"\")","v":""},{"$f":"IF(Data!$E16=30,Data!AP16,\"\")","v":""},{"$f":"IF(Data!$E16=30,Data!AQ16,IF(Data!R16<>\"\",Data!R16,\"\"))","v":""},{"$f":"IF(Data!$E16=30,Data!AR16,\"\")","v":""},{"$f":"IF(Data!$E16=30,Data!AS16,\"\")","v":""},{"$f":"IF(Data!$E16=30,Data!AT16,IF(Data!S16<>\"\",Data!S16,\"\"))","v":""},{"$f":"IF(Data!$E16=30,Data!AU16,\"\")","v":""},{"$f":"IF(Data!$E16=30,Data!AV16,\"\")","v":""},{"$f":"IF(Data!$E16=30,Data!AW16,IF(Data!T16<>\"\",Data!T16,\"\"))","v":""},{"$f":"IF(Data!$E16=30,Data!AX16,\"\")","v":""},{"$f":"IF(Data!$E16=30,Data!AY16,\"\")","v":""},{"$f":"IF(Data!$E16=30,Data!AZ16,IF(Data!U16<>\"\",Data!U16,\"\"))","v":""},{"$f":"IF(Data!$E16=30,Data!BA16,\"\")","v":""},{"$f":"IF(Data!$E16=30,Data!BB16,\"\")","v":""},{"$f":"IF(Data!$E16=30,Data!BC16,IF(Data!V16<>\"\",Data!V16,\"\"))","v":""},{"$f":"IF(Data!$E16=30,Data!BD16,\"\")","v":""},{"$f":"IF(Data!$E16=30,Data!BE16,\"\")","v":""},{"$f":"IF(Data!$E16=30,Data!BF16,IF(Data!W16<>\"\",Data!W16,\"\"))","v":""},{"$f":"IF(Data!$E16=30,Data!BG16,\"\")","v":""},{"$f":"IF(Data!$E16=30,Data!BH16,\"\")","v":""},{"$f":"IF(Data!$E16=30,Data!BI16,IF(Data!X16<>\"\",Data!X16,\"\"))","v":""},{"$f":"IF(Data!$E16=30,Data!BJ16,\"\")","v":""},{"$f":"IF(Data!$E16=30,Data!BK16,\"\")","v":""},{"$f":"IF(Data!$E16=30,Data!BL16,IF(Data!Y16<>\"\",Data!Y16,\"\"))","v":""},{"$f":"IF(Data!$E16=30,Data!BM16,\"\")","v":""}]
[null,{"$f":"IF(Data!A17<>\"\",Data!A17,\"\")","v":""},{"$f":"IF(Data!$E17=30,Data!F17,\"\")","v":""},{"$f":"IF(Data!$E17=30,Data!G17,IF(Data!F17<>\"\",Data!F17,\"\"))","v":""},{"$f":"IF(Data!$E17=30,Data!H17,\"\")","v":""},{"$f":"IF(Data!$E17=30,Data!I17,\"\")","v":""},{"$f":"IF(Data!$E17=30,Data!J17,IF(Data!G17<>\"\",Data!G17,\"\"))","v":""},{"$f":"IF(Data!$E17=30,Data!K17,\"\")","v":""},{"$f":"IF(Data!$E17=30,Data!L17,\"\")","v":""},{"$f":"IF(Data!$E17=30,Data!M17,IF(Data!H17<>\"\",Data!H17,\"\"))","v":""},{"$f":"IF(Data!$E17=30,Data!N17,\"\")","v":""},{"$f":"IF(Data!$E17=30,Data!O17,\"\")","v":""},{"$f":"IF(Data!$E17=30,Data!P17,IF(Data!I17<>\"\",Data!I17,\"\"))","v":""},{"$f":"IF(Data!$E17=30,Data!Q17,\"\")","v":""},{"$f":"IF(Data!$E17=30,Data!R17,\"\")","v":""},{"$f":"IF(Data!$E17=30,Data!S17,IF(Data!J17<>\"\",Data!J17,\"\"))","v":""},{"$f":"IF(Data!$E17=30,Data!T17,\"\")","v":""},{"$f":"IF(Data!$E17=30,Data!U17,\"\")","v":""},{"$f":"IF(Data!$E17=30,Data!V17,IF(Data!K17<>\"\",Data!K17,\"\"))","v":""},{"$f":"IF(Data!$E17=30,Data!W17,\"\")","v":""},{"$f":"IF(Data!$E17=30,Data!X17,\"\")","v":""},{"$f":"IF(Data!$E17=30,Data!Y17,IF(Data!L17<>\"\",Data!L17,\"\"))","v":""},{"$f":"IF(Data!$E17=30,Data!Z17,\"\")","v":""},{"$f":"IF(Data!$E17=30,Data!AA17,\"\")","v":""},{"$f":"IF(Data!$E17=30,Data!AB17,IF(Data!M17<>\"\",Data!M17,\"\"))","v":""},{"$f":"IF(Data!$E17=30,Data!AC17,\"\")","v":""},{"$f":"IF(Data!$E17=30,Data!AD17,\"\")","v":""},{"$f":"IF(Data!$E17=30,Data!AE17,IF(Data!N17<>\"\",Data!N17,\"\"))","v":""},{"$f":"IF(Data!$E17=30,Data!AF17,\"\")","v":""},{"$f":"IF(Data!$E17=30,Data!AG17,\"\")","v":""},{"$f":"IF(Data!$E17=30,Data!AH17,IF(Data!O17<>\"\",Data!O17,\"\"))","v":""},{"$f":"IF(Data!$E17=30,Data!AI17,\"\")","v":""},null,null,null,{"$f":"IF(Data!$E17=30,Data!AJ17,\"\")","v":""},{"$f":"IF(Data!$E17=30,Data!AK17,IF(Data!P17<>\"\",Data!P17,\"\"))","v":""},{"$f":"IF(Data!$E17=30,Data!AL17,\"\")","v":""},{"$f":"IF(Data!$E17=30,Data!AM17,\"\")","v":""},{"$f":"IF(Data!$E17=30,Data!AN17,IF(Data!Q17<>\"\",Data!Q17,\"\"))","v":""},{"$f":"IF(Data!$E17=30,Data!AO17,\"\")","v":""},{"$f":"IF(Data!$E17=30,Data!AP17,\"\")","v":""},{"$f":"IF(Data!$E17=30,Data!AQ17,IF(Data!R17<>\"\",Data!R17,\"\"))","v":""},{"$f":"IF(Data!$E17=30,Data!AR17,\"\")","v":""},{"$f":"IF(Data!$E17=30,Data!AS17,\"\")","v":""},{"$f":"IF(Data!$E17=30,Data!AT17,IF(Data!S17<>\"\",Data!S17,\"\"))","v":""},{"$f":"IF(Data!$E17=30,Data!AU17,\"\")","v":""},{"$f":"IF(Data!$E17=30,Data!AV17,\"\")","v":""},{"$f":"IF(Data!$E17=30,Data!AW17,IF(Data!T17<>\"\",Data!T17,\"\"))","v":""},{"$f":"IF(Data!$E17=30,Data!AX17,\"\")","v":""},{"$f":"IF(Data!$E17=30,Data!AY17,\"\")","v":""},{"$f":"IF(Data!$E17=30,Data!AZ17,IF(Data!U17<>\"\",Data!U17,\"\"))","v":""},{"$f":"IF(Data!$E17=30,Data!BA17,\"\")","v":""},{"$f":"IF(Data!$E17=30,Data!BB17,\"\")","v":""},{"$f":"IF(Data!$E17=30,Data!BC17,IF(Data!V17<>\"\",Data!V17,\"\"))","v":""},{"$f":"IF(Data!$E17=30,Data!BD17,\"\")","v":""},{"$f":"IF(Data!$E17=30,Data!BE17,\"\")","v":""},{"$f":"IF(Data!$E17=30,Data!BF17,IF(Data!W17<>\"\",Data!W17,\"\"))","v":""},{"$f":"IF(Data!$E17=30,Data!BG17,\"\")","v":""},{"$f":"IF(Data!$E17=30,Data!BH17,\"\")","v":""},{"$f":"IF(Data!$E17=30,Data!BI17,IF(Data!X17<>\"\",Data!X17,\"\"))","v":""},{"$f":"IF(Data!$E17=30,Data!BJ17,\"\")","v":""},{"$f":"IF(Data!$E17=30,Data!BK17,\"\")","v":""},{"$f":"IF(Data!$E17=30,Data!BL17,IF(Data!Y17<>\"\",Data!Y17,\"\"))","v":""},{"$f":"IF(Data!$E17=30,Data!BM17,\"\")","v":""}]
[null,{"$f":"IF(Data!A18<>\"\",Data!A18,\"\")","v":""},{"$f":"IF(Data!$E18=30,Data!F18,\"\")","v":""},{"$f":"IF(Data!$E18=30,Data!G18,IF(Data!F18<>\"\",Data!F18,\"\"))","v":""},{"$f":"IF(Data!$E18=30,Data!H18,\"\")","v":""},{"$f":"IF(Data!$E18=30,Data!I18,\"\")","v":""},{"$f":"IF(Data!$E18=30,Data!J18,IF(Data!G18<>\"\",Data!G18,\"\"))","v":""},{"$f":"IF(Data!$E18=30,Data!K18,\"\")","v":""},{"$f":"IF(Data!$E18=30,Data!L18,\"\")","v":""},{"$f":"IF(Data!$E18=30,Data!M18,IF(Data!H18<>\"\",Data!H18,\"\"))","v":""},{"$f":"IF(Data!$E18=30,Data!N18,\"\")","v":""},{"$f":"IF(Data!$E18=30,Data!O18,\"\")","v":""},{"$f":"IF(Data!$E18=30,Data!P18,IF(Data!I18<>\"\",Data!I18,\"\"))","v":""},{"$f":"IF(Data!$E18=30,Data!Q18,\"\")","v":""},{"$f":"IF(Data!$E18=30,Data!R18,\"\")","v":""},{"$f":"IF(Data!$E18=30,Data!S18,IF(Data!J18<>\"\",Data!J18,\"\"))","v":""},{"$f":"IF(Data!$E18=30,Data!T18,\"\")","v":""},{"$f":"IF(Data!$E18=30,Data!U18,\"\")","v":""},{"$f":"IF(Data!$E18=30,Data!V18,IF(Data!K18<>\"\",Data!K18,\"\"))","v":""},{"$f":"IF(Data!$E18=30,Data!W18,\"\")","v":""},{"$f":"IF(Data!$E18=30,Data!X18,\"\")","v":""},{"$f":"IF(Data!$E18=30,Data!Y18,IF(Data!L18<>\"\",Data!L18,\"\"))","v":""},{"$f":"IF(Data!$E18=30,Data!Z18,\"\")","v":""},{"$f":"IF(Data!$E18=30,Data!AA18,\"\")","v":""},{"$f":"IF(Data!$E18=30,Data!AB18,IF(Data!M18<>\"\",Data!M18,\"\"))","v":""},{"$f":"IF(Data!$E18=30,Data!AC18,\"\")","v":""},{"$f":"IF(Data!$E18=30,Data!AD18,\"\")","v":""},{"$f":"IF(Data!$E18=30,Data!AE18,IF(Data!N18<>\"\",Data!N18,\"\"))","v":""},{"$f":"IF(Data!$E18=30,Data!AF18,\"\")","v":""},{"$f":"IF(Data!$E18=30,Data!AG18,\"\")","v":""},{"$f":"IF(Data!$E18=30,Data!AH18,IF(Data!O18<>\"\",Data!O18,\"\"))","v":""},{"$f":"IF(Data!$E18=30,Data!AI18,\"\")","v":""},null,null,null,{"$f":"IF(Data!$E18=30,Data!AJ18,\"\")","v":""},{"$f":"IF(Data!$E18=30,Data!AK18,IF(Data!P18<>\"\",Data!P18,\"\"))","v":""},{"$f":"IF(Data!$E18=30,Data!AL18,\"\")","v":""},{"$f":"IF(Data!$E18=30,Data!AM18,\"\")","v":""},{"$f":"IF(Data!$E18=30,Data!AN18,IF(Data!Q18<>\"\",Data!Q18,\"\"))","v":""},{"$f":"IF(Data!$E18=30,Data!AO18,\"\")","v":""},{"$f":"IF(Data!$E18=30,Data!AP18,\"\")","v":""},{"$f":"IF(Data!$E18=30,Data!AQ18,IF(Data!R18<>\"\",Data!R18,\"\"))","v":""},{"$f":"IF(Data!$E18=30,Data!AR18,\"\")","v":""},{"$f":"IF(Data!$E18=30,Data!AS18,\"\")","v":""},{"$f":"IF(Data!$E18=30,Data!AT18,IF(Data!S18<>\"\",Data!S18,\"\"))","v":""},{"$f":"IF(Data!$E18=30,Data!AU18,\"\")","v":""},{"$f":"IF(Data!$E18=30,Data!AV18,\"\")","v":""},{"$f":"IF(Data!$E18=30,Data!AW18,IF(Data!T18<>\"\",Data!T18,\"\"))","v":""},{"$f":"IF(Data!$E18=30,Data!AX18,\"\")","v":""},{"$f":"IF(Data!$E18=30,Data!AY18,\"\")","v":""},{"$f":"IF(Data!$E18=30,Data!AZ18,IF(Data!U18<>\"\",Data!U18,\"\"))","v":""},{"$f":"IF(Data!$E18=30,Data!BA18,\"\")","v":""},{"$f":"IF(Data!$E18=30,Data!BB18,\"\")","v":""},{"$f":"IF(Data!$E18=30,Data!BC18,IF(Data!V18<>\"\",Data!V18,\"\"))","v":""},{"$f":"IF(Data!$E18=30,Data!BD18,\"\")","v":""},{"$f":"IF(Data!$E18=30,Data!BE18,\"\")","v":""},{"$f":"IF(Data!$E18=30,Data!BF18,IF(Data!W18<>\"\",Data!W18,\"\"))","v":""},{"$f":"IF(Data!$E18=30,Data!BG18,\"\")","v":""},{"$f":"IF(Data!$E18=30,Data!BH18,\"\")","v":""},{"$f":"IF(Data!$E18=30,Data!BI18,IF(Data!X18<>\"\",Data!X18,\"\"))","v":""},{"$f":"IF(Data!$E18=30,Data!BJ18,\"\")","v":""},{"$f":"IF(Data!$E18=30,Data!BK18,\"\")","v":""},{"$f":"IF(Data!$E18=30,Data!BL18,IF(Data!Y18<>\"\",Data!Y18,\"\"))","v":""},{"$f":"IF(Data!$E18=30,Data!BM18,\"\")","v":""}]
[null,{"$f":"IF(Data!A19<>\"\",Data!A19,\"\")","v":""},{"$f":"IF(Data!$E19=30,Data!F19,\"\")","v":""},{"$f":"IF(Data!$E19=30,Data!G19,IF(Data!F19<>\"\",Data!F19,\"\"))","v":""},{"$f":"IF(Data!$E19=30,Data!H19,\"\")","v":""},{"$f":"IF(Data!$E19=30,Data!I19,\"\")","v":""},{"$f":"IF(Data!$E19=30,Data!J19,IF(Data!G19<>\"\",Data!G19,\"\"))","v":""},{"$f":"IF(Data!$E19=30,Data!K19,\"\")","v":""},{"$f":"IF(Data!$E19=30,Data!L19,\"\")","v":""},{"$f":"IF(Data!$E19=30,Data!M19,IF(Data!H19<>\"\",Data!H19,\"\"))","v":""},{"$f":"IF(Data!$E19=30,Data!N19,\"\")","v":""},{"$f":"IF(Data!$E19=30,Data!O19,\"\")","v":""},{"$f":"IF(Data!$E19=30,Data!P19,IF(Data!I19<>\"\",Data!I19,\"\"))","v":""},{"$f":"IF(Data!$E19=30,Data!Q19,\"\")","v":""},{"$f":"IF(Data!$E19=30,Data!R19,\"\")","v":""},{"$f":"IF(Data!$E19=30,Data!S19,IF(Data!J19<>\"\",Data!J19,\"\"))","v":""},{"$f":"IF(Data!$E19=30,Data!T19,\"\")","v":""},{"$f":"IF(Data!$E19=30,Data!U19,\"\")","v":""},{"$f":"IF(Data!$E19=30,Data!V19,IF(Data!K19<>\"\",Data!K19,\"\"))","v":""},{"$f":"IF(Data!$E19=30,Data!W19,\"\")","v":""},{"$f":"IF(Data!$E19=30,Data!X19,\"\")","v":""},{"$f":"IF(Data!$E19=30,Data!Y19,IF(Data!L19<>\"\",Data!L19,\"\"))","v":""},{"$f":"IF(Data!$E19=30,Data!Z19,\"\")","v":""},{"$f":"IF(Data!$E19=30,Data!AA19,\"\")","v":""},{"$f":"IF(Data!$E19=30,Data!AB19,IF(Data!M19<>\"\",Data!M19,\"\"))","v":""},{"$f":"IF(Data!$E19=30,Data!AC19,\"\")","v":""},{"$f":"IF(Data!$E19=30,Data!AD19,\"\")","v":""},{"$f":"IF(Data!$E19=30,Data!AE19,IF(Data!N19<>\"\",Data!N19,\"\"))","v":""},{"$f":"IF(Data!$E19=30,Data!AF19,\"\")","v":""},{"$f":"IF(Data!$E19=30,Data!AG19,\"\")","v":""},{"$f":"IF(Data!$E19=30,Data!AH19,IF(Data!O19<>\"\",Data!O19,\"\"))","v":""},{"$f":"IF(Data!$E19=30,Data!AI19,\"\")","v":""},null,null,null,{"$f":"IF(Data!$E19=30,Data!AJ19,\"\")","v":""},{"$f":"IF(Data!$E19=30,Data!AK19,IF(Data!P19<>\"\",Data!P19,\"\"))","v":""},{"$f":"IF(Data!$E19=30,Data!AL19,\"\")","v":""},{"$f":"IF(Data!$E19=30,Data!AM19,\"\")","v":""},{"$f":"IF(Data!$E19=30,Data!AN19,IF(Data!Q19<>\"\",Data!Q19,\"\"))","v":""},{"$f":"IF(Data!$E19=30,Data!AO19,\"\")","v":""},{"$f":"IF(Data!$E19=30,Data!AP19,\"\")","v":""},{"$f":"IF(Data!$E19=30,Data!AQ19,IF(Data!R19<>\"\",Data!R19,\"\"))","v":""},{"$f":"IF(Data!$E19=30,Data!AR19,\"\")","v":""},{"$f":"IF(Data!$E19=30,Data!AS19,\"\")","v":""},{"$f":"IF(Data!$E19=30,Data!AT19,IF(Data!S19<>\"\",Data!S19,\"\"))","v":""},{"$f":"IF(Data!$E19=30,Data!AU19,\"\")","v":""},{"$f":"IF(Data!$E19=30,Data!AV19,\"\")","v":""},{"$f":"IF(Data!$E19=30,Data!AW19,IF(Data!T19<>\"\",Data!T19,\"\"))","v":""},{"$f":"IF(Data!$E19=30,Data!AX19,\"\")","v":""},{"$f":"IF(Data!$E19=30,Data!AY19,\"\")","v":""},{"$f":"IF(Data!$E19=30,Data!AZ19,IF(Data!U19<>\"\",Data!U19,\"\"))","v":""},{"$f":"IF(Data!$E19=30,Data!BA19,\"\")","v":""},{"$f":"IF(Data!$E19=30,Data!BB19,\"\")","v":""},{"$f":"IF(Data!$E19=30,Data!BC19,IF(Data!V19<>\"\",Data!V19,\"\"))","v":""},{"$f":"IF(Data!$E19=30,Data!BD19,\"\")","v":""},{"$f":"IF(Data!$E19=30,Data!BE19,\"\")","v":""},{"$f":"IF(Data!$E19=30,Data!BF19,IF(Data!W19<>\"\",Data!W19,\"\"))","v":""},{"$f":"IF(Data!$E19=30,Data!BG19,\"\")","v":""},{"$f":"IF(Data!$E19=30,Data!BH19,\"\")","v":""},{"$f":"IF(Data!$E19=30,Data!BI19,IF(Data!X19<>\"\",Data!X19,\"\"))","v":""},{"$f":"IF(Data!$E19=30,Data!BJ19,\"\")","v":""},{"$f":"IF(Data!$E19=30,Data!BK19,\"\")","v":""},{"$f":"IF(Data!$E19=30,Data!BL19,IF(Data!Y19<>\"\",Data!Y19,\"\"))","v":""},{"$f":"IF(Data!$E19=30,Data!BM19,\"\")","v":""}]
[null,{"$f":"IF(Data!A20<>\"\",Data!A20,\"\")","v":""},{"$f":"IF(Data!$E20=30,Data!F20,\"\")","v":""},{"$f":"IF(Data!$E20=30,Data!G20,IF(Data!F20<>\"\",Data!F20,\"\"))","v":""},{"$f":"IF(Data!$E20=30,Data!H20,\"\")","v":""},{"$f":"IF(Data!$E20=30,Data!I20,\"\")","v":""},{"$f":"IF(Data!$E20=30,Data!J20,IF(Data!G20<>\"\",Data!G20,\"\"))","v":""},{"$f":"IF(Data!$E20=30,Data!K20,\"\")","v":""},{"$f":"IF(Data!$E20=30,Data!L20,\"\")","v":""},{"$f":"IF(Data!$E20=30,Data!M20,IF(Data!H20<>\"\",Data!H20,\"\"))","v":""},{"$f":"IF(Data!$E20=30,Data!N20,\"\")","v":""},{"$f":"IF(Data!$E20=30,Data!O20,\"\")","v":""},{"$f":"IF(Data!$E20=30,Data!P20,IF(Data!I20<>\"\",Data!I20,\"\"))","v":""},{"$f":"IF(Data!$E20=30,Data!Q20,\"\")","v":""},{"$f":"IF(Data!$E20=30,Data!R20,\"\")","v":""},{"$f":"IF(Data!$E20=30,Data!S20,IF(Data!J20<>\"\",Data!J20,\"\"))","v":""},{"$f":"IF(Data!$E20=30,Data!T20,\"\")","v":""},{"$f":"IF(Data!$E20=30,Data!U20,\"\")","v":""},{"$f":"IF(Data!$E20=30,Data!V20,IF(Data!K20<>\"\",Data!K20,\"\"))","v":""},{"$f":"IF(Data!$E20=30,Data!W20,\"\")","v":""},{"$f":"IF(Data!$E20=30,Data!X20,\"\")","v":""},{"$f":"IF(Data!$E20=30,Data!Y20,IF(Data!L20<>\"\",Data!L20,\"\"))","v":""},{"$f":"IF(Data!$E20=30,Data!Z20,\"\")","v":""},{"$f":"IF(Data!$E20=30,Data!AA20,\"\")","v":""},{"$f":"IF(Data!$E20=30,Data!AB20,IF(Data!M20<>\"\",Data!M20,\"\"))","v":""},{"$f":"IF(Data!$E20=30,Data!AC20,\"\")","v":""},{"$f":"IF(Data!$E20=30,Data!AD20,\"\")","v":""},{"$f":"IF(Data!$E20=30,Data!AE20,IF(Data!N20<>\"\",Data!N20,\"\"))","v":""},{"$f":"IF(Data!$E20=30,Data!AF20,\"\")","v":""},{"$f":"IF(Data!$E20=30,Data!AG20,\"\")","v":""},{"$f":"IF(Data!$E20=30,Data!AH20,IF(Data!O20<>\"\",Data!O20,\"\"))","v":""},{"$f":"IF(Data!$E20=30,Data!AI20,\"\")","v":""},null,null,null,{"$f":"IF(Data!$E20=30,Data!AJ20,\"\")","v":""},{"$f":"IF(Data!$E20=30,Data!AK20,IF(Data!P20<>\"\",Data!P20,\"\"))","v":""},{"$f":"IF(Data!$E20=30,Data!AL20,\"\")","v":""},{"$f":"IF(Data!$E20=30,Data!AM20,\"\")","v":""},{"$f":"IF(Data!$E20=30,Data!AN20,IF(Data!Q20<>\"\",Data!Q20,\"\"))","v":""},{"$f":"IF(Data!$E20=30,Data!AO20,\"\")","v":""},{"$f":"IF(Data!$E20=30,Data!AP20,\"\")","v":""},{"$f":"IF(Data!$E20=30,Data!AQ20,IF(Data!R20<>\"\",Data!R20,\"\"))","v":""},{"$f":"IF(Data!$E20=30,Data!AR20,\"\")","v":""},{"$f":"IF(Data!$E20=30,Data!AS20,\"\")","v":""},{"$f":"IF(Data!$E20=30,Data!AT20,IF(Data!S20<>\"\",Data!S20,\"\"))","v":""},{"$f":"IF(Data!$E20=30,Data!AU20,\"\")","v":""},{"$f":"IF(Data!$E20=30,Data!AV20,\"\")","v":""},{"$f":"IF(Data!$E20=30,Data!AW20,IF(Data!T20<>\"\",Data!T20,\"\"))","v":""},{"$f":"IF(Data!$E20=30,Data!AX20,\"\")","v":""},{"$f":"IF(Data!$E20=30,Data!AY20,\"\")","v":""},{"$f":"IF(Data!$E20=30,Data!AZ20,IF(Data!U20<>\"\",Data!U20,\"\"))","v":""},{"$f":"IF(Data!$E20=30,Data!BA20,\"\")","v":""},{"$f":"IF(Data!$E20=30,Data!BB20,\"\")","v":""},{"$f":"IF(Data!$E20=30,Data!BC20,IF(Data!V20<>\"\",Data!V20,\"\"))","v":""},{"$f":"IF(Data!$E20=30,Data!BD20,\"\")","v":""},{"$f":"IF(Data!$E20=30,Data!BE20,\"\")","v":""},{"$f":"IF(Data!$E20=30,Data!BF20,IF(Data!W20<>\"\",Data!W20,\"\"))","v":""},{"$f":"IF(Data!$E20=30,Data!BG20,\"\")","v":""},{"$f":"IF(Data!$E20=30,Data!BH20,\"\")","v":""},{"$f":"IF(Data!$E20=30,Data!BI20,IF(Data!X20<>\"\",Data!X20,\"\"))","v":""},{"$f":"IF(Data!$E20=30,Data!BJ20,\"\")","v":""},{"$f":"IF(Data!$E20=30,Data!BK20,\"\")","v":""},{"$f":"IF(Data!$E20=30,Data!BL20,IF(Data!Y20<>\"\",Data!Y20,\"\"))","v":""},{"$f":"IF(Data!$E20=30,Data!BM20,\"\")","v":""}]
[null,{"$f":"IF(Data!A21<>\"\",Data!A21,\"\")","v":""},{"$f":"IF(Data!$E21=30,Data!F21,\"\")","v":""},{"$f":"IF(Data!$E21=30,Data!G21,IF(Data!F21<>\"\",Data!F21,\"\"))","v":""},{"$f":"IF(Data!$E21=30,Data!H21,\"\")","v":""},{"$f":"IF(Data!$E21=30,Data!I21,\"\")","v":""},{"$f":"IF(Data!$E21=30,Data!J21,IF(Data!G21<>\"\",Data!G21,\"\"))","v":""},{"$f":"IF(Data!$E21=30,Data!K21,\"\")","v":""},{"$f":"IF(Data!$E21=30,Data!L21,\"\")","v":""},{"$f":"IF(Data!$E21=30,Data!M21,IF(Data!H21<>\"\",Data!H21,\"\"))","v":""},{"$f":"IF(Data!$E21=30,Data!N21,\"\")","v":""},{"$f":"IF(Data!$E21=30,Data!O21,\"\")","v":""},{"$f":"IF(Data!$E21=30,Data!P21,IF(Data!I21<>\"\",Data!I21,\"\"))","v":""},{"$f":"IF(Data!$E21=30,Data!Q21,\"\")","v":""},{"$f":"IF(Data!$E21=30,Data!R21,\"\")","v":""},{"$f":"IF(Data!$E21=30,Data!S21,IF(Data!J21<>\"\",Data!J21,\"\"))","v":""},{"$f":"IF(Data!$E21=30,Data!T21,\"\")","v":""},{"$f":"IF(Data!$E21=30,Data!U21,\"\")","v":""},{"$f":"IF(Data!$E21=30,Data!V21,IF(Data!K21<>\"\",Data!K21,\"\"))","v":""},{"$f":"IF(Data!$E21=30,Data!W21,\"\")","v":""},{"$f":"IF(Data!$E21=30,Data!X21,\"\")","v":""},{"$f":"IF(Data!$E21=30,Data!Y21,IF(Data!L21<>\"\",Data!L21,\"\"))","v":""},{"$f":"IF(Data!$E21=30,Data!Z21,\"\")","v":""},{"$f":"IF(Data!$E21=30,Data!AA21,\"\")","v":""},{"$f":"IF(Data!$E21=30,Data!AB21,IF(Data!M21<>\"\",Data!M21,\"\"))","v":""},{"$f":"IF(Data!$E21=30,Data!AC21,\"\")","v":""},{"$f":"IF(Data!$E21=30,Data!AD21,\"\")","v":""},{"$f":"IF(Data!$E21=30,Data!AE21,IF(Data!N21<>\"\",Data!N21,\"\"))","v":""},{"$f":"IF(Data!$E21=30,Data!AF21,\"\")","v":""},{"$f":"IF(Data!$E21=30,Data!AG21,\"\")","v":""},{"$f":"IF(Data!$E21=30,Data!AH21,IF(Data!O21<>\"\",Data!O21,\"\"))","v":""},{"$f":"IF(Data!$E21=30,Data!AI21,\"\")","v":""},null,null,null,{"$f":"IF(Data!$E21=30,Data!AJ21,\"\")","v":""},{"$f":"IF(Data!$E21=30,Data!AK21,IF(Data!P21<>\"\",Data!P21,\"\"))","v":""},{"$f":"IF(Data!$E21=30,Data!AL21,\"\")","v":""},{"$f":"IF(Data!$E21=30,Data!AM21,\"\")","v":""},{"$f":"IF(Data!$E21=30,Data!AN21,IF(Data!Q21<>\"\",Data!Q21,\"\"))","v":""},{"$f":"IF(Data!$E21=30,Data!AO21,\"\")","v":""},{"$f":"IF(Data!$E21=30,Data!AP21,\"\")","v":""},{"$f":"IF(Data!$E21=30,Data!AQ21,IF(Data!R21<>\"\",Data!R21,\"\"))","v":""},{"$f":"IF(Data!$E21=30,Data!AR21,\"\")","v":""},{"$f":"IF(Data!$E21=30,Data!AS21,\"\")","v":""},{"$f":"IF(Data!$E21=30,Data!AT21,IF(Data!S21<>\"\",Data!S21,\"\"))","v":""},{"$f":"IF(Data!$E21=30,Data!AU21,\"\")","v":""},{"$f":"IF(Data!$E21=30,Data!AV21,\"\")","v":""},{"$f":"IF(Data!$E21=30,Data!AW21,IF(Data!T21<>\"\",Data!T21,\"\"))","v":""},{"$f":"IF(Data!$E21=30,Data!AX21,\"\")","v":""},{"$f":"IF(Data!$E21=30,Data!AY21,\"\")","v":""},{"$f":"IF(Data!$E21=30,Data!AZ21,IF(Data!U21<>\"\",Data!U21,\"\"))","v":""},{"$f":"IF(Data!$E21=30,Data!BA21,\"\")","v":""},{"$f":"IF(Data!$E21=30,Data!BB21,\"\")","v":""},{"$f":"IF(Data!$E21=30,Data!BC21,IF(Data!V21<>\"\",Data!V21,\"\"))","v":""},{"$f":"IF(Data!$E21=30,Data!BD21,\"\")","v":""},{"$f":"IF(Data!$E21=30,Data!BE21,\"\")","v":""},{"$f":"IF(Data!$E21=30,Data!BF21,IF(Data!W21<>\"\",Data!W21,\"\"))","v":""},{"$f":"IF(Data!$E21=30,Data!BG21,\"\")","v":""},{"$f":"IF(Data!$E21=30,Data!BH21,\"\")","v":""},{"$f":"IF(Data!$E21=30,Data!BI21,IF(Data!X21<>\"\",Data!X21,\"\"))","v":""},{"$f":"IF(Data!$E21=30,Data!BJ21,\"\")","v":""},{"$f":"IF(Data!$E21=30,Data!BK21,\"\")","v":""},{"$f":"IF(Data!$E21=30,Data!BL21,IF(Data!Y21<>\"\",Data!Y21,\"\"))","v":""},{"$f":"IF(Data!$E21=30,Data!BM21,\"\")","v":""}]
[null,{"$f":"IF(Data!A22<>\"\",Data!A22,\"\")","v":""},{"$f":"IF(Data!$E22=30,Data!F22,\"\")","v":""},{"$f":"IF(Data!$E22=30,Data!G22,IF(Data!F22<>\"\",Data!F22,\"\"))","v":""},{"$f":"IF(Data!$E22=30,Data!H22,\"\")","v":""},{"$f":"IF(Data!$E22=30,Data!I22,\"\")","v":""},{"$f":"IF(Data!$E22=30,Data!J22,IF(Data!G22<>\"\",Data!G22,\"\"))","v":""},{"$f":"IF(Data!$E22=30,Data!K22,\"\")","v":""},{"$f":"IF(Data!$E22=30,Data!L22,\"\")","v":""},{"$f":"IF(Data!$E22=30,Data!M22,IF(Data!H22<>\"\",Data!H22,\"\"))","v":""},{"$f":"IF(Data!$E22=30,Data!N22,\"\")","v":""},{"$f":"IF(Data!$E22=30,Data!O22,\"\")","v":""},{"$f":"IF(Data!$E22=30,Data!P22,IF(Data!I22<>\"\",Data!I22,\"\"))","v":""},{"$f":"IF(Data!$E22=30,Data!Q22,\"\")","v":""},{"$f":"IF(Data!$E22=30,Data!R22,\"\")","v":""},{"$f":"IF(Data!$E22=30,Data!S22,IF(Data!J22<>\"\",Data!J22,\"\"))","v":""},{"$f":"IF(Data!$E22=30,Data!T22,\"\")","v":""},{"$f":"IF(Data!$E22=30,Data!U22,\"\")","v":""},{"$f":"IF(Data!$E22=30,Data!V22,IF(Data!K22<>\"\",Data!K22,\"\"))","v":""},{"$f":"IF(Data!$E22=30,Data!W22,\"\")","v":""},{"$f":"IF(Data!$E22=30,Data!X22,\"\")","v":""},{"$f":"IF(Data!$E22=30,Data!Y22,IF(Data!L22<>\"\",Data!L22,\"\"))","v":""},{"$f":"IF(Data!$E22=30,Data!Z22,\"\")","v":""},{"$f":"IF(Data!$E22=30,Data!AA22,\"\")","v":""},{"$f":"IF(Data!$E22=30,Data!AB22,IF(Data!M22<>\"\",Data!M22,\"\"))","v":""},{"$f":"IF(Data!$E22=30,Data!AC22,\"\")","v":""},{"$f":"IF(Data!$E22=30,Data!AD22,\"\")","v":""},{"$f":"IF(Data!$E22=30,Data!AE22,IF(Data!N22<>\"\",Data!N22,\"\"))","v":""},{"$f":"IF(Data!$E22=30,Data!AF22,\"\")","v":""},{"$f":"IF(Data!$E22=30,Data!AG22,\"\")","v":""},{"$f":"IF(Data!$E22=30,Data!AH22,IF(Data!O22<>\"\",Data!O22,\"\"))","v":""},{"$f":"IF(Data!$E22=30,Data!AI22,\"\")","v":""},null,null,null,{"$f":"IF(Data!$E22=30,Data!AJ22,\"\")","v":""},{"$f":"IF(Data!$E22=30,Data!AK22,IF(Data!P22<>\"\",Data!P22,\"\"))","v":""},{"$f":"IF(Data!$E22=30,Data!AL22,\"\")","v":""},{"$f":"IF(Data!$E22=30,Data!AM22,\"\")","v":""},{"$f":"IF(Data!$E22=30,Data!AN22,IF(Data!Q22<>\"\",Data!Q22,\"\"))","v":""},{"$f":"IF(Data!$E22=30,Data!AO22,\"\")","v":""},{"$f":"IF(Data!$E22=30,Data!AP22,\"\")","v":""},{"$f":"IF(Data!$E22=30,Data!AQ22,IF(Data!R22<>\"\",Data!R22,\"\"))","v":""},{"$f":"IF(Data!$E22=30,Data!AR22,\"\")","v":""},{"$f":"IF(Data!$E22=30,Data!AS22,\"\")","v":""},{"$f":"IF(Data!$E22=30,Data!AT22,IF(Data!S22<>\"\",Data!S22,\"\"))","v":""},{"$f":"IF(Data!$E22=30,Data!AU22,\"\")","v":""},{"$f":"IF(Data!$E22=30,Data!AV22,\"\")","v":""},{"$f":"IF(Data!$E22=30,Data!AW22,IF(Data!T22<>\"\",Data!T22,\"\"))","v":""},{"$f":"IF(Data!$E22=30,Data!AX22,\"\")","v":""},{"$f":"IF(Data!$E22=30,Data!AY22,\"\")","v":""},{"$f":"IF(Data!$E22=30,Data!AZ22,IF(Data!U22<>\"\",Data!U22,\"\"))","v":""},{"$f":"IF(Data!$E22=30,Data!BA22,\"\")","v":""},{"$f":"IF(Data!$E22=30,Data!BB22,\"\")","v":""},{"$f":"IF(Data!$E22=30,Data!BC22,IF(Data!V22<>\"\",Data!V22,\"\"))","v":""},{"$f":"IF(Data!$E22=30,Data!BD22,\"\")","v":""},{"$f":"IF(Data!$E22=30,Data!BE22,\"\")","v":""},{"$f":"IF(Data!$E22=30,Data!BF22,IF(Data!W22<>\"\",Data!W22,\"\"))","v":""},{"$f":"IF(Data!$E22=30,Data!BG22,\"\")","v":""},{"$f":"IF(Data!$E22=30,Data!BH22,\"\")","v":""},{"$f":"IF(Data!$E22=30,Data!BI22,IF(Data!X22<>\"\",Data!X22,\"\"))","v":""},{"$f":"IF(Data!$E22=30,Data!BJ22,\"\")","v":""},{"$f":"IF(Data!$E22=30,Data!BK22,\"\")","v":""},{"$f":"IF(Data!$E22=30,Data!BL22,IF(Data!Y22<>\"\",Data!Y22,\"\"))","v":""},{"$f":"IF(Data!$E22=30,Data!BM22,\"\")","v":""}]
[null,{"$f":"IF(Data!A23<>\"\",Data!A23,\"\")","v":""},{"$f":"IF(Data!$E23=30,Data!F23,\"\")","v":""},{"$f":"IF(Data!$E23=30,Data!G23,IF(Data!F23<>\"\",Data!F23,\"\"))","v":""},{"$f":"IF(Data!$E23=30,Data!H23,\"\")","v":""},{"$f":"IF(Data!$E23=30,Data!I23,\"\")","v":""},{"$f":"IF(Data!$E23=30,Data!J23,IF(Data!G23<>\"\",Data!G23,\"\"))","v":""},{"$f":"IF(Data!$E23=30,Data!K23,\"\")","v":""},{"$f":"IF(Data!$E23=30,Data!L23,\"\")","v":""},{"$f":"IF(Data!$E23=30,Data!M23,IF(Data!H23<>\"\",Data!H23,\"\"))","v":""},{"$f":"IF(Data!$E23=30,Data!N23,\"\")","v":""},{"$f":"IF(Data!$E23=30,Data!O23,\"\")","v":""},{"$f":"IF(Data!$E23=30,Data!P23,IF(Data!I23<>\"\",Data!I23,\"\"))","v":""},{"$f":"IF(Data!$E23=30,Data!Q23,\"\")","v":""},{"$f":"IF(Data!$E23=30,Data!R23,\"\")","v":""},{"$f":"IF(Data!$E23=30,Data!S23,IF(Data!J23<>\"\",Data!J23,\"\"))","v":""},{"$f":"IF(Data!$E23=30,Data!T23,\"\")","v":""},{"$f":"IF(Data!$E23=30,Data!U23,\"\")","v":""},{"$f":"IF(Data!$E23=30,Data!V23,IF(Data!K23<>\"\",Data!K23,\"\"))","v":""},{"$f":"IF(Data!$E23=30,Data!W23,\"\")","v":""},{"$f":"IF(Data!$E23=30,Data!X23,\"\")","v":""},{"$f":"IF(Data!$E23=30,Data!Y23,IF(Data!L23<>\"\",Data!L23,\"\"))","v":""},{"$f":"IF(Data!$E23=30,Data!Z23,\"\")","v":""},{"$f":"IF(Data!$E23=30,Data!AA23,\"\")","v":""},{"$f":"IF(Data!$E23=30,Data!AB23,IF(Data!M23<>\"\",Data!M23,\"\"))","v":""},{"$f":"IF(Data!$E23=30,Data!AC23,\"\")","v":""},{"$f":"IF(Data!$E23=30,Data!AD23,\"\")","v":""},{"$f":"IF(Data!$E23=30,Data!AE23,IF(Data!N23<>\"\",Data!N23,\"\"))","v":""},{"$f":"IF(Data!$E23=30,Data!AF23,\"\")","v":""},{"$f":"IF(Data!$E23=30,Data!AG23,\"\")","v":""},{"$f":"IF(Data!$E23=30,Data!AH23,IF(Data!O23<>\"\",Data!O23,\"\"))","v":""},{"$f":"IF(Data!$E23=30,Data!AI23,\"\")","v":""},null,null,null,{"$f":"IF(Data!$E23=30,Data!AJ23,\"\")","v":""},{"$f":"IF(Data!$E23=30,Data!AK23,IF(Data!P23<>\"\",Data!P23,\"\"))","v":""},{"$f":"IF(Data!$E23=30,Data!AL23,\"\")","v":""},{"$f":"IF(Data!$E23=30,Data!AM23,\"\")","v":""},{"$f":"IF(Data!$E23=30,Data!AN23,IF(Data!Q23<>\"\",Data!Q23,\"\"))","v":""},{"$f":"IF(Data!$E23=30,Data!AO23,\"\")","v":""},{"$f":"IF(Data!$E23=30,Data!AP23,\"\")","v":""},{"$f":"IF(Data!$E23=30,Data!AQ23,IF(Data!R23<>\"\",Data!R23,\"\"))","v":""},{"$f":"IF(Data!$E23=30,Data!AR23,\"\")","v":""},{"$f":"IF(Data!$E23=30,Data!AS23,\"\")","v":""},{"$f":"IF(Data!$E23=30,Data!AT23,IF(Data!S23<>\"\",Data!S23,\"\"))","v":""},{"$f":"IF(Data!$E23=30,Data!AU23,\"\")","v":""},{"$f":"IF(Data!$E23=30,Data!AV23,\"\")","v":""},{"$f":"IF(Data!$E23=30,Data!AW23,IF(Data!T23<>\"\",Data!T23,\"\"))","v":""},{"$f":"IF(Data!$E23=30,Data!AX23,\"\")","v":""},{"$f":"IF(Data!$E23=30,Data!AY23,\"\")","v":""},{"$f":"IF(Data!$E23=30,Data!AZ23,IF(Data!U23<>\"\",Data!U23,\"\"))","v":""},{"$f":"IF(Data!$E23=30,Data!BA23,\"\")","v":""},{"$f":"IF(Data!$E23=30,Data!BB23,\"\")","v":""},{"$f":"IF(Data!$E23=30,Data!BC23,IF(Data!V23<>\"\",Data!V23,\"\"))","v":""},{"$f":"IF(Data!$E23=30,Data!BD23,\"\")","v":""},{"$f":"IF(Data!$E23=30,Data!BE23,\"\")","v":""},{"$f":"IF(Data!$E23=30,Data!BF23,IF(Data!W23<>\"\",Data!W23,\"\"))","v":""},{"$f":"IF(Data!$E23=30,Data!BG23,\"\")","v":""},{"$f":"IF(Data!$E23=30,Data!BH23,\"\")","v":""},{"$f":"IF(Data!$E23=30,Data!BI23,IF(Data!X23<>\"\",Data!X23,\"\"))","v":""},{"$f":"IF(Data!$E23=30,Data!BJ23,\"\")","v":""},{"$f":"IF(Data!$E23=30,Data!BK23,\"\")","v":""},{"$f":"IF(Data!$E23=30,Data!BL23,IF(Data!Y23<>\"\",Data!Y23,\"\"))","v":""},{"$f":"IF(Data!$E23=30,Data!BM23,\"\")","v":""}]
[null,{"$f":"IF(Data!A24<>\"\",Data!A24,\"\")","v":""},{"$f":"IF(Data!$E24=30,Data!F24,\"\")","v":""},{"$f":"IF(Data!$E24=30,Data!G24,IF(Data!F24<>\"\",Data!F24,\"\"))","v":""},{"$f":"IF(Data!$E24=30,Data!H24,\"\")","v":""},{"$f":"IF(Data!$E24=30,Data!I24,\"\")","v":""},{"$f":"IF(Data!$E24=30,Data!J24,IF(Data!G24<>\"\",Data!G24,\"\"))","v":""},{"$f":"IF(Data!$E24=30,Data!K24,\"\")","v":""},{"$f":"IF(Data!$E24=30,Data!L24,\"\")","v":""},{"$f":"IF(Data!$E24=30,Data!M24,IF(Data!H24<>\"\",Data!H24,\"\"))","v":""},{"$f":"IF(Data!$E24=30,Data!N24,\"\")","v":""},{"$f":"IF(Data!$E24=30,Data!O24,\"\")","v":""},{"$f":"IF(Data!$E24=30,Data!P24,IF(Data!I24<>\"\",Data!I24,\"\"))","v":""},{"$f":"IF(Data!$E24=30,Data!Q24,\"\")","v":""},{"$f":"IF(Data!$E24=30,Data!R24,\"\")","v":""},{"$f":"IF(Data!$E24=30,Data!S24,IF(Data!J24<>\"\",Data!J24,\"\"))","v":""},{"$f":"IF(Data!$E24=30,Data!T24,\"\")","v":""},{"$f":"IF(Data!$E24=30,Data!U24,\"\")","v":""},{"$f":"IF(Data!$E24=30,Data!V24,IF(Data!K24<>\"\",Data!K24,\"\"))","v":""},{"$f":"IF(Data!$E24=30,Data!W24,\"\")","v":""},{"$f":"IF(Data!$E24=30,Data!X24,\"\")","v":""},{"$f":"IF(Data!$E24=30,Data!Y24,IF(Data!L24<>\"\",Data!L24,\"\"))","v":""},{"$f":"IF(Data!$E24=30,Data!Z24,\"\")","v":""},{"$f":"IF(Data!$E24=30,Data!AA24,\"\")","v":""},{"$f":"IF(Data!$E24=30,Data!AB24,IF(Data!M24<>\"\",Data!M24,\"\"))","v":""},{"$f":"IF(Data!$E24=30,Data!AC24,\"\")","v":""},{"$f":"IF(Data!$E24=30,Data!AD24,\"\")","v":""},{"$f":"IF(Data!$E24=30,Data!AE24,IF(Data!N24<>\"\",Data!N24,\"\"))","v":""},{"$f":"IF(Data!$E24=30,Data!AF24,\"\")","v":""},{"$f":"IF(Data!$E24=30,Data!AG24,\"\")","v":""},{"$f":"IF(Data!$E24=30,Data!AH24,IF(Data!O24<>\"\",Data!O24,\"\"))","v":""},{"$f":"IF(Data!$E24=30,Data!AI24,\"\")","v":""},null,null,null,{"$f":"IF(Data!$E24=30,Data!AJ24,\"\")","v":""},{"$f":"IF(Data!$E24=30,Data!AK24,IF(Data!P24<>\"\",Data!P24,\"\"))","v":""},{"$f":"IF(Data!$E24=30,Data!AL24,\"\")","v":""},{"$f":"IF(Data!$E24=30,Data!AM24,\"\")","v":""},{"$f":"IF(Data!$E24=30,Data!AN24,IF(Data!Q24<>\"\",Data!Q24,\"\"))","v":""},{"$f":"IF(Data!$E24=30,Data!AO24,\"\")","v":""},{"$f":"IF(Data!$E24=30,Data!AP24,\"\")","v":""},{"$f":"IF(Data!$E24=30,Data!AQ24,IF(Data!R24<>\"\",Data!R24,\"\"))","v":""},{"$f":"IF(Data!$E24=30,Data!AR24,\"\")","v":""},{"$f":"IF(Data!$E24=30,Data!AS24,\"\")","v":""},{"$f":"IF(Data!$E24=30,Data!AT24,IF(Data!S24<>\"\",Data!S24,\"\"))","v":""},{"$f":"IF(Data!$E24=30,Data!AU24,\"\")","v":""},{"$f":"IF(Data!$E24=30,Data!AV24,\"\")","v":""},{"$f":"IF(Data!$E24=30,Data!AW24,IF(Data!T24<>\"\",Data!T24,\"\"))","v":""},{"$f":"IF(Data!$E24=30,Data!AX24,\"\")","v":""},{"$f":"IF(Data!$E24=30,Data!AY24,\"\")","v":""},{"$f":"IF(Data!$E24=30,Data!AZ24,IF(Data!U24<>\"\",Data!U24,\"\"))","v":""},{"$f":"IF(Data!$E24=30,Data!BA24,\"\")","v":""},{"$f":"IF(Data!$E24=30,Data!BB24,\"\")","v":""},{"$f":"IF(Data!$E24=30,Data!BC24,IF(Data!V24<>\"\",Data!V24,\"\"))","v":""},{"$f":"IF(Data!$E24=30,Data!BD24,\"\")","v":""},{"$f":"IF(Data!$E24=30,Data!BE24,\"\")","v":""},{"$f":"IF(Data!$E24=30,Data!BF24,IF(Data!W24<>\"\",Data!W24,\"\"))","v":""},{"$f":"IF(Data!$E24=30,Data!BG24,\"\")","v":""},{"$f":"IF(Data!$E24=30,Data!BH24,\"\")","v":""},{"$f":"IF(Data!$E24=30,Data!BI24,IF(Data!X24<>\"\",Data!X24,\"\"))","v":""},{"$f":"IF(Data!$E24=30,Data!BJ24,\"\")","v":""},{"$f":"IF(Data!$E24=30,Data!BK24,\"\")","v":""},{"$f":"IF(Data!$E24=30,Data!BL24,IF(Data!Y24<>\"\",Data!Y24,\"\"))","v":""},{"$f":"IF(Data!$E24=30,Data!BM24,\"\")","v":""}]
[null,{"$f":"IF(Data!A25<>\"\",Data!A25,\"\")","v":""},{"$f":"IF(Data!$E25=30,Data!F25,\"\")","v":""},{"$f":"IF(Data!$E25=30,Data!G25,IF(Data!F25<>\"\",Data!F25,\"\"))","v":""},{"$f":"IF(Data!$E25=30,Data!H25,\"\")","v":""},{"$f":"IF(Data!$E25=30,Data!I25,\"\")","v":""},{"$f":"IF(Data!$E25=30,Data!J25,IF(Data!G25<>\"\",Data!G25,\"\"))","v":""},{"$f":"IF(Data!$E25=30,Data!K25,\"\")","v":""},{"$f":"IF(Data!$E25=30,Data!L25,\"\")","v":""},{"$f":"IF(Data!$E25=30,Data!M25,IF(Data!H25<>\"\",Data!H25,\"\"))","v":""},{"$f":"IF(Data!$E25=30,Data!N25,\"\")","v":""},{"$f":"IF(Data!$E25=30,Data!O25,\"\")","v":""},{"$f":"IF(Data!$E25=30,Data!P25,IF(Data!I25<>\"\",Data!I25,\"\"))","v":""},{"$f":"IF(Data!$E25=30,Data!Q25,\"\")","v":""},{"$f":"IF(Data!$E25=30,Data!R25,\"\")","v":""},{"$f":"IF(Data!$E25=30,Data!S25,IF(Data!J25<>\"\",Data!J25,\"\"))","v":""},{"$f":"IF(Data!$E25=30,Data!T25,\"\")","v":""},{"$f":"IF(Data!$E25=30,Data!U25,\"\")","v":""},{"$f":"IF(Data!$E25=30,Data!V25,IF(Data!K25<>\"\",Data!K25,\"\"))","v":""},{"$f":"IF(Data!$E25=30,Data!W25,\"\")","v":""},{"$f":"IF(Data!$E25=30,Data!X25,\"\")","v":""},{"$f":"IF(Data!$E25=30,Data!Y25,IF(Data!L25<>\"\",Data!L25,\"\"))","v":""},{"$f":"IF(Data!$E25=30,Data!Z25,\"\")","v":""},{"$f":"IF(Data!$E25=30,Data!AA25,\"\")","v":""},{"$f":"IF(Data!$E25=30,Data!AB25,IF(Data!M25<>\"\",Data!M25,\"\"))","v":""},{"$f":"IF(Data!$E25=30,Data!AC25,\"\")","v":""},{"$f":"IF(Data!$E25=30,Data!AD25,\"\")","v":""},{"$f":"IF(Data!$E25=30,Data!AE25,IF(Data!N25<>\"\",Data!N25,\"\"))","v":""},{"$f":"IF(Data!$E25=30,Data!AF25,\"\")","v":""},{"$f":"IF(Data!$E25=30,Data!AG25,\"\")","v":""},{"$f":"IF(Data!$E25=30,Data!AH25,IF(Data!O25<>\"\",Data!O25,\"\"))","v":""},{"$f":"IF(Data!$E25=30,Data!AI25,\"\")","v":""},null,null,null,{"$f":"IF(Data!$E25=30,Data!AJ25,\"\")","v":""},{"$f":"IF(Data!$E25=30,Data!AK25,IF(Data!P25<>\"\",Data!P25,\"\"))","v":""},{"$f":"IF(Data!$E25=30,Data!AL25,\"\")","v":""},{"$f":"IF(Data!$E25=30,Data!AM25,\"\")","v":""},{"$f":"IF(Data!$E25=30,Data!AN25,IF(Data!Q25<>\"\",Data!Q25,\"\"))","v":""},{"$f":"IF(Data!$E25=30,Data!AO25,\"\")","v":""},{"$f":"IF(Data!$E25=30,Data!AP25,\"\")","v":""},{"$f":"IF(Data!$E25=30,Data!AQ25,IF(Data!R25<>\"\",Data!R25,\"\"))","v":""},{"$f":"IF(Data!$E25=30,Data!AR25,\"\")","v":""},{"$f":"IF(Data!$E25=30,Data!AS25,\"\")","v":""},{"$f":"IF(Data!$E25=30,Data!AT25,IF(Data!S25<>\"\",Data!S25,\"\"))","v":""},{"$f":"IF(Data!$E25=30,Data!AU25,\"\")","v":""},{"$f":"IF(Data!$E25=30,Data!AV25,\"\")","v":""},{"$f":"IF(Data!$E25=30,Data!AW25,IF(Data!T25<>\"\",Data!T25,\"\"))","v":""},{"$f":"IF(Data!$E25=30,Data!AX25,\"\")","v":""},{"$f":"IF(Data!$E25=30,Data!AY25,\"\")","v":""},{"$f":"IF(Data!$E25=30,Data!AZ25,IF(Data!U25<>\"\",Data!U25,\"\"))","v":""},{"$f":"IF(Data!$E25=30,Data!BA25,\"\")","v":""},{"$f":"IF(Data!$E25=30,Data!BB25,\"\")","v":""},{"$f":"IF(Data!$E25=30,Data!BC25,IF(Data!V25<>\"\",Data!V25,\"\"))","v":""},{"$f":"IF(Data!$E25=30,Data!BD25,\"\")","v":""},{"$f":"IF(Data!$E25=30,Data!BE25,\"\")","v":""},{"$f":"IF(Data!$E25=30,Data!BF25,IF(Data!W25<>\"\",Data!W25,\"\"))","v":""},{"$f":"IF(Data!$E25=30,Data!BG25,\"\")","v":""},{"$f":"IF(Data!$E25=30,Data!BH25,\"\")","v":""},{"$f":"IF(Data!$E25=30,Data!BI25,IF(Data!X25<>\"\",Data!X25,\"\"))","v":""},{"$f":"IF(Data!$E25=30,Data!BJ25,\"\")","v":""},{"$f":"IF(Data!$E25=30,Data!BK25,\"\")","v":""},{"$f":"IF(Data!$E25=30,Data!BL25,IF(Data!Y25<>\"\",Data!Y25,\"\"))","v":""},{"$f":"IF(Data!$E25=30,Data!BM25,\"\")","v":""}]
[null,{"$f":"IF(Data!A26<>\"\",Data!A26,\"\")","v":""},{"$f":"IF(Data!$E26=30,Data!F26,\"\")","v":""},{"$f":"IF(Data!$E26=30,Data!G26,IF(Data!F26<>\"\",Data!F26,\"\"))","v":""},{"$f":"IF(Data!$E26=30,Data!H26,\"\")","v":""},{"$f":"IF(Data!$E26=30,Data!I26,\"\")","v":""},{"$f":"IF(Data!$E26=30,Data!J26,IF(Data!G26<>\"\",Data!G26,\"\"))","v":""},{"$f":"IF(Data!$E26=30,Data!K26,\"\")","v":""},{"$f":"IF(Data!$E26=30,Data!L26,\"\")","v":""},{"$f":"IF(Data!$E26=30,Data!M26,IF(Data!H26<>\"\",Data!H26,\"\"))","v":""},{"$f":"IF(Data!$E26=30,Data!N26,\"\")","v":""},{"$f":"IF(Data!$E26=30,Data!O26,\"\")","v":""},{"$f":"IF(Data!$E26=30,Data!P26,IF(Data!I26<>\"\",Data!I26,\"\"))","v":""},{"$f":"IF(Data!$E26=30,Data!Q26,\"\")","v":""},{"$f":"IF(Data!$E26=30,Data!R26,\"\")","v":""},{"$f":"IF(Data!$E26=30,Data!S26,IF(Data!J26<>\"\",Data!J26,\"\"))","v":""},{"$f":"IF(Data!$E26=30,Data!T26,\"\")","v":""},{"$f":"IF(Data!$E26=30,Data!U26,\"\")","v":""},{"$f":"IF(Data!$E26=30,Data!V26,IF(Data!K26<>\"\",Data!K26,\"\"))","v":""},{"$f":"IF(Data!$E26=30,Data!W26,\"\")","v":""},{"$f":"IF(Data!$E26=30,Data!X26,\"\")","v":""},{"$f":"IF(Data!$E26=30,Data!Y26,IF(Data!L26<>\"\",Data!L26,\"\"))","v":""},{"$f":"IF(Data!$E26=30,Data!Z26,\"\")","v":""},{"$f":"IF(Data!$E26=30,Data!AA26,\"\")","v":""},{"$f":"IF(Data!$E26=30,Data!AB26,IF(Data!M26<>\"\",Data!M26,\"\"))","v":""},{"$f":"IF(Data!$E26=30,Data!AC26,\"\")","v":""},{"$f":"IF(Data!$E26=30,Data!AD26,\"\")","v":""},{"$f":"IF(Data!$E26=30,Data!AE26,IF(Data!N26<>\"\",Data!N26,\"\"))","v":""},{"$f":"IF(Data!$E26=30,Data!AF26,\"\")","v":""},{"$f":"IF(Data!$E26=30,Data!AG26,\"\")","v":""},{"$f":"IF(Data!$E26=30,Data!AH26,IF(Data!O26<>\"\",Data!O26,\"\"))","v":""},{"$f":"IF(Data!$E26=30,Data!AI26,\"\")","v":""},null,null,null,{"$f":"IF(Data!$E26=30,Data!AJ26,\"\")","v":""},{"$f":"IF(Data!$E26=30,Data!AK26,IF(Data!P26<>\"\",Data!P26,\"\"))","v":""},{"$f":"IF(Data!$E26=30,Data!AL26,\"\")","v":""},{"$f":"IF(Data!$E26=30,Data!AM26,\"\")","v":""},{"$f":"IF(Data!$E26=30,Data!AN26,IF(Data!Q26<>\"\",Data!Q26,\"\"))","v":""},{"$f":"IF(Data!$E26=30,Data!AO26,\"\")","v":""},{"$f":"IF(Data!$E26=30,Data!AP26,\"\")","v":""},{"$f":"IF(Data!$E26=30,Data!AQ26,IF(Data!R26<>\"\",Data!R26,\"\"))","v":""},{"$f":"IF(Data!$E26=30,Data!AR26,\"\")","v":""},{"$f":"IF(Data!$E26=30,Data!AS26,\"\")","v":""},{"$f":"IF(Data!$E26=30,Data!AT26,IF(Data!S26<>\"\",Data!S26,\"\"))","v":""},{"$f":"IF(Data!$E26=30,Data!AU26,\"\")","v":""},{"$f":"IF(Data!$E26=30,Data!AV26,\"\")","v":""},{"$f":"IF(Data!$E26=30,Data!AW26,IF(Data!T26<>\"\",Data!T26,\"\"))","v":""},{"$f":"IF(Data!$E26=30,Data!AX26,\"\")","v":""},{"$f":"IF(Data!$E26=30,Data!AY26,\"\")","v":""},{"$f":"IF(Data!$E26=30,Data!AZ26,IF(Data!U26<>\"\",Data!U26,\"\"))","v":""},{"$f":"IF(Data!$E26=30,Data!BA26,\"\")","v":""},{"$f":"IF(Data!$E26=30,Data!BB26,\"\")","v":""},{"$f":"IF(Data!$E26=30,Data!BC26,IF(Data!V26<>\"\",Data!V26,\"\"))","v":""},{"$f":"IF(Data!$E26=30,Data!BD26,\"\")","v":""},{"$f":"IF(Data!$E26=30,Data!BE26,\"\")","v":""},{"$f":"IF(Data!$E26=30,Data!BF26,IF(Data!W26<>\"\",Data!W26,\"\"))","v":""},{"$f":"IF(Data!$E26=30,Data!BG26,\"\")","v":""},{"$f":"IF(Data!$E26=30,Data!BH26,\"\")","v":""},{"$f":"IF(Data!$E26=30,Data!BI26,IF(Data!X26<>\"\",Data!X26,\"\"))","v":""},{"$f":"IF(Data!$E26=30,Data!BJ26,\"\")","v":""},{"$f":"IF(Data!$E26=30,Data!BK26,\"\")","v":""},{"$f":"IF(Data!$E26=30,Data!BL26,IF(Data!Y26<>\"\",Data!Y26,\"\"))","v":""},{"$f":"IF(Data!$E26=30,Data!BM26,\"\")","v":""}]
[null,{"$f":"IF(Data!A27<>\"\",Data!A27,\"\")","v":""},{"$f":"IF(Data!$E27=30,Data!F27,\"\")","v":""},{"$f":"IF(Data!$E27=30,Data!G27,IF(Data!F27<>\"\",Data!F27,\"\"))","v":""},{"$f":"IF(Data!$E27=30,Data!H27,\"\")","v":""},{"$f":"IF(Data!$E27=30,Data!I27,\"\")","v":""},{"$f":"IF(Data!$E27=30,Data!J27,IF(Data!G27<>\"\",Data!G27,\"\"))","v":""},{"$f":"IF(Data!$E27=30,Data!K27,\"\")","v":""},{"$f":"IF(Data!$E27=30,Data!L27,\"\")","v":""},{"$f":"IF(Data!$E27=30,Data!M27,IF(Data!H27<>\"\",Data!H27,\"\"))","v":""},{"$f":"IF(Data!$E27=30,Data!N27,\"\")","v":""},{"$f":"IF(Data!$E27=30,Data!O27,\"\")","v":""},{"$f":"IF(Data!$E27=30,Data!P27,IF(Data!I27<>\"\",Data!I27,\"\"))","v":""},{"$f":"IF(Data!$E27=30,Data!Q27,\"\")","v":""},{"$f":"IF(Data!$E27=30,Data!R27,\"\")","v":""},{"$f":"IF(Data!$E27=30,Data!S27,IF(Data!J27<>\"\",Data!J27,\"\"))","v":""},{"$f":"IF(Data!$E27=30,Data!T27,\"\")","v":""},{"$f":"IF(Data!$E27=30,Data!U27,\"\")","v":""},{"$f":"IF(Data!$E27=30,Data!V27,IF(Data!K27<>\"\",Data!K27,\"\"))","v":""},{"$f":"IF(Data!$E27=30,Data!W27,\"\")","v":""},{"$f":"IF(Data!$E27=30,Data!X27,\"\")","v":""},{"$f":"IF(Data!$E27=30,Data!Y27,IF(Data!L27<>\"\",Data!L27,\"\"))","v":""},{"$f":"IF(Data!$E27=30,Data!Z27,\"\")","v":""},{"$f":"IF(Data!$E27=30,Data!AA27,\"\")","v":""},{"$f":"IF(Data!$E27=30,Data!AB27,IF(Data!M27<>\"\",Data!M27,\"\"))","v":""},{"$f":"IF(Data!$E27=30,Data!AC27,\"\")","v":""},{"$f":"IF(Data!$E27=30,Data!AD27,\"\")","v":""},{"$f":"IF(Data!$E27=30,Data!AE27,IF(Data!N27<>\"\",Data!N27,\"\"))","v":""},{"$f":"IF(Data!$E27=30,Data!AF27,\"\")","v":""},{"$f":"IF(Data!$E27=30,Data!AG27,\"\")","v":""},{"$f":"IF(Data!$E27=30,Data!AH27,IF(Data!O27<>\"\",Data!O27,\"\"))","v":""},{"$f":"IF(Data!$E27=30,Data!AI27,\"\")","v":""},null,null,null,{"$f":"IF(Data!$E27=30,Data!AJ27,\"\")","v":""},{"$f":"IF(Data!$E27=30,Data!AK27,IF(Data!P27<>\"\",Data!P27,\"\"))","v":""},{"$f":"IF(Data!$E27=30,Data!AL27,\"\")","v":""},{"$f":"IF(Data!$E27=30,Data!AM27,\"\")","v":""},{"$f":"IF(Data!$E27=30,Data!AN27,IF(Data!Q27<>\"\",Data!Q27,\"\"))","v":""},{"$f":"IF(Data!$E27=30,Data!AO27,\"\")","v":""},{"$f":"IF(Data!$E27=30,Data!AP27,\"\")","v":""},{"$f":"IF(Data!$E27=30,Data!AQ27,IF(Data!R27<>\"\",Data!R27,\"\"))","v":""},{"$f":"IF(Data!$E27=30,Data!AR27,\"\")","v":""},{"$f":"IF(Data!$E27=30,Data!AS27,\"\")","v":""},{"$f":"IF(Data!$E27=30,Data!AT27,IF(Data!S27<>\"\",Data!S27,\"\"))","v":""},{"$f":"IF(Data!$E27=30,Data!AU27,\"\")","v":""},{"$f":"IF(Data!$E27=30,Data!AV27,\"\")","v":""},{"$f":"IF(Data!$E27=30,Data!AW27,IF(Data!T27<>\"\",Data!T27,\"\"))","v":""},{"$f":"IF(Data!$E27=30,Data!AX27,\"\")","v":""},{"$f":"IF(Data!$E27=30,Data!AY27,\"\")","v":""},{"$f":"IF(Data!$E27=30,Data!AZ27,IF(Data!U27<>\"\",Data!U27,\"\"))","v":""},{"$f":"IF(Data!$E27=30,Data!BA27,\"\")","v":""},{"$f":"IF(Data!$E27=30,Data!BB27,\"\")","v":""},{"$f":"IF(Data!$E27=30,Data!BC27,IF(Data!V27<>\"\",Data!V27,\"\"))","v":""},{"$f":"IF(Data!$E27=30,Data!BD27,\"\")","v":""},{"$f":"IF(Data!$E27=30,Data!BE27,\"\")","v":""},{"$f":"IF(Data!$E27=30,Data!BF27,IF(Data!W27<>\"\",Data!W27,\"\"))","v":""},{"$f":"IF(Data!$E27=30,Data!BG27,\"\")","v":""},{"$f":"IF(Data!$E27=30,Data!BH27,\"\")","v":""},{"$f":"IF(Data!$E27=30,Data!BI27,IF(Data!X27<>\"\",Data!X27,\"\"))","v":""},{"$f":"IF(Data!$E27=30,Data!BJ27,\"\")","v":""},{"$f":"IF(Data!$E27=30,Data!BK27,\"\")","v":""},{"$f":"IF(Data!$E27=30,Data!BL27,IF(Data!Y27<>\"\",Data!Y27,\"\"))","v":""},{"$f":"IF(Data!$E27=30,Data!BM27,\"\")","v":""}]
[null,{"$f":"IF(Data!A28<>\"\",Data!A28,\"\")","v":""},{"$f":"IF(Data!$E28=30,Data!F28,\"\")","v":""},{"$f":"IF(Data!$E28=30,Data!G28,IF(Data!F28<>\"\",Data!F28,\"\"))","v":""},{"$f":"IF(Data!$E28=30,Data!H28,\"\")","v":""},{"$f":"IF(Data!$E28=30,Data!I28,\"\")","v":""},{"$f":"IF(Data!$E28=30,Data!J28,IF(Data!G28<>\"\",Data!G28,\"\"))","v":""},{"$f":"IF(Data!$E28=30,Data!K28,\"\")","v":""},{"$f":"IF(Data!$E28=30,Data!L28,\"\")","v":""},{"$f":"IF(Data!$E28=30,Data!M28,IF(Data!H28<>\"\",Data!H28,\"\"))","v":""},{"$f":"IF(Data!$E28=30,Data!N28,\"\")","v":""},{"$f":"IF(Data!$E28=30,Data!O28,\"\")","v":""},{"$f":"IF(Data!$E28=30,Data!P28,IF(Data!I28<>\"\",Data!I28,\"\"))","v":""},{"$f":"IF(Data!$E28=30,Data!Q28,\"\")","v":""},{"$f":"IF(Data!$E28=30,Data!R28,\"\")","v":""},{"$f":"IF(Data!$E28=30,Data!S28,IF(Data!J28<>\"\",Data!J28,\"\"))","v":""},{"$f":"IF(Data!$E28=30,Data!T28,\"\")","v":""},{"$f":"IF(Data!$E28=30,Data!U28,\"\")","v":""},{"$f":"IF(Data!$E28=30,Data!V28,IF(Data!K28<>\"\",Data!K28,\"\"))","v":""},{"$f":"IF(Data!$E28=30,Data!W28,\"\")","v":""},{"$f":"IF(Data!$E28=30,Data!X28,\"\")","v":""},{"$f":"IF(Data!$E28=30,Data!Y28,IF(Data!L28<>\"\",Data!L28,\"\"))","v":""},{"$f":"IF(Data!$E28=30,Data!Z28,\"\")","v":""},{"$f":"IF(Data!$E28=30,Data!AA28,\"\")","v":""},{"$f":"IF(Data!$E28=30,Data!AB28,IF(Data!M28<>\"\",Data!M28,\"\"))","v":""},{"$f":"IF(Data!$E28=30,Data!AC28,\"\")","v":""},{"$f":"IF(Data!$E28=30,Data!AD28,\"\")","v":""},{"$f":"IF(Data!$E28=30,Data!AE28,IF(Data!N28<>\"\",Data!N28,\"\"))","v":""},{"$f":"IF(Data!$E28=30,Data!AF28,\"\")","v":""},{"$f":"IF(Data!$E28=30,Data!AG28,\"\")","v":""},{"$f":"IF(Data!$E28=30,Data!AH28,IF(Data!O28<>\"\",Data!O28,\"\"))","v":""},{"$f":"IF(Data!$E28=30,Data!AI28,\"\")","v":""},null,null,null,{"$f":"IF(Data!$E28=30,Data!AJ28,\"\")","v":""},{"$f":"IF(Data!$E28=30,Data!AK28,IF(Data!P28<>\"\",Data!P28,\"\"))","v":""},{"$f":"IF(Data!$E28=30,Data!AL28,\"\")","v":""},{"$f":"IF(Data!$E28=30,Data!AM28,\"\")","v":""},{"$f":"IF(Data!$E28=30,Data!AN28,IF(Data!Q28<>\"\",Data!Q28,\"\"))","v":""},{"$f":"IF(Data!$E28=30,Data!AO28,\"\")","v":""},{"$f":"IF(Data!$E28=30,Data!AP28,\"\")","v":""},{"$f":"IF(Data!$E28=30,Data!AQ28,IF(Data!R28<>\"\",Data!R28,\"\"))","v":""},{"$f":"IF(Data!$E28=30,Data!AR28,\"\")","v":""},{"$f":"IF(Data!$E28=30,Data!AS28,\"\")","v":""},{"$f":"IF(Data!$E28=30,Data!AT28,IF(Data!S28<>\"\",Data!S28,\"\"))","v":""},{"$f":"IF(Data!$E28=30,Data!AU28,\"\")","v":""},{"$f":"IF(Data!$E28=30,Data!AV28,\"\")","v":""},{"$f":"IF(Data!$E28=30,Data!AW28,IF(Data!T28<>\"\",Data!T28,\"\"))","v":""},{"$f":"IF(Data!$E28=30,Data!AX28,\"\")","v":""},{"$f":"IF(Data!$E28=30,Data!AY28,\"\")","v":""},{"$f":"IF(Data!$E28=30,Data!AZ28,IF(Data!U28<>\"\",Data!U28,\"\"))","v":""},{"$f":"IF(Data!$E28=30,Data!BA28,\"\")","v":""},{"$f":"IF(Data!$E28=30,Data!BB28,\"\")","v":""},{"$f":"IF(Data!$E28=30,Data!BC28,IF(Data!V28<>\"\",Data!V28,\"\"))","v":""},{"$f":"IF(Data!$E28=30,Data!BD28,\"\")","v":""},{"$f":"IF(Data!$E28=30,Data!BE28,\"\")","v":""},{"$f":"IF(Data!$E28=30,Data!BF28,IF(Data!W28<>\"\",Data!W28,\"\"))","v":""},{"$f":"IF(Data!$E28=30,Data!BG28,\"\")","v":""},{"$f":"IF(Data!$E28=30,Data!BH28,\"\")","v":""},{"$f":"IF(Data!$E28=30,Data!BI28,IF(Data!X28<>\"\",Data!X28,\"\"))","v":""},{"$f":"IF(Data!$E28=30,Data!BJ28,\"\")","v":""},{"$f":"IF(Data!$E28=30,Data!BK28,\"\")","v":""},{"$f":"IF(Data!$E28=30,Data!BL28,IF(Data!Y28<>\"\",Data!Y28,\"\"))","v":""},{"$f":"IF(Data!$E28=30,Data!BM28,\"\")","v":""}]
[null,{"$f":"IF(Data!A29<>\"\",Data!A29,\"\")","v":""},{"$f":"IF(Data!$E29=30,Data!F29,\"\")","v":""},{"$f":"IF(Data!$E29=30,Data!G29,IF(Data!F29<>\"\",Data!F29,\"\"))","v":""},{"$f":"IF(Data!$E29=30,Data!H29,\"\")","v":""},{"$f":"IF(Data!$E29=30,Data!I29,\"\")","v":""},{"$f":"IF(Data!$E29=30,Data!J29,IF(Data!G29<>\"\",Data!G29,\"\"))","v":""},{"$f":"IF(Data!$E29=30,Data!K29,\"\")","v":""},{"$f":"IF(Data!$E29=30,Data!L29,\"\")","v":""},{"$f":"IF(Data!$E29=30,Data!M29,IF(Data!H29<>\"\",Data!H29,\"\"))","v":""},{"$f":"IF(Data!$E29=30,Data!N29,\"\")","v":""},{"$f":"IF(Data!$E29=30,Data!O29,\"\")","v":""},{"$f":"IF(Data!$E29=30,Data!P29,IF(Data!I29<>\"\",Data!I29,\"\"))","v":""},{"$f":"IF(Data!$E29=30,Data!Q29,\"\")","v":""},{"$f":"IF(Data!$E29=30,Data!R29,\"\")","v":""},{"$f":"IF(Data!$E29=30,Data!S29,IF(Data!J29<>\"\",Data!J29,\"\"))","v":""},{"$f":"IF(Data!$E29=30,Data!T29,\"\")","v":""},{"$f":"IF(Data!$E29=30,Data!U29,\"\")","v":""},{"$f":"IF(Data!$E29=30,Data!V29,IF(Data!K29<>\"\",Data!K29,\"\"))","v":""},{"$f":"IF(Data!$E29=30,Data!W29,\"\")","v":""},{"$f":"IF(Data!$E29=30,Data!X29,\"\")","v":""},{"$f":"IF(Data!$E29=30,Data!Y29,IF(Data!L29<>\"\",Data!L29,\"\"))","v":""},{"$f":"IF(Data!$E29=30,Data!Z29,\"\")","v":""},{"$f":"IF(Data!$E29=30,Data!AA29,\"\")","v":""},{"$f":"IF(Data!$E29=30,Data!AB29,IF(Data!M29<>\"\",Data!M29,\"\"))","v":""},{"$f":"IF(Data!$E29=30,Data!AC29,\"\")","v":""},{"$f":"IF(Data!$E29=30,Data!AD29,\"\")","v":""},{"$f":"IF(Data!$E29=30,Data!AE29,IF(Data!N29<>\"\",Data!N29,\"\"))","v":""},{"$f":"IF(Data!$E29=30,Data!AF29,\"\")","v":""},{"$f":"IF(Data!$E29=30,Data!AG29,\"\")","v":""},{"$f":"IF(Data!$E29=30,Data!AH29,IF(Data!O29<>\"\",Data!O29,\"\"))","v":""},{"$f":"IF(Data!$E29=30,Data!AI29,\"\")","v":""},null,null,null,{"$f":"IF(Data!$E29=30,Data!AJ29,\"\")","v":""},{"$f":"IF(Data!$E29=30,Data!AK29,IF(Data!P29<>\"\",Data!P29,\"\"))","v":""},{"$f":"IF(Data!$E29=30,Data!AL29,\"\")","v":""},{"$f":"IF(Data!$E29=30,Data!AM29,\"\")","v":""},{"$f":"IF(Data!$E29=30,Data!AN29,IF(Data!Q29<>\"\",Data!Q29,\"\"))","v":""},{"$f":"IF(Data!$E29=30,Data!AO29,\"\")","v":""},{"$f":"IF(Data!$E29=30,Data!AP29,\"\")","v":""},{"$f":"IF(Data!$E29=30,Data!AQ29,IF(Data!R29<>\"\",Data!R29,\"\"))","v":""},{"$f":"IF(Data!$E29=30,Data!AR29,\"\")","v":""},{"$f":"IF(Data!$E29=30,Data!AS29,\"\")","v":""},{"$f":"IF(Data!$E29=30,Data!AT29,IF(Data!S29<>\"\",Data!S29,\"\"))","v":""},{"$f":"IF(Data!$E29=30,Data!AU29,\"\")","v":""},{"$f":"IF(Data!$E29=30,Data!AV29,\"\")","v":""},{"$f":"IF(Data!$E29=30,Data!AW29,IF(Data!T29<>\"\",Data!T29,\"\"))","v":""},{"$f":"IF(Data!$E29=30,Data!AX29,\"\")","v":""},{"$f":"IF(Data!$E29=30,Data!AY29,\"\")","v":""},{"$f":"IF(Data!$E29=30,Data!AZ29,IF(Data!U29<>\"\",Data!U29,\"\"))","v":""},{"$f":"IF(Data!$E29=30,Data!BA29,\"\")","v":""},{"$f":"IF(Data!$E29=30,Data!BB29,\"\")","v":""},{"$f":"IF(Data!$E29=30,Data!BC29,IF(Data!V29<>\"\",Data!V29,\"\"))","v":""},{"$f":"IF(Data!$E29=30,Data!BD29,\"\")","v":""},{"$f":"IF(Data!$E29=30,Data!BE29,\"\")","v":""},{"$f":"IF(Data!$E29=30,Data!BF29,IF(Data!W29<>\"\",Data!W29,\"\"))","v":""},{"$f":"IF(Data!$E29=30,Data!BG29,\"\")","v":""},{"$f":"IF(Data!$E29=30,Data!BH29,\"\")","v":""},{"$f":"IF(Data!$E29=30,Data!BI29,IF(Data!X29<>\"\",Data!X29,\"\"))","v":""},{"$f":"IF(Data!$E29=30,Data!BJ29,\"\")","v":""},{"$f":"IF(Data!$E29=30,Data!BK29,\"\")","v":""},{"$f":"IF(Data!$E29=30,Data!BL29,IF(Data!Y29<>\"\",Data!Y29,\"\"))","v":""},{"$f":"IF(Data!$E29=30,Data!BM29,\"\")","v":""}]
[null,{"$f":"IF(Data!A30<>\"\",Data!A30,\"\")","v":""},{"$f":"IF(Data!$E30=30,Data!F30,\"\")","v":""},{"$f":"IF(Data!$E30=30,Data!G30,IF(Data!F30<>\"\",Data!F30,\"\"))","v":""},{"$f":"IF(Data!$E30=30,Data!H30,\"\")","v":""},{"$f":"IF(Data!$E30=30,Data!I30,\"\")","v":""},{"$f":"IF(Data!$E30=30,Data!J30,IF(Data!G30<>\"\",Data!G30,\"\"))","v":""},{"$f":"IF(Data!$E30=30,Data!K30,\"\")","v":""},{"$f":"IF(Data!$E30=30,Data!L30,\"\")","v":""},{"$f":"IF(Data!$E30=30,Data!M30,IF(Data!H30<>\"\",Data!H30,\"\"))","v":""},{"$f":"IF(Data!$E30=30,Data!N30,\"\")","v":""},{"$f":"IF(Data!$E30=30,Data!O30,\"\")","v":""},{"$f":"IF(Data!$E30=30,Data!P30,IF(Data!I30<>\"\",Data!I30,\"\"))","v":""},{"$f":"IF(Data!$E30=30,Data!Q30,\"\")","v":""},{"$f":"IF(Data!$E30=30,Data!R30,\"\")","v":""},{"$f":"IF(Data!$E30=30,Data!S30,IF(Data!J30<>\"\",Data!J30,\"\"))","v":""},{"$f":"IF(Data!$E30=30,Data!T30,\"\")","v":""},{"$f":"IF(Data!$E30=30,Data!U30,\"\")","v":""},{"$f":"IF(Data!$E30=30,Data!V30,IF(Data!K30<>\"\",Data!K30,\"\"))","v":""},{"$f":"IF(Data!$E30=30,Data!W30,\"\")","v":""},{"$f":"IF(Data!$E30=30,Data!X30,\"\")","v":""},{"$f":"IF(Data!$E30=30,Data!Y30,IF(Data!L30<>\"\",Data!L30,\"\"))","v":""},{"$f":"IF(Data!$E30=30,Data!Z30,\"\")","v":""},{"$f":"IF(Data!$E30=30,Data!AA30,\"\")","v":""},{"$f":"IF(Data!$E30=30,Data!AB30,IF(Data!M30<>\"\",Data!M30,\"\"))","v":""},{"$f":"IF(Data!$E30=30,Data!AC30,\"\")","v":""},{"$f":"IF(Data!$E30=30,Data!AD30,\"\")","v":""},{"$f":"IF(Data!$E30=30,Data!AE30,IF(Data!N30<>\"\",Data!N30,\"\"))","v":""},{"$f":"IF(Data!$E30=30,Data!AF30,\"\")","v":""},{"$f":"IF(Data!$E30=30,Data!AG30,\"\")","v":""},{"$f":"IF(Data!$E30=30,Data!AH30,IF(Data!O30<>\"\",Data!O30,\"\"))","v":""},{"$f":"IF(Data!$E30=30,Data!AI30,\"\")","v":""},null,null,null,{"$f":"IF(Data!$E30=30,Data!AJ30,\"\")","v":""},{"$f":"IF(Data!$E30=30,Data!AK30,IF(Data!P30<>\"\",Data!P30,\"\"))","v":""},{"$f":"IF(Data!$E30=30,Data!AL30,\"\")","v":""},{"$f":"IF(Data!$E30=30,Data!AM30,\"\")","v":""},{"$f":"IF(Data!$E30=30,Data!AN30,IF(Data!Q30<>\"\",Data!Q30,\"\"))","v":""},{"$f":"IF(Data!$E30=30,Data!AO30,\"\")","v":""},{"$f":"IF(Data!$E30=30,Data!AP30,\"\")","v":""},{"$f":"IF(Data!$E30=30,Data!AQ30,IF(Data!R30<>\"\",Data!R30,\"\"))","v":""},{"$f":"IF(Data!$E30=30,Data!AR30,\"\")","v":""},{"$f":"IF(Data!$E30=30,Data!AS30,\"\")","v":""},{"$f":"IF(Data!$E30=30,Data!AT30,IF(Data!S30<>\"\",Data!S30,\"\"))","v":""},{"$f":"IF(Data!$E30=30,Data!AU30,\"\")","v":""},{"$f":"IF(Data!$E30=30,Data!AV30,\"\")","v":""},{"$f":"IF(Data!$E30=30,Data!AW30,IF(Data!T30<>\"\",Data!T30,\"\"))","v":""},{"$f":"IF(Data!$E30=30,Data!AX30,\"\")","v":""},{"$f":"IF(Data!$E30=30,Data!AY30,\"\")","v":""},{"$f":"IF(Data!$E30=30,Data!AZ30,IF(Data!U30<>\"\",Data!U30,\"\"))","v":""},{"$f":"IF(Data!$E30=30,Data!BA30,\"\")","v":""},{"$f":"IF(Data!$E30=30,Data!BB30,\"\")","v":""},{"$f":"IF(Data!$E30=30,Data!BC30,IF(Data!V30<>\"\",Data!V30,\"\"))","v":""},{"$f":"IF(Data!$E30=30,Data!BD30,\"\")","v":""},{"$f":"IF(Data!$E30=30,Data!BE30,\"\")","v":""},{"$f":"IF(Data!$E30=30,Data!BF30,IF(Data!W30<>\"\",Data!W30,\"\"))","v":""},{"$f":"IF(Data!$E30=30,Data!BG30,\"\")","v":""},{"$f":"IF(Data!$E30=30,Data!BH30,\"\")","v":""},{"$f":"IF(Data!$E30=30,Data!BI30,IF(Data!X30<>\"\",Data!X30,\"\"))","v":""},{"$f":"IF(Data!$E30=30,Data!BJ30,\"\")","v":""},{"$f":"IF(Data!$E30=30,Data!BK30,\"\")","v":""},{"$f":"IF(Data!$E30=30,Data!BL30,IF(Data!Y30<>\"\",Data!Y30,\"\"))","v":""},{"$f":"IF(Data!$E30=30,Data!BM30,\"\")","v":""}]
[null,{"$f":"IF(Data!A31<>\"\",Data!A31,\"\")","v":""},{"$f":"IF(Data!$E31=30,Data!F31,\"\")","v":""},{"$f":"IF(Data!$E31=30,Data!G31,IF(Data!F31<>\"\",Data!F31,\"\"))","v":""},{"$f":"IF(Data!$E31=30,Data!H31,\"\")","v":""},{"$f":"IF(Data!$E31=30,Data!I31,\"\")","v":""},{"$f":"IF(Data!$E31=30,Data!J31,IF(Data!G31<>\"\",Data!G31,\"\"))","v":""},{"$f":"IF(Data!$E31=30,Data!K31,\"\")","v":""},{"$f":"IF(Data!$E31=30,Data!L31,\"\")","v":""},{"$f":"IF(Data!$E31=30,Data!M31,IF(Data!H31<>\"\",Data!H31,\"\"))","v":""},{"$f":"IF(Data!$E31=30,Data!N31,\"\")","v":""},{"$f":"IF(Data!$E31=30,Data!O31,\"\")","v":""},{"$f":"IF(Data!$E31=30,Data!P31,IF(Data!I31<>\"\",Data!I31,\"\"))","v":""},{"$f":"IF(Data!$E31=30,Data!Q31,\"\")","v":""},{"$f":"IF(Data!$E31=30,Data!R31,\"\")","v":""},{"$f":"IF(Data!$E31=30,Data!S31,IF(Data!J31<>\"\",Data!J31,\"\"))","v":""},{"$f":"IF(Data!$E31=30,Data!T31,\"\")","v":""},{"$f":"IF(Data!$E31=30,Data!U31,\"\")","v":""},{"$f":"IF(Data!$E31=30,Data!V31,IF(Data!K31<>\"\",Data!K31,\"\"))","v":""},{"$f":"IF(Data!$E31=30,Data!W31,\"\")","v":""},{"$f":"IF(Data!$E31=30,Data!X31,\"\")","v":""},{"$f":"IF(Data!$E31=30,Data!Y31,IF(Data!L31<>\"\",Data!L31,\"\"))","v":""},{"$f":"IF(Data!$E31=30,Data!Z31,\"\")","v":""},{"$f":"IF(Data!$E31=30,Data!AA31,\"\")","v":""},{"$f":"IF(Data!$E31=30,Data!AB31,IF(Data!M31<>\"\",Data!M31,\"\"))","v":""},{"$f":"IF(Data!$E31=30,Data!AC31,\"\")","v":""},{"$f":"IF(Data!$E31=30,Data!AD31,\"\")","v":""},{"$f":"IF(Data!$E31=30,Data!AE31,IF(Data!N31<>\"\",Data!N31,\"\"))","v":""},{"$f":"IF(Data!$E31=30,Data!AF31,\"\")","v":""},{"$f":"IF(Data!$E31=30,Data!AG31,\"\")","v":""},{"$f":"IF(Data!$E31=30,Data!AH31,IF(Data!O31<>\"\",Data!O31,\"\"))","v":""},{"$f":"IF(Data!$E31=30,Data!AI31,\"\")","v":""},null,null,null,{"$f":"IF(Data!$E31=30,Data!AJ31,\"\")","v":""},{"$f":"IF(Data!$E31=30,Data!AK31,IF(Data!P31<>\"\",Data!P31,\"\"))","v":""},{"$f":"IF(Data!$E31=30,Data!AL31,\"\")","v":""},{"$f":"IF(Data!$E31=30,Data!AM31,\"\")","v":""},{"$f":"IF(Data!$E31=30,Data!AN31,IF(Data!Q31<>\"\",Data!Q31,\"\"))","v":""},{"$f":"IF(Data!$E31=30,Data!AO31,\"\")","v":""},{"$f":"IF(Data!$E31=30,Data!AP31,\"\")","v":""},{"$f":"IF(Data!$E31=30,Data!AQ31,IF(Data!R31<>\"\",Data!R31,\"\"))","v":""},{"$f":"IF(Data!$E31=30,Data!AR31,\"\")","v":""},{"$f":"IF(Data!$E31=30,Data!AS31,\"\")","v":""},{"$f":"IF(Data!$E31=30,Data!AT31,IF(Data!S31<>\"\",Data!S31,\"\"))","v":""},{"$f":"IF(Data!$E31=30,Data!AU31,\"\")","v":""},{"$f":"IF(Data!$E31=30,Data!AV31,\"\")","v":""},{"$f":"IF(Data!$E31=30,Data!AW31,IF(Data!T31<>\"\",Data!T31,\"\"))","v":""},{"$f":"IF(Data!$E31=30,Data!AX31,\"\")","v":""},{"$f":"IF(Data!$E31=30,Data!AY31,\"\")","v":""},{"$f":"IF(Data!$E31=30,Data!AZ31,IF(Data!U31<>\"\",Data!U31,\"\"))","v":""},{"$f":"IF(Data!$E31=30,Data!BA31,\"\")","v":""},{"$f":"IF(Data!$E31=30,Data!BB31,\"\")","v":""},{"$f":"IF(Data!$E31=30,Data!BC31,IF(Data!V31<>\"\",Data!V31,\"\"))","v":""},{"$f":"IF(Data!$E31=30,Data!BD31,\"\")","v":""},{"$f":"IF(Data!$E31=30,Data!BE31,\"\")","v":""},{"$f":"IF(Data!$E31=30,Data!BF31,IF(Data!W31<>\"\",Data!W31,\"\"))","v":""},{"$f":"IF(Data!$E31=30,Data!BG31,\"\")","v":""},{"$f":"IF(Data!$E31=30,Data!BH31,\"\")","v":""},{"$f":"IF(Data!$E31=30,Data!BI31,IF(Data!X31<>\"\",Data!X31,\"\"))","v":""},{"$f":"IF(Data!$E31=30,Data!BJ31,\"\")","v":""},{"$f":"IF(Data!$E31=30,Data!BK31,\"\")","v":""},{"$f":"IF(Data!$E31=30,Data!BL31,IF(Data!Y31<>\"\",Data!Y31,\"\"))","v":""},{"$f":"IF(Data!$E31=30,Data!BM31,\"\")","v":""}]
[null,{"$f":"IF(Data!A32<>\"\",Data!A32,\"\")","v":""},{"$f":"IF(Data!$E32=30,Data!F32,\"\")","v":""},{"$f":"IF(Data!$E32=30,Data!G32,IF(Data!F32<>\"\",Data!F32,\"\"))","v":""},{"$f":"IF(Data!$E32=30,Data!H32,\"\")","v":""},{"$f":"IF(Data!$E32=30,Data!I32,\"\")","v":""},{"$f":"IF(Data!$E32=30,Data!J32,IF(Data!G32<>\"\",Data!G32,\"\"))","v":""},{"$f":"IF(Data!$E32=30,Data!K32,\"\")","v":""},{"$f":"IF(Data!$E32=30,Data!L32,\"\")","v":""},{"$f":"IF(Data!$E32=30,Data!M32,IF(Data!H32<>\"\",Data!H32,\"\"))","v":""},{"$f":"IF(Data!$E32=30,Data!N32,\"\")","v":""},{"$f":"IF(Data!$E32=30,Data!O32,\"\")","v":""},{"$f":"IF(Data!$E32=30,Data!P32,IF(Data!I32<>\"\",Data!I32,\"\"))","v":""},{"$f":"IF(Data!$E32=30,Data!Q32,\"\")","v":""},{"$f":"IF(Data!$E32=30,Data!R32,\"\")","v":""},{"$f":"IF(Data!$E32=30,Data!S32,IF(Data!J32<>\"\",Data!J32,\"\"))","v":""},{"$f":"IF(Data!$E32=30,Data!T32,\"\")","v":""},{"$f":"IF(Data!$E32=30,Data!U32,\"\")","v":""},{"$f":"IF(Data!$E32=30,Data!V32,IF(Data!K32<>\"\",Data!K32,\"\"))","v":""},{"$f":"IF(Data!$E32=30,Data!W32,\"\")","v":""},{"$f":"IF(Data!$E32=30,Data!X32,\"\")","v":""},{"$f":"IF(Data!$E32=30,Data!Y32,IF(Data!L32<>\"\",Data!L32,\"\"))","v":""},{"$f":"IF(Data!$E32=30,Data!Z32,\"\")","v":""},{"$f":"IF(Data!$E32=30,Data!AA32,\"\")","v":""},{"$f":"IF(Data!$E32=30,Data!AB32,IF(Data!M32<>\"\",Data!M32,\"\"))","v":""},{"$f":"IF(Data!$E32=30,Data!AC32,\"\")","v":""},{"$f":"IF(Data!$E32=30,Data!AD32,\"\")","v":""},{"$f":"IF(Data!$E32=30,Data!AE32,IF(Data!N32<>\"\",Data!N32,\"\"))","v":""},{"$f":"IF(Data!$E32=30,Data!AF32,\"\")","v":""},{"$f":"IF(Data!$E32=30,Data!AG32,\"\")","v":""},{"$f":"IF(Data!$E32=30,Data!AH32,IF(Data!O32<>\"\",Data!O32,\"\"))","v":""},{"$f":"IF(Data!$E32=30,Data!AI32,\"\")","v":""},null,null,null,{"$f":"IF(Data!$E32=30,Data!AJ32,\"\")","v":""},{"$f":"IF(Data!$E32=30,Data!AK32,IF(Data!P32<>\"\",Data!P32,\"\"))","v":""},{"$f":"IF(Data!$E32=30,Data!AL32,\"\")","v":""},{"$f":"IF(Data!$E32=30,Data!AM32,\"\")","v":""},{"$f":"IF(Data!$E32=30,Data!AN32,IF(Data!Q32<>\"\",Data!Q32,\"\"))","v":""},{"$f":"IF(Data!$E32=30,Data!AO32,\"\")","v":""},{"$f":"IF(Data!$E32=30,Data!AP32,\"\")","v":""},{"$f":"IF(Data!$E32=30,Data!AQ32,IF(Data!R32<>\"\",Data!R32,\"\"))","v":""},{"$f":"IF(Data!$E32=30,Data!AR32,\"\")","v":""},{"$f":"IF(Data!$E32=30,Data!AS32,\"\")","v":""},{"$f":"IF(Data!$E32=30,Data!AT32,IF(Data!S32<>\"\",Data!S32,\"\"))","v":""},{"$f":"IF(Data!$E32=30,Data!AU32,\"\")","v":""},{"$f":"IF(Data!$E32=30,Data!AV32,\"\")","v":""},{"$f":"IF(Data!$E32=30,Data!AW32,IF(Data!T32<>\"\",Data!T32,\"\"))","v":""},{"$f":"IF(Data!$E32=30,Data!AX32,\"\")","v":""},{"$f":"IF(Data!$E32=30,Data!AY32,\"\")","v":""},{"$f":"IF(Data!$E32=30,Data!AZ32,IF(Data!U32<>\"\",Data!U32,\"\"))","v":""},{"$f":"IF(Data!$E32=30,Data!BA32,\"\")","v":""},{"$f":"IF(Data!$E32=30,Data!BB32,\"\")","v":""},{"$f":"IF(Data!$E32=30,Data!BC32,IF(Data!V32<>\"\",Data!V32,\"\"))","v":""},{"$f":"IF(Data!$E32=30,Data!BD32,\"\")","v":""},{"$f":"IF(Data!$E32=30,Data!BE32,\"\")","v":""},{"$f":"IF(Data!$E32=30,Data!BF32,IF(Data!W32<>\"\",Data!W32,\"\"))","v":""},{"$f":"IF(Data!$E32=30,Data!BG32,\"\")","v":""},{"$f":"IF(Data!$E32=30,Data!BH32,\"\")","v":""},{"$f":"IF(Data!$E32=30,Data!BI32,IF(Data!X32<>\"\",Data!X32,\"\"))","v":""},{"$f":"IF(Data!$E32=30,Data!BJ32,\"\")","v":""},{"$f":"IF(Data!$E32=30,Data!BK32,\"\")","v":""},{"$f":"IF(Data!$E32=30,Data!BL32,IF(Data!Y32<>\"\",Data!Y32,\"\"))","v":""},{"$f":"IF(Data!$E32=30,Data!BM32,\"\")","v":""}]
[null,{"$f":"IF(Data!A33<>\"\",Data!A33,\"\")","v":""},{"$f":"IF(Data!$E33=30,Data!F33,\"\")","v":""},{"$f":"IF(Data!$E33=30,Data!G33,IF(Data!F33<>\"\",Data!F33,\"\"))","v":""},{"$f":"IF(Data!$E33=30,Data!H33,\"\")","v":""},{"$f":"IF(Data!$E33=30,Data!I33,\"\")","v":""},{"$f":"IF(Data!$E33=30,Data!J33,IF(Data!G33<>\"\",Data!G33,\"\"))","v":""},{"$f":"IF(Data!$E33=30,Data!K33,\"\")","v":""},{"$f":"IF(Data!$E33=30,Data!L33,\"\")","v":""},{"$f":"IF(Data!$E33=30,Data!M33,IF(Data!H33<>\"\",Data!H33,\"\"))","v":""},{"$f":"IF(Data!$E33=30,Data!N33,\"\")","v":""},{"$f":"IF(Data!$E33=30,Data!O33,\"\")","v":""},{"$f":"IF(Data!$E33=30,Data!P33,IF(Data!I33<>\"\",Data!I33,\"\"))","v":""},{"$f":"IF(Data!$E33=30,Data!Q33,\"\")","v":""},{"$f":"IF(Data!$E33=30,Data!R33,\"\")","v":""},{"$f":"IF(Data!$E33=30,Data!S33,IF(Data!J33<>\"\",Data!J33,\"\"))","v":""},{"$f":"IF(Data!$E33=30,Data!T33,\"\")","v":""},{"$f":"IF(Data!$E33=30,Data!U33,\"\")","v":""},{"$f":"IF(Data!$E33=30,Data!V33,IF(Data!K33<>\"\",Data!K33,\"\"))","v":""},{"$f":"IF(Data!$E33=30,Data!W33,\"\")","v":""},{"$f":"IF(Data!$E33=30,Data!X33,\"\")","v":""},{"$f":"IF(Data!$E33=30,Data!Y33,IF(Data!L33<>\"\",Data!L33,\"\"))","v":""},{"$f":"IF(Data!$E33=30,Data!Z33,\"\")","v":""},{"$f":"IF(Data!$E33=30,Data!AA33,\"\")","v":""},{"$f":"IF(Data!$E33=30,Data!AB33,IF(Data!M33<>\"\",Data!M33,\"\"))","v":""},{"$f":"IF(Data!$E33=30,Data!AC33,\"\")","v":""},{"$f":"IF(Data!$E33=30,Data!AD33,\"\")","v":""},{"$f":"IF(Data!$E33=30,Data!AE33,IF(Data!N33<>\"\",Data!N33,\"\"))","v":""},{"$f":"IF(Data!$E33=30,Data!AF33,\"\")","v":""},{"$f":"IF(Data!$E33=30,Data!AG33,\"\")","v":""},{"$f":"IF(Data!$E33=30,Data!AH33,IF(Data!O33<>\"\",Data!O33,\"\"))","v":""},{"$f":"IF(Data!$E33=30,Data!AI33,\"\")","v":""},null,null,null,{"$f":"IF(Data!$E33=30,Data!AJ33,\"\")","v":""},{"$f":"IF(Data!$E33=30,Data!AK33,IF(Data!P33<>\"\",Data!P33,\"\"))","v":""},{"$f":"IF(Data!$E33=30,Data!AL33,\"\")","v":""},{"$f":"IF(Data!$E33=30,Data!AM33,\"\")","v":""},{"$f":"IF(Data!$E33=30,Data!AN33,IF(Data!Q33<>\"\",Data!Q33,\"\"))","v":""},{"$f":"IF(Data!$E33=30,Data!AO33,\"\")","v":""},{"$f":"IF(Data!$E33=30,Data!AP33,\"\")","v":""},{"$f":"IF(Data!$E33=30,Data!AQ33,IF(Data!R33<>\"\",Data!R33,\"\"))","v":""},{"$f":"IF(Data!$E33=30,Data!AR33,\"\")","v":""},{"$f":"IF(Data!$E33=30,Data!AS33,\"\")","v":""},{"$f":"IF(Data!$E33=30,Data!AT33,IF(Data!S33<>\"\",Data!S33,\"\"))","v":""},{"$f":"IF(Data!$E33=30,Data!AU33,\"\")","v":""},{"$f":"IF(Data!$E33=30,Data!AV33,\"\")","v":""},{"$f":"IF(Data!$E33=30,Data!AW33,IF(Data!T33<>\"\",Data!T33,\"\"))","v":""},{"$f":"IF(Data!$E33=30,Data!AX33,\"\")","v":""},{"$f":"IF(Data!$E33=30,Data!AY33,\"\")","v":""},{"$f":"IF(Data!$E33=30,Data!AZ33,IF(Data!U33<>\"\",Data!U33,\"\"))","v":""},{"$f":"IF(Data!$E33=30,Data!BA33,\"\")","v":""},{"$f":"IF(Data!$E33=30,Data!BB33,\"\")","v":""},{"$f":"IF(Data!$E33=30,Data!BC33,IF(Data!V33<>\"\",Data!V33,\"\"))","v":""},{"$f":"IF(Data!$E33=30,Data!BD33,\"\")","v":""},{"$f":"IF(Data!$E33=30,Data!BE33,\"\")","v":""},{"$f":"IF(Data!$E33=30,Data!BF33,IF(Data!W33<>\"\",Data!W33,\"\"))","v":""},{"$f":"IF(Data!$E33=30,Data!BG33,\"\")","v":""},{"$f":"IF(Data!$E33=30,Data!BH33,\"\")","v":""},{"$f":"IF(Data!$E33=30,Data!BI33,IF(Data!X33<>\"\",Data!X33,\"\"))","v":""},{"$f":"IF(Data!$E33=30,Data!BJ33,\"\")","v":""},{"$f":"IF(Data!$E33=30,Data!BK33,\"\")","v":""},{"$f":"IF(Data!$E33=30,Data!BL33,IF(Data!Y33<>\"\",Data!Y33,\"\"))","v":""},{"$f":"IF(Data!$E33=30,Data!BM33,\"\")","v":""}]
[null,{"$f":"IF(Data!A34<>\"\",Data!A34,\"\")","v":""},{"$f":"IF(Data!$E34=30,Data!F34,\"\")","v":""},{"$f":"IF(Data!$E34=30,Data!G34,IF(Data!F34<>\"\",Data!F34,\"\"))","v":""},{"$f":"IF(Data!$E34=30,Data!H34,\"\")","v":""},{"$f":"IF(Data!$E34=30,Data!I34,\"\")","v":""},{"$f":"IF(Data!$E34=30,Data!J34,IF(Data!G34<>\"\",Data!G34,\"\"))","v":""},{"$f":"IF(Data!$E34=30,Data!K34,\"\")","v":""},{"$f":"IF(Data!$E34=30,Data!L34,\"\")","v":""},{"$f":"IF(Data!$E34=30,Data!M34,IF(Data!H34<>\"\",Data!H34,\"\"))","v":""},{"$f":"IF(Data!$E34=30,Data!N34,\"\")","v":""},{"$f":"IF(Data!$E34=30,Data!O34,\"\")","v":""},{"$f":"IF(Data!$E34=30,Data!P34,IF(Data!I34<>\"\",Data!I34,\"\"))","v":""},{"$f":"IF(Data!$E34=30,Data!Q34,\"\")","v":""},{"$f":"IF(Data!$E34=30,Data!R34,\"\")","v":""},{"$f":"IF(Data!$E34=30,Data!S34,IF(Data!J34<>\"\",Data!J34,\"\"))","v":""},{"$f":"IF(Data!$E34=30,Data!T34,\"\")","v":""},{"$f":"IF(Data!$E34=30,Data!U34,\"\")","v":""},{"$f":"IF(Data!$E34=30,Data!V34,IF(Data!K34<>\"\",Data!K34,\"\"))","v":""},{"$f":"IF(Data!$E34=30,Data!W34,\"\")","v":""},{"$f":"IF(Data!$E34=30,Data!X34,\"\")","v":""},{"$f":"IF(Data!$E34=30,Data!Y34,IF(Data!L34<>\"\",Data!L34,\"\"))","v":""},{"$f":"IF(Data!$E34=30,Data!Z34,\"\")","v":""},{"$f":"IF(Data!$E34=30,Data!AA34,\"\")","v":""},{"$f":"IF(Data!$E34=30,Data!AB34,IF(Data!M34<>\"\",Data!M34,\"\"))","v":""},{"$f":"IF(Data!$E34=30,Data!AC34,\"\")","v":""},{"$f":"IF(Data!$E34=30,Data!AD34,\"\")","v":""},{"$f":"IF(Data!$E34=30,Data!AE34,IF(Data!N34<>\"\",Data!N34,\"\"))","v":""},{"$f":"IF(Data!$E34=30,Data!AF34,\"\")","v":""},{"$f":"IF(Data!$E34=30,Data!AG34,\"\")","v":""},{"$f":"IF(Data!$E34=30,Data!AH34,IF(Data!O34<>\"\",Data!O34,\"\"))","v":""},{"$f":"IF(Data!$E34=30,Data!AI34,\"\")","v":""},null,null,null,{"$f":"IF(Data!$E34=30,Data!AJ34,\"\")","v":""},{"$f":"IF(Data!$E34=30,Data!AK34,IF(Data!P34<>\"\",Data!P34,\"\"))","v":""},{"$f":"IF(Data!$E34=30,Data!AL34,\"\")","v":""},{"$f":"IF(Data!$E34=30,Data!AM34,\"\")","v":""},{"$f":"IF(Data!$E34=30,Data!AN34,IF(Data!Q34<>\"\",Data!Q34,\"\"))","v":""},{"$f":"IF(Data!$E34=30,Data!AO34,\"\")","v":""},{"$f":"IF(Data!$E34=30,Data!AP34,\"\")","v":""},{"$f":"IF(Data!$E34=30,Data!AQ34,IF(Data!R34<>\"\",Data!R34,\"\"))","v":""},{"$f":"IF(Data!$E34=30,Data!AR34,\"\")","v":""},{"$f":"IF(Data!$E34=30,Data!AS34,\"\")","v":""},{"$f":"IF(Data!$E34=30,Data!AT34,IF(Data!S34<>\"\",Data!S34,\"\"))","v":""},{"$f":"IF(Data!$E34=30,Data!AU34,\"\")","v":""},{"$f":"IF(Data!$E34=30,Data!AV34,\"\")","v":""},{"$f":"IF(Data!$E34=30,Data!AW34,IF(Data!T34<>\"\",Data!T34,\"\"))","v":""},{"$f":"IF(Data!$E34=30,Data!AX34,\"\")","v":""},{"$f":"IF(Data!$E34=30,Data!AY34,\"\")","v":""},{"$f":"IF(Data!$E34=30,Data!AZ34,IF(Data!U34<>\"\",Data!U34,\"\"))","v":""},{"$f":"IF(Data!$E34=30,Data!BA34,\"\")","v":""},{"$f":"IF(Data!$E34=30,Data!BB34,\"\")","v":""},{"$f":"IF(Data!$E34=30,Data!BC34,IF(Data!V34<>\"\",Data!V34,\"\"))","v":""},{"$f":"IF(Data!$E34=30,Data!BD34,\"\")","v":""},{"$f":"IF(Data!$E34=30,Data!BE34,\"\")","v":""},{"$f":"IF(Data!$E34=30,Data!BF34,IF(Data!W34<>\"\",Data!W34,\"\"))","v":""},{"$f":"IF(Data!$E34=30,Data!BG34,\"\")","v":""},{"$f":"IF(Data!$E34=30,Data!BH34,\"\")","v":""},{"$f":"IF(Data!$E34=30,Data!BI34,IF(Data!X34<>\"\",Data!X34,\"\"))","v":""},{"$f":"IF(Data!$E34=30,Data!BJ34,\"\")","v":""},{"$f":"IF(Data!$E34=30,Data!BK34,\"\")","v":""},{"$f":"IF(Data!$E34=30,Data!BL34,IF(Data!Y34<>\"\",Data!Y34,\"\"))","v":""},{"$f":"IF(Data!$E34=30,Data!BM34,\"\")","v":""}]
[null,{"$f":"IF(Data!A35<>\"\",Data!A35,\"\")","v":""},{"$f":"IF(Data!$E35=30,Data!F35,\"\")","v":""},{"$f":"IF(Data!$E35=30,Data!G35,IF(Data!F35<>\"\",Data!F35,\"\"))","v":""},{"$f":"IF(Data!$E35=30,Data!H35,\"\")","v":""},{"$f":"IF(Data!$E35=30,Data!I35,\"\")","v":""},{"$f":"IF(Data!$E35=30,Data!J35,IF(Data!G35<>\"\",Data!G35,\"\"))","v":""},{"$f":"IF(Data!$E35=30,Data!K35,\"\")","v":""},{"$f":"IF(Data!$E35=30,Data!L35,\"\")","v":""},{"$f":"IF(Data!$E35=30,Data!M35,IF(Data!H35<>\"\",Data!H35,\"\"))","v":""},{"$f":"IF(Data!$E35=30,Data!N35,\"\")","v":""},{"$f":"IF(Data!$E35=30,Data!O35,\"\")","v":""},{"$f":"IF(Data!$E35=30,Data!P35,IF(Data!I35<>\"\",Data!I35,\"\"))","v":""},{"$f":"IF(Data!$E35=30,Data!Q35,\"\")","v":""},{"$f":"IF(Data!$E35=30,Data!R35,\"\")","v":""},{"$f":"IF(Data!$E35=30,Data!S35,IF(Data!J35<>\"\",Data!J35,\"\"))","v":""},{"$f":"IF(Data!$E35=30,Data!T35,\"\")","v":""},{"$f":"IF(Data!$E35=30,Data!U35,\"\")","v":""},{"$f":"IF(Data!$E35=30,Data!V35,IF(Data!K35<>\"\",Data!K35,\"\"))","v":""},{"$f":"IF(Data!$E35=30,Data!W35,\"\")","v":""},{"$f":"IF(Data!$E35=30,Data!X35,\"\")","v":""},{"$f":"IF(Data!$E35=30,Data!Y35,IF(Data!L35<>\"\",Data!L35,\"\"))","v":""},{"$f":"IF(Data!$E35=30,Data!Z35,\"\")","v":""},{"$f":"IF(Data!$E35=30,Data!AA35,\"\")","v":""},{"$f":"IF(Data!$E35=30,Data!AB35,IF(Data!M35<>\"\",Data!M35,\"\"))","v":""},{"$f":"IF(Data!$E35=30,Data!AC35,\"\")","v":""},{"$f":"IF(Data!$E35=30,Data!AD35,\"\")","v":""},{"$f":"IF(Data!$E35=30,Data!AE35,IF(Data!N35<>\"\",Data!N35,\"\"))","v":""},{"$f":"IF(Data!$E35=30,Data!AF35,\"\")","v":""},{"$f":"IF(Data!$E35=30,Data!AG35,\"\")","v":""},{"$f":"IF(Data!$E35=30,Data!AH35,IF(Data!O35<>\"\",Data!O35,\"\"))","v":""},{"$f":"IF(Data!$E35=30,Data!AI35,\"\")","v":""},null,null,null,{"$f":"IF(Data!$E35=30,Data!AJ35,\"\")","v":""},{"$f":"IF(Data!$E35=30,Data!AK35,IF(Data!P35<>\"\",Data!P35,\"\"))","v":""},{"$f":"IF(Data!$E35=30,Data!AL35,\"\")","v":""},{"$f":"IF(Data!$E35=30,Data!AM35,\"\")","v":""},{"$f":"IF(Data!$E35=30,Data!AN35,IF(Data!Q35<>\"\",Data!Q35,\"\"))","v":""},{"$f":"IF(Data!$E35=30,Data!AO35,\"\")","v":""},{"$f":"IF(Data!$E35=30,Data!AP35,\"\")","v":""},{"$f":"IF(Data!$E35=30,Data!AQ35,IF(Data!R35<>\"\",Data!R35,\"\"))","v":""},{"$f":"IF(Data!$E35=30,Data!AR35,\"\")","v":""},{"$f":"IF(Data!$E35=30,Data!AS35,\"\")","v":""},{"$f":"IF(Data!$E35=30,Data!AT35,IF(Data!S35<>\"\",Data!S35,\"\"))","v":""},{"$f":"IF(Data!$E35=30,Data!AU35,\"\")","v":""},{"$f":"IF(Data!$E35=30,Data!AV35,\"\")","v":""},{"$f":"IF(Data!$E35=30,Data!AW35,IF(Data!T35<>\"\",Data!T35,\"\"))","v":""},{"$f":"IF(Data!$E35=30,Data!AX35,\"\")","v":""},{"$f":"IF(Data!$E35=30,Data!AY35,\"\")","v":""},{"$f":"IF(Data!$E35=30,Data!AZ35,IF(Data!U35<>\"\",Data!U35,\"\"))","v":""},{"$f":"IF(Data!$E35=30,Data!BA35,\"\")","v":""},{"$f":"IF(Data!$E35=30,Data!BB35,\"\")","v":""},{"$f":"IF(Data!$E35=30,Data!BC35,IF(Data!V35<>\"\",Data!V35,\"\"))","v":""},{"$f":"IF(Data!$E35=30,Data!BD35,\"\")","v":""},{"$f":"IF(Data!$E35=30,Data!BE35,\"\")","v":""},{"$f":"IF(Data!$E35=30,Data!BF35,IF(Data!W35<>\"\",Data!W35,\"\"))","v":""},{"$f":"IF(Data!$E35=30,Data!BG35,\"\")","v":""},{"$f":"IF(Data!$E35=30,Data!BH35,\"\")","v":""},{"$f":"IF(Data!$E35=30,Data!BI35,IF(Data!X35<>\"\",Data!X35,\"\"))","v":""},{"$f":"IF(Data!$E35=30,Data!BJ35,\"\")","v":""},{"$f":"IF(Data!$E35=30,Data!BK35,\"\")","v":""},{"$f":"IF(Data!$E35=30,Data!BL35,IF(Data!Y35<>\"\",Data!Y35,\"\"))","v":""},{"$f":"IF(Data!$E35=30,Data!BM35,\"\")","v":""}]
[null,{"$f":"IF(Data!A36<>\"\",Data!A36,\"\")","v":""},{"$f":"IF(Data!$E36=30,Data!F36,\"\")","v":""},{"$f":"IF(Data!$E36=30,Data!G36,IF(Data!F36<>\"\",Data!F36,\"\"))","v":""},{"$f":"IF(Data!$E36=30,Data!H36,\"\")","v":""},{"$f":"IF(Data!$E36=30,Data!I36,\"\")","v":""},{"$f":"IF(Data!$E36=30,Data!J36,IF(Data!G36<>\"\",Data!G36,\"\"))","v":""},{"$f":"IF(Data!$E36=30,Data!K36,\"\")","v":""},{"$f":"IF(Data!$E36=30,Data!L36,\"\")","v":""},{"$f":"IF(Data!$E36=30,Data!M36,IF(Data!H36<>\"\",Data!H36,\"\"))","v":""},{"$f":"IF(Data!$E36=30,Data!N36,\"\")","v":""},{"$f":"IF(Data!$E36=30,Data!O36,\"\")","v":""},{"$f":"IF(Data!$E36=30,Data!P36,IF(Data!I36<>\"\",Data!I36,\"\"))","v":""},{"$f":"IF(Data!$E36=30,Data!Q36,\"\")","v":""},{"$f":"IF(Data!$E36=30,Data!R36,\"\")","v":""},{"$f":"IF(Data!$E36=30,Data!S36,IF(Data!J36<>\"\",Data!J36,\"\"))","v":""},{"$f":"IF(Data!$E36=30,Data!T36,\"\")","v":""},{"$f":"IF(Data!$E36=30,Data!U36,\"\")","v":""},{"$f":"IF(Data!$E36=30,Data!V36,IF(Data!K36<>\"\",Data!K36,\"\"))","v":""},{"$f":"IF(Data!$E36=30,Data!W36,\"\")","v":""},{"$f":"IF(Data!$E36=30,Data!X36,\"\")","v":""},{"$f":"IF(Data!$E36=30,Data!Y36,IF(Data!L36<>\"\",Data!L36,\"\"))","v":""},{"$f":"IF(Data!$E36=30,Data!Z36,\"\")","v":""},{"$f":"IF(Data!$E36=30,Data!AA36,\"\")","v":""},{"$f":"IF(Data!$E36=30,Data!AB36,IF(Data!M36<>\"\",Data!M36,\"\"))","v":""},{"$f":"IF(Data!$E36=30,Data!AC36,\"\")","v":""},{"$f":"IF(Data!$E36=30,Data!AD36,\"\")","v":""},{"$f":"IF(Data!$E36=30,Data!AE36,IF(Data!N36<>\"\",Data!N36,\"\"))","v":""},{"$f":"IF(Data!$E36=30,Data!AF36,\"\")","v":""},{"$f":"IF(Data!$E36=30,Data!AG36,\"\")","v":""},{"$f":"IF(Data!$E36=30,Data!AH36,IF(Data!O36<>\"\",Data!O36,\"\"))","v":""},{"$f":"IF(Data!$E36=30,Data!AI36,\"\")","v":""},null,null,null,{"$f":"IF(Data!$E36=30,Data!AJ36,\"\")","v":""},{"$f":"IF(Data!$E36=30,Data!AK36,IF(Data!P36<>\"\",Data!P36,\"\"))","v":""},{"$f":"IF(Data!$E36=30,Data!AL36,\"\")","v":""},{"$f":"IF(Data!$E36=30,Data!AM36,\"\")","v":""},{"$f":"IF(Data!$E36=30,Data!AN36,IF(Data!Q36<>\"\",Data!Q36,\"\"))","v":""},{"$f":"IF(Data!$E36=30,Data!AO36,\"\")","v":""},{"$f":"IF(Data!$E36=30,Data!AP36,\"\")","v":""},{"$f":"IF(Data!$E36=30,Data!AQ36,IF(Data!R36<>\"\",Data!R36,\"\"))","v":""},{"$f":"IF(Data!$E36=30,Data!AR36,\"\")","v":""},{"$f":"IF(Data!$E36=30,Data!AS36,\"\")","v":""},{"$f":"IF(Data!$E36=30,Data!AT36,IF(Data!S36<>\"\",Data!S36,\"\"))","v":""},{"$f":"IF(Data!$E36=30,Data!AU36,\"\")","v":""},{"$f":"IF(Data!$E36=30,Data!AV36,\"\")","v":""},{"$f":"IF(Data!$E36=30,Data!AW36,IF(Data!T36<>\"\",Data!T36,\"\"))","v":""},{"$f":"IF(Data!$E36=30,Data!AX36,\"\")","v":""},{"$f":"IF(Data!$E36=30,Data!AY36,\"\")","v":""},{"$f":"IF(Data!$E36=30,Data!AZ36,IF(Data!U36<>\"\",Data!U36,\"\"))","v":""},{"$f":"IF(Data!$E36=30,Data!BA36,\"\")","v":""},{"$f":"IF(Data!$E36=30,Data!BB36,\"\")","v":""},{"$f":"IF(Data!$E36=30,Data!BC36,IF(Data!V36<>\"\",Data!V36,\"\"))","v":""},{"$f":"IF(Data!$E36=30,Data!BD36,\"\")","v":""},{"$f":"IF(Data!$E36=30,Data!BE36,\"\")","v":""},{"$f":"IF(Data!$E36=30,Data!BF36,IF(Data!W36<>\"\",Data!W36,\"\"))","v":""},{"$f":"IF(Data!$E36=30,Data!BG36,\"\")","v":""},{"$f":"IF(Data!$E36=30,Data!BH36,\"\")","v":""},{"$f":"IF(Data!$E36=30,Data!BI36,IF(Data!X36<>\"\",Data!X36,\"\"))","v":""},{"$f":"IF(Data!$E36=30,Data!BJ36,\"\")","v":""},{"$f":"IF(Data!$E36=30,Data!BK36,\"\")","v":""},{"$f":"IF(Data!$E36=30,Data!BL36,IF(Data!Y36<>\"\",Data!Y36,\"\"))","v":""},{"$f":"IF(Data!$E36=30,Data!BM36,\"\")","v":""}]
[null,{"$f":"IF(Data!A37<>\"\",Data!A37,\"\")","v":""},{"$f":"IF(Data!$E37=30,Data!F37,\"\")","v":""},{"$f":"IF(Data!$E37=30,Data!G37,IF(Data!F37<>\"\",Data!F37,\"\"))","v":""},{"$f":"IF(Data!$E37=30,Data!H37,\"\")","v":""},{"$f":"IF(Data!$E37=30,Data!I37,\"\")","v":""},{"$f":"IF(Data!$E37=30,Data!J37,IF(Data!G37<>\"\",Data!G37,\"\"))","v":""},{"$f":"IF(Data!$E37=30,Data!K37,\"\")","v":""},{"$f":"IF(Data!$E37=30,Data!L37,\"\")","v":""},{"$f":"IF(Data!$E37=30,Data!M37,IF(Data!H37<>\"\",Data!H37,\"\"))","v":""},{"$f":"IF(Data!$E37=30,Data!N37,\"\")","v":""},{"$f":"IF(Data!$E37=30,Data!O37,\"\")","v":""},{"$f":"IF(Data!$E37=30,Data!P37,IF(Data!I37<>\"\",Data!I37,\"\"))","v":""},{"$f":"IF(Data!$E37=30,Data!Q37,\"\")","v":""},{"$f":"IF(Data!$E37=30,Data!R37,\"\")","v":""},{"$f":"IF(Data!$E37=30,Data!S37,IF(Data!J37<>\"\",Data!J37,\"\"))","v":""},{"$f":"IF(Data!$E37=30,Data!T37,\"\")","v":""},{"$f":"IF(Data!$E37=30,Data!U37,\"\")","v":""},{"$f":"IF(Data!$E37=30,Data!V37,IF(Data!K37<>\"\",Data!K37,\"\"))","v":""},{"$f":"IF(Data!$E37=30,Data!W37,\"\")","v":""},{"$f":"IF(Data!$E37=30,Data!X37,\"\")","v":""},{"$f":"IF(Data!$E37=30,Data!Y37,IF(Data!L37<>\"\",Data!L37,\"\"))","v":""},{"$f":"IF(Data!$E37=30,Data!Z37,\"\")","v":""},{"$f":"IF(Data!$E37=30,Data!AA37,\"\")","v":""},{"$f":"IF(Data!$E37=30,Data!AB37,IF(Data!M37<>\"\",Data!M37,\"\"))","v":""},{"$f":"IF(Data!$E37=30,Data!AC37,\"\")","v":""},{"$f":"IF(Data!$E37=30,Data!AD37,\"\")","v":""},{"$f":"IF(Data!$E37=30,Data!AE37,IF(Data!N37<>\"\",Data!N37,\"\"))","v":""},{"$f":"IF(Data!$E37=30,Data!AF37,\"\")","v":""},{"$f":"IF(Data!$E37=30,Data!AG37,\"\")","v":""},{"$f":"IF(Data!$E37=30,Data!AH37,IF(Data!O37<>\"\",Data!O37,\"\"))","v":""},{"$f":"IF(Data!$E37=30,Data!AI37,\"\")","v":""},null,null,null,{"$f":"IF(Data!$E37=30,Data!AJ37,\"\")","v":""},{"$f":"IF(Data!$E37=30,Data!AK37,IF(Data!P37<>\"\",Data!P37,\"\"))","v":""},{"$f":"IF(Data!$E37=30,Data!AL37,\"\")","v":""},{"$f":"IF(Data!$E37=30,Data!AM37,\"\")","v":""},{"$f":"IF(Data!$E37=30,Data!AN37,IF(Data!Q37<>\"\",Data!Q37,\"\"))","v":""},{"$f":"IF(Data!$E37=30,Data!AO37,\"\")","v":""},{"$f":"IF(Data!$E37=30,Data!AP37,\"\")","v":""},{"$f":"IF(Data!$E37=30,Data!AQ37,IF(Data!R37<>\"\",Data!R37,\"\"))","v":""},{"$f":"IF(Data!$E37=30,Data!AR37,\"\")","v":""},{"$f":"IF(Data!$E37=30,Data!AS37,\"\")","v":""},{"$f":"IF(Data!$E37=30,Data!AT37,IF(Data!S37<>\"\",Data!S37,\"\"))","v":""},{"$f":"IF(Data!$E37=30,Data!AU37,\"\")","v":""},{"$f":"IF(Data!$E37=30,Data!AV37,\"\")","v":""},{"$f":"IF(Data!$E37=30,Data!AW37,IF(Data!T37<>\"\",Data!T37,\"\"))","v":""},{"$f":"IF(Data!$E37=30,Data!AX37,\"\")","v":""},{"$f":"IF(Data!$E37=30,Data!AY37,\"\")","v":""},{"$f":"IF(Data!$E37=30,Data!AZ37,IF(Data!U37<>\"\",Data!U37,\"\"))","v":""},{"$f":"IF(Data!$E37=30,Data!BA37,\"\")","v":""},{"$f":"IF(Data!$E37=30,Data!BB37,\"\")","v":""},{"$f":"IF(Data!$E37=30,Data!BC37,IF(Data!V37<>\"\",Data!V37,\"\"))","v":""},{"$f":"IF(Data!$E37=30,Data!BD37,\"\")","v":""},{"$f":"IF(Data!$E37=30,Data!BE37,\"\")","v":""},{"$f":"IF(Data!$E37=30,Data!BF37,IF(Data!W37<>\"\",Data!W37,\"\"))","v":""},{"$f":"IF(Data!$E37=30,Data!BG37,\"\")","v":""},{"$f":"IF(Data!$E37=30,Data!BH37,\"\")","v":""},{"$f":"IF(Data!$E37=30,Data!BI37,IF(Data!X37<>\"\",Data!X37,\"\"))","v":""},{"$f":"IF(Data!$E37=30,Data!BJ37,\"\")","v":""},{"$f":"IF(Data!$E37=30,Data!BK37,\"\")","v":""},{"$f":"IF(Data!$E37=30,Data!BL37,IF(Data!Y37<>\"\",Data!Y37,\"\"))","v":""},{"$f":"IF(Data!$E37=30,Data!BM37,\"\")","v":""}]
[null,{"$f":"IF(Data!A38<>\"\",Data!A38,\"\")","v":""},{"$f":"IF(Data!$E38=30,Data!F38,\"\")","v":""},{"$f":"IF(Data!$E38=30,Data!G38,IF(Data!F38<>\"\",Data!F38,\"\"))","v":""},{"$f":"IF(Data!$E38=30,Data!H38,\"\")","v":""},{"$f":"IF(Data!$E38=30,Data!I38,\"\")","v":""},{"$f":"IF(Data!$E38=30,Data!J38,IF(Data!G38<>\"\",Data!G38,\"\"))","v":""},{"$f":"IF(Data!$E38=30,Data!K38,\"\")","v":""},{"$f":"IF(Data!$E38=30,Data!L38,\"\")","v":""},{"$f":"IF(Data!$E38=30,Data!M38,IF(Data!H38<>\"\",Data!H38,\"\"))","v":""},{"$f":"IF(Data!$E38=30,Data!N38,\"\")","v":""},{"$f":"IF(Data!$E38=30,Data!O38,\"\")","v":""},{"$f":"IF(Data!$E38=30,Data!P38,IF(Data!I38<>\"\",Data!I38,\"\"))","v":""},{"$f":"IF(Data!$E38=30,Data!Q38,\"\")","v":""},{"$f":"IF(Data!$E38=30,Data!R38,\"\")","v":""},{"$f":"IF(Data!$E38=30,Data!S38,IF(Data!J38<>\"\",Data!J38,\"\"))","v":""},{"$f":"IF(Data!$E38=30,Data!T38,\"\")","v":""},{"$f":"IF(Data!$E38=30,Data!U38,\"\")","v":""},{"$f":"IF(Data!$E38=30,Data!V38,IF(Data!K38<>\"\",Data!K38,\"\"))","v":""},{"$f":"IF(Data!$E38=30,Data!W38,\"\")","v":""},{"$f":"IF(Data!$E38=30,Data!X38,\"\")","v":""},{"$f":"IF(Data!$E38=30,Data!Y38,IF(Data!L38<>\"\",Data!L38,\"\"))","v":""},{"$f":"IF(Data!$E38=30,Data!Z38,\"\")","v":""},{"$f":"IF(Data!$E38=30,Data!AA38,\"\")","v":""},{"$f":"IF(Data!$E38=30,Data!AB38,IF(Data!M38<>\"\",Data!M38,\"\"))","v":""},{"$f":"IF(Data!$E38=30,Data!AC38,\"\")","v":""},{"$f":"IF(Data!$E38=30,Data!AD38,\"\")","v":""},{"$f":"IF(Data!$E38=30,Data!AE38,IF(Data!N38<>\"\",Data!N38,\"\"))","v":""},{"$f":"IF(Data!$E38=30,Data!AF38,\"\")","v":""},{"$f":"IF(Data!$E38=30,Data!AG38,\"\")","v":""},{"$f":"IF(Data!$E38=30,Data!AH38,IF(Data!O38<>\"\",Data!O38,\"\"))","v":""},{"$f":"IF(Data!$E38=30,Data!AI38,\"\")","v":""},null,null,null,{"$f":"IF(Data!$E38=30,Data!AJ38,\"\")","v":""},{"$f":"IF(Data!$E38=30,Data!AK38,IF(Data!P38<>\"\",Data!P38,\"\"))","v":""},{"$f":"IF(Data!$E38=30,Data!AL38,\"\")","v":""},{"$f":"IF(Data!$E38=30,Data!AM38,\"\")","v":""},{"$f":"IF(Data!$E38=30,Data!AN38,IF(Data!Q38<>\"\",Data!Q38,\"\"))","v":""},{"$f":"IF(Data!$E38=30,Data!AO38,\"\")","v":""},{"$f":"IF(Data!$E38=30,Data!AP38,\"\")","v":""},{"$f":"IF(Data!$E38=30,Data!AQ38,IF(Data!R38<>\"\",Data!R38,\"\"))","v":""},{"$f":"IF(Data!$E38=30,Data!AR38,\"\")","v":""},{"$f":"IF(Data!$E38=30,Data!AS38,\"\")","v":""},{"$f":"IF(Data!$E38=30,Data!AT38,IF(Data!S38<>\"\",Data!S38,\"\"))","v":""},{"$f":"IF(Data!$E38=30,Data!AU38,\"\")","v":""},{"$f":"IF(Data!$E38=30,Data!AV38,\"\")","v":""},{"$f":"IF(Data!$E38=30,Data!AW38,IF(Data!T38<>\"\",Data!T38,\"\"))","v":""},{"$f":"IF(Data!$E38=30,Data!AX38,\"\")","v":""},{"$f":"IF(Data!$E38=30,Data!AY38,\"\")","v":""},{"$f":"IF(Data!$E38=30,Data!AZ38,IF(Data!U38<>\"\",Data!U38,\"\"))","v":""},{"$f":"IF(Data!$E38=30,Data!BA38,\"\")","v":""},{"$f":"IF(Data!$E38=30,Data!BB38,\"\")","v":""},{"$f":"IF(Data!$E38=30,Data!BC38,IF(Data!V38<>\"\",Data!V38,\"\"))","v":""},{"$f":"IF(Data!$E38=30,Data!BD38,\"\")","v":""},{"$f":"IF(Data!$E38=30,Data!BE38,\"\")","v":""},{"$f":"IF(Data!$E38=30,Data!BF38,IF(Data!W38<>\"\",Data!W38,\"\"))","v":""},{"$f":"IF(Data!$E38=30,Data!BG38,\"\")","v":""},{"$f":"IF(Data!$E38=30,Data!BH38,\"\")","v":""},{"$f":"IF(Data!$E38=30,Data!BI38,IF(Data!X38<>\"\",Data!X38,\"\"))","v":""},{"$f":"IF(Data!$E38=30,Data!BJ38,\"\")","v":""},{"$f":"IF(Data!$E38=30,Data!BK38,\"\")","v":""},{"$f":"IF(Data!$E38=30,Data!BL38,IF(Data!Y38<>\"\",Data!Y38,\"\"))","v":""},{"$f":"IF(Data!$E38=30,Data!BM38,\"\")","v":""}]
[null,{"$f":"IF(Data!A39<>\"\",Data!A39,\"\")","v":""},{"$f":"IF(Data!$E39=30,Data!F39,\"\")","v":""},{"$f":"IF(Data!$E39=30,Data!G39,IF(Data!F39<>\"\",Data!F39,\"\"))","v":""},{"$f":"IF(Data!$E39=30,Data!H39,\"\")","v":""},{"$f":"IF(Data!$E39=30,Data!I39,\"\")","v":""},{"$f":"IF(Data!$E39=30,Data!J39,IF(Data!G39<>\"\",Data!G39,\"\"))","v":""},{"$f":"IF(Data!$E39=30,Data!K39,\"\")","v":""},{"$f":"IF(Data!$E39=30,Data!L39,\"\")","v":""},{"$f":"IF(Data!$E39=30,Data!M39,IF(Data!H39<>\"\",Data!H39,\"\"))","v":""},{"$f":"IF(Data!$E39=30,Data!N39,\"\")","v":""},{"$f":"IF(Data!$E39=30,Data!O39,\"\")","v":""},{"$f":"IF(Data!$E39=30,Data!P39,IF(Data!I39<>\"\",Data!I39,\"\"))","v":""},{"$f":"IF(Data!$E39=30,Data!Q39,\"\")","v":""},{"$f":"IF(Data!$E39=30,Data!R39,\"\")","v":""},{"$f":"IF(Data!$E39=30,Data!S39,IF(Data!J39<>\"\",Data!J39,\"\"))","v":""},{"$f":"IF(Data!$E39=30,Data!T39,\"\")","v":""},{"$f":"IF(Data!$E39=30,Data!U39,\"\")","v":""},{"$f":"IF(Data!$E39=30,Data!V39,IF(Data!K39<>\"\",Data!K39,\"\"))","v":""},{"$f":"IF(Data!$E39=30,Data!W39,\"\")","v":""},{"$f":"IF(Data!$E39=30,Data!X39,\"\")","v":""},{"$f":"IF(Data!$E39=30,Data!Y39,IF(Data!L39<>\"\",Data!L39,\"\"))","v":""},{"$f":"IF(Data!$E39=30,Data!Z39,\"\")","v":""},{"$f":"IF(Data!$E39=30,Data!AA39,\"\")","v":""},{"$f":"IF(Data!$E39=30,Data!AB39,IF(Data!M39<>\"\",Data!M39,\"\"))","v":""},{"$f":"IF(Data!$E39=30,Data!AC39,\"\")","v":""},{"$f":"IF(Data!$E39=30,Data!AD39,\"\")","v":""},{"$f":"IF(Data!$E39=30,Data!AE39,IF(Data!N39<>\"\",Data!N39,\"\"))","v":""},{"$f":"IF(Data!$E39=30,Data!AF39,\"\")","v":""},{"$f":"IF(Data!$E39=30,Data!AG39,\"\")","v":""},{"$f":"IF(Data!$E39=30,Data!AH39,IF(Data!O39<>\"\",Data!O39,\"\"))","v":""},{"$f":"IF(Data!$E39=30,Data!AI39,\"\")","v":""},null,null,null,{"$f":"IF(Data!$E39=30,Data!AJ39,\"\")","v":""},{"$f":"IF(Data!$E39=30,Data!AK39,IF(Data!P39<>\"\",Data!P39,\"\"))","v":""},{"$f":"IF(Data!$E39=30,Data!AL39,\"\")","v":""},{"$f":"IF(Data!$E39=30,Data!AM39,\"\")","v":""},{"$f":"IF(Data!$E39=30,Data!AN39,IF(Data!Q39<>\"\",Data!Q39,\"\"))","v":""},{"$f":"IF(Data!$E39=30,Data!AO39,\"\")","v":""},{"$f":"IF(Data!$E39=30,Data!AP39,\"\")","v":""},{"$f":"IF(Data!$E39=30,Data!AQ39,IF(Data!R39<>\"\",Data!R39,\"\"))","v":""},{"$f":"IF(Data!$E39=30,Data!AR39,\"\")","v":""},{"$f":"IF(Data!$E39=30,Data!AS39,\"\")","v":""},{"$f":"IF(Data!$E39=30,Data!AT39,IF(Data!S39<>\"\",Data!S39,\"\"))","v":""},{"$f":"IF(Data!$E39=30,Data!AU39,\"\")","v":""},{"$f":"IF(Data!$E39=30,Data!AV39,\"\")","v":""},{"$f":"IF(Data!$E39=30,Data!AW39,IF(Data!T39<>\"\",Data!T39,\"\"))","v":""},{"$f":"IF(Data!$E39=30,Data!AX39,\"\")","v":""},{"$f":"IF(Data!$E39=30,Data!AY39,\"\")","v":""},{"$f":"IF(Data!$E39=30,Data!AZ39,IF(Data!U39<>\"\",Data!U39,\"\"))","v":""},{"$f":"IF(Data!$E39=30,Data!BA39,\"\")","v":""},{"$f":"IF(Data!$E39=30,Data!BB39,\"\")","v":""},{"$f":"IF(Data!$E39=30,Data!BC39,IF(Data!V39<>\"\",Data!V39,\"\"))","v":""},{"$f":"IF(Data!$E39=30,Data!BD39,\"\")","v":""},{"$f":"IF(Data!$E39=30,Data!BE39,\"\")","v":""},{"$f":"IF(Data!$E39=30,Data!BF39,IF(Data!W39<>\"\",Data!W39,\"\"))","v":""},{"$f":"IF(Data!$E39=30,Data!BG39,\"\")","v":""},{"$f":"IF(Data!$E39=30,Data!BH39,\"\")","v":""},{"$f":"IF(Data!$E39=30,Data!BI39,IF(Data!X39<>\"\",Data!X39,\"\"))","v":""},{"$f":"IF(Data!$E39=30,Data!BJ39,\"\")","v":""},{"$f":"IF(Data!$E39=30,Data!BK39,\"\")","v":""},{"$f":"IF(Data!$E39=30,Data!BL39,IF(Data!Y39<>\"\",Data!Y39,\"\"))","v":""},{"$f":"IF(Data!$E39=30,Data!BM39,\"\")","v":""}]
[null,{"$f":"IF(Data!A40<>\"\",Data!A40,\"\")","v":""},{"$f":"IF(Data!$E40=30,Data!F40,\"\")","v":""},{"$f":"IF(Data!$E40=30,Data!G40,IF(Data!F40<>\"\",Data!F40,\"\"))","v":""},{"$f":"IF(Data!$E40=30,Data!H40,\"\")","v":""},{"$f":"IF(Data!$E40=30,Data!I40,\"\")","v":""},{"$f":"IF(Data!$E40=30,Data!J40,IF(Data!G40<>\"\",Data!G40,\"\"))","v":""},{"$f":"IF(Data!$E40=30,Data!K40,\"\")","v":""},{"$f":"IF(Data!$E40=30,Data!L40,\"\")","v":""},{"$f":"IF(Data!$E40=30,Data!M40,IF(Data!H40<>\"\",Data!H40,\"\"))","v":""},{"$f":"IF(Data!$E40=30,Data!N40,\"\")","v":""},{"$f":"IF(Data!$E40=30,Data!O40,\"\")","v":""},{"$f":"IF(Data!$E40=30,Data!P40,IF(Data!I40<>\"\",Data!I40,\"\"))","v":""},{"$f":"IF(Data!$E40=30,Data!Q40,\"\")","v":""},{"$f":"IF(Data!$E40=30,Data!R40,\"\")","v":""},{"$f":"IF(Data!$E40=30,Data!S40,IF(Data!J40<>\"\",Data!J40,\"\"))","v":""},{"$f":"IF(Data!$E40=30,Data!T40,\"\")","v":""},{"$f":"IF(Data!$E40=30,Data!U40,\"\")","v":""},{"$f":"IF(Data!$E40=30,Data!V40,IF(Data!K40<>\"\",Data!K40,\"\"))","v":""},{"$f":"IF(Data!$E40=30,Data!W40,\"\")","v":""},{"$f":"IF(Data!$E40=30,Data!X40,\"\")","v":""},{"$f":"IF(Data!$E40=30,Data!Y40,IF(Data!L40<>\"\",Data!L40,\"\"))","v":""},{"$f":"IF(Data!$E40=30,Data!Z40,\"\")","v":""},{"$f":"IF(Data!$E40=30,Data!AA40,\"\")","v":""},{"$f":"IF(Data!$E40=30,Data!AB40,IF(Data!M40<>\"\",Data!M40,\"\"))","v":""},{"$f":"IF(Data!$E40=30,Data!AC40,\"\")","v":""},{"$f":"IF(Data!$E40=30,Data!AD40,\"\")","v":""},{"$f":"IF(Data!$E40=30,Data!AE40,IF(Data!N40<>\"\",Data!N40,\"\"))","v":""},{"$f":"IF(Data!$E40=30,Data!AF40,\"\")","v":""},{"$f":"IF(Data!$E40=30,Data!AG40,\"\")","v":""},{"$f":"IF(Data!$E40=30,Data!AH40,IF(Data!O40<>\"\",Data!O40,\"\"))","v":""},{"$f":"IF(Data!$E40=30,Data!AI40,\"\")","v":""},null,null,null,{"$f":"IF(Data!$E40=30,Data!AJ40,\"\")","v":""},{"$f":"IF(Data!$E40=30,Data!AK40,IF(Data!P40<>\"\",Data!P40,\"\"))","v":""},{"$f":"IF(Data!$E40=30,Data!AL40,\"\")","v":""},{"$f":"IF(Data!$E40=30,Data!AM40,\"\")","v":""},{"$f":"IF(Data!$E40=30,Data!AN40,IF(Data!Q40<>\"\",Data!Q40,\"\"))","v":""},{"$f":"IF(Data!$E40=30,Data!AO40,\"\")","v":""},{"$f":"IF(Data!$E40=30,Data!AP40,\"\")","v":""},{"$f":"IF(Data!$E40=30,Data!AQ40,IF(Data!R40<>\"\",Data!R40,\"\"))","v":""},{"$f":"IF(Data!$E40=30,Data!AR40,\"\")","v":""},{"$f":"IF(Data!$E40=30,Data!AS40,\"\")","v":""},{"$f":"IF(Data!$E40=30,Data!AT40,IF(Data!S40<>\"\",Data!S40,\"\"))","v":""},{"$f":"IF(Data!$E40=30,Data!AU40,\"\")","v":""},{"$f":"IF(Data!$E40=30,Data!AV40,\"\")","v":""},{"$f":"IF(Data!$E40=30,Data!AW40,IF(Data!T40<>\"\",Data!T40,\"\"))","v":""},{"$f":"IF(Data!$E40=30,Data!AX40,\"\")","v":""},{"$f":"IF(Data!$E40=30,Data!AY40,\"\")","v":""},{"$f":"IF(Data!$E40=30,Data!AZ40,IF(Data!U40<>\"\",Data!U40,\"\"))","v":""},{"$f":"IF(Data!$E40=30,Data!BA40,\"\")","v":""},{"$f":"IF(Data!$E40=30,Data!BB40,\"\")","v":""},{"$f":"IF(Data!$E40=30,Data!BC40,IF(Data!V40<>\"\",Data!V40,\"\"))","v":""},{"$f":"IF(Data!$E40=30,Data!BD40,\"\")","v":""},{"$f":"IF(Data!$E40=30,Data!BE40,\"\")","v":""},{"$f":"IF(Data!$E40=30,Data!BF40,IF(Data!W40<>\"\",Data!W40,\"\"))","v":""},{"$f":"IF(Data!$E40=30,Data!BG40,\"\")","v":""},{"$f":"IF(Data!$E40=30,Data!BH40,\"\")","v":""},{"$f":"IF(Data!$E40=30,Data!BI40,IF(Data!X40<>\"\",Data!X40,\"\"))","v":""},{"$f":"IF(Data!$E40=30,Data!BJ40,\"\")","v":""},{"$f":"IF(Data!$E40=30,Data!BK40,\"\")","v":""},{"$f":"IF(Data!$E40=30,Data!BL40,IF(Data!Y40<>\"\",Data!Y40,\"\"))","v":""},{"$f":"IF(Data!$E40=30,Data!BM40,\"\")","v":""}]
[null,{"$f":"IF(Data!A41<>\"\",Data!A41,\"\")","v":""},{"$f":"IF(Data!$E41=30,Data!F41,\"\")","v":""},{"$f":"IF(Data!$E41=30,Data!G41,IF(Data!F41<>\"\",Data!F41,\"\"))","v":""},{"$f":"IF(Data!$E41=30,Data!H41,\"\")","v":""},{"$f":"IF(Data!$E41=30,Data!I41,\"\")","v":""},{"$f":"IF(Data!$E41=30,Data!J41,IF(Data!G41<>\"\",Data!G41,\"\"))","v":""},{"$f":"IF(Data!$E41=30,Data!K41,\"\")","v":""},{"$f":"IF(Data!$E41=30,Data!L41,\"\")","v":""},{"$f":"IF(Data!$E41=30,Data!M41,IF(Data!H41<>\"\",Data!H41,\"\"))","v":""},{"$f":"IF(Data!$E41=30,Data!N41,\"\")","v":""},{"$f":"IF(Data!$E41=30,Data!O41,\"\")","v":""},{"$f":"IF(Data!$E41=30,Data!P41,IF(Data!I41<>\"\",Data!I41,\"\"))","v":""},{"$f":"IF(Data!$E41=30,Data!Q41,\"\")","v":""},{"$f":"IF(Data!$E41=30,Data!R41,\"\")","v":""},{"$f":"IF(Data!$E41=30,Data!S41,IF(Data!J41<>\"\",Data!J41,\"\"))","v":""},{"$f":"IF(Data!$E41=30,Data!T41,\"\")","v":""},{"$f":"IF(Data!$E41=30,Data!U41,\"\")","v":""},{"$f":"IF(Data!$E41=30,Data!V41,IF(Data!K41<>\"\",Data!K41,\"\"))","v":""},{"$f":"IF(Data!$E41=30,Data!W41,\"\")","v":""},{"$f":"IF(Data!$E41=30,Data!X41,\"\")","v":""},{"$f":"IF(Data!$E41=30,Data!Y41,IF(Data!L41<>\"\",Data!L41,\"\"))","v":""},{"$f":"IF(Data!$E41=30,Data!Z41,\"\")","v":""},{"$f":"IF(Data!$E41=30,Data!AA41,\"\")","v":""},{"$f":"IF(Data!$E41=30,Data!AB41,IF(Data!M41<>\"\",Data!M41,\"\"))","v":""},{"$f":"IF(Data!$E41=30,Data!AC41,\"\")","v":""},{"$f":"IF(Data!$E41=30,Data!AD41,\"\")","v":""},{"$f":"IF(Data!$E41=30,Data!AE41,IF(Data!N41<>\"\",Data!N41,\"\"))","v":""},{"$f":"IF(Data!$E41=30,Data!AF41,\"\")","v":""},{"$f":"IF(Data!$E41=30,Data!AG41,\"\")","v":""},{"$f":"IF(Data!$E41=30,Data!AH41,IF(Data!O41<>\"\",Data!O41,\"\"))","v":""},{"$f":"IF(Data!$E41=30,Data!AI41,\"\")","v":""},null,null,null,{"$f":"IF(Data!$E41=30,Data!AJ41,\"\")","v":""},{"$f":"IF(Data!$E41=30,Data!AK41,IF(Data!P41<>\"\",Data!P41,\"\"))","v":""},{"$f":"IF(Data!$E41=30,Data!AL41,\"\")","v":""},{"$f":"IF(Data!$E41=30,Data!AM41,\"\")","v":""},{"$f":"IF(Data!$E41=30,Data!AN41,IF(Data!Q41<>\"\",Data!Q41,\"\"))","v":""},{"$f":"IF(Data!$E41=30,Data!AO41,\"\")","v":""},{"$f":"IF(Data!$E41=30,Data!AP41,\"\")","v":""},{"$f":"IF(Data!$E41=30,Data!AQ41,IF(Data!R41<>\"\",Data!R41,\"\"))","v":""},{"$f":"IF(Data!$E41=30,Data!AR41,\"\")","v":""},{"$f":"IF(Data!$E41=30,Data!AS41,\"\")","v":""},{"$f":"IF(Data!$E41=30,Data!AT41,IF(Data!S41<>\"\",Data!S41,\"\"))","v":""},{"$f":"IF(Data!$E41=30,Data!AU41,\"\")","v":""},{"$f":"IF(Data!$E41=30,Data!AV41,\"\")","v":""},{"$f":"IF(Data!$E41=30,Data!AW41,IF(Data!T41<>\"\",Data!T41,\"\"))","v":""},{"$f":"IF(Data!$E41=30,Data!AX41,\"\")","v":""},{"$f":"IF(Data!$E41=30,Data!AY41,\"\")","v":""},{"$f":"IF(Data!$E41=30,Data!AZ41,IF(Data!U41<>\"\",Data!U41,\"\"))","v":""},{"$f":"IF(Data!$E41=30,Data!BA41,\"\")","v":""},{"$f":"IF(Data!$E41=30,Data!BB41,\"\")","v":""},{"$f":"IF(Data!$E41=30,Data!BC41,IF(Data!V41<>\"\",Data!V41,\"\"))","v":""},{"$f":"IF(Data!$E41=30,Data!BD41,\"\")","v":""},{"$f":"IF(Data!$E41=30,Data!BE41,\"\")","v":""},{"$f":"IF(Data!$E41=30,Data!BF41,IF(Data!W41<>\"\",Data!W41,\"\"))","v":""},{"$f":"IF(Data!$E41=30,Data!BG41,\"\")","v":""},{"$f":"IF(Data!$E41=30,Data!BH41,\"\")","v":""},{"$f":"IF(Data!$E41=30,Data!BI41,IF(Data!X41<>\"\",Data!X41,\"\"))","v":""},{"$f":"IF(Data!$E41=30,Data!BJ41,\"\")","v":""},{"$f":"IF(Data!$E41=30,Data!BK41,\"\")","v":""},{"$f":"IF(Data!$E41=30,Data!BL41,IF(Data!Y41<>\"\",Data!Y41,\"\"))","v":""},{"$f":"IF(Data!$E41=30,Data!BM41,\"\")","v":""}]
[null,{"$f":"IF(Data!A42<>\"\",Data!A42,\"\")","v":""},{"$f":"IF(Data!$E42=30,Data!F42,\"\")","v":""},{"$f":"IF(Data!$E42=30,Data!G42,IF(Data!F42<>\"\",Data!F42,\"\"))","v":""},{"$f":"IF(Data!$E42=30,Data!H42,\"\")","v":""},{"$f":"IF(Data!$E42=30,Data!I42,\"\")","v":""},{"$f":"IF(Data!$E42=30,Data!J42,IF(Data!G42<>\"\",Data!G42,\"\"))","v":""},{"$f":"IF(Data!$E42=30,Data!K42,\"\")","v":""},{"$f":"IF(Data!$E42=30,Data!L42,\"\")","v":""},{"$f":"IF(Data!$E42=30,Data!M42,IF(Data!H42<>\"\",Data!H42,\"\"))","v":""},{"$f":"IF(Data!$E42=30,Data!N42,\"\")","v":""},{"$f":"IF(Data!$E42=30,Data!O42,\"\")","v":""},{"$f":"IF(Data!$E42=30,Data!P42,IF(Data!I42<>\"\",Data!I42,\"\"))","v":""},{"$f":"IF(Data!$E42=30,Data!Q42,\"\")","v":""},{"$f":"IF(Data!$E42=30,Data!R42,\"\")","v":""},{"$f":"IF(Data!$E42=30,Data!S42,IF(Data!J42<>\"\",Data!J42,\"\"))","v":""},{"$f":"IF(Data!$E42=30,Data!T42,\"\")","v":""},{"$f":"IF(Data!$E42=30,Data!U42,\"\")","v":""},{"$f":"IF(Data!$E42=30,Data!V42,IF(Data!K42<>\"\",Data!K42,\"\"))","v":""},{"$f":"IF(Data!$E42=30,Data!W42,\"\")","v":""},{"$f":"IF(Data!$E42=30,Data!X42,\"\")","v":""},{"$f":"IF(Data!$E42=30,Data!Y42,IF(Data!L42<>\"\",Data!L42,\"\"))","v":""},{"$f":"IF(Data!$E42=30,Data!Z42,\"\")","v":""},{"$f":"IF(Data!$E42=30,Data!AA42,\"\")","v":""},{"$f":"IF(Data!$E42=30,Data!AB42,IF(Data!M42<>\"\",Data!M42,\"\"))","v":""},{"$f":"IF(Data!$E42=30,Data!AC42,\"\")","v":""},{"$f":"IF(Data!$E42=30,Data!AD42,\"\")","v":""},{"$f":"IF(Data!$E42=30,Data!AE42,IF(Data!N42<>\"\",Data!N42,\"\"))","v":""},{"$f":"IF(Data!$E42=30,Data!AF42,\"\")","v":""},{"$f":"IF(Data!$E42=30,Data!AG42,\"\")","v":""},{"$f":"IF(Data!$E42=30,Data!AH42,IF(Data!O42<>\"\",Data!O42,\"\"))","v":""},{"$f":"IF(Data!$E42=30,Data!AI42,\"\")","v":""},null,null,null,{"$f":"IF(Data!$E42=30,Data!AJ42,\"\")","v":""},{"$f":"IF(Data!$E42=30,Data!AK42,IF(Data!P42<>\"\",Data!P42,\"\"))","v":""},{"$f":"IF(Data!$E42=30,Data!AL42,\"\")","v":""},{"$f":"IF(Data!$E42=30,Data!AM42,\"\")","v":""},{"$f":"IF(Data!$E42=30,Data!AN42,IF(Data!Q42<>\"\",Data!Q42,\"\"))","v":""},{"$f":"IF(Data!$E42=30,Data!AO42,\"\")","v":""},{"$f":"IF(Data!$E42=30,Data!AP42,\"\")","v":""},{"$f":"IF(Data!$E42=30,Data!AQ42,IF(Data!R42<>\"\",Data!R42,\"\"))","v":""},{"$f":"IF(Data!$E42=30,Data!AR42,\"\")","v":""},{"$f":"IF(Data!$E42=30,Data!AS42,\"\")","v":""},{"$f":"IF(Data!$E42=30,Data!AT42,IF(Data!S42<>\"\",Data!S42,\"\"))","v":""},{"$f":"IF(Data!$E42=30,Data!AU42,\"\")","v":""},{"$f":"IF(Data!$E42=30,Data!AV42,\"\")","v":""},{"$f":"IF(Data!$E42=30,Data!AW42,IF(Data!T42<>\"\",Data!T42,\"\"))","v":""},{"$f":"IF(Data!$E42=30,Data!AX42,\"\")","v":""},{"$f":"IF(Data!$E42=30,Data!AY42,\"\")","v":""},{"$f":"IF(Data!$E42=30,Data!AZ42,IF(Data!U42<>\"\",Data!U42,\"\"))","v":""},{"$f":"IF(Data!$E42=30,Data!BA42,\"\")","v":""},{"$f":"IF(Data!$E42=30,Data!BB42,\"\")","v":""},{"$f":"IF(Data!$E42=30,Data!BC42,IF(Data!V42<>\"\",Data!V42,\"\"))","v":""},{"$f":"IF(Data!$E42=30,Data!BD42,\"\")","v":""},{"$f":"IF(Data!$E42=30,Data!BE42,\"\")","v":""},{"$f":"IF(Data!$E42=30,Data!BF42,IF(Data!W42<>\"\",Data!W42,\"\"))","v":""},{"$f":"IF(Data!$E42=30,Data!BG42,\"\")","v":""},{"$f":"IF(Data!$E42=30,Data!BH42,\"\")","v":""},{"$f":"IF(Data!$E42=30,Data!BI42,IF(Data!X42<>\"\",Data!X42,\"\"))","v":""},{"$f":"IF(Data!$E42=30,Data!BJ42,\"\")","v":""},{"$f":"IF(Data!$E42=30,Data!BK42,\"\")","v":""},{"$f":"IF(Data!$E42=30,Data!BL42,IF(Data!Y42<>\"\",Data!Y42,\"\"))","v":""},{"$f":"IF(Data!$E42=30,Data!BM42,\"\")","v":""}]
[null,{"$f":"IF(Data!A43<>\"\",Data!A43,\"\")","v":""},{"$f":"IF(Data!$E43=30,Data!F43,\"\")","v":""},{"$f":"IF(Data!$E43=30,Data!G43,IF(Data!F43<>\"\",Data!F43,\"\"))","v":""},{"$f":"IF(Data!$E43=30,Data!H43,\"\")","v":""},{"$f":"IF(Data!$E43=30,Data!I43,\"\")","v":""},{"$f":"IF(Data!$E43=30,Data!J43,IF(Data!G43<>\"\",Data!G43,\"\"))","v":""},{"$f":"IF(Data!$E43=30,Data!K43,\"\")","v":""},{"$f":"IF(Data!$E43=30,Data!L43,\"\")","v":""},{"$f":"IF(Data!$E43=30,Data!M43,IF(Data!H43<>\"\",Data!H43,\"\"))","v":""},{"$f":"IF(Data!$E43=30,Data!N43,\"\")","v":""},{"$f":"IF(Data!$E43=30,Data!O43,\"\")","v":""},{"$f":"IF(Data!$E43=30,Data!P43,IF(Data!I43<>\"\",Data!I43,\"\"))","v":""},{"$f":"IF(Data!$E43=30,Data!Q43,\"\")","v":""},{"$f":"IF(Data!$E43=30,Data!R43,\"\")","v":""},{"$f":"IF(Data!$E43=30,Data!S43,IF(Data!J43<>\"\",Data!J43,\"\"))","v":""},{"$f":"IF(Data!$E43=30,Data!T43,\"\")","v":""},{"$f":"IF(Data!$E43=30,Data!U43,\"\")","v":""},{"$f":"IF(Data!$E43=30,Data!V43,IF(Data!K43<>\"\",Data!K43,\"\"))","v":""},{"$f":"IF(Data!$E43=30,Data!W43,\"\")","v":""},{"$f":"IF(Data!$E43=30,Data!X43,\"\")","v":""},{"$f":"IF(Data!$E43=30,Data!Y43,IF(Data!L43<>\"\",Data!L43,\"\"))","v":""},{"$f":"IF(Data!$E43=30,Data!Z43,\"\")","v":""},{"$f":"IF(Data!$E43=30,Data!AA43,\"\")","v":""},{"$f":"IF(Data!$E43=30,Data!AB43,IF(Data!M43<>\"\",Data!M43,\"\"))","v":""},{"$f":"IF(Data!$E43=30,Data!AC43,\"\")","v":""},{"$f":"IF(Data!$E43=30,Data!AD43,\"\")","v":""},{"$f":"IF(Data!$E43=30,Data!AE43,IF(Data!N43<>\"\",Data!N43,\"\"))","v":""},{"$f":"IF(Data!$E43=30,Data!AF43,\"\")","v":""},{"$f":"IF(Data!$E43=30,Data!AG43,\"\")","v":""},{"$f":"IF(Data!$E43=30,Data!AH43,IF(Data!O43<>\"\",Data!O43,\"\"))","v":""},{"$f":"IF(Data!$E43=30,Data!AI43,\"\")","v":""},null,null,null,{"$f":"IF(Data!$E43=30,Data!AJ43,\"\")","v":""},{"$f":"IF(Data!$E43=30,Data!AK43,IF(Data!P43<>\"\",Data!P43,\"\"))","v":""},{"$f":"IF(Data!$E43=30,Data!AL43,\"\")","v":""},{"$f":"IF(Data!$E43=30,Data!AM43,\"\")","v":""},{"$f":"IF(Data!$E43=30,Data!AN43,IF(Data!Q43<>\"\",Data!Q43,\"\"))","v":""},{"$f":"IF(Data!$E43=30,Data!AO43,\"\")","v":""},{"$f":"IF(Data!$E43=30,Data!AP43,\"\")","v":""},{"$f":"IF(Data!$E43=30,Data!AQ43,IF(Data!R43<>\"\",Data!R43,\"\"))","v":""},{"$f":"IF(Data!$E43=30,Data!AR43,\"\")","v":""},{"$f":"IF(Data!$E43=30,Data!AS43,\"\")","v":""},{"$f":"IF(Data!$E43=30,Data!AT43,IF(Data!S43<>\"\",Data!S43,\"\"))","v":""},{"$f":"IF(Data!$E43=30,Data!AU43,\"\")","v":""},{"$f":"IF(Data!$E43=30,Data!AV43,\"\")","v":""},{"$f":"IF(Data!$E43=30,Data!AW43,IF(Data!T43<>\"\",Data!T43,\"\"))","v":""},{"$f":"IF(Data!$E43=30,Data!AX43,\"\")","v":""},{"$f":"IF(Data!$E43=30,Data!AY43,\"\")","v":""},{"$f":"IF(Data!$E43=30,Data!AZ43,IF(Data!U43<>\"\",Data!U43,\"\"))","v":""},{"$f":"IF(Data!$E43=30,Data!BA43,\"\")","v":""},{"$f":"IF(Data!$E43=30,Data!BB43,\"\")","v":""},{"$f":"IF(Data!$E43=30,Data!BC43,IF(Data!V43<>\"\",Data!V43,\"\"))","v":""},{"$f":"IF(Data!$E43=30,Data!BD43,\"\")","v":""},{"$f":"IF(Data!$E43=30,Data!BE43,\"\")","v":""},{"$f":"IF(Data!$E43=30,Data!BF43,IF(Data!W43<>\"\",Data!W43,\"\"))","v":""},{"$f":"IF(Data!$E43=30,Data!BG43,\"\")","v":""},{"$f":"IF(Data!$E43=30,Data!BH43,\"\")","v":""},{"$f":"IF(Data!$E43=30,Data!BI43,IF(Data!X43<>\"\",Data!X43,\"\"))","v":""},{"$f":"IF(Data!$E43=30,Data!BJ43,\"\")","v":""},{"$f":"IF(Data!$E43=30,Data!BK43,\"\")","v":""},{"$f":"IF(Data!$E43=30,Data!BL43,IF(Data!Y43<>\"\",Data!Y43,\"\"))","v":""},{"$f":"IF(Data!$E43=30,Data!BM43,\"\")","v":""}]
[null,{"$f":"IF(Data!A44<>\"\",Data!A44,\"\")","v":""},{"$f":"IF(Data!$E44=30,Data!F44,\"\")","v":""},{"$f":"IF(Data!$E44=30,Data!G44,IF(Data!F44<>\"\",Data!F44,\"\"))","v":""},{"$f":"IF(Data!$E44=30,Data!H44,\"\")","v":""},{"$f":"IF(Data!$E44=30,Data!I44,\"\")","v":""},{"$f":"IF(Data!$E44=30,Data!J44,IF(Data!G44<>\"\",Data!G44,\"\"))","v":""},{"$f":"IF(Data!$E44=30,Data!K44,\"\")","v":""},{"$f":"IF(Data!$E44=30,Data!L44,\"\")","v":""},{"$f":"IF(Data!$E44=30,Data!M44,IF(Data!H44<>\"\",Data!H44,\"\"))","v":""},{"$f":"IF(Data!$E44=30,Data!N44,\"\")","v":""},{"$f":"IF(Data!$E44=30,Data!O44,\"\")","v":""},{"$f":"IF(Data!$E44=30,Data!P44,IF(Data!I44<>\"\",Data!I44,\"\"))","v":""},{"$f":"IF(Data!$E44=30,Data!Q44,\"\")","v":""},{"$f":"IF(Data!$E44=30,Data!R44,\"\")","v":""},{"$f":"IF(Data!$E44=30,Data!S44,IF(Data!J44<>\"\",Data!J44,\"\"))","v":""},{"$f":"IF(Data!$E44=30,Data!T44,\"\")","v":""},{"$f":"IF(Data!$E44=30,Data!U44,\"\")","v":""},{"$f":"IF(Data!$E44=30,Data!V44,IF(Data!K44<>\"\",Data!K44,\"\"))","v":""},{"$f":"IF(Data!$E44=30,Data!W44,\"\")","v":""},{"$f":"IF(Data!$E44=30,Data!X44,\"\")","v":""},{"$f":"IF(Data!$E44=30,Data!Y44,IF(Data!L44<>\"\",Data!L44,\"\"))","v":""},{"$f":"IF(Data!$E44=30,Data!Z44,\"\")","v":""},{"$f":"IF(Data!$E44=30,Data!AA44,\"\")","v":""},{"$f":"IF(Data!$E44=30,Data!AB44,IF(Data!M44<>\"\",Data!M44,\"\"))","v":""},{"$f":"IF(Data!$E44=30,Data!AC44,\"\")","v":""},{"$f":"IF(Data!$E44=30,Data!AD44,\"\")","v":""},{"$f":"IF(Data!$E44=30,Data!AE44,IF(Data!N44<>\"\",Data!N44,\"\"))","v":""},{"$f":"IF(Data!$E44=30,Data!AF44,\"\")","v":""},{"$f":"IF(Data!$E44=30,Data!AG44,\"\")","v":""},{"$f":"IF(Data!$E44=30,Data!AH44,IF(Data!O44<>\"\",Data!O44,\"\"))","v":""},{"$f":"IF(Data!$E44=30,Data!AI44,\"\")","v":""},null,null,null,{"$f":"IF(Data!$E44=30,Data!AJ44,\"\")","v":""},{"$f":"IF(Data!$E44=30,Data!AK44,IF(Data!P44<>\"\",Data!P44,\"\"))","v":""},{"$f":"IF(Data!$E44=30,Data!AL44,\"\")","v":""},{"$f":"IF(Data!$E44=30,Data!AM44,\"\")","v":""},{"$f":"IF(Data!$E44=30,Data!AN44,IF(Data!Q44<>\"\",Data!Q44,\"\"))","v":""},{"$f":"IF(Data!$E44=30,Data!AO44,\"\")","v":""},{"$f":"IF(Data!$E44=30,Data!AP44,\"\")","v":""},{"$f":"IF(Data!$E44=30,Data!AQ44,IF(Data!R44<>\"\",Data!R44,\"\"))","v":""},{"$f":"IF(Data!$E44=30,Data!AR44,\"\")","v":""},{"$f":"IF(Data!$E44=30,Data!AS44,\"\")","v":""},{"$f":"IF(Data!$E44=30,Data!AT44,IF(Data!S44<>\"\",Data!S44,\"\"))","v":""},{"$f":"IF(Data!$E44=30,Data!AU44,\"\")","v":""},{"$f":"IF(Data!$E44=30,Data!AV44,\"\")","v":""},{"$f":"IF(Data!$E44=30,Data!AW44,IF(Data!T44<>\"\",Data!T44,\"\"))","v":""},{"$f":"IF(Data!$E44=30,Data!AX44,\"\")","v":""},{"$f":"IF(Data!$E44=30,Data!AY44,\"\")","v":""},{"$f":"IF(Data!$E44=30,Data!AZ44,IF(Data!U44<>\"\",Data!U44,\"\"))","v":""},{"$f":"IF(Data!$E44=30,Data!BA44,\"\")","v":""},{"$f":"IF(Data!$E44=30,Data!BB44,\"\")","v":""},{"$f":"IF(Data!$E44=30,Data!BC44,IF(Data!V44<>\"\",Data!V44,\"\"))","v":""},{"$f":"IF(Data!$E44=30,Data!BD44,\"\")","v":""},{"$f":"IF(Data!$E44=30,Data!BE44,\"\")","v":""},{"$f":"IF(Data!$E44=30,Data!BF44,IF(Data!W44<>\"\",Data!W44,\"\"))","v":""},{"$f":"IF(Data!$E44=30,Data!BG44,\"\")","v":""},{"$f":"IF(Data!$E44=30,Data!BH44,\"\")","v":""},{"$f":"IF(Data!$E44=30,Data!BI44,IF(Data!X44<>\"\",Data!X44,\"\"))","v":""},{"$f":"IF(Data!$E44=30,Data!BJ44,\"\")","v":""},{"$f":"IF(Data!$E44=30,Data!BK44,\"\")","v":""},{"$f":"IF(Data!$E44=30,Data!BL44,IF(Data!Y44<>\"\",Data!Y44,\"\"))","v":""},{"$f":"IF(Data!$E44=30,Data!BM44,\"\")","v":""}]
[null,{"$f":"IF(Data!A45<>\"\",Data!A45,\"\")","v":""},{"$f":"IF(Data!$E45=30,Data!F45,\"\")","v":""},{"$f":"IF(Data!$E45=30,Data!G45,IF(Data!F45<>\"\",Data!F45,\"\"))","v":""},{"$f":"IF(Data!$E45=30,Data!H45,\"\")","v":""},{"$f":"IF(Data!$E45=30,Data!I45,\"\")","v":""},{"$f":"IF(Data!$E45=30,Data!J45,IF(Data!G45<>\"\",Data!G45,\"\"))","v":""},{"$f":"IF(Data!$E45=30,Data!K45,\"\")","v":""},{"$f":"IF(Data!$E45=30,Data!L45,\"\")","v":""},{"$f":"IF(Data!$E45=30,Data!M45,IF(Data!H45<>\"\",Data!H45,\"\"))","v":""},{"$f":"IF(Data!$E45=30,Data!N45,\"\")","v":""},{"$f":"IF(Data!$E45=30,Data!O45,\"\")","v":""},{"$f":"IF(Data!$E45=30,Data!P45,IF(Data!I45<>\"\",Data!I45,\"\"))","v":""},{"$f":"IF(Data!$E45=30,Data!Q45,\"\")","v":""},{"$f":"IF(Data!$E45=30,Data!R45,\"\")","v":""},{"$f":"IF(Data!$E45=30,Data!S45,IF(Data!J45<>\"\",Data!J45,\"\"))","v":""},{"$f":"IF(Data!$E45=30,Data!T45,\"\")","v":""},{"$f":"IF(Data!$E45=30,Data!U45,\"\")","v":""},{"$f":"IF(Data!$E45=30,Data!V45,IF(Data!K45<>\"\",Data!K45,\"\"))","v":""},{"$f":"IF(Data!$E45=30,Data!W45,\"\")","v":""},{"$f":"IF(Data!$E45=30,Data!X45,\"\")","v":""},{"$f":"IF(Data!$E45=30,Data!Y45,IF(Data!L45<>\"\",Data!L45,\"\"))","v":""},{"$f":"IF(Data!$E45=30,Data!Z45,\"\")","v":""},{"$f":"IF(Data!$E45=30,Data!AA45,\"\")","v":""},{"$f":"IF(Data!$E45=30,Data!AB45,IF(Data!M45<>\"\",Data!M45,\"\"))","v":""},{"$f":"IF(Data!$E45=30,Data!AC45,\"\")","v":""},{"$f":"IF(Data!$E45=30,Data!AD45,\"\")","v":""},{"$f":"IF(Data!$E45=30,Data!AE45,IF(Data!N45<>\"\",Data!N45,\"\"))","v":""},{"$f":"IF(Data!$E45=30,Data!AF45,\"\")","v":""},{"$f":"IF(Data!$E45=30,Data!AG45,\"\")","v":""},{"$f":"IF(Data!$E45=30,Data!AH45,IF(Data!O45<>\"\",Data!O45,\"\"))","v":""},{"$f":"IF(Data!$E45=30,Data!AI45,\"\")","v":""},null,null,null,{"$f":"IF(Data!$E45=30,Data!AJ45,\"\")","v":""},{"$f":"IF(Data!$E45=30,Data!AK45,IF(Data!P45<>\"\",Data!P45,\"\"))","v":""},{"$f":"IF(Data!$E45=30,Data!AL45,\"\")","v":""},{"$f":"IF(Data!$E45=30,Data!AM45,\"\")","v":""},{"$f":"IF(Data!$E45=30,Data!AN45,IF(Data!Q45<>\"\",Data!Q45,\"\"))","v":""},{"$f":"IF(Data!$E45=30,Data!AO45,\"\")","v":""},{"$f":"IF(Data!$E45=30,Data!AP45,\"\")","v":""},{"$f":"IF(Data!$E45=30,Data!AQ45,IF(Data!R45<>\"\",Data!R45,\"\"))","v":""},{"$f":"IF(Data!$E45=30,Data!AR45,\"\")","v":""},{"$f":"IF(Data!$E45=30,Data!AS45,\"\")","v":""},{"$f":"IF(Data!$E45=30,Data!AT45,IF(Data!S45<>\"\",Data!S45,\"\"))","v":""},{"$f":"IF(Data!$E45=30,Data!AU45,\"\")","v":""},{"$f":"IF(Data!$E45=30,Data!AV45,\"\")","v":""},{"$f":"IF(Data!$E45=30,Data!AW45,IF(Data!T45<>\"\",Data!T45,\"\"))","v":""},{"$f":"IF(Data!$E45=30,Data!AX45,\"\")","v":""},{"$f":"IF(Data!$E45=30,Data!AY45,\"\")","v":""},{"$f":"IF(Data!$E45=30,Data!AZ45,IF(Data!U45<>\"\",Data!U45,\"\"))","v":""},{"$f":"IF(Data!$E45=30,Data!BA45,\"\")","v":""},{"$f":"IF(Data!$E45=30,Data!BB45,\"\")","v":""},{"$f":"IF(Data!$E45=30,Data!BC45,IF(Data!V45<>\"\",Data!V45,\"\"))","v":""},{"$f":"IF(Data!$E45=30,Data!BD45,\"\")","v":""},{"$f":"IF(Data!$E45=30,Data!BE45,\"\")","v":""},{"$f":"IF(Data!$E45=30,Data!BF45,IF(Data!W45<>\"\",Data!W45,\"\"))","v":""},{"$f":"IF(Data!$E45=30,Data!BG45,\"\")","v":""},{"$f":"IF(Data!$E45=30,Data!BH45,\"\")","v":""},{"$f":"IF(Data!$E45=30,Data!BI45,IF(Data!X45<>\"\",Data!X45,\"\"))","v":""},{"$f":"IF(Data!$E45=30,Data!BJ45,\"\")","v":""},{"$f":"IF(Data!$E45=30,Data!BK45,\"\")","v":""},{"$f":"IF(Data!$E45=30,Data!BL45,IF(Data!Y45<>\"\",Data!Y45,\"\"))","v":""},{"$f":"IF(Data!$E45=30,Data!BM45,\"\")","v":""}]
[null,{"$f":"IF(Data!A46<>\"\",Data!A46,\"\")","v":""},{"$f":"IF(Data!$E46=30,Data!F46,\"\")","v":""},{"$f":"IF(Data!$E46=30,Data!G46,IF(Data!F46<>\"\",Data!F46,\"\"))","v":""},{"$f":"IF(Data!$E46=30,Data!H46,\"\")","v":""},{"$f":"IF(Data!$E46=30,Data!I46,\"\")","v":""},{"$f":"IF(Data!$E46=30,Data!J46,IF(Data!G46<>\"\",Data!G46,\"\"))","v":""},{"$f":"IF(Data!$E46=30,Data!K46,\"\")","v":""},{"$f":"IF(Data!$E46=30,Data!L46,\"\")","v":""},{"$f":"IF(Data!$E46=30,Data!M46,IF(Data!H46<>\"\",Data!H46,\"\"))","v":""},{"$f":"IF(Data!$E46=30,Data!N46,\"\")","v":""},{"$f":"IF(Data!$E46=30,Data!O46,\"\")","v":""},{"$f":"IF(Data!$E46=30,Data!P46,IF(Data!I46<>\"\",Data!I46,\"\"))","v":""},{"$f":"IF(Data!$E46=30,Data!Q46,\"\")","v":""},{"$f":"IF(Data!$E46=30,Data!R46,\"\")","v":""},{"$f":"IF(Data!$E46=30,Data!S46,IF(Data!J46<>\"\",Data!J46,\"\"))","v":""},{"$f":"IF(Data!$E46=30,Data!T46,\"\")","v":""},{"$f":"IF(Data!$E46=30,Data!U46,\"\")","v":""},{"$f":"IF(Data!$E46=30,Data!V46,IF(Data!K46<>\"\",Data!K46,\"\"))","v":""},{"$f":"IF(Data!$E46=30,Data!W46,\"\")","v":""},{"$f":"IF(Data!$E46=30,Data!X46,\"\")","v":""},{"$f":"IF(Data!$E46=30,Data!Y46,IF(Data!L46<>\"\",Data!L46,\"\"))","v":""},{"$f":"IF(Data!$E46=30,Data!Z46,\"\")","v":""},{"$f":"IF(Data!$E46=30,Data!AA46,\"\")","v":""},{"$f":"IF(Data!$E46=30,Data!AB46,IF(Data!M46<>\"\",Data!M46,\"\"))","v":""},{"$f":"IF(Data!$E46=30,Data!AC46,\"\")","v":""},{"$f":"IF(Data!$E46=30,Data!AD46,\"\")","v":""},{"$f":"IF(Data!$E46=30,Data!AE46,IF(Data!N46<>\"\",Data!N46,\"\"))","v":""},{"$f":"IF(Data!$E46=30,Data!AF46,\"\")","v":""},{"$f":"IF(Data!$E46=30,Data!AG46,\"\")","v":""},{"$f":"IF(Data!$E46=30,Data!AH46,IF(Data!O46<>\"\",Data!O46,\"\"))","v":""},{"$f":"IF(Data!$E46=30,Data!AI46,\"\")","v":""},null,null,null,{"$f":"IF(Data!$E46=30,Data!AJ46,\"\")","v":""},{"$f":"IF(Data!$E46=30,Data!AK46,IF(Data!P46<>\"\",Data!P46,\"\"))","v":""},{"$f":"IF(Data!$E46=30,Data!AL46,\"\")","v":""},{"$f":"IF(Data!$E46=30,Data!AM46,\"\")","v":""},{"$f":"IF(Data!$E46=30,Data!AN46,IF(Data!Q46<>\"\",Data!Q46,\"\"))","v":""},{"$f":"IF(Data!$E46=30,Data!AO46,\"\")","v":""},{"$f":"IF(Data!$E46=30,Data!AP46,\"\")","v":""},{"$f":"IF(Data!$E46=30,Data!AQ46,IF(Data!R46<>\"\",Data!R46,\"\"))","v":""},{"$f":"IF(Data!$E46=30,Data!AR46,\"\")","v":""},{"$f":"IF(Data!$E46=30,Data!AS46,\"\")","v":""},{"$f":"IF(Data!$E46=30,Data!AT46,IF(Data!S46<>\"\",Data!S46,\"\"))","v":""},{"$f":"IF(Data!$E46=30,Data!AU46,\"\")","v":""},{"$f":"IF(Data!$E46=30,Data!AV46,\"\")","v":""},{"$f":"IF(Data!$E46=30,Data!AW46,IF(Data!T46<>\"\",Data!T46,\"\"))","v":""},{"$f":"IF(Data!$E46=30,Data!AX46,\"\")","v":""},{"$f":"IF(Data!$E46=30,Data!AY46,\"\")","v":""},{"$f":"IF(Data!$E46=30,Data!AZ46,IF(Data!U46<>\"\",Data!U46,\"\"))","v":""},{"$f":"IF(Data!$E46=30,Data!BA46,\"\")","v":""},{"$f":"IF(Data!$E46=30,Data!BB46,\"\")","v":""},{"$f":"IF(Data!$E46=30,Data!BC46,IF(Data!V46<>\"\",Data!V46,\"\"))","v":""},{"$f":"IF(Data!$E46=30,Data!BD46,\"\")","v":""},{"$f":"IF(Data!$E46=30,Data!BE46,\"\")","v":""},{"$f":"IF(Data!$E46=30,Data!BF46,IF(Data!W46<>\"\",Data!W46,\"\"))","v":""},{"$f":"IF(Data!$E46=30,Data!BG46,\"\")","v":""},{"$f":"IF(Data!$E46=30,Data!BH46,\"\")","v":""},{"$f":"IF(Data!$E46=30,Data!BI46,IF(Data!X46<>\"\",Data!X46,\"\"))","v":""},{"$f":"IF(Data!$E46=30,Data!BJ46,\"\")","v":""},{"$f":"IF(Data!$E46=30,Data!BK46,\"\")","v":""},{"$f":"IF(Data!$E46=30,Data!BL46,IF(Data!Y46<>\"\",Data!Y46,\"\"))","v":""},{"$f":"IF(Data!$E46=30,Data!BM46,\"\")","v":""}]
[null,{"$f":"IF(Data!A47<>\"\",Data!A47,\"\")","v":""},{"$f":"IF(Data!$E47=30,Data!F47,\"\")","v":""},{"$f":"IF(Data!$E47=30,Data!G47,IF(Data!F47<>\"\",Data!F47,\"\"))","v":""},{"$f":"IF(Data!$E47=30,Data!H47,\"\")","v":""},{"$f":"IF(Data!$E47=30,Data!I47,\"\")","v":""},{"$f":"IF(Data!$E47=30,Data!J47,IF(Data!G47<>\"\",Data!G47,\"\"))","v":""},{"$f":"IF(Data!$E47=30,Data!K47,\"\")","v":""},{"$f":"IF(Data!$E47=30,Data!L47,\"\")","v":""},{"$f":"IF(Data!$E47=30,Data!M47,IF(Data!H47<>\"\",Data!H47,\"\"))","v":""},{"$f":"IF(Data!$E47=30,Data!N47,\"\")","v":""},{"$f":"IF(Data!$E47=30,Data!O47,\"\")","v":""},{"$f":"IF(Data!$E47=30,Data!P47,IF(Data!I47<>\"\",Data!I47,\"\"))","v":""},{"$f":"IF(Data!$E47=30,Data!Q47,\"\")","v":""},{"$f":"IF(Data!$E47=30,Data!R47,\"\")","v":""},{"$f":"IF(Data!$E47=30,Data!S47,IF(Data!J47<>\"\",Data!J47,\"\"))","v":""},{"$f":"IF(Data!$E47=30,Data!T47,\"\")","v":""},{"$f":"IF(Data!$E47=30,Data!U47,\"\")","v":""},{"$f":"IF(Data!$E47=30,Data!V47,IF(Data!K47<>\"\",Data!K47,\"\"))","v":""},{"$f":"IF(Data!$E47=30,Data!W47,\"\")","v":""},{"$f":"IF(Data!$E47=30,Data!X47,\"\")","v":""},{"$f":"IF(Data!$E47=30,Data!Y47,IF(Data!L47<>\"\",Data!L47,\"\"))","v":""},{"$f":"IF(Data!$E47=30,Data!Z47,\"\")","v":""},{"$f":"IF(Data!$E47=30,Data!AA47,\"\")","v":""},{"$f":"IF(Data!$E47=30,Data!AB47,IF(Data!M47<>\"\",Data!M47,\"\"))","v":""},{"$f":"IF(Data!$E47=30,Data!AC47,\"\")","v":""},{"$f":"IF(Data!$E47=30,Data!AD47,\"\")","v":""},{"$f":"IF(Data!$E47=30,Data!AE47,IF(Data!N47<>\"\",Data!N47,\"\"))","v":""},{"$f":"IF(Data!$E47=30,Data!AF47,\"\")","v":""},{"$f":"IF(Data!$E47=30,Data!AG47,\"\")","v":""},{"$f":"IF(Data!$E47=30,Data!AH47,IF(Data!O47<>\"\",Data!O47,\"\"))","v":""},{"$f":"IF(Data!$E47=30,Data!AI47,\"\")","v":""},null,null,null,{"$f":"IF(Data!$E47=30,Data!AJ47,\"\")","v":""},{"$f":"IF(Data!$E47=30,Data!AK47,IF(Data!P47<>\"\",Data!P47,\"\"))","v":""},{"$f":"IF(Data!$E47=30,Data!AL47,\"\")","v":""},{"$f":"IF(Data!$E47=30,Data!AM47,\"\")","v":""},{"$f":"IF(Data!$E47=30,Data!AN47,IF(Data!Q47<>\"\",Data!Q47,\"\"))","v":""},{"$f":"IF(Data!$E47=30,Data!AO47,\"\")","v":""},{"$f":"IF(Data!$E47=30,Data!AP47,\"\")","v":""},{"$f":"IF(Data!$E47=30,Data!AQ47,IF(Data!R47<>\"\",Data!R47,\"\"))","v":""},{"$f":"IF(Data!$E47=30,Data!AR47,\"\")","v":""},{"$f":"IF(Data!$E47=30,Data!AS47,\"\")","v":""},{"$f":"IF(Data!$E47=30,Data!AT47,IF(Data!S47<>\"\",Data!S47,\"\"))","v":""},{"$f":"IF(Data!$E47=30,Data!AU47,\"\")","v":""},{"$f":"IF(Data!$E47=30,Data!AV47,\"\")","v":""},{"$f":"IF(Data!$E47=30,Data!AW47,IF(Data!T47<>\"\",Data!T47,\"\"))","v":""},{"$f":"IF(Data!$E47=30,Data!AX47,\"\")","v":""},{"$f":"IF(Data!$E47=30,Data!AY47,\"\")","v":""},{"$f":"IF(Data!$E47=30,Data!AZ47,IF(Data!U47<>\"\",Data!U47,\"\"))","v":""},{"$f":"IF(Data!$E47=30,Data!BA47,\"\")","v":""},{"$f":"IF(Data!$E47=30,Data!BB47,\"\")","v":""},{"$f":"IF(Data!$E47=30,Data!BC47,IF(Data!V47<>\"\",Data!V47,\"\"))","v":""},{"$f":"IF(Data!$E47=30,Data!BD47,\"\")","v":""},{"$f":"IF(Data!$E47=30,Data!BE47,\"\")","v":""},{"$f":"IF(Data!$E47=30,Data!BF47,IF(Data!W47<>\"\",Data!W47,\"\"))","v":""},{"$f":"IF(Data!$E47=30,Data!BG47,\"\")","v":""},{"$f":"IF(Data!$E47=30,Data!BH47,\"\")","v":""},{"$f":"IF(Data!$E47=30,Data!BI47,IF(Data!X47<>\"\",Data!X47,\"\"))","v":""},{"$f":"IF(Data!$E47=30,Data!BJ47,\"\")","v":""},{"$f":"IF(Data!$E47=30,Data!BK47,\"\")","v":""},{"$f":"IF(Data!$E47=30,Data!BL47,IF(Data!Y47<>\"\",Data!Y47,\"\"))","v":""},{"$f":"IF(Data!$E47=30,Data!BM47,\"\")","v":""}]
[null,{"$f":"IF(Data!A48<>\"\",Data!A48,\"\")","v":""},{"$f":"IF(Data!$E48=30,Data!F48,\"\")","v":""},{"$f":"IF(Data!$E48=30,Data!G48,IF(Data!F48<>\"\",Data!F48,\"\"))","v":""},{"$f":"IF(Data!$E48=30,Data!H48,\"\")","v":""},{"$f":"IF(Data!$E48=30,Data!I48,\"\")","v":""},{"$f":"IF(Data!$E48=30,Data!J48,IF(Data!G48<>\"\",Data!G48,\"\"))","v":""},{"$f":"IF(Data!$E48=30,Data!K48,\"\")","v":""},{"$f":"IF(Data!$E48=30,Data!L48,\"\")","v":""},{"$f":"IF(Data!$E48=30,Data!M48,IF(Data!H48<>\"\",Data!H48,\"\"))","v":""},{"$f":"IF(Data!$E48=30,Data!N48,\"\")","v":""},{"$f":"IF(Data!$E48=30,Data!O48,\"\")","v":""},{"$f":"IF(Data!$E48=30,Data!P48,IF(Data!I48<>\"\",Data!I48,\"\"))","v":""},{"$f":"IF(Data!$E48=30,Data!Q48,\"\")","v":""},{"$f":"IF(Data!$E48=30,Data!R48,\"\")","v":""},{"$f":"IF(Data!$E48=30,Data!S48,IF(Data!J48<>\"\",Data!J48,\"\"))","v":""},{"$f":"IF(Data!$E48=30,Data!T48,\"\")","v":""},{"$f":"IF(Data!$E48=30,Data!U48,\"\")","v":""},{"$f":"IF(Data!$E48=30,Data!V48,IF(Data!K48<>\"\",Data!K48,\"\"))","v":""},{"$f":"IF(Data!$E48=30,Data!W48,\"\")","v":""},{"$f":"IF(Data!$E48=30,Data!X48,\"\")","v":""},{"$f":"IF(Data!$E48=30,Data!Y48,IF(Data!L48<>\"\",Data!L48,\"\"))","v":""},{"$f":"IF(Data!$E48=30,Data!Z48,\"\")","v":""},{"$f":"IF(Data!$E48=30,Data!AA48,\"\")","v":""},{"$f":"IF(Data!$E48=30,Data!AB48,IF(Data!M48<>\"\",Data!M48,\"\"))","v":""},{"$f":"IF(Data!$E48=30,Data!AC48,\"\")","v":""},{"$f":"IF(Data!$E48=30,Data!AD48,\"\")","v":""},{"$f":"IF(Data!$E48=30,Data!AE48,IF(Data!N48<>\"\",Data!N48,\"\"))","v":""},{"$f":"IF(Data!$E48=30,Data!AF48,\"\")","v":""},{"$f":"IF(Data!$E48=30,Data!AG48,\"\")","v":""},{"$f":"IF(Data!$E48=30,Data!AH48,IF(Data!O48<>\"\",Data!O48,\"\"))","v":""},{"$f":"IF(Data!$E48=30,Data!AI48,\"\")","v":""},null,null,null,{"$f":"IF(Data!$E48=30,Data!AJ48,\"\")","v":""},{"$f":"IF(Data!$E48=30,Data!AK48,IF(Data!P48<>\"\",Data!P48,\"\"))","v":""},{"$f":"IF(Data!$E48=30,Data!AL48,\"\")","v":""},{"$f":"IF(Data!$E48=30,Data!AM48,\"\")","v":""},{"$f":"IF(Data!$E48=30,Data!AN48,IF(Data!Q48<>\"\",Data!Q48,\"\"))","v":""},{"$f":"IF(Data!$E48=30,Data!AO48,\"\")","v":""},{"$f":"IF(Data!$E48=30,Data!AP48,\"\")","v":""},{"$f":"IF(Data!$E48=30,Data!AQ48,IF(Data!R48<>\"\",Data!R48,\"\"))","v":""},{"$f":"IF(Data!$E48=30,Data!AR48,\"\")","v":""},{"$f":"IF(Data!$E48=30,Data!AS48,\"\")","v":""},{"$f":"IF(Data!$E48=30,Data!AT48,IF(Data!S48<>\"\",Data!S48,\"\"))","v":""},{"$f":"IF(Data!$E48=30,Data!AU48,\"\")","v":""},{"$f":"IF(Data!$E48=30,Data!AV48,\"\")","v":""},{"$f":"IF(Data!$E48=30,Data!AW48,IF(Data!T48<>\"\",Data!T48,\"\"))","v":""},{"$f":"IF(Data!$E48=30,Data!AX48,\"\")","v":""},{"$f":"IF(Data!$E48=30,Data!AY48,\"\")","v":""},{"$f":"IF(Data!$E48=30,Data!AZ48,IF(Data!U48<>\"\",Data!U48,\"\"))","v":""},{"$f":"IF(Data!$E48=30,Data!BA48,\"\")","v":""},{"$f":"IF(Data!$E48=30,Data!BB48,\"\")","v":""},{"$f":"IF(Data!$E48=30,Data!BC48,IF(Data!V48<>\"\",Data!V48,\"\"))","v":""},{"$f":"IF(Data!$E48=30,Data!BD48,\"\")","v":""},{"$f":"IF(Data!$E48=30,Data!BE48,\"\")","v":""},{"$f":"IF(Data!$E48=30,Data!BF48,IF(Data!W48<>\"\",Data!W48,\"\"))","v":""},{"$f":"IF(Data!$E48=30,Data!BG48,\"\")","v":""},{"$f":"IF(Data!$E48=30,Data!BH48,\"\")","v":""},{"$f":"IF(Data!$E48=30,Data!BI48,IF(Data!X48<>\"\",Data!X48,\"\"))","v":""},{"$f":"IF(Data!$E48=30,Data!BJ48,\"\")","v":""},{"$f":"IF(Data!$E48=30,Data!BK48,\"\")","v":""},{"$f":"IF(Data!$E48=30,Data!BL48,IF(Data!Y48<>\"\",Data!Y48,\"\"))","v":""},{"$f":"IF(Data!$E48=30,Data!BM48,\"\")","v":""}]
[null,{"$f":"IF(Data!A49<>\"\",Data!A49,\"\")","v":""},{"$f":"IF(Data!$E49=30,Data!F49,\"\")","v":""},{"$f":"IF(Data!$E49=30,Data!G49,IF(Data!F49<>\"\",Data!F49,\"\"))","v":""},{"$f":"IF(Data!$E49=30,Data!H49,\"\")","v":""},{"$f":"IF(Data!$E49=30,Data!I49,\"\")","v":""},{"$f":"IF(Data!$E49=30,Data!J49,IF(Data!G49<>\"\",Data!G49,\"\"))","v":""},{"$f":"IF(Data!$E49=30,Data!K49,\"\")","v":""},{"$f":"IF(Data!$E49=30,Data!L49,\"\")","v":""},{"$f":"IF(Data!$E49=30,Data!M49,IF(Data!H49<>\"\",Data!H49,\"\"))","v":""},{"$f":"IF(Data!$E49=30,Data!N49,\"\")","v":""},{"$f":"IF(Data!$E49=30,Data!O49,\"\")","v":""},{"$f":"IF(Data!$E49=30,Data!P49,IF(Data!I49<>\"\",Data!I49,\"\"))","v":""},{"$f":"IF(Data!$E49=30,Data!Q49,\"\")","v":""},{"$f":"IF(Data!$E49=30,Data!R49,\"\")","v":""},{"$f":"IF(Data!$E49=30,Data!S49,IF(Data!J49<>\"\",Data!J49,\"\"))","v":""},{"$f":"IF(Data!$E49=30,Data!T49,\"\")","v":""},{"$f":"IF(Data!$E49=30,Data!U49,\"\")","v":""},{"$f":"IF(Data!$E49=30,Data!V49,IF(Data!K49<>\"\",Data!K49,\"\"))","v":""},{"$f":"IF(Data!$E49=30,Data!W49,\"\")","v":""},{"$f":"IF(Data!$E49=30,Data!X49,\"\")","v":""},{"$f":"IF(Data!$E49=30,Data!Y49,IF(Data!L49<>\"\",Data!L49,\"\"))","v":""},{"$f":"IF(Data!$E49=30,Data!Z49,\"\")","v":""},{"$f":"IF(Data!$E49=30,Data!AA49,\"\")","v":""},{"$f":"IF(Data!$E49=30,Data!AB49,IF(Data!M49<>\"\",Data!M49,\"\"))","v":""},{"$f":"IF(Data!$E49=30,Data!AC49,\"\")","v":""},{"$f":"IF(Data!$E49=30,Data!AD49,\"\")","v":""},{"$f":"IF(Data!$E49=30,Data!AE49,IF(Data!N49<>\"\",Data!N49,\"\"))","v":""},{"$f":"IF(Data!$E49=30,Data!AF49,\"\")","v":""},{"$f":"IF(Data!$E49=30,Data!AG49,\"\")","v":""},{"$f":"IF(Data!$E49=30,Data!AH49,IF(Data!O49<>\"\",Data!O49,\"\"))","v":""},{"$f":"IF(Data!$E49=30,Data!AI49,\"\")","v":""},null,null,null,{"$f":"IF(Data!$E49=30,Data!AJ49,\"\")","v":""},{"$f":"IF(Data!$E49=30,Data!AK49,IF(Data!P49<>\"\",Data!P49,\"\"))","v":""},{"$f":"IF(Data!$E49=30,Data!AL49,\"\")","v":""},{"$f":"IF(Data!$E49=30,Data!AM49,\"\")","v":""},{"$f":"IF(Data!$E49=30,Data!AN49,IF(Data!Q49<>\"\",Data!Q49,\"\"))","v":""},{"$f":"IF(Data!$E49=30,Data!AO49,\"\")","v":""},{"$f":"IF(Data!$E49=30,Data!AP49,\"\")","v":""},{"$f":"IF(Data!$E49=30,Data!AQ49,IF(Data!R49<>\"\",Data!R49,\"\"))","v":""},{"$f":"IF(Data!$E49=30,Data!AR49,\"\")","v":""},{"$f":"IF(Data!$E49=30,Data!AS49,\"\")","v":""},{"$f":"IF(Data!$E49=30,Data!AT49,IF(Data!S49<>\"\",Data!S49,\"\"))","v":""},{"$f":"IF(Data!$E49=30,Data!AU49,\"\")","v":""},{"$f":"IF(Data!$E49=30,Data!AV49,\"\")","v":""},{"$f":"IF(Data!$E49=30,Data!AW49,IF(Data!T49<>\"\",Data!T49,\"\"))","v":""},{"$f":"IF(Data!$E49=30,Data!AX49,\"\")","v":""},{"$f":"IF(Data!$E49=30,Data!AY49,\"\")","v":""},{"$f":"IF(Data!$E49=30,Data!AZ49,IF(Data!U49<>\"\",Data!U49,\"\"))","v":""},{"$f":"IF(Data!$E49=30,Data!BA49,\"\")","v":""},{"$f":"IF(Data!$E49=30,Data!BB49,\"\")","v":""},{"$f":"IF(Data!$E49=30,Data!BC49,IF(Data!V49<>\"\",Data!V49,\"\"))","v":""},{"$f":"IF(Data!$E49=30,Data!BD49,\"\")","v":""},{"$f":"IF(Data!$E49=30,Data!BE49,\"\")","v":""},{"$f":"IF(Data!$E49=30,Data!BF49,IF(Data!W49<>\"\",Data!W49,\"\"))","v":""},{"$f":"IF(Data!$E49=30,Data!BG49,\"\")","v":""},{"$f":"IF(Data!$E49=30,Data!BH49,\"\")","v":""},{"$f":"IF(Data!$E49=30,Data!BI49,IF(Data!X49<>\"\",Data!X49,\"\"))","v":""},{"$f":"IF(Data!$E49=30,Data!BJ49,\"\")","v":""},{"$f":"IF(Data!$E49=30,Data!BK49,\"\")","v":""},{"$f":"IF(Data!$E49=30,Data!BL49,IF(Data!Y49<>\"\",Data!Y49,\"\"))","v":""},{"$f":"IF(Data!$E49=30,Data!BM49,\"\")","v":""}]
[null,{"$f":"IF(Data!A50<>\"\",Data!A50,\"\")","v":""},{"$f":"IF(Data!$E50=30,Data!F50,\"\")","v":""},{"$f":"IF(Data!$E50=30,Data!G50,IF(Data!F50<>\"\",Data!F50,\"\"))","v":""},{"$f":"IF(Data!$E50=30,Data!H50,\"\")","v":""},{"$f":"IF(Data!$E50=30,Data!I50,\"\")","v":""},{"$f":"IF(Data!$E50=30,Data!J50,IF(Data!G50<>\"\",Data!G50,\"\"))","v":""},{"$f":"IF(Data!$E50=30,Data!K50,\"\")","v":""},{"$f":"IF(Data!$E50=30,Data!L50,\"\")","v":""},{"$f":"IF(Data!$E50=30,Data!M50,IF(Data!H50<>\"\",Data!H50,\"\"))","v":""},{"$f":"IF(Data!$E50=30,Data!N50,\"\")","v":""},{"$f":"IF(Data!$E50=30,Data!O50,\"\")","v":""},{"$f":"IF(Data!$E50=30,Data!P50,IF(Data!I50<>\"\",Data!I50,\"\"))","v":""},{"$f":"IF(Data!$E50=30,Data!Q50,\"\")","v":""},{"$f":"IF(Data!$E50=30,Data!R50,\"\")","v":""},{"$f":"IF(Data!$E50=30,Data!S50,IF(Data!J50<>\"\",Data!J50,\"\"))","v":""},{"$f":"IF(Data!$E50=30,Data!T50,\"\")","v":""},{"$f":"IF(Data!$E50=30,Data!U50,\"\")","v":""},{"$f":"IF(Data!$E50=30,Data!V50,IF(Data!K50<>\"\",Data!K50,\"\"))","v":""},{"$f":"IF(Data!$E50=30,Data!W50,\"\")","v":""},{"$f":"IF(Data!$E50=30,Data!X50,\"\")","v":""},{"$f":"IF(Data!$E50=30,Data!Y50,IF(Data!L50<>\"\",Data!L50,\"\"))","v":""},{"$f":"IF(Data!$E50=30,Data!Z50,\"\")","v":""},{"$f":"IF(Data!$E50=30,Data!AA50,\"\")","v":""},{"$f":"IF(Data!$E50=30,Data!AB50,IF(Data!M50<>\"\",Data!M50,\"\"))","v":""},{"$f":"IF(Data!$E50=30,Data!AC50,\"\")","v":""},{"$f":"IF(Data!$E50=30,Data!AD50,\"\")","v":""},{"$f":"IF(Data!$E50=30,Data!AE50,IF(Data!N50<>\"\",Data!N50,\"\"))","v":""},{"$f":"IF(Data!$E50=30,Data!AF50,\"\")","v":""},{"$f":"IF(Data!$E50=30,Data!AG50,\"\")","v":""},{"$f":"IF(Data!$E50=30,Data!AH50,IF(Data!O50<>\"\",Data!O50,\"\"))","v":""},{"$f":"IF(Data!$E50=30,Data!AI50,\"\")","v":""},null,null,null,{"$f":"IF(Data!$E50=30,Data!AJ50,\"\")","v":""},{"$f":"IF(Data!$E50=30,Data!AK50,IF(Data!P50<>\"\",Data!P50,\"\"))","v":""},{"$f":"IF(Data!$E50=30,Data!AL50,\"\")","v":""},{"$f":"IF(Data!$E50=30,Data!AM50,\"\")","v":""},{"$f":"IF(Data!$E50=30,Data!AN50,IF(Data!Q50<>\"\",Data!Q50,\"\"))","v":""},{"$f":"IF(Data!$E50=30,Data!AO50,\"\")","v":""},{"$f":"IF(Data!$E50=30,Data!AP50,\"\")","v":""},{"$f":"IF(Data!$E50=30,Data!AQ50,IF(Data!R50<>\"\",Data!R50,\"\"))","v":""},{"$f":"IF(Data!$E50=30,Data!AR50,\"\")","v":""},{"$f":"IF(Data!$E50=30,Data!AS50,\"\")","v":""},{"$f":"IF(Data!$E50=30,Data!AT50,IF(Data!S50<>\"\",Data!S50,\"\"))","v":""},{"$f":"IF(Data!$E50=30,Data!AU50,\"\")","v":""},{"$f":"IF(Data!$E50=30,Data!AV50,\"\")","v":""},{"$f":"IF(Data!$E50=30,Data!AW50,IF(Data!T50<>\"\",Data!T50,\"\"))","v":""},{"$f":"IF(Data!$E50=30,Data!AX50,\"\")","v":""},{"$f":"IF(Data!$E50=30,Data!AY50,\"\")","v":""},{"$f":"IF(Data!$E50=30,Data!AZ50,IF(Data!U50<>\"\",Data!U50,\"\"))","v":""},{"$f":"IF(Data!$E50=30,Data!BA50,\"\")","v":""},{"$f":"IF(Data!$E50=30,Data!BB50,\"\")","v":""},{"$f":"IF(Data!$E50=30,Data!BC50,IF(Data!V50<>\"\",Data!V50,\"\"))","v":""},{"$f":"IF(Data!$E50=30,Data!BD50,\"\")","v":""},{"$f":"IF(Data!$E50=30,Data!BE50,\"\")","v":""},{"$f":"IF(Data!$E50=30,Data!BF50,IF(Data!W50<>\"\",Data!W50,\"\"))","v":""},{"$f":"IF(Data!$E50=30,Data!BG50,\"\")","v":""},{"$f":"IF(Data!$E50=30,Data!BH50,\"\")","v":""},{"$f":"IF(Data!$E50=30,Data!BI50,IF(Data!X50<>\"\",Data!X50,\"\"))","v":""},{"$f":"IF(Data!$E50=30,Data!BJ50,\"\")","v":""},{"$f":"IF(Data!$E50=30,Data!BK50,\"\")","v":""},{"$f":"IF(Data!$E50=30,Data!BL50,IF(Data!Y50<>\"\",Data!Y50,\"\"))","v":""},{"$f":"IF(Data!$E50=30,Data!BM50,\"\")","v":""}]
[null,{"$f":"IF(Data!A51<>\"\",Data!A51,\"\")","v":""},{"$f":"IF(Data!$E51=30,Data!F51,\"\")","v":""},{"$f":"IF(Data!$E51=30,Data!G51,IF(Data!F51<>\"\",Data!F51,\"\"))","v":""},{"$f":"IF(Data!$E51=30,Data!H51,\"\")","v":""},{"$f":"IF(Data!$E51=30,Data!I51,\"\")","v":""},{"$f":"IF(Data!$E51=30,Data!J51,IF(Data!G51<>\"\",Data!G51,\"\"))","v":""},{"$f":"IF(Data!$E51=30,Data!K51,\"\")","v":""},{"$f":"IF(Data!$E51=30,Data!L51,\"\")","v":""},{"$f":"IF(Data!$E51=30,Data!M51,IF(Data!H51<>\"\",Data!H51,\"\"))","v":""},{"$f":"IF(Data!$E51=30,Data!N51,\"\")","v":""},{"$f":"IF(Data!$E51=30,Data!O51,\"\")","v":""},{"$f":"IF(Data!$E51=30,Data!P51,IF(Data!I51<>\"\",Data!I51,\"\"))","v":""},{"$f":"IF(Data!$E51=30,Data!Q51,\"\")","v":""},{"$f":"IF(Data!$E51=30,Data!R51,\"\")","v":""},{"$f":"IF(Data!$E51=30,Data!S51,IF(Data!J51<>\"\",Data!J51,\"\"))","v":""},{"$f":"IF(Data!$E51=30,Data!T51,\"\")","v":""},{"$f":"IF(Data!$E51=30,Data!U51,\"\")","v":""},{"$f":"IF(Data!$E51=30,Data!V51,IF(Data!K51<>\"\",Data!K51,\"\"))","v":""},{"$f":"IF(Data!$E51=30,Data!W51,\"\")","v":""},{"$f":"IF(Data!$E51=30,Data!X51,\"\")","v":""},{"$f":"IF(Data!$E51=30,Data!Y51,IF(Data!L51<>\"\",Data!L51,\"\"))","v":""},{"$f":"IF(Data!$E51=30,Data!Z51,\"\")","v":""},{"$f":"IF(Data!$E51=30,Data!AA51,\"\")","v":""},{"$f":"IF(Data!$E51=30,Data!AB51,IF(Data!M51<>\"\",Data!M51,\"\"))","v":""},{"$f":"IF(Data!$E51=30,Data!AC51,\"\")","v":""},{"$f":"IF(Data!$E51=30,Data!AD51,\"\")","v":""},{"$f":"IF(Data!$E51=30,Data!AE51,IF(Data!N51<>\"\",Data!N51,\"\"))","v":""},{"$f":"IF(Data!$E51=30,Data!AF51,\"\")","v":""},{"$f":"IF(Data!$E51=30,Data!AG51,\"\")","v":""},{"$f":"IF(Data!$E51=30,Data!AH51,IF(Data!O51<>\"\",Data!O51,\"\"))","v":""},{"$f":"IF(Data!$E51=30,Data!AI51,\"\")","v":""},null,null,null,{"$f":"IF(Data!$E51=30,Data!AJ51,\"\")","v":""},{"$f":"IF(Data!$E51=30,Data!AK51,IF(Data!P51<>\"\",Data!P51,\"\"))","v":""},{"$f":"IF(Data!$E51=30,Data!AL51,\"\")","v":""},{"$f":"IF(Data!$E51=30,Data!AM51,\"\")","v":""},{"$f":"IF(Data!$E51=30,Data!AN51,IF(Data!Q51<>\"\",Data!Q51,\"\"))","v":""},{"$f":"IF(Data!$E51=30,Data!AO51,\"\")","v":""},{"$f":"IF(Data!$E51=30,Data!AP51,\"\")","v":""},{"$f":"IF(Data!$E51=30,Data!AQ51,IF(Data!R51<>\"\",Data!R51,\"\"))","v":""},{"$f":"IF(Data!$E51=30,Data!AR51,\"\")","v":""},{"$f":"IF(Data!$E51=30,Data!AS51,\"\")","v":""},{"$f":"IF(Data!$E51=30,Data!AT51,IF(Data!S51<>\"\",Data!S51,\"\"))","v":""},{"$f":"IF(Data!$E51=30,Data!AU51,\"\")","v":""},{"$f":"IF(Data!$E51=30,Data!AV51,\"\")","v":""},{"$f":"IF(Data!$E51=30,Data!AW51,IF(Data!T51<>\"\",Data!T51,\"\"))","v":""},{"$f":"IF(Data!$E51=30,Data!AX51,\"\")","v":""},{"$f":"IF(Data!$E51=30,Data!AY51,\"\")","v":""},{"$f":"IF(Data!$E51=30,Data!AZ51,IF(Data!U51<>\"\",Data!U51,\"\"))","v":""},{"$f":"IF(Data!$E51=30,Data!BA51,\"\")","v":""},{"$f":"IF(Data!$E51=30,Data!BB51,\"\")","v":""},{"$f":"IF(Data!$E51=30,Data!BC51,IF(Data!V51<>\"\",Data!V51,\"\"))","v":""},{"$f":"IF(Data!$E51=30,Data!BD51,\"\")","v":""},{"$f":"IF(Data!$E51=30,Data!BE51,\"\")","v":""},{"$f":"IF(Data!$E51=30,Data!BF51,IF(Data!W51<>\"\",Data!W51,\"\"))","v":""},{"$f":"IF(Data!$E51=30,Data!BG51,\"\")","v":""},{"$f":"IF(Data!$E51=30,Data!BH51,\"\")","v":""},{"$f":"IF(Data!$E51=30,Data!BI51,IF(Data!X51<>\"\",Data!X51,\"\"))","v":""},{"$f":"IF(Data!$E51=30,Data!BJ51,\"\")","v":""},{"$f":"IF(Data!$E51=30,Data!BK51,\"\")","v":""},{"$f":"IF(Data!$E51=30,Data!BL51,IF(Data!Y51<>\"\",Data!Y51,\"\"))","v":""},{"$f":"IF(Data!$E51=30,Data!BM51,\"\")","v":""}]
[null,{"$f":"IF(Data!A52<>\"\",Data!A52,\"\")","v":""},{"$f":"IF(Data!$E52=30,Data!F52,\"\")","v":""},{"$f":"IF(Data!$E52=30,Data!G52,IF(Data!F52<>\"\",Data!F52,\"\"))","v":""},{"$f":"IF(Data!$E52=30,Data!H52,\"\")","v":""},{"$f":"IF(Data!$E52=30,Data!I52,\"\")","v":""},{"$f":"IF(Data!$E52=30,Data!J52,IF(Data!G52<>\"\",Data!G52,\"\"))","v":""},{"$f":"IF(Data!$E52=30,Data!K52,\"\")","v":""},{"$f":"IF(Data!$E52=30,Data!L52,\"\")","v":""},{"$f":"IF(Data!$E52=30,Data!M52,IF(Data!H52<>\"\",Data!H52,\"\"))","v":""},{"$f":"IF(Data!$E52=30,Data!N52,\"\")","v":""},{"$f":"IF(Data!$E52=30,Data!O52,\"\")","v":""},{"$f":"IF(Data!$E52=30,Data!P52,IF(Data!I52<>\"\",Data!I52,\"\"))","v":""},{"$f":"IF(Data!$E52=30,Data!Q52,\"\")","v":""},{"$f":"IF(Data!$E52=30,Data!R52,\"\")","v":""},{"$f":"IF(Data!$E52=30,Data!S52,IF(Data!J52<>\"\",Data!J52,\"\"))","v":""},{"$f":"IF(Data!$E52=30,Data!T52,\"\")","v":""},{"$f":"IF(Data!$E52=30,Data!U52,\"\")","v":""},{"$f":"IF(Data!$E52=30,Data!V52,IF(Data!K52<>\"\",Data!K52,\"\"))","v":""},{"$f":"IF(Data!$E52=30,Data!W52,\"\")","v":""},{"$f":"IF(Data!$E52=30,Data!X52,\"\")","v":""},{"$f":"IF(Data!$E52=30,Data!Y52,IF(Data!L52<>\"\",Data!L52,\"\"))","v":""},{"$f":"IF(Data!$E52=30,Data!Z52,\"\")","v":""},{"$f":"IF(Data!$E52=30,Data!AA52,\"\")","v":""},{"$f":"IF(Data!$E52=30,Data!AB52,IF(Data!M52<>\"\",Data!M52,\"\"))","v":""},{"$f":"IF(Data!$E52=30,Data!AC52,\"\")","v":""},{"$f":"IF(Data!$E52=30,Data!AD52,\"\")","v":""},{"$f":"IF(Data!$E52=30,Data!AE52,IF(Data!N52<>\"\",Data!N52,\"\"))","v":""},{"$f":"IF(Data!$E52=30,Data!AF52,\"\")","v":""},{"$f":"IF(Data!$E52=30,Data!AG52,\"\")","v":""},{"$f":"IF(Data!$E52=30,Data!AH52,IF(Data!O52<>\"\",Data!O52,\"\"))","v":""},{"$f":"IF(Data!$E52=30,Data!AI52,\"\")","v":""},null,null,null,{"$f":"IF(Data!$E52=30,Data!AJ52,\"\")","v":""},{"$f":"IF(Data!$E52=30,Data!AK52,IF(Data!P52<>\"\",Data!P52,\"\"))","v":""},{"$f":"IF(Data!$E52=30,Data!AL52,\"\")","v":""},{"$f":"IF(Data!$E52=30,Data!AM52,\"\")","v":""},{"$f":"IF(Data!$E52=30,Data!AN52,IF(Data!Q52<>\"\",Data!Q52,\"\"))","v":""},{"$f":"IF(Data!$E52=30,Data!AO52,\"\")","v":""},{"$f":"IF(Data!$E52=30,Data!AP52,\"\")","v":""},{"$f":"IF(Data!$E52=30,Data!AQ52,IF(Data!R52<>\"\",Data!R52,\"\"))","v":""},{"$f":"IF(Data!$E52=30,Data!AR52,\"\")","v":""},{"$f":"IF(Data!$E52=30,Data!AS52,\"\")","v":""},{"$f":"IF(Data!$E52=30,Data!AT52,IF(Data!S52<>\"\",Data!S52,\"\"))","v":""},{"$f":"IF(Data!$E52=30,Data!AU52,\"\")","v":""},{"$f":"IF(Data!$E52=30,Data!AV52,\"\")","v":""},{"$f":"IF(Data!$E52=30,Data!AW52,IF(Data!T52<>\"\",Data!T52,\"\"))","v":""},{"$f":"IF(Data!$E52=30,Data!AX52,\"\")","v":""},{"$f":"IF(Data!$E52=30,Data!AY52,\"\")","v":""},{"$f":"IF(Data!$E52=30,Data!AZ52,IF(Data!U52<>\"\",Data!U52,\"\"))","v":""},{"$f":"IF(Data!$E52=30,Data!BA52,\"\")","v":""},{"$f":"IF(Data!$E52=30,Data!BB52,\"\")","v":""},{"$f":"IF(Data!$E52=30,Data!BC52,IF(Data!V52<>\"\",Data!V52,\"\"))","v":""},{"$f":"IF(Data!$E52=30,Data!BD52,\"\")","v":""},{"$f":"IF(Data!$E52=30,Data!BE52,\"\")","v":""},{"$f":"IF(Data!$E52=30,Data!BF52,IF(Data!W52<>\"\",Data!W52,\"\"))","v":""},{"$f":"IF(Data!$E52=30,Data!BG52,\"\")","v":""},{"$f":"IF(Data!$E52=30,Data!BH52,\"\")","v":""},{"$f":"IF(Data!$E52=30,Data!BI52,IF(Data!X52<>\"\",Data!X52,\"\"))","v":""},{"$f":"IF(Data!$E52=30,Data!BJ52,\"\")","v":""},{"$f":"IF(Data!$E52=30,Data!BK52,\"\")","v":""},{"$f":"IF(Data!$E52=30,Data!BL52,IF(Data!Y52<>\"\",Data!Y52,\"\"))","v":""},{"$f":"IF(Data!$E52=30,Data!BM52,\"\")","v":""}]
[null,{"$f":"IF(Data!A53<>\"\",Data!A53,\"\")","v":""},{"$f":"IF(Data!$E53=30,Data!F53,\"\")","v":""},{"$f":"IF(Data!$E53=30,Data!G53,IF(Data!F53<>\"\",Data!F53,\"\"))","v":""},{"$f":"IF(Data!$E53=30,Data!H53,\"\")","v":""},{"$f":"IF(Data!$E53=30,Data!I53,\"\")","v":""},{"$f":"IF(Data!$E53=30,Data!J53,IF(Data!G53<>\"\",Data!G53,\"\"))","v":""},{"$f":"IF(Data!$E53=30,Data!K53,\"\")","v":""},{"$f":"IF(Data!$E53=30,Data!L53,\"\")","v":""},{"$f":"IF(Data!$E53=30,Data!M53,IF(Data!H53<>\"\",Data!H53,\"\"))","v":""},{"$f":"IF(Data!$E53=30,Data!N53,\"\")","v":""},{"$f":"IF(Data!$E53=30,Data!O53,\"\")","v":""},{"$f":"IF(Data!$E53=30,Data!P53,IF(Data!I53<>\"\",Data!I53,\"\"))","v":""},{"$f":"IF(Data!$E53=30,Data!Q53,\"\")","v":""},{"$f":"IF(Data!$E53=30,Data!R53,\"\")","v":""},{"$f":"IF(Data!$E53=30,Data!S53,IF(Data!J53<>\"\",Data!J53,\"\"))","v":""},{"$f":"IF(Data!$E53=30,Data!T53,\"\")","v":""},{"$f":"IF(Data!$E53=30,Data!U53,\"\")","v":""},{"$f":"IF(Data!$E53=30,Data!V53,IF(Data!K53<>\"\",Data!K53,\"\"))","v":""},{"$f":"IF(Data!$E53=30,Data!W53,\"\")","v":""},{"$f":"IF(Data!$E53=30,Data!X53,\"\")","v":""},{"$f":"IF(Data!$E53=30,Data!Y53,IF(Data!L53<>\"\",Data!L53,\"\"))","v":""},{"$f":"IF(Data!$E53=30,Data!Z53,\"\")","v":""},{"$f":"IF(Data!$E53=30,Data!AA53,\"\")","v":""},{"$f":"IF(Data!$E53=30,Data!AB53,IF(Data!M53<>\"\",Data!M53,\"\"))","v":""},{"$f":"IF(Data!$E53=30,Data!AC53,\"\")","v":""},{"$f":"IF(Data!$E53=30,Data!AD53,\"\")","v":""},{"$f":"IF(Data!$E53=30,Data!AE53,IF(Data!N53<>\"\",Data!N53,\"\"))","v":""},{"$f":"IF(Data!$E53=30,Data!AF53,\"\")","v":""},{"$f":"IF(Data!$E53=30,Data!AG53,\"\")","v":""},{"$f":"IF(Data!$E53=30,Data!AH53,IF(Data!O53<>\"\",Data!O53,\"\"))","v":""},{"$f":"IF(Data!$E53=30,Data!AI53,\"\")","v":""},null,null,null,{"$f":"IF(Data!$E53=30,Data!AJ53,\"\")","v":""},{"$f":"IF(Data!$E53=30,Data!AK53,IF(Data!P53<>\"\",Data!P53,\"\"))","v":""},{"$f":"IF(Data!$E53=30,Data!AL53,\"\")","v":""},{"$f":"IF(Data!$E53=30,Data!AM53,\"\")","v":""},{"$f":"IF(Data!$E53=30,Data!AN53,IF(Data!Q53<>\"\",Data!Q53,\"\"))","v":""},{"$f":"IF(Data!$E53=30,Data!AO53,\"\")","v":""},{"$f":"IF(Data!$E53=30,Data!AP53,\"\")","v":""},{"$f":"IF(Data!$E53=30,Data!AQ53,IF(Data!R53<>\"\",Data!R53,\"\"))","v":""},{"$f":"IF(Data!$E53=30,Data!AR53,\"\")","v":""},{"$f":"IF(Data!$E53=30,Data!AS53,\"\")","v":""},{"$f":"IF(Data!$E53=30,Data!AT53,IF(Data!S53<>\"\",Data!S53,\"\"))","v":""},{"$f":"IF(Data!$E53=30,Data!AU53,\"\")","v":""},{"$f":"IF(Data!$E53=30,Data!AV53,\"\")","v":""},{"$f":"IF(Data!$E53=30,Data!AW53,IF(Data!T53<>\"\",Data!T53,\"\"))","v":""},{"$f":"IF(Data!$E53=30,Data!AX53,\"\")","v":""},{"$f":"IF(Data!$E53=30,Data!AY53,\"\")","v":""},{"$f":"IF(Data!$E53=30,Data!AZ53,IF(Data!U53<>\"\",Data!U53,\"\"))","v":""},{"$f":"IF(Data!$E53=30,Data!BA53,\"\")","v":""},{"$f":"IF(Data!$E53=30,Data!BB53,\"\")","v":""},{"$f":"IF(Data!$E53=30,Data!BC53,IF(Data!V53<>\"\",Data!V53,\"\"))","v":""},{"$f":"IF(Data!$E53=30,Data!BD53,\"\")","v":""},{"$f":"IF(Data!$E53=30,Data!BE53,\"\")","v":""},{"$f":"IF(Data!$E53=30,Data!BF53,IF(Data!W53<>\"\",Data!W53,\"\"))","v":""},{"$f":"IF(Data!$E53=30,Data!BG53,\"\")","v":""},{"$f":"IF(Data!$E53=30,Data!BH53,\"\")","v":""},{"$f":"IF(Data!$E53=30,Data!BI53,IF(Data!X53<>\"\",Data!X53,\"\"))","v":""},{"$f":"IF(Data!$E53=30,Data!BJ53,\"\")","v":""},{"$f":"IF(Data!$E53=30,Data!BK53,\"\")","v":""},{"$f":"IF(Data!$E53=30,Data!BL53,IF(Data!Y53<>\"\",Data!Y53,\"\"))","v":""},{"$f":"IF(Data!$E53=30,Data!BM53,\"\")","v":""}]
[null,{"$f":"IF(Data!A54<>\"\",Data!A54,\"\")","v":""},{"$f":"IF(Data!$E54=30,Data!F54,\"\")","v":""},{"$f":"IF(Data!$E54=30,Data!G54,IF(Data!F54<>\"\",Data!F54,\"\"))","v":""},{"$f":"IF(Data!$E54=30,Data!H54,\"\")","v":""},{"$f":"IF(Data!$E54=30,Data!I54,\"\")","v":""},{"$f":"IF(Data!$E54=30,Data!J54,IF(Data!G54<>\"\",Data!G54,\"\"))","v":""},{"$f":"IF(Data!$E54=30,Data!K54,\"\")","v":""},{"$f":"IF(Data!$E54=30,Data!L54,\"\")","v":""},{"$f":"IF(Data!$E54=30,Data!M54,IF(Data!H54<>\"\",Data!H54,\"\"))","v":""},{"$f":"IF(Data!$E54=30,Data!N54,\"\")","v":""},{"$f":"IF(Data!$E54=30,Data!O54,\"\")","v":""},{"$f":"IF(Data!$E54=30,Data!P54,IF(Data!I54<>\"\",Data!I54,\"\"))","v":""},{"$f":"IF(Data!$E54=30,Data!Q54,\"\")","v":""},{"$f":"IF(Data!$E54=30,Data!R54,\"\")","v":""},{"$f":"IF(Data!$E54=30,Data!S54,IF(Data!J54<>\"\",Data!J54,\"\"))","v":""},{"$f":"IF(Data!$E54=30,Data!T54,\"\")","v":""},{"$f":"IF(Data!$E54=30,Data!U54,\"\")","v":""},{"$f":"IF(Data!$E54=30,Data!V54,IF(Data!K54<>\"\",Data!K54,\"\"))","v":""},{"$f":"IF(Data!$E54=30,Data!W54,\"\")","v":""},{"$f":"IF(Data!$E54=30,Data!X54,\"\")","v":""},{"$f":"IF(Data!$E54=30,Data!Y54,IF(Data!L54<>\"\",Data!L54,\"\"))","v":""},{"$f":"IF(Data!$E54=30,Data!Z54,\"\")","v":""},{"$f":"IF(Data!$E54=30,Data!AA54,\"\")","v":""},{"$f":"IF(Data!$E54=30,Data!AB54,IF(Data!M54<>\"\",Data!M54,\"\"))","v":""},{"$f":"IF(Data!$E54=30,Data!AC54,\"\")","v":""},{"$f":"IF(Data!$E54=30,Data!AD54,\"\")","v":""},{"$f":"IF(Data!$E54=30,Data!AE54,IF(Data!N54<>\"\",Data!N54,\"\"))","v":""},{"$f":"IF(Data!$E54=30,Data!AF54,\"\")","v":""},{"$f":"IF(Data!$E54=30,Data!AG54,\"\")","v":""},{"$f":"IF(Data!$E54=30,Data!AH54,IF(Data!O54<>\"\",Data!O54,\"\"))","v":""},{"$f":"IF(Data!$E54=30,Data!AI54,\"\")","v":""},null,null,null,{"$f":"IF(Data!$E54=30,Data!AJ54,\"\")","v":""},{"$f":"IF(Data!$E54=30,Data!AK54,IF(Data!P54<>\"\",Data!P54,\"\"))","v":""},{"$f":"IF(Data!$E54=30,Data!AL54,\"\")","v":""},{"$f":"IF(Data!$E54=30,Data!AM54,\"\")","v":""},{"$f":"IF(Data!$E54=30,Data!AN54,IF(Data!Q54<>\"\",Data!Q54,\"\"))","v":""},{"$f":"IF(Data!$E54=30,Data!AO54,\"\")","v":""},{"$f":"IF(Data!$E54=30,Data!AP54,\"\")","v":""},{"$f":"IF(Data!$E54=30,Data!AQ54,IF(Data!R54<>\"\",Data!R54,\"\"))","v":""},{"$f":"IF(Data!$E54=30,Data!AR54,\"\")","v":""},{"$f":"IF(Data!$E54=30,Data!AS54,\"\")","v":""},{"$f":"IF(Data!$E54=30,Data!AT54,IF(Data!S54<>\"\",Data!S54,\"\"))","v":""},{"$f":"IF(Data!$E54=30,Data!AU54,\"\")","v":""},{"$f":"IF(Data!$E54=30,Data!AV54,\"\")","v":""},{"$f":"IF(Data!$E54=30,Data!AW54,IF(Data!T54<>\"\",Data!T54,\"\"))","v":""},{"$f":"IF(Data!$E54=30,Data!AX54,\"\")","v":""},{"$f":"IF(Data!$E54=30,Data!AY54,\"\")","v":""},{"$f":"IF(Data!$E54=30,Data!AZ54,IF(Data!U54<>\"\",Data!U54,\"\"))","v":""},{"$f":"IF(Data!$E54=30,Data!BA54,\"\")","v":""},{"$f":"IF(Data!$E54=30,Data!BB54,\"\")","v":""},{"$f":"IF(Data!$E54=30,Data!BC54,IF(Data!V54<>\"\",Data!V54,\"\"))","v":""},{"$f":"IF(Data!$E54=30,Data!BD54,\"\")","v":""},{"$f":"IF(Data!$E54=30,Data!BE54,\"\")","v":""},{"$f":"IF(Data!$E54=30,Data!BF54,IF(Data!W54<>\"\",Data!W54,\"\"))","v":""},{"$f":"IF(Data!$E54=30,Data!BG54,\"\")","v":""},{"$f":"IF(Data!$E54=30,Data!BH54,\"\")","v":""},{"$f":"IF(Data!$E54=30,Data!BI54,IF(Data!X54<>\"\",Data!X54,\"\"))","v":""},{"$f":"IF(Data!$E54=30,Data!BJ54,\"\")","v":""},{"$f":"IF(Data!$E54=30,Data!BK54,\"\")","v":""},{"$f":"IF(Data!$E54=30,Data!BL54,IF(Data!Y54<>\"\",Data!Y54,\"\"))","v":""},{"$f":"IF(Data!$E54=30,Data!BM54,\"\")","v":""}]
[null,{"$f":"IF(Data!A55<>\"\",Data!A55,\"\")","v":""},{"$f":"IF(Data!$E55=30,Data!F55,\"\")","v":""},{"$f":"IF(Data!$E55=30,Data!G55,IF(Data!F55<>\"\",Data!F55,\"\"))","v":""},{"$f":"IF(Data!$E55=30,Data!H55,\"\")","v":""},{"$f":"IF(Data!$E55=30,Data!I55,\"\")","v":""},{"$f":"IF(Data!$E55=30,Data!J55,IF(Data!G55<>\"\",Data!G55,\"\"))","v":""},{"$f":"IF(Data!$E55=30,Data!K55,\"\")","v":""},{"$f":"IF(Data!$E55=30,Data!L55,\"\")","v":""},{"$f":"IF(Data!$E55=30,Data!M55,IF(Data!H55<>\"\",Data!H55,\"\"))","v":""},{"$f":"IF(Data!$E55=30,Data!N55,\"\")","v":""},{"$f":"IF(Data!$E55=30,Data!O55,\"\")","v":""},{"$f":"IF(Data!$E55=30,Data!P55,IF(Data!I55<>\"\",Data!I55,\"\"))","v":""},{"$f":"IF(Data!$E55=30,Data!Q55,\"\")","v":""},{"$f":"IF(Data!$E55=30,Data!R55,\"\")","v":""},{"$f":"IF(Data!$E55=30,Data!S55,IF(Data!J55<>\"\",Data!J55,\"\"))","v":""},{"$f":"IF(Data!$E55=30,Data!T55,\"\")","v":""},{"$f":"IF(Data!$E55=30,Data!U55,\"\")","v":""},{"$f":"IF(Data!$E55=30,Data!V55,IF(Data!K55<>\"\",Data!K55,\"\"))","v":""},{"$f":"IF(Data!$E55=30,Data!W55,\"\")","v":""},{"$f":"IF(Data!$E55=30,Data!X55,\"\")","v":""},{"$f":"IF(Data!$E55=30,Data!Y55,IF(Data!L55<>\"\",Data!L55,\"\"))","v":""},{"$f":"IF(Data!$E55=30,Data!Z55,\"\")","v":""},{"$f":"IF(Data!$E55=30,Data!AA55,\"\")","v":""},{"$f":"IF(Data!$E55=30,Data!AB55,IF(Data!M55<>\"\",Data!M55,\"\"))","v":""},{"$f":"IF(Data!$E55=30,Data!AC55,\"\")","v":""},{"$f":"IF(Data!$E55=30,Data!AD55,\"\")","v":""},{"$f":"IF(Data!$E55=30,Data!AE55,IF(Data!N55<>\"\",Data!N55,\"\"))","v":""},{"$f":"IF(Data!$E55=30,Data!AF55,\"\")","v":""},{"$f":"IF(Data!$E55=30,Data!AG55,\"\")","v":""},{"$f":"IF(Data!$E55=30,Data!AH55,IF(Data!O55<>\"\",Data!O55,\"\"))","v":""},{"$f":"IF(Data!$E55=30,Data!AI55,\"\")","v":""},null,null,null,{"$f":"IF(Data!$E55=30,Data!AJ55,\"\")","v":""},{"$f":"IF(Data!$E55=30,Data!AK55,IF(Data!P55<>\"\",Data!P55,\"\"))","v":""},{"$f":"IF(Data!$E55=30,Data!AL55,\"\")","v":""},{"$f":"IF(Data!$E55=30,Data!AM55,\"\")","v":""},{"$f":"IF(Data!$E55=30,Data!AN55,IF(Data!Q55<>\"\",Data!Q55,\"\"))","v":""},{"$f":"IF(Data!$E55=30,Data!AO55,\"\")","v":""},{"$f":"IF(Data!$E55=30,Data!AP55,\"\")","v":""},{"$f":"IF(Data!$E55=30,Data!AQ55,IF(Data!R55<>\"\",Data!R55,\"\"))","v":""},{"$f":"IF(Data!$E55=30,Data!AR55,\"\")","v":""},{"$f":"IF(Data!$E55=30,Data!AS55,\"\")","v":""},{"$f":"IF(Data!$E55=30,Data!AT55,IF(Data!S55<>\"\",Data!S55,\"\"))","v":""},{"$f":"IF(Data!$E55=30,Data!AU55,\"\")","v":""},{"$f":"IF(Data!$E55=30,Data!AV55,\"\")","v":""},{"$f":"IF(Data!$E55=30,Data!AW55,IF(Data!T55<>\"\",Data!T55,\"\"))","v":""},{"$f":"IF(Data!$E55=30,Data!AX55,\"\")","v":""},{"$f":"IF(Data!$E55=30,Data!AY55,\"\")","v":""},{"$f":"IF(Data!$E55=30,Data!AZ55,IF(Data!U55<>\"\",Data!U55,\"\"))","v":""},{"$f":"IF(Data!$E55=30,Data!BA55,\"\")","v":""},{"$f":"IF(Data!$E55=30,Data!BB55,\"\")","v":""},{"$f":"IF(Data!$E55=30,Data!BC55,IF(Data!V55<>\"\",Data!V55,\"\"))","v":""},{"$f":"IF(Data!$E55=30,Data!BD55,\"\")","v":""},{"$f":"IF(Data!$E55=30,Data!BE55,\"\")","v":""},{"$f":"IF(Data!$E55=30,Data!BF55,IF(Data!W55<>\"\",Data!W55,\"\"))","v":""},{"$f":"IF(Data!$E55=30,Data!BG55,\"\")","v":""},{"$f":"IF(Data!$E55=30,Data!BH55,\"\")","v":""},{"$f":"IF(Data!$E55=30,Data!BI55,IF(Data!X55<>\"\",Data!X55,\"\"))","v":""},{"$f":"IF(Data!$E55=30,Data!BJ55,\"\")","v":""},{"$f":"IF(Data!$E55=30,Data!BK55,\"\")","v":""},{"$f":"IF(Data!$E55=30,Data!BL55,IF(Data!Y55<>\"\",Data!Y55,\"\"))","v":""},{"$f":"IF(Data!$E55=30,Data!BM55,\"\")","v":""}]
[null,{"$f":"IF(Data!A56<>\"\",Data!A56,\"\")","v":""},{"$f":"IF(Data!$E56=30,Data!F56,\"\")","v":""},{"$f":"IF(Data!$E56=30,Data!G56,IF(Data!F56<>\"\",Data!F56,\"\"))","v":""},{"$f":"IF(Data!$E56=30,Data!H56,\"\")","v":""},{"$f":"IF(Data!$E56=30,Data!I56,\"\")","v":""},{"$f":"IF(Data!$E56=30,Data!J56,IF(Data!G56<>\"\",Data!G56,\"\"))","v":""},{"$f":"IF(Data!$E56=30,Data!K56,\"\")","v":""},{"$f":"IF(Data!$E56=30,Data!L56,\"\")","v":""},{"$f":"IF(Data!$E56=30,Data!M56,IF(Data!H56<>\"\",Data!H56,\"\"))","v":""},{"$f":"IF(Data!$E56=30,Data!N56,\"\")","v":""},{"$f":"IF(Data!$E56=30,Data!O56,\"\")","v":""},{"$f":"IF(Data!$E56=30,Data!P56,IF(Data!I56<>\"\",Data!I56,\"\"))","v":""},{"$f":"IF(Data!$E56=30,Data!Q56,\"\")","v":""},{"$f":"IF(Data!$E56=30,Data!R56,\"\")","v":""},{"$f":"IF(Data!$E56=30,Data!S56,IF(Data!J56<>\"\",Data!J56,\"\"))","v":""},{"$f":"IF(Data!$E56=30,Data!T56,\"\")","v":""},{"$f":"IF(Data!$E56=30,Data!U56,\"\")","v":""},{"$f":"IF(Data!$E56=30,Data!V56,IF(Data!K56<>\"\",Data!K56,\"\"))","v":""},{"$f":"IF(Data!$E56=30,Data!W56,\"\")","v":""},{"$f":"IF(Data!$E56=30,Data!X56,\"\")","v":""},{"$f":"IF(Data!$E56=30,Data!Y56,IF(Data!L56<>\"\",Data!L56,\"\"))","v":""},{"$f":"IF(Data!$E56=30,Data!Z56,\"\")","v":""},{"$f":"IF(Data!$E56=30,Data!AA56,\"\")","v":""},{"$f":"IF(Data!$E56=30,Data!AB56,IF(Data!M56<>\"\",Data!M56,\"\"))","v":""},{"$f":"IF(Data!$E56=30,Data!AC56,\"\")","v":""},{"$f":"IF(Data!$E56=30,Data!AD56,\"\")","v":""},{"$f":"IF(Data!$E56=30,Data!AE56,IF(Data!N56<>\"\",Data!N56,\"\"))","v":""},{"$f":"IF(Data!$E56=30,Data!AF56,\"\")","v":""},{"$f":"IF(Data!$E56=30,Data!AG56,\"\")","v":""},{"$f":"IF(Data!$E56=30,Data!AH56,IF(Data!O56<>\"\",Data!O56,\"\"))","v":""},{"$f":"IF(Data!$E56=30,Data!AI56,\"\")","v":""},null,null,null,{"$f":"IF(Data!$E56=30,Data!AJ56,\"\")","v":""},{"$f":"IF(Data!$E56=30,Data!AK56,IF(Data!P56<>\"\",Data!P56,\"\"))","v":""},{"$f":"IF(Data!$E56=30,Data!AL56,\"\")","v":""},{"$f":"IF(Data!$E56=30,Data!AM56,\"\")","v":""},{"$f":"IF(Data!$E56=30,Data!AN56,IF(Data!Q56<>\"\",Data!Q56,\"\"))","v":""},{"$f":"IF(Data!$E56=30,Data!AO56,\"\")","v":""},{"$f":"IF(Data!$E56=30,Data!AP56,\"\")","v":""},{"$f":"IF(Data!$E56=30,Data!AQ56,IF(Data!R56<>\"\",Data!R56,\"\"))","v":""},{"$f":"IF(Data!$E56=30,Data!AR56,\"\")","v":""},{"$f":"IF(Data!$E56=30,Data!AS56,\"\")","v":""},{"$f":"IF(Data!$E56=30,Data!AT56,IF(Data!S56<>\"\",Data!S56,\"\"))","v":""},{"$f":"IF(Data!$E56=30,Data!AU56,\"\")","v":""},{"$f":"IF(Data!$E56=30,Data!AV56,\"\")","v":""},{"$f":"IF(Data!$E56=30,Data!AW56,IF(Data!T56<>\"\",Data!T56,\"\"))","v":""},{"$f":"IF(Data!$E56=30,Data!AX56,\"\")","v":""},{"$f":"IF(Data!$E56=30,Data!AY56,\"\")","v":""},{"$f":"IF(Data!$E56=30,Data!AZ56,IF(Data!U56<>\"\",Data!U56,\"\"))","v":""},{"$f":"IF(Data!$E56=30,Data!BA56,\"\")","v":""},{"$f":"IF(Data!$E56=30,Data!BB56,\"\")","v":""},{"$f":"IF(Data!$E56=30,Data!BC56,IF(Data!V56<>\"\",Data!V56,\"\"))","v":""},{"$f":"IF(Data!$E56=30,Data!BD56,\"\")","v":""},{"$f":"IF(Data!$E56=30,Data!BE56,\"\")","v":""},{"$f":"IF(Data!$E56=30,Data!BF56,IF(Data!W56<>\"\",Data!W56,\"\"))","v":""},{"$f":"IF(Data!$E56=30,Data!BG56,\"\")","v":""},{"$f":"IF(Data!$E56=30,Data!BH56,\"\")","v":""},{"$f":"IF(Data!$E56=30,Data!BI56,IF(Data!X56<>\"\",Data!X56,\"\"))","v":""},{"$f":"IF(Data!$E56=30,Data!BJ56,\"\")","v":""},{"$f":"IF(Data!$E56=30,Data!BK56,\"\")","v":""},{"$f":"IF(Data!$E56=30,Data!BL56,IF(Data!Y56<>\"\",Data!Y56,\"\"))","v":""},{"$f":"IF(Data!$E56=30,Data!BM56,\"\")","v":""}]
[null,{"$f":"IF(Data!A57<>\"\",Data!A57,\"\")","v":""},{"$f":"IF(Data!$E57=30,Data!F57,\"\")","v":""},{"$f":"IF(Data!$E57=30,Data!G57,IF(Data!F57<>\"\",Data!F57,\"\"))","v":""},{"$f":"IF(Data!$E57=30,Data!H57,\"\")","v":""},{"$f":"IF(Data!$E57=30,Data!I57,\"\")","v":""},{"$f":"IF(Data!$E57=30,Data!J57,IF(Data!G57<>\"\",Data!G57,\"\"))","v":""},{"$f":"IF(Data!$E57=30,Data!K57,\"\")","v":""},{"$f":"IF(Data!$E57=30,Data!L57,\"\")","v":""},{"$f":"IF(Data!$E57=30,Data!M57,IF(Data!H57<>\"\",Data!H57,\"\"))","v":""},{"$f":"IF(Data!$E57=30,Data!N57,\"\")","v":""},{"$f":"IF(Data!$E57=30,Data!O57,\"\")","v":""},{"$f":"IF(Data!$E57=30,Data!P57,IF(Data!I57<>\"\",Data!I57,\"\"))","v":""},{"$f":"IF(Data!$E57=30,Data!Q57,\"\")","v":""},{"$f":"IF(Data!$E57=30,Data!R57,\"\")","v":""},{"$f":"IF(Data!$E57=30,Data!S57,IF(Data!J57<>\"\",Data!J57,\"\"))","v":""},{"$f":"IF(Data!$E57=30,Data!T57,\"\")","v":""},{"$f":"IF(Data!$E57=30,Data!U57,\"\")","v":""},{"$f":"IF(Data!$E57=30,Data!V57,IF(Data!K57<>\"\",Data!K57,\"\"))","v":""},{"$f":"IF(Data!$E57=30,Data!W57,\"\")","v":""},{"$f":"IF(Data!$E57=30,Data!X57,\"\")","v":""},{"$f":"IF(Data!$E57=30,Data!Y57,IF(Data!L57<>\"\",Data!L57,\"\"))","v":""},{"$f":"IF(Data!$E57=30,Data!Z57,\"\")","v":""},{"$f":"IF(Data!$E57=30,Data!AA57,\"\")","v":""},{"$f":"IF(Data!$E57=30,Data!AB57,IF(Data!M57<>\"\",Data!M57,\"\"))","v":""},{"$f":"IF(Data!$E57=30,Data!AC57,\"\")","v":""},{"$f":"IF(Data!$E57=30,Data!AD57,\"\")","v":""},{"$f":"IF(Data!$E57=30,Data!AE57,IF(Data!N57<>\"\",Data!N57,\"\"))","v":""},{"$f":"IF(Data!$E57=30,Data!AF57,\"\")","v":""},{"$f":"IF(Data!$E57=30,Data!AG57,\"\")","v":""},{"$f":"IF(Data!$E57=30,Data!AH57,IF(Data!O57<>\"\",Data!O57,\"\"))","v":""},{"$f":"IF(Data!$E57=30,Data!AI57,\"\")","v":""},null,null,null,{"$f":"IF(Data!$E57=30,Data!AJ57,\"\")","v":""},{"$f":"IF(Data!$E57=30,Data!AK57,IF(Data!P57<>\"\",Data!P57,\"\"))","v":""},{"$f":"IF(Data!$E57=30,Data!AL57,\"\")","v":""},{"$f":"IF(Data!$E57=30,Data!AM57,\"\")","v":""},{"$f":"IF(Data!$E57=30,Data!AN57,IF(Data!Q57<>\"\",Data!Q57,\"\"))","v":""},{"$f":"IF(Data!$E57=30,Data!AO57,\"\")","v":""},{"$f":"IF(Data!$E57=30,Data!AP57,\"\")","v":""},{"$f":"IF(Data!$E57=30,Data!AQ57,IF(Data!R57<>\"\",Data!R57,\"\"))","v":""},{"$f":"IF(Data!$E57=30,Data!AR57,\"\")","v":""},{"$f":"IF(Data!$E57=30,Data!AS57,\"\")","v":""},{"$f":"IF(Data!$E57=30,Data!AT57,IF(Data!S57<>\"\",Data!S57,\"\"))","v":""},{"$f":"IF(Data!$E57=30,Data!AU57,\"\")","v":""},{"$f":"IF(Data!$E57=30,Data!AV57,\"\")","v":""},{"$f":"IF(Data!$E57=30,Data!AW57,IF(Data!T57<>\"\",Data!T57,\"\"))","v":""},{"$f":"IF(Data!$E57=30,Data!AX57,\"\")","v":""},{"$f":"IF(Data!$E57=30,Data!AY57,\"\")","v":""},{"$f":"IF(Data!$E57=30,Data!AZ57,IF(Data!U57<>\"\",Data!U57,\"\"))","v":""},{"$f":"IF(Data!$E57=30,Data!BA57,\"\")","v":""},{"$f":"IF(Data!$E57=30,Data!BB57,\"\")","v":""},{"$f":"IF(Data!$E57=30,Data!BC57,IF(Data!V57<>\"\",Data!V57,\"\"))","v":""},{"$f":"IF(Data!$E57=30,Data!BD57,\"\")","v":""},{"$f":"IF(Data!$E57=30,Data!BE57,\"\")","v":""},{"$f":"IF(Data!$E57=30,Data!BF57,IF(Data!W57<>\"\",Data!W57,\"\"))","v":""},{"$f":"IF(Data!$E57=30,Data!BG57,\"\")","v":""},{"$f":"IF(Data!$E57=30,Data!BH57,\"\")","v":""},{"$f":"IF(Data!$E57=30,Data!BI57,IF(Data!X57<>\"\",Data!X57,\"\"))","v":""},{"$f":"IF(Data!$E57=30,Data!BJ57,\"\")","v":""},{"$f":"IF(Data!$E57=30,Data!BK57,\"\")","v":""},{"$f":"IF(Data!$E57=30,Data!BL57,IF(Data!Y57<>\"\",Data!Y57,\"\"))","v":""},{"$f":"IF(Data!$E57=30,Data!BM57,\"\")","v":""}]
[null,{"$f":"IF(Data!A58<>\"\",Data!A58,\"\")","v":""},{"$f":"IF(Data!$E58=30,Data!F58,\"\")","v":""},{"$f":"IF(Data!$E58=30,Data!G58,IF(Data!F58<>\"\",Data!F58,\"\"))","v":""},{"$f":"IF(Data!$E58=30,Data!H58,\"\")","v":""},{"$f":"IF(Data!$E58=30,Data!I58,\"\")","v":""},{"$f":"IF(Data!$E58=30,Data!J58,IF(Data!G58<>\"\",Data!G58,\"\"))","v":""},{"$f":"IF(Data!$E58=30,Data!K58,\"\")","v":""},{"$f":"IF(Data!$E58=30,Data!L58,\"\")","v":""},{"$f":"IF(Data!$E58=30,Data!M58,IF(Data!H58<>\"\",Data!H58,\"\"))","v":""},{"$f":"IF(Data!$E58=30,Data!N58,\"\")","v":""},{"$f":"IF(Data!$E58=30,Data!O58,\"\")","v":""},{"$f":"IF(Data!$E58=30,Data!P58,IF(Data!I58<>\"\",Data!I58,\"\"))","v":""},{"$f":"IF(Data!$E58=30,Data!Q58,\"\")","v":""},{"$f":"IF(Data!$E58=30,Data!R58,\"\")","v":""},{"$f":"IF(Data!$E58=30,Data!S58,IF(Data!J58<>\"\",Data!J58,\"\"))","v":""},{"$f":"IF(Data!$E58=30,Data!T58,\"\")","v":""},{"$f":"IF(Data!$E58=30,Data!U58,\"\")","v":""},{"$f":"IF(Data!$E58=30,Data!V58,IF(Data!K58<>\"\",Data!K58,\"\"))","v":""},{"$f":"IF(Data!$E58=30,Data!W58,\"\")","v":""},{"$f":"IF(Data!$E58=30,Data!X58,\"\")","v":""},{"$f":"IF(Data!$E58=30,Data!Y58,IF(Data!L58<>\"\",Data!L58,\"\"))","v":""},{"$f":"IF(Data!$E58=30,Data!Z58,\"\")","v":""},{"$f":"IF(Data!$E58=30,Data!AA58,\"\")","v":""},{"$f":"IF(Data!$E58=30,Data!AB58,IF(Data!M58<>\"\",Data!M58,\"\"))","v":""},{"$f":"IF(Data!$E58=30,Data!AC58,\"\")","v":""},{"$f":"IF(Data!$E58=30,Data!AD58,\"\")","v":""},{"$f":"IF(Data!$E58=30,Data!AE58,IF(Data!N58<>\"\",Data!N58,\"\"))","v":""},{"$f":"IF(Data!$E58=30,Data!AF58,\"\")","v":""},{"$f":"IF(Data!$E58=30,Data!AG58,\"\")","v":""},{"$f":"IF(Data!$E58=30,Data!AH58,IF(Data!O58<>\"\",Data!O58,\"\"))","v":""},{"$f":"IF(Data!$E58=30,Data!AI58,\"\")","v":""},null,null,null,{"$f":"IF(Data!$E58=30,Data!AJ58,\"\")","v":""},{"$f":"IF(Data!$E58=30,Data!AK58,IF(Data!P58<>\"\",Data!P58,\"\"))","v":""},{"$f":"IF(Data!$E58=30,Data!AL58,\"\")","v":""},{"$f":"IF(Data!$E58=30,Data!AM58,\"\")","v":""},{"$f":"IF(Data!$E58=30,Data!AN58,IF(Data!Q58<>\"\",Data!Q58,\"\"))","v":""},{"$f":"IF(Data!$E58=30,Data!AO58,\"\")","v":""},{"$f":"IF(Data!$E58=30,Data!AP58,\"\")","v":""},{"$f":"IF(Data!$E58=30,Data!AQ58,IF(Data!R58<>\"\",Data!R58,\"\"))","v":""},{"$f":"IF(Data!$E58=30,Data!AR58,\"\")","v":""},{"$f":"IF(Data!$E58=30,Data!AS58,\"\")","v":""},{"$f":"IF(Data!$E58=30,Data!AT58,IF(Data!S58<>\"\",Data!S58,\"\"))","v":""},{"$f":"IF(Data!$E58=30,Data!AU58,\"\")","v":""},{"$f":"IF(Data!$E58=30,Data!AV58,\"\")","v":""},{"$f":"IF(Data!$E58=30,Data!AW58,IF(Data!T58<>\"\",Data!T58,\"\"))","v":""},{"$f":"IF(Data!$E58=30,Data!AX58,\"\")","v":""},{"$f":"IF(Data!$E58=30,Data!AY58,\"\")","v":""},{"$f":"IF(Data!$E58=30,Data!AZ58,IF(Data!U58<>\"\",Data!U58,\"\"))","v":""},{"$f":"IF(Data!$E58=30,Data!BA58,\"\")","v":""},{"$f":"IF(Data!$E58=30,Data!BB58,\"\")","v":""},{"$f":"IF(Data!$E58=30,Data!BC58,IF(Data!V58<>\"\",Data!V58,\"\"))","v":""},{"$f":"IF(Data!$E58=30,Data!BD58,\"\")","v":""},{"$f":"IF(Data!$E58=30,Data!BE58,\"\")","v":""},{"$f":"IF(Data!$E58=30,Data!BF58,IF(Data!W58<>\"\",Data!W58,\"\"))","v":""},{"$f":"IF(Data!$E58=30,Data!BG58,\"\")","v":""},{"$f":"IF(Data!$E58=30,Data!BH58,\"\")","v":""},{"$f":"IF(Data!$E58=30,Data!BI58,IF(Data!X58<>\"\",Data!X58,\"\"))","v":""},{"$f":"IF(Data!$E58=30,Data!BJ58,\"\")","v":""},{"$f":"IF(Data!$E58=30,Data!BK58,\"\")","v":""},{"$f":"IF(Data!$E58=30,Data!BL58,IF(Data!Y58<>\"\",Data!Y58,\"\"))","v":""},{"$f":"IF(Data!$E58=30,Data!BM58,\"\")","v":""}]
[null,{"$f":"IF(Data!A59<>\"\",Data!A59,\"\")","v":""},{"$f":"IF(Data!$E59=30,Data!F59,\"\")","v":""},{"$f":"IF(Data!$E59=30,Data!G59,IF(Data!F59<>\"\",Data!F59,\"\"))","v":""},{"$f":"IF(Data!$E59=30,Data!H59,\"\")","v":""},{"$f":"IF(Data!$E59=30,Data!I59,\"\")","v":""},{"$f":"IF(Data!$E59=30,Data!J59,IF(Data!G59<>\"\",Data!G59,\"\"))","v":""},{"$f":"IF(Data!$E59=30,Data!K59,\"\")","v":""},{"$f":"IF(Data!$E59=30,Data!L59,\"\")","v":""},{"$f":"IF(Data!$E59=30,Data!M59,IF(Data!H59<>\"\",Data!H59,\"\"))","v":""},{"$f":"IF(Data!$E59=30,Data!N59,\"\")","v":""},{"$f":"IF(Data!$E59=30,Data!O59,\"\")","v":""},{"$f":"IF(Data!$E59=30,Data!P59,IF(Data!I59<>\"\",Data!I59,\"\"))","v":""},{"$f":"IF(Data!$E59=30,Data!Q59,\"\")","v":""},{"$f":"IF(Data!$E59=30,Data!R59,\"\")","v":""},{"$f":"IF(Data!$E59=30,Data!S59,IF(Data!J59<>\"\",Data!J59,\"\"))","v":""},{"$f":"IF(Data!$E59=30,Data!T59,\"\")","v":""},{"$f":"IF(Data!$E59=30,Data!U59,\"\")","v":""},{"$f":"IF(Data!$E59=30,Data!V59,IF(Data!K59<>\"\",Data!K59,\"\"))","v":""},{"$f":"IF(Data!$E59=30,Data!W59,\"\")","v":""},{"$f":"IF(Data!$E59=30,Data!X59,\"\")","v":""},{"$f":"IF(Data!$E59=30,Data!Y59,IF(Data!L59<>\"\",Data!L59,\"\"))","v":""},{"$f":"IF(Data!$E59=30,Data!Z59,\"\")","v":""},{"$f":"IF(Data!$E59=30,Data!AA59,\"\")","v":""},{"$f":"IF(Data!$E59=30,Data!AB59,IF(Data!M59<>\"\",Data!M59,\"\"))","v":""},{"$f":"IF(Data!$E59=30,Data!AC59,\"\")","v":""},{"$f":"IF(Data!$E59=30,Data!AD59,\"\")","v":""},{"$f":"IF(Data!$E59=30,Data!AE59,IF(Data!N59<>\"\",Data!N59,\"\"))","v":""},{"$f":"IF(Data!$E59=30,Data!AF59,\"\")","v":""},{"$f":"IF(Data!$E59=30,Data!AG59,\"\")","v":""},{"$f":"IF(Data!$E59=30,Data!AH59,IF(Data!O59<>\"\",Data!O59,\"\"))","v":""},{"$f":"IF(Data!$E59=30,Data!AI59,\"\")","v":""},null,null,null,{"$f":"IF(Data!$E59=30,Data!AJ59,\"\")","v":""},{"$f":"IF(Data!$E59=30,Data!AK59,IF(Data!P59<>\"\",Data!P59,\"\"))","v":""},{"$f":"IF(Data!$E59=30,Data!AL59,\"\")","v":""},{"$f":"IF(Data!$E59=30,Data!AM59,\"\")","v":""},{"$f":"IF(Data!$E59=30,Data!AN59,IF(Data!Q59<>\"\",Data!Q59,\"\"))","v":""},{"$f":"IF(Data!$E59=30,Data!AO59,\"\")","v":""},{"$f":"IF(Data!$E59=30,Data!AP59,\"\")","v":""},{"$f":"IF(Data!$E59=30,Data!AQ59,IF(Data!R59<>\"\",Data!R59,\"\"))","v":""},{"$f":"IF(Data!$E59=30,Data!AR59,\"\")","v":""},{"$f":"IF(Data!$E59=30,Data!AS59,\"\")","v":""},{"$f":"IF(Data!$E59=30,Data!AT59,IF(Data!S59<>\"\",Data!S59,\"\"))","v":""},{"$f":"IF(Data!$E59=30,Data!AU59,\"\")","v":""},{"$f":"IF(Data!$E59=30,Data!AV59,\"\")","v":""},{"$f":"IF(Data!$E59=30,Data!AW59,IF(Data!T59<>\"\",Data!T59,\"\"))","v":""},{"$f":"IF(Data!$E59=30,Data!AX59,\"\")","v":""},{"$f":"IF(Data!$E59=30,Data!AY59,\"\")","v":""},{"$f":"IF(Data!$E59=30,Data!AZ59,IF(Data!U59<>\"\",Data!U59,\"\"))","v":""},{"$f":"IF(Data!$E59=30,Data!BA59,\"\")","v":""},{"$f":"IF(Data!$E59=30,Data!BB59,\"\")","v":""},{"$f":"IF(Data!$E59=30,Data!BC59,IF(Data!V59<>\"\",Data!V59,\"\"))","v":""},{"$f":"IF(Data!$E59=30,Data!BD59,\"\")","v":""},{"$f":"IF(Data!$E59=30,Data!BE59,\"\")","v":""},{"$f":"IF(Data!$E59=30,Data!BF59,IF(Data!W59<>\"\",Data!W59,\"\"))","v":""},{"$f":"IF(Data!$E59=30,Data!BG59,\"\")","v":""},{"$f":"IF(Data!$E59=30,Data!BH59,\"\")","v":""},{"$f":"IF(Data!$E59=30,Data!BI59,IF(Data!X59<>\"\",Data!X59,\"\"))","v":""},{"$f":"IF(Data!$E59=30,Data!BJ59,\"\")","v":""},{"$f":"IF(Data!$E59=30,Data!BK59,\"\")","v":""},{"$f":"IF(Data!$E59=30,Data!BL59,IF(Data!Y59<>\"\",Data!Y59,\"\"))","v":""},{"$f":"IF(Data!$E59=30,Data!BM59,\"\")","v":""}]
[null,{"$f":"IF(Data!A60<>\"\",Data!A60,\"\")","v":""},{"$f":"IF(Data!$E60=30,Data!F60,\"\")","v":""},{"$f":"IF(Data!$E60=30,Data!G60,IF(Data!F60<>\"\",Data!F60,\"\"))","v":""},{"$f":"IF(Data!$E60=30,Data!H60,\"\")","v":""},{"$f":"IF(Data!$E60=30,Data!I60,\"\")","v":""},{"$f":"IF(Data!$E60=30,Data!J60,IF(Data!G60<>\"\",Data!G60,\"\"))","v":""},{"$f":"IF(Data!$E60=30,Data!K60,\"\")","v":""},{"$f":"IF(Data!$E60=30,Data!L60,\"\")","v":""},{"$f":"IF(Data!$E60=30,Data!M60,IF(Data!H60<>\"\",Data!H60,\"\"))","v":""},{"$f":"IF(Data!$E60=30,Data!N60,\"\")","v":""},{"$f":"IF(Data!$E60=30,Data!O60,\"\")","v":""},{"$f":"IF(Data!$E60=30,Data!P60,IF(Data!I60<>\"\",Data!I60,\"\"))","v":""},{"$f":"IF(Data!$E60=30,Data!Q60,\"\")","v":""},{"$f":"IF(Data!$E60=30,Data!R60,\"\")","v":""},{"$f":"IF(Data!$E60=30,Data!S60,IF(Data!J60<>\"\",Data!J60,\"\"))","v":""},{"$f":"IF(Data!$E60=30,Data!T60,\"\")","v":""},{"$f":"IF(Data!$E60=30,Data!U60,\"\")","v":""},{"$f":"IF(Data!$E60=30,Data!V60,IF(Data!K60<>\"\",Data!K60,\"\"))","v":""},{"$f":"IF(Data!$E60=30,Data!W60,\"\")","v":""},{"$f":"IF(Data!$E60=30,Data!X60,\"\")","v":""},{"$f":"IF(Data!$E60=30,Data!Y60,IF(Data!L60<>\"\",Data!L60,\"\"))","v":""},{"$f":"IF(Data!$E60=30,Data!Z60,\"\")","v":""},{"$f":"IF(Data!$E60=30,Data!AA60,\"\")","v":""},{"$f":"IF(Data!$E60=30,Data!AB60,IF(Data!M60<>\"\",Data!M60,\"\"))","v":""},{"$f":"IF(Data!$E60=30,Data!AC60,\"\")","v":""},{"$f":"IF(Data!$E60=30,Data!AD60,\"\")","v":""},{"$f":"IF(Data!$E60=30,Data!AE60,IF(Data!N60<>\"\",Data!N60,\"\"))","v":""},{"$f":"IF(Data!$E60=30,Data!AF60,\"\")","v":""},{"$f":"IF(Data!$E60=30,Data!AG60,\"\")","v":""},{"$f":"IF(Data!$E60=30,Data!AH60,IF(Data!O60<>\"\",Data!O60,\"\"))","v":""},{"$f":"IF(Data!$E60=30,Data!AI60,\"\")","v":""},null,null,null,{"$f":"IF(Data!$E60=30,Data!AJ60,\"\")","v":""},{"$f":"IF(Data!$E60=30,Data!AK60,IF(Data!P60<>\"\",Data!P60,\"\"))","v":""},{"$f":"IF(Data!$E60=30,Data!AL60,\"\")","v":""},{"$f":"IF(Data!$E60=30,Data!AM60,\"\")","v":""},{"$f":"IF(Data!$E60=30,Data!AN60,IF(Data!Q60<>\"\",Data!Q60,\"\"))","v":""},{"$f":"IF(Data!$E60=30,Data!AO60,\"\")","v":""},{"$f":"IF(Data!$E60=30,Data!AP60,\"\")","v":""},{"$f":"IF(Data!$E60=30,Data!AQ60,IF(Data!R60<>\"\",Data!R60,\"\"))","v":""},{"$f":"IF(Data!$E60=30,Data!AR60,\"\")","v":""},{"$f":"IF(Data!$E60=30,Data!AS60,\"\")","v":""},{"$f":"IF(Data!$E60=30,Data!AT60,IF(Data!S60<>\"\",Data!S60,\"\"))","v":""},{"$f":"IF(Data!$E60=30,Data!AU60,\"\")","v":""},{"$f":"IF(Data!$E60=30,Data!AV60,\"\")","v":""},{"$f":"IF(Data!$E60=30,Data!AW60,IF(Data!T60<>\"\",Data!T60,\"\"))","v":""},{"$f":"IF(Data!$E60=30,Data!AX60,\"\")","v":""},{"$f":"IF(Data!$E60=30,Data!AY60,\"\")","v":""},{"$f":"IF(Data!$E60=30,Data!AZ60,IF(Data!U60<>\"\",Data!U60,\"\"))","v":""},{"$f":"IF(Data!$E60=30,Data!BA60,\"\")","v":""},{"$f":"IF(Data!$E60=30,Data!BB60,\"\")","v":""},{"$f":"IF(Data!$E60=30,Data!BC60,IF(Data!V60<>\"\",Data!V60,\"\"))","v":""},{"$f":"IF(Data!$E60=30,Data!BD60,\"\")","v":""},{"$f":"IF(Data!$E60=30,Data!BE60,\"\")","v":""},{"$f":"IF(Data!$E60=30,Data!BF60,IF(Data!W60<>\"\",Data!W60,\"\"))","v":""},{"$f":"IF(Data!$E60=30,Data!BG60,\"\")","v":""},{"$f":"IF(Data!$E60=30,Data!BH60,\"\")","v":""},{"$f":"IF(Data!$E60=30,Data!BI60,IF(Data!X60<>\"\",Data!X60,\"\"))","v":""},{"$f":"IF(Data!$E60=30,Data!BJ60,\"\")","v":""},{"$f":"IF(Data!$E60=30,Data!BK60,\"\")","v":""},{"$f":"IF(Data!$E60=30,Data!BL60,IF(Data!Y60<>\"\",Data!Y60,\"\"))","v":""},{"$f":"IF(Data!$E60=30,Data!BM60,\"\")","v":""}]
[null,{"$f":"IF(Data!A61<>\"\",Data!A61,\"\")","v":""},{"$f":"IF(Data!$E61=30,Data!F61,\"\")","v":""},{"$f":"IF(Data!$E61=30,Data!G61,IF(Data!F61<>\"\",Data!F61,\"\"))","v":""},{"$f":"IF(Data!$E61=30,Data!H61,\"\")","v":""},{"$f":"IF(Data!$E61=30,Data!I61,\"\")","v":""},{"$f":"IF(Data!$E61=30,Data!J61,IF(Data!G61<>\"\",Data!G61,\"\"))","v":""},{"$f":"IF(Data!$E61=30,Data!K61,\"\")","v":""},{"$f":"IF(Data!$E61=30,Data!L61,\"\")","v":""},{"$f":"IF(Data!$E61=30,Data!M61,IF(Data!H61<>\"\",Data!H61,\"\"))","v":""},{"$f":"IF(Data!$E61=30,Data!N61,\"\")","v":""},{"$f":"IF(Data!$E61=30,Data!O61,\"\")","v":""},{"$f":"IF(Data!$E61=30,Data!P61,IF(Data!I61<>\"\",Data!I61,\"\"))","v":""},{"$f":"IF(Data!$E61=30,Data!Q61,\"\")","v":""},{"$f":"IF(Data!$E61=30,Data!R61,\"\")","v":""},{"$f":"IF(Data!$E61=30,Data!S61,IF(Data!J61<>\"\",Data!J61,\"\"))","v":""},{"$f":"IF(Data!$E61=30,Data!T61,\"\")","v":""},{"$f":"IF(Data!$E61=30,Data!U61,\"\")","v":""},{"$f":"IF(Data!$E61=30,Data!V61,IF(Data!K61<>\"\",Data!K61,\"\"))","v":""},{"$f":"IF(Data!$E61=30,Data!W61,\"\")","v":""},{"$f":"IF(Data!$E61=30,Data!X61,\"\")","v":""},{"$f":"IF(Data!$E61=30,Data!Y61,IF(Data!L61<>\"\",Data!L61,\"\"))","v":""},{"$f":"IF(Data!$E61=30,Data!Z61,\"\")","v":""},{"$f":"IF(Data!$E61=30,Data!AA61,\"\")","v":""},{"$f":"IF(Data!$E61=30,Data!AB61,IF(Data!M61<>\"\",Data!M61,\"\"))","v":""},{"$f":"IF(Data!$E61=30,Data!AC61,\"\")","v":""},{"$f":"IF(Data!$E61=30,Data!AD61,\"\")","v":""},{"$f":"IF(Data!$E61=30,Data!AE61,IF(Data!N61<>\"\",Data!N61,\"\"))","v":""},{"$f":"IF(Data!$E61=30,Data!AF61,\"\")","v":""},{"$f":"IF(Data!$E61=30,Data!AG61,\"\")","v":""},{"$f":"IF(Data!$E61=30,Data!AH61,IF(Data!O61<>\"\",Data!O61,\"\"))","v":""},{"$f":"IF(Data!$E61=30,Data!AI61,\"\")","v":""},null,null,null,{"$f":"IF(Data!$E61=30,Data!AJ61,\"\")","v":""},{"$f":"IF(Data!$E61=30,Data!AK61,IF(Data!P61<>\"\",Data!P61,\"\"))","v":""},{"$f":"IF(Data!$E61=30,Data!AL61,\"\")","v":""},{"$f":"IF(Data!$E61=30,Data!AM61,\"\")","v":""},{"$f":"IF(Data!$E61=30,Data!AN61,IF(Data!Q61<>\"\",Data!Q61,\"\"))","v":""},{"$f":"IF(Data!$E61=30,Data!AO61,\"\")","v":""},{"$f":"IF(Data!$E61=30,Data!AP61,\"\")","v":""},{"$f":"IF(Data!$E61=30,Data!AQ61,IF(Data!R61<>\"\",Data!R61,\"\"))","v":""},{"$f":"IF(Data!$E61=30,Data!AR61,\"\")","v":""},{"$f":"IF(Data!$E61=30,Data!AS61,\"\")","v":""},{"$f":"IF(Data!$E61=30,Data!AT61,IF(Data!S61<>\"\",Data!S61,\"\"))","v":""},{"$f":"IF(Data!$E61=30,Data!AU61,\"\")","v":""},{"$f":"IF(Data!$E61=30,Data!AV61,\"\")","v":""},{"$f":"IF(Data!$E61=30,Data!AW61,IF(Data!T61<>\"\",Data!T61,\"\"))","v":""},{"$f":"IF(Data!$E61=30,Data!AX61,\"\")","v":""},{"$f":"IF(Data!$E61=30,Data!AY61,\"\")","v":""},{"$f":"IF(Data!$E61=30,Data!AZ61,IF(Data!U61<>\"\",Data!U61,\"\"))","v":""},{"$f":"IF(Data!$E61=30,Data!BA61,\"\")","v":""},{"$f":"IF(Data!$E61=30,Data!BB61,\"\")","v":""},{"$f":"IF(Data!$E61=30,Data!BC61,IF(Data!V61<>\"\",Data!V61,\"\"))","v":""},{"$f":"IF(Data!$E61=30,Data!BD61,\"\")","v":""},{"$f":"IF(Data!$E61=30,Data!BE61,\"\")","v":""},{"$f":"IF(Data!$E61=30,Data!BF61,IF(Data!W61<>\"\",Data!W61,\"\"))","v":""},{"$f":"IF(Data!$E61=30,Data!BG61,\"\")","v":""},{"$f":"IF(Data!$E61=30,Data!BH61,\"\")","v":""},{"$f":"IF(Data!$E61=30,Data!BI61,IF(Data!X61<>\"\",Data!X61,\"\"))","v":""},{"$f":"IF(Data!$E61=30,Data!BJ61,\"\")","v":""},{"$f":"IF(Data!$E61=30,Data!BK61,\"\")","v":""},{"$f":"IF(Data!$E61=30,Data!BL61,IF(Data!Y61<>\"\",Data!Y61,\"\"))","v":""},{"$f":"IF(Data!$E61=30,Data!BM61,\"\")","v":""}]
[null,{"$f":"IF(Data!A62<>\"\",Data!A62,\"\")","v":""},{"$f":"IF(Data!$E62=30,Data!F62,\"\")","v":""},{"$f":"IF(Data!$E62=30,Data!G62,IF(Data!F62<>\"\",Data!F62,\"\"))","v":""},{"$f":"IF(Data!$E62=30,Data!H62,\"\")","v":""},{"$f":"IF(Data!$E62=30,Data!I62,\"\")","v":""},{"$f":"IF(Data!$E62=30,Data!J62,IF(Data!G62<>\"\",Data!G62,\"\"))","v":""},{"$f":"IF(Data!$E62=30,Data!K62,\"\")","v":""},{"$f":"IF(Data!$E62=30,Data!L62,\"\")","v":""},{"$f":"IF(Data!$E62=30,Data!M62,IF(Data!H62<>\"\",Data!H62,\"\"))","v":""},{"$f":"IF(Data!$E62=30,Data!N62,\"\")","v":""},{"$f":"IF(Data!$E62=30,Data!O62,\"\")","v":""},{"$f":"IF(Data!$E62=30,Data!P62,IF(Data!I62<>\"\",Data!I62,\"\"))","v":""},{"$f":"IF(Data!$E62=30,Data!Q62,\"\")","v":""},{"$f":"IF(Data!$E62=30,Data!R62,\"\")","v":""},{"$f":"IF(Data!$E62=30,Data!S62,IF(Data!J62<>\"\",Data!J62,\"\"))","v":""},{"$f":"IF(Data!$E62=30,Data!T62,\"\")","v":""},{"$f":"IF(Data!$E62=30,Data!U62,\"\")","v":""},{"$f":"IF(Data!$E62=30,Data!V62,IF(Data!K62<>\"\",Data!K62,\"\"))","v":""},{"$f":"IF(Data!$E62=30,Data!W62,\"\")","v":""},{"$f":"IF(Data!$E62=30,Data!X62,\"\")","v":""},{"$f":"IF(Data!$E62=30,Data!Y62,IF(Data!L62<>\"\",Data!L62,\"\"))","v":""},{"$f":"IF(Data!$E62=30,Data!Z62,\"\")","v":""},{"$f":"IF(Data!$E62=30,Data!AA62,\"\")","v":""},{"$f":"IF(Data!$E62=30,Data!AB62,IF(Data!M62<>\"\",Data!M62,\"\"))","v":""},{"$f":"IF(Data!$E62=30,Data!AC62,\"\")","v":""},{"$f":"IF(Data!$E62=30,Data!AD62,\"\")","v":""},{"$f":"IF(Data!$E62=30,Data!AE62,IF(Data!N62<>\"\",Data!N62,\"\"))","v":""},{"$f":"IF(Data!$E62=30,Data!AF62,\"\")","v":""},{"$f":"IF(Data!$E62=30,Data!AG62,\"\")","v":""},{"$f":"IF(Data!$E62=30,Data!AH62,IF(Data!O62<>\"\",Data!O62,\"\"))","v":""},{"$f":"IF(Data!$E62=30,Data!AI62,\"\")","v":""},null,null,null,{"$f":"IF(Data!$E62=30,Data!AJ62,\"\")","v":""},{"$f":"IF(Data!$E62=30,Data!AK62,IF(Data!P62<>\"\",Data!P62,\"\"))","v":""},{"$f":"IF(Data!$E62=30,Data!AL62,\"\")","v":""},{"$f":"IF(Data!$E62=30,Data!AM62,\"\")","v":""},{"$f":"IF(Data!$E62=30,Data!AN62,IF(Data!Q62<>\"\",Data!Q62,\"\"))","v":""},{"$f":"IF(Data!$E62=30,Data!AO62,\"\")","v":""},{"$f":"IF(Data!$E62=30,Data!AP62,\"\")","v":""},{"$f":"IF(Data!$E62=30,Data!AQ62,IF(Data!R62<>\"\",Data!R62,\"\"))","v":""},{"$f":"IF(Data!$E62=30,Data!AR62,\"\")","v":""},{"$f":"IF(Data!$E62=30,Data!AS62,\"\")","v":""},{"$f":"IF(Data!$E62=30,Data!AT62,IF(Data!S62<>\"\",Data!S62,\"\"))","v":""},{"$f":"IF(Data!$E62=30,Data!AU62,\"\")","v":""},{"$f":"IF(Data!$E62=30,Data!AV62,\"\")","v":""},{"$f":"IF(Data!$E62=30,Data!AW62,IF(Data!T62<>\"\",Data!T62,\"\"))","v":""},{"$f":"IF(Data!$E62=30,Data!AX62,\"\")","v":""},{"$f":"IF(Data!$E62=30,Data!AY62,\"\")","v":""},{"$f":"IF(Data!$E62=30,Data!AZ62,IF(Data!U62<>\"\",Data!U62,\"\"))","v":""},{"$f":"IF(Data!$E62=30,Data!BA62,\"\")","v":""},{"$f":"IF(Data!$E62=30,Data!BB62,\"\")","v":""},{"$f":"IF(Data!$E62=30,Data!BC62,IF(Data!V62<>\"\",Data!V62,\"\"))","v":""},{"$f":"IF(Data!$E62=30,Data!BD62,\"\")","v":""},{"$f":"IF(Data!$E62=30,Data!BE62,\"\")","v":""},{"$f":"IF(Data!$E62=30,Data!BF62,IF(Data!W62<>\"\",Data!W62,\"\"))","v":""},{"$f":"IF(Data!$E62=30,Data!BG62,\"\")","v":""},{"$f":"IF(Data!$E62=30,Data!BH62,\"\")","v":""},{"$f":"IF(Data!$E62=30,Data!BI62,IF(Data!X62<>\"\",Data!X62,\"\"))","v":""},{"$f":"IF(Data!$E62=30,Data!BJ62,\"\")","v":""},{"$f":"IF(Data!$E62=30,Data!BK62,\"\")","v":""},{"$f":"IF(Data!$E62=30,Data!BL62,IF(Data!Y62<>\"\",Data!Y62,\"\"))","v":""},{"$f":"IF(Data!$E62=30,Data!BM62,\"\")","v":""}]
[null,{"$f":"IF(Data!A63<>\"\",Data!A63,\"\")","v":""},{"$f":"IF(Data!$E63=30,Data!F63,\"\")","v":""},{"$f":"IF(Data!$E63=30,Data!G63,IF(Data!F63<>\"\",Data!F63,\"\"))","v":""},{"$f":"IF(Data!$E63=30,Data!H63,\"\")","v":""},{"$f":"IF(Data!$E63=30,Data!I63,\"\")","v":""},{"$f":"IF(Data!$E63=30,Data!J63,IF(Data!G63<>\"\",Data!G63,\"\"))","v":""},{"$f":"IF(Data!$E63=30,Data!K63,\"\")","v":""},{"$f":"IF(Data!$E63=30,Data!L63,\"\")","v":""},{"$f":"IF(Data!$E63=30,Data!M63,IF(Data!H63<>\"\",Data!H63,\"\"))","v":""},{"$f":"IF(Data!$E63=30,Data!N63,\"\")","v":""},{"$f":"IF(Data!$E63=30,Data!O63,\"\")","v":""},{"$f":"IF(Data!$E63=30,Data!P63,IF(Data!I63<>\"\",Data!I63,\"\"))","v":""},{"$f":"IF(Data!$E63=30,Data!Q63,\"\")","v":""},{"$f":"IF(Data!$E63=30,Data!R63,\"\")","v":""},{"$f":"IF(Data!$E63=30,Data!S63,IF(Data!J63<>\"\",Data!J63,\"\"))","v":""},{"$f":"IF(Data!$E63=30,Data!T63,\"\")","v":""},{"$f":"IF(Data!$E63=30,Data!U63,\"\")","v":""},{"$f":"IF(Data!$E63=30,Data!V63,IF(Data!K63<>\"\",Data!K63,\"\"))","v":""},{"$f":"IF(Data!$E63=30,Data!W63,\"\")","v":""},{"$f":"IF(Data!$E63=30,Data!X63,\"\")","v":""},{"$f":"IF(Data!$E63=30,Data!Y63,IF(Data!L63<>\"\",Data!L63,\"\"))","v":""},{"$f":"IF(Data!$E63=30,Data!Z63,\"\")","v":""},{"$f":"IF(Data!$E63=30,Data!AA63,\"\")","v":""},{"$f":"IF(Data!$E63=30,Data!AB63,IF(Data!M63<>\"\",Data!M63,\"\"))","v":""},{"$f":"IF(Data!$E63=30,Data!AC63,\"\")","v":""},{"$f":"IF(Data!$E63=30,Data!AD63,\"\")","v":""},{"$f":"IF(Data!$E63=30,Data!AE63,IF(Data!N63<>\"\",Data!N63,\"\"))","v":""},{"$f":"IF(Data!$E63=30,Data!AF63,\"\")","v":""},{"$f":"IF(Data!$E63=30,Data!AG63,\"\")","v":""},{"$f":"IF(Data!$E63=30,Data!AH63,IF(Data!O63<>\"\",Data!O63,\"\"))","v":""},{"$f":"IF(Data!$E63=30,Data!AI63,\"\")","v":""},null,null,null,{"$f":"IF(Data!$E63=30,Data!AJ63,\"\")","v":""},{"$f":"IF(Data!$E63=30,Data!AK63,IF(Data!P63<>\"\",Data!P63,\"\"))","v":""},{"$f":"IF(Data!$E63=30,Data!AL63,\"\")","v":""},{"$f":"IF(Data!$E63=30,Data!AM63,\"\")","v":""},{"$f":"IF(Data!$E63=30,Data!AN63,IF(Data!Q63<>\"\",Data!Q63,\"\"))","v":""},{"$f":"IF(Data!$E63=30,Data!AO63,\"\")","v":""},{"$f":"IF(Data!$E63=30,Data!AP63,\"\")","v":""},{"$f":"IF(Data!$E63=30,Data!AQ63,IF(Data!R63<>\"\",Data!R63,\"\"))","v":""},{"$f":"IF(Data!$E63=30,Data!AR63,\"\")","v":""},{"$f":"IF(Data!$E63=30,Data!AS63,\"\")","v":""},{"$f":"IF(Data!$E63=30,Data!AT63,IF(Data!S63<>\"\",Data!S63,\"\"))","v":""},{"$f":"IF(Data!$E63=30,Data!AU63,\"\")","v":""},{"$f":"IF(Data!$E63=30,Data!AV63,\"\")","v":""},{"$f":"IF(Data!$E63=30,Data!AW63,IF(Data!T63<>\"\",Data!T63,\"\"))","v":""},{"$f":"IF(Data!$E63=30,Data!AX63,\"\")","v":""},{"$f":"IF(Data!$E63=30,Data!AY63,\"\")","v":""},{"$f":"IF(Data!$E63=30,Data!AZ63,IF(Data!U63<>\"\",Data!U63,\"\"))","v":""},{"$f":"IF(Data!$E63=30,Data!BA63,\"\")","v":""},{"$f":"IF(Data!$E63=30,Data!BB63,\"\")","v":""},{"$f":"IF(Data!$E63=30,Data!BC63,IF(Data!V63<>\"\",Data!V63,\"\"))","v":""},{"$f":"IF(Data!$E63=30,Data!BD63,\"\")","v":""},{"$f":"IF(Data!$E63=30,Data!BE63,\"\")","v":""},{"$f":"IF(Data!$E63=30,Data!BF63,IF(Data!W63<>\"\",Data!W63,\"\"))","v":""},{"$f":"IF(Data!$E63=30,Data!BG63,\"\")","v":""},{"$f":"IF(Data!$E63=30,Data!BH63,\"\")","v":""},{"$f":"IF(Data!$E63=30,Data!BI63,IF(Data!X63<>\"\",Data!X63,\"\"))","v":""},{"$f":"IF(Data!$E63=30,Data!BJ63,\"\")","v":""},{"$f":"IF(Data!$E63=30,Data!BK63,\"\")","v":""},{"$f":"IF(Data!$E63=30,Data!BL63,IF(Data!Y63<>\"\",Data!Y63,\"\"))","v":""},{"$f":"IF(Data!$E63=30,Data!BM63,\"\")","v":""}]
[null,{"$f":"IF(Data!A64<>\"\",Data!A64,\"\")","v":""},{"$f":"IF(Data!$E64=30,Data!F64,\"\")","v":""},{"$f":"IF(Data!$E64=30,Data!G64,IF(Data!F64<>\"\",Data!F64,\"\"))","v":""},{"$f":"IF(Data!$E64=30,Data!H64,\"\")","v":""},{"$f":"IF(Data!$E64=30,Data!I64,\"\")","v":""},{"$f":"IF(Data!$E64=30,Data!J64,IF(Data!G64<>\"\",Data!G64,\"\"))","v":""},{"$f":"IF(Data!$E64=30,Data!K64,\"\")","v":""},{"$f":"IF(Data!$E64=30,Data!L64,\"\")","v":""},{"$f":"IF(Data!$E64=30,Data!M64,IF(Data!H64<>\"\",Data!H64,\"\"))","v":""},{"$f":"IF(Data!$E64=30,Data!N64,\"\")","v":""},{"$f":"IF(Data!$E64=30,Data!O64,\"\")","v":""},{"$f":"IF(Data!$E64=30,Data!P64,IF(Data!I64<>\"\",Data!I64,\"\"))","v":""},{"$f":"IF(Data!$E64=30,Data!Q64,\"\")","v":""},{"$f":"IF(Data!$E64=30,Data!R64,\"\")","v":""},{"$f":"IF(Data!$E64=30,Data!S64,IF(Data!J64<>\"\",Data!J64,\"\"))","v":""},{"$f":"IF(Data!$E64=30,Data!T64,\"\")","v":""},{"$f":"IF(Data!$E64=30,Data!U64,\"\")","v":""},{"$f":"IF(Data!$E64=30,Data!V64,IF(Data!K64<>\"\",Data!K64,\"\"))","v":""},{"$f":"IF(Data!$E64=30,Data!W64,\"\")","v":""},{"$f":"IF(Data!$E64=30,Data!X64,\"\")","v":""},{"$f":"IF(Data!$E64=30,Data!Y64,IF(Data!L64<>\"\",Data!L64,\"\"))","v":""},{"$f":"IF(Data!$E64=30,Data!Z64,\"\")","v":""},{"$f":"IF(Data!$E64=30,Data!AA64,\"\")","v":""},{"$f":"IF(Data!$E64=30,Data!AB64,IF(Data!M64<>\"\",Data!M64,\"\"))","v":""},{"$f":"IF(Data!$E64=30,Data!AC64,\"\")","v":""},{"$f":"IF(Data!$E64=30,Data!AD64,\"\")","v":""},{"$f":"IF(Data!$E64=30,Data!AE64,IF(Data!N64<>\"\",Data!N64,\"\"))","v":""},{"$f":"IF(Data!$E64=30,Data!AF64,\"\")","v":""},{"$f":"IF(Data!$E64=30,Data!AG64,\"\")","v":""},{"$f":"IF(Data!$E64=30,Data!AH64,IF(Data!O64<>\"\",Data!O64,\"\"))","v":""},{"$f":"IF(Data!$E64=30,Data!AI64,\"\")","v":""},null,null,null,{"$f":"IF(Data!$E64=30,Data!AJ64,\"\")","v":""},{"$f":"IF(Data!$E64=30,Data!AK64,IF(Data!P64<>\"\",Data!P64,\"\"))","v":""},{"$f":"IF(Data!$E64=30,Data!AL64,\"\")","v":""},{"$f":"IF(Data!$E64=30,Data!AM64,\"\")","v":""},{"$f":"IF(Data!$E64=30,Data!AN64,IF(Data!Q64<>\"\",Data!Q64,\"\"))","v":""},{"$f":"IF(Data!$E64=30,Data!AO64,\"\")","v":""},{"$f":"IF(Data!$E64=30,Data!AP64,\"\")","v":""},{"$f":"IF(Data!$E64=30,Data!AQ64,IF(Data!R64<>\"\",Data!R64,\"\"))","v":""},{"$f":"IF(Data!$E64=30,Data!AR64,\"\")","v":""},{"$f":"IF(Data!$E64=30,Data!AS64,\"\")","v":""},{"$f":"IF(Data!$E64=30,Data!AT64,IF(Data!S64<>\"\",Data!S64,\"\"))","v":""},{"$f":"IF(Data!$E64=30,Data!AU64,\"\")","v":""},{"$f":"IF(Data!$E64=30,Data!AV64,\"\")","v":""},{"$f":"IF(Data!$E64=30,Data!AW64,IF(Data!T64<>\"\",Data!T64,\"\"))","v":""},{"$f":"IF(Data!$E64=30,Data!AX64,\"\")","v":""},{"$f":"IF(Data!$E64=30,Data!AY64,\"\")","v":""},{"$f":"IF(Data!$E64=30,Data!AZ64,IF(Data!U64<>\"\",Data!U64,\"\"))","v":""},{"$f":"IF(Data!$E64=30,Data!BA64,\"\")","v":""},{"$f":"IF(Data!$E64=30,Data!BB64,\"\")","v":""},{"$f":"IF(Data!$E64=30,Data!BC64,IF(Data!V64<>\"\",Data!V64,\"\"))","v":""},{"$f":"IF(Data!$E64=30,Data!BD64,\"\")","v":""},{"$f":"IF(Data!$E64=30,Data!BE64,\"\")","v":""},{"$f":"IF(Data!$E64=30,Data!BF64,IF(Data!W64<>\"\",Data!W64,\"\"))","v":""},{"$f":"IF(Data!$E64=30,Data!BG64,\"\")","v":""},{"$f":"IF(Data!$E64=30,Data!BH64,\"\")","v":""},{"$f":"IF(Data!$E64=30,Data!BI64,IF(Data!X64<>\"\",Data!X64,\"\"))","v":""},{"$f":"IF(Data!$E64=30,Data!BJ64,\"\")","v":""},{"$f":"IF(Data!$E64=30,Data!BK64,\"\")","v":""},{"$f":"IF(Data!$E64=30,Data!BL64,IF(Data!Y64<>\"\",Data!Y64,\"\"))","v":""},{"$f":"IF(Data!$E64=30,Data!BM64,\"\")","v":""}]
[null,{"$f":"IF(Data!A65<>\"\",Data!A65,\"\")","v":""},{"$f":"IF(Data!$E65=30,Data!F65,\"\")","v":""},{"$f":"IF(Data!$E65=30,Data!G65,IF(Data!F65<>\"\",Data!F65,\"\"))","v":""},{"$f":"IF(Data!$E65=30,Data!H65,\"\")","v":""},{"$f":"IF(Data!$E65=30,Data!I65,\"\")","v":""},{"$f":"IF(Data!$E65=30,Data!J65,IF(Data!G65<>\"\",Data!G65,\"\"))","v":""},{"$f":"IF(Data!$E65=30,Data!K65,\"\")","v":""},{"$f":"IF(Data!$E65=30,Data!L65,\"\")","v":""},{"$f":"IF(Data!$E65=30,Data!M65,IF(Data!H65<>\"\",Data!H65,\"\"))","v":""},{"$f":"IF(Data!$E65=30,Data!N65,\"\")","v":""},{"$f":"IF(Data!$E65=30,Data!O65,\"\")","v":""},{"$f":"IF(Data!$E65=30,Data!P65,IF(Data!I65<>\"\",Data!I65,\"\"))","v":""},{"$f":"IF(Data!$E65=30,Data!Q65,\"\")","v":""},{"$f":"IF(Data!$E65=30,Data!R65,\"\")","v":""},{"$f":"IF(Data!$E65=30,Data!S65,IF(Data!J65<>\"\",Data!J65,\"\"))","v":""},{"$f":"IF(Data!$E65=30,Data!T65,\"\")","v":""},{"$f":"IF(Data!$E65=30,Data!U65,\"\")","v":""},{"$f":"IF(Data!$E65=30,Data!V65,IF(Data!K65<>\"\",Data!K65,\"\"))","v":""},{"$f":"IF(Data!$E65=30,Data!W65,\"\")","v":""},{"$f":"IF(Data!$E65=30,Data!X65,\"\")","v":""},{"$f":"IF(Data!$E65=30,Data!Y65,IF(Data!L65<>\"\",Data!L65,\"\"))","v":""},{"$f":"IF(Data!$E65=30,Data!Z65,\"\")","v":""},{"$f":"IF(Data!$E65=30,Data!AA65,\"\")","v":""},{"$f":"IF(Data!$E65=30,Data!AB65,IF(Data!M65<>\"\",Data!M65,\"\"))","v":""},{"$f":"IF(Data!$E65=30,Data!AC65,\"\")","v":""},{"$f":"IF(Data!$E65=30,Data!AD65,\"\")","v":""},{"$f":"IF(Data!$E65=30,Data!AE65,IF(Data!N65<>\"\",Data!N65,\"\"))","v":""},{"$f":"IF(Data!$E65=30,Data!AF65,\"\")","v":""},{"$f":"IF(Data!$E65=30,Data!AG65,\"\")","v":""},{"$f":"IF(Data!$E65=30,Data!AH65,IF(Data!O65<>\"\",Data!O65,\"\"))","v":""},{"$f":"IF(Data!$E65=30,Data!AI65,\"\")","v":""},null,null,null,{"$f":"IF(Data!$E65=30,Data!AJ65,\"\")","v":""},{"$f":"IF(Data!$E65=30,Data!AK65,IF(Data!P65<>\"\",Data!P65,\"\"))","v":""},{"$f":"IF(Data!$E65=30,Data!AL65,\"\")","v":""},{"$f":"IF(Data!$E65=30,Data!AM65,\"\")","v":""},{"$f":"IF(Data!$E65=30,Data!AN65,IF(Data!Q65<>\"\",Data!Q65,\"\"))","v":""},{"$f":"IF(Data!$E65=30,Data!AO65,\"\")","v":""},{"$f":"IF(Data!$E65=30,Data!AP65,\"\")","v":""},{"$f":"IF(Data!$E65=30,Data!AQ65,IF(Data!R65<>\"\",Data!R65,\"\"))","v":""},{"$f":"IF(Data!$E65=30,Data!AR65,\"\")","v":""},{"$f":"IF(Data!$E65=30,Data!AS65,\"\")","v":""},{"$f":"IF(Data!$E65=30,Data!AT65,IF(Data!S65<>\"\",Data!S65,\"\"))","v":""},{"$f":"IF(Data!$E65=30,Data!AU65,\"\")","v":""},{"$f":"IF(Data!$E65=30,Data!AV65,\"\")","v":""},{"$f":"IF(Data!$E65=30,Data!AW65,IF(Data!T65<>\"\",Data!T65,\"\"))","v":""},{"$f":"IF(Data!$E65=30,Data!AX65,\"\")","v":""},{"$f":"IF(Data!$E65=30,Data!AY65,\"\")","v":""},{"$f":"IF(Data!$E65=30,Data!AZ65,IF(Data!U65<>\"\",Data!U65,\"\"))","v":""},{"$f":"IF(Data!$E65=30,Data!BA65,\"\")","v":""},{"$f":"IF(Data!$E65=30,Data!BB65,\"\")","v":""},{"$f":"IF(Data!$E65=30,Data!BC65,IF(Data!V65<>\"\",Data!V65,\"\"))","v":""},{"$f":"IF(Data!$E65=30,Data!BD65,\"\")","v":""},{"$f":"IF(Data!$E65=30,Data!BE65,\"\")","v":""},{"$f":"IF(Data!$E65=30,Data!BF65,IF(Data!W65<>\"\",Data!W65,\"\"))","v":""},{"$f":"IF(Data!$E65=30,Data!BG65,\"\")","v":""},{"$f":"IF(Data!$E65=30,Data!BH65,\"\")","v":""},{"$f":"IF(Data!$E65=30,Data!BI65,IF(Data!X65<>\"\",Data!X65,\"\"))","v":""},{"$f":"IF(Data!$E65=30,Data!BJ65,\"\")","v":""},{"$f":"IF(Data!$E65=30,Data!BK65,\"\")","v":""},{"$f":"IF(Data!$E65=30,Data!BL65,IF(Data!Y65<>\"\",Data!Y65,\"\"))","v":""},{"$f":"IF(Data!$E65=30,Data!BM65,\"\")","v":""}]
[null,{"$f":"IF(Data!A66<>\"\",Data!A66,\"\")","v":""},{"$f":"IF(Data!$E66=30,Data!F66,\"\")","v":""},{"$f":"IF(Data!$E66=30,Data!G66,IF(Data!F66<>\"\",Data!F66,\"\"))","v":""},{"$f":"IF(Data!$E66=30,Data!H66,\"\")","v":""},{"$f":"IF(Data!$E66=30,Data!I66,\"\")","v":""},{"$f":"IF(Data!$E66=30,Data!J66,IF(Data!G66<>\"\",Data!G66,\"\"))","v":""},{"$f":"IF(Data!$E66=30,Data!K66,\"\")","v":""},{"$f":"IF(Data!$E66=30,Data!L66,\"\")","v":""},{"$f":"IF(Data!$E66=30,Data!M66,IF(Data!H66<>\"\",Data!H66,\"\"))","v":""},{"$f":"IF(Data!$E66=30,Data!N66,\"\")","v":""},{"$f":"IF(Data!$E66=30,Data!O66,\"\")","v":""},{"$f":"IF(Data!$E66=30,Data!P66,IF(Data!I66<>\"\",Data!I66,\"\"))","v":""},{"$f":"IF(Data!$E66=30,Data!Q66,\"\")","v":""},{"$f":"IF(Data!$E66=30,Data!R66,\"\")","v":""},{"$f":"IF(Data!$E66=30,Data!S66,IF(Data!J66<>\"\",Data!J66,\"\"))","v":""},{"$f":"IF(Data!$E66=30,Data!T66,\"\")","v":""},{"$f":"IF(Data!$E66=30,Data!U66,\"\")","v":""},{"$f":"IF(Data!$E66=30,Data!V66,IF(Data!K66<>\"\",Data!K66,\"\"))","v":""},{"$f":"IF(Data!$E66=30,Data!W66,\"\")","v":""},{"$f":"IF(Data!$E66=30,Data!X66,\"\")","v":""},{"$f":"IF(Data!$E66=30,Data!Y66,IF(Data!L66<>\"\",Data!L66,\"\"))","v":""},{"$f":"IF(Data!$E66=30,Data!Z66,\"\")","v":""},{"$f":"IF(Data!$E66=30,Data!AA66,\"\")","v":""},{"$f":"IF(Data!$E66=30,Data!AB66,IF(Data!M66<>\"\",Data!M66,\"\"))","v":""},{"$f":"IF(Data!$E66=30,Data!AC66,\"\")","v":""},{"$f":"IF(Data!$E66=30,Data!AD66,\"\")","v":""},{"$f":"IF(Data!$E66=30,Data!AE66,IF(Data!N66<>\"\",Data!N66,\"\"))","v":""},{"$f":"IF(Data!$E66=30,Data!AF66,\"\")","v":""},{"$f":"IF(Data!$E66=30,Data!AG66,\"\")","v":""},{"$f":"IF(Data!$E66=30,Data!AH66,IF(Data!O66<>\"\",Data!O66,\"\"))","v":""},{"$f":"IF(Data!$E66=30,Data!AI66,\"\")","v":""},null,null,null,{"$f":"IF(Data!$E66=30,Data!AJ66,\"\")","v":""},{"$f":"IF(Data!$E66=30,Data!AK66,IF(Data!P66<>\"\",Data!P66,\"\"))","v":""},{"$f":"IF(Data!$E66=30,Data!AL66,\"\")","v":""},{"$f":"IF(Data!$E66=30,Data!AM66,\"\")","v":""},{"$f":"IF(Data!$E66=30,Data!AN66,IF(Data!Q66<>\"\",Data!Q66,\"\"))","v":""},{"$f":"IF(Data!$E66=30,Data!AO66,\"\")","v":""},{"$f":"IF(Data!$E66=30,Data!AP66,\"\")","v":""},{"$f":"IF(Data!$E66=30,Data!AQ66,IF(Data!R66<>\"\",Data!R66,\"\"))","v":""},{"$f":"IF(Data!$E66=30,Data!AR66,\"\")","v":""},{"$f":"IF(Data!$E66=30,Data!AS66,\"\")","v":""},{"$f":"IF(Data!$E66=30,Data!AT66,IF(Data!S66<>\"\",Data!S66,\"\"))","v":""},{"$f":"IF(Data!$E66=30,Data!AU66,\"\")","v":""},{"$f":"IF(Data!$E66=30,Data!AV66,\"\")","v":""},{"$f":"IF(Data!$E66=30,Data!AW66,IF(Data!T66<>\"\",Data!T66,\"\"))","v":""},{"$f":"IF(Data!$E66=30,Data!AX66,\"\")","v":""},{"$f":"IF(Data!$E66=30,Data!AY66,\"\")","v":""},{"$f":"IF(Data!$E66=30,Data!AZ66,IF(Data!U66<>\"\",Data!U66,\"\"))","v":""},{"$f":"IF(Data!$E66=30,Data!BA66,\"\")","v":""},{"$f":"IF(Data!$E66=30,Data!BB66,\"\")","v":""},{"$f":"IF(Data!$E66=30,Data!BC66,IF(Data!V66<>\"\",Data!V66,\"\"))","v":""},{"$f":"IF(Data!$E66=30,Data!BD66,\"\")","v":""},{"$f":"IF(Data!$E66=30,Data!BE66,\"\")","v":""},{"$f":"IF(Data!$E66=30,Data!BF66,IF(Data!W66<>\"\",Data!W66,\"\"))","v":""},{"$f":"IF(Data!$E66=30,Data!BG66,\"\")","v":""},{"$f":"IF(Data!$E66=30,Data!BH66,\"\")","v":""},{"$f":"IF(Data!$E66=30,Data!BI66,IF(Data!X66<>\"\",Data!X66,\"\"))","v":""},{"$f":"IF(Data!$E66=30,Data!BJ66,\"\")","v":""},{"$f":"IF(Data!$E66=30,Data!BK66,\"\")","v":""},{"$f":"IF(Data!$E66=30,Data!BL66,IF(Data!Y66<>\"\",Data!Y66,\"\"))","v":""},{"$f":"IF(Data!$E66=30,Data!BM66,\"\")","v":""}]
[null,{"$f":"IF(Data!A67<>\"\",Data!A67,\"\")","v":""},{"$f":"IF(Data!$E67=30,Data!F67,\"\")","v":""},{"$f":"IF(Data!$E67=30,Data!G67,IF(Data!F67<>\"\",Data!F67,\"\"))","v":""},{"$f":"IF(Data!$E67=30,Data!H67,\"\")","v":""},{"$f":"IF(Data!$E67=30,Data!I67,\"\")","v":""},{"$f":"IF(Data!$E67=30,Data!J67,IF(Data!G67<>\"\",Data!G67,\"\"))","v":""},{"$f":"IF(Data!$E67=30,Data!K67,\"\")","v":""},{"$f":"IF(Data!$E67=30,Data!L67,\"\")","v":""},{"$f":"IF(Data!$E67=30,Data!M67,IF(Data!H67<>\"\",Data!H67,\"\"))","v":""},{"$f":"IF(Data!$E67=30,Data!N67,\"\")","v":""},{"$f":"IF(Data!$E67=30,Data!O67,\"\")","v":""},{"$f":"IF(Data!$E67=30,Data!P67,IF(Data!I67<>\"\",Data!I67,\"\"))","v":""},{"$f":"IF(Data!$E67=30,Data!Q67,\"\")","v":""},{"$f":"IF(Data!$E67=30,Data!R67,\"\")","v":""},{"$f":"IF(Data!$E67=30,Data!S67,IF(Data!J67<>\"\",Data!J67,\"\"))","v":""},{"$f":"IF(Data!$E67=30,Data!T67,\"\")","v":""},{"$f":"IF(Data!$E67=30,Data!U67,\"\")","v":""},{"$f":"IF(Data!$E67=30,Data!V67,IF(Data!K67<>\"\",Data!K67,\"\"))","v":""},{"$f":"IF(Data!$E67=30,Data!W67,\"\")","v":""},{"$f":"IF(Data!$E67=30,Data!X67,\"\")","v":""},{"$f":"IF(Data!$E67=30,Data!Y67,IF(Data!L67<>\"\",Data!L67,\"\"))","v":""},{"$f":"IF(Data!$E67=30,Data!Z67,\"\")","v":""},{"$f":"IF(Data!$E67=30,Data!AA67,\"\")","v":""},{"$f":"IF(Data!$E67=30,Data!AB67,IF(Data!M67<>\"\",Data!M67,\"\"))","v":""},{"$f":"IF(Data!$E67=30,Data!AC67,\"\")","v":""},{"$f":"IF(Data!$E67=30,Data!AD67,\"\")","v":""},{"$f":"IF(Data!$E67=30,Data!AE67,IF(Data!N67<>\"\",Data!N67,\"\"))","v":""},{"$f":"IF(Data!$E67=30,Data!AF67,\"\")","v":""},{"$f":"IF(Data!$E67=30,Data!AG67,\"\")","v":""},{"$f":"IF(Data!$E67=30,Data!AH67,IF(Data!O67<>\"\",Data!O67,\"\"))","v":""},{"$f":"IF(Data!$E67=30,Data!AI67,\"\")","v":""},null,null,null,{"$f":"IF(Data!$E67=30,Data!AJ67,\"\")","v":""},{"$f":"IF(Data!$E67=30,Data!AK67,IF(Data!P67<>\"\",Data!P67,\"\"))","v":""},{"$f":"IF(Data!$E67=30,Data!AL67,\"\")","v":""},{"$f":"IF(Data!$E67=30,Data!AM67,\"\")","v":""},{"$f":"IF(Data!$E67=30,Data!AN67,IF(Data!Q67<>\"\",Data!Q67,\"\"))","v":""},{"$f":"IF(Data!$E67=30,Data!AO67,\"\")","v":""},{"$f":"IF(Data!$E67=30,Data!AP67,\"\")","v":""},{"$f":"IF(Data!$E67=30,Data!AQ67,IF(Data!R67<>\"\",Data!R67,\"\"))","v":""},{"$f":"IF(Data!$E67=30,Data!AR67,\"\")","v":""},{"$f":"IF(Data!$E67=30,Data!AS67,\"\")","v":""},{"$f":"IF(Data!$E67=30,Data!AT67,IF(Data!S67<>\"\",Data!S67,\"\"))","v":""},{"$f":"IF(Data!$E67=30,Data!AU67,\"\")","v":""},{"$f":"IF(Data!$E67=30,Data!AV67,\"\")","v":""},{"$f":"IF(Data!$E67=30,Data!AW67,IF(Data!T67<>\"\",Data!T67,\"\"))","v":""},{"$f":"IF(Data!$E67=30,Data!AX67,\"\")","v":""},{"$f":"IF(Data!$E67=30,Data!AY67,\"\")","v":""},{"$f":"IF(Data!$E67=30,Data!AZ67,IF(Data!U67<>\"\",Data!U67,\"\"))","v":""},{"$f":"IF(Data!$E67=30,Data!BA67,\"\")","v":""},{"$f":"IF(Data!$E67=30,Data!BB67,\"\")","v":""},{"$f":"IF(Data!$E67=30,Data!BC67,IF(Data!V67<>\"\",Data!V67,\"\"))","v":""},{"$f":"IF(Data!$E67=30,Data!BD67,\"\")","v":""},{"$f":"IF(Data!$E67=30,Data!BE67,\"\")","v":""},{"$f":"IF(Data!$E67=30,Data!BF67,IF(Data!W67<>\"\",Data!W67,\"\"))","v":""},{"$f":"IF(Data!$E67=30,Data!BG67,\"\")","v":""},{"$f":"IF(Data!$E67=30,Data!BH67,\"\")","v":""},{"$f":"IF(Data!$E67=30,Data!BI67,IF(Data!X67<>\"\",Data!X67,\"\"))","v":""},{"$f":"IF(Data!$E67=30,Data!BJ67,\"\")","v":""},{"$f":"IF(Data!$E67=30,Data!BK67,\"\")","v":""},{"$f":"IF(Data!$E67=30,Data!BL67,IF(Data!Y67<>\"\",Data!Y67,\"\"))","v":""},{"$f":"IF(Data!$E67=30,Data!BM67,\"\")","v":""}]
[null,{"$f":"IF(Data!A68<>\"\",Data!A68,\"\")","v":""},{"$f":"IF(Data!$E68=30,Data!F68,\"\")","v":""},{"$f":"IF(Data!$E68=30,Data!G68,IF(Data!F68<>\"\",Data!F68,\"\"))","v":""},{"$f":"IF(Data!$E68=30,Data!H68,\"\")","v":""},{"$f":"IF(Data!$E68=30,Data!I68,\"\")","v":""},{"$f":"IF(Data!$E68=30,Data!J68,IF(Data!G68<>\"\",Data!G68,\"\"))","v":""},{"$f":"IF(Data!$E68=30,Data!K68,\"\")","v":""},{"$f":"IF(Data!$E68=30,Data!L68,\"\")","v":""},{"$f":"IF(Data!$E68=30,Data!M68,IF(Data!H68<>\"\",Data!H68,\"\"))","v":""},{"$f":"IF(Data!$E68=30,Data!N68,\"\")","v":""},{"$f":"IF(Data!$E68=30,Data!O68,\"\")","v":""},{"$f":"IF(Data!$E68=30,Data!P68,IF(Data!I68<>\"\",Data!I68,\"\"))","v":""},{"$f":"IF(Data!$E68=30,Data!Q68,\"\")","v":""},{"$f":"IF(Data!$E68=30,Data!R68,\"\")","v":""},{"$f":"IF(Data!$E68=30,Data!S68,IF(Data!J68<>\"\",Data!J68,\"\"))","v":""},{"$f":"IF(Data!$E68=30,Data!T68,\"\")","v":""},{"$f":"IF(Data!$E68=30,Data!U68,\"\")","v":""},{"$f":"IF(Data!$E68=30,Data!V68,IF(Data!K68<>\"\",Data!K68,\"\"))","v":""},{"$f":"IF(Data!$E68=30,Data!W68,\"\")","v":""},{"$f":"IF(Data!$E68=30,Data!X68,\"\")","v":""},{"$f":"IF(Data!$E68=30,Data!Y68,IF(Data!L68<>\"\",Data!L68,\"\"))","v":""},{"$f":"IF(Data!$E68=30,Data!Z68,\"\")","v":""},{"$f":"IF(Data!$E68=30,Data!AA68,\"\")","v":""},{"$f":"IF(Data!$E68=30,Data!AB68,IF(Data!M68<>\"\",Data!M68,\"\"))","v":""},{"$f":"IF(Data!$E68=30,Data!AC68,\"\")","v":""},{"$f":"IF(Data!$E68=30,Data!AD68,\"\")","v":""},{"$f":"IF(Data!$E68=30,Data!AE68,IF(Data!N68<>\"\",Data!N68,\"\"))","v":""},{"$f":"IF(Data!$E68=30,Data!AF68,\"\")","v":""},{"$f":"IF(Data!$E68=30,Data!AG68,\"\")","v":""},{"$f":"IF(Data!$E68=30,Data!AH68,IF(Data!O68<>\"\",Data!O68,\"\"))","v":""},{"$f":"IF(Data!$E68=30,Data!AI68,\"\")","v":""},null,null,null,{"$f":"IF(Data!$E68=30,Data!AJ68,\"\")","v":""},{"$f":"IF(Data!$E68=30,Data!AK68,IF(Data!P68<>\"\",Data!P68,\"\"))","v":""},{"$f":"IF(Data!$E68=30,Data!AL68,\"\")","v":""},{"$f":"IF(Data!$E68=30,Data!AM68,\"\")","v":""},{"$f":"IF(Data!$E68=30,Data!AN68,IF(Data!Q68<>\"\",Data!Q68,\"\"))","v":""},{"$f":"IF(Data!$E68=30,Data!AO68,\"\")","v":""},{"$f":"IF(Data!$E68=30,Data!AP68,\"\")","v":""},{"$f":"IF(Data!$E68=30,Data!AQ68,IF(Data!R68<>\"\",Data!R68,\"\"))","v":""},{"$f":"IF(Data!$E68=30,Data!AR68,\"\")","v":""},{"$f":"IF(Data!$E68=30,Data!AS68,\"\")","v":""},{"$f":"IF(Data!$E68=30,Data!AT68,IF(Data!S68<>\"\",Data!S68,\"\"))","v":""},{"$f":"IF(Data!$E68=30,Data!AU68,\"\")","v":""},{"$f":"IF(Data!$E68=30,Data!AV68,\"\")","v":""},{"$f":"IF(Data!$E68=30,Data!AW68,IF(Data!T68<>\"\",Data!T68,\"\"))","v":""},{"$f":"IF(Data!$E68=30,Data!AX68,\"\")","v":""},{"$f":"IF(Data!$E68=30,Data!AY68,\"\")","v":""},{"$f":"IF(Data!$E68=30,Data!AZ68,IF(Data!U68<>\"\",Data!U68,\"\"))","v":""},{"$f":"IF(Data!$E68=30,Data!BA68,\"\")","v":""},{"$f":"IF(Data!$E68=30,Data!BB68,\"\")","v":""},{"$f":"IF(Data!$E68=30,Data!BC68,IF(Data!V68<>\"\",Data!V68,\"\"))","v":""},{"$f":"IF(Data!$E68=30,Data!BD68,\"\")","v":""},{"$f":"IF(Data!$E68=30,Data!BE68,\"\")","v":""},{"$f":"IF(Data!$E68=30,Data!BF68,IF(Data!W68<>\"\",Data!W68,\"\"))","v":""},{"$f":"IF(Data!$E68=30,Data!BG68,\"\")","v":""},{"$f":"IF(Data!$E68=30,Data!BH68,\"\")","v":""},{"$f":"IF(Data!$E68=30,Data!BI68,IF(Data!X68<>\"\",Data!X68,\"\"))","v":""},{"$f":"IF(Data!$E68=30,Data!BJ68,\"\")","v":""},{"$f":"IF(Data!$E68=30,Data!BK68,\"\")","v":""},{"$f":"IF(Data!$E68=30,Data!BL68,IF(Data!Y68<>\"\",Data!Y68,\"\"))","v":""},{"$f":"IF(Data!$E68=30,Data!BM68,\"\")","v":""}]
[null,{"$f":"IF(Data!A69<>\"\",Data!A69,\"\")","v":""},{"$f":"IF(Data!$E69=30,Data!F69,\"\")","v":""},{"$f":"IF(Data!$E69=30,Data!G69,IF(Data!F69<>\"\",Data!F69,\"\"))","v":""},{"$f":"IF(Data!$E69=30,Data!H69,\"\")","v":""},{"$f":"IF(Data!$E69=30,Data!I69,\"\")","v":""},{"$f":"IF(Data!$E69=30,Data!J69,IF(Data!G69<>\"\",Data!G69,\"\"))","v":""},{"$f":"IF(Data!$E69=30,Data!K69,\"\")","v":""},{"$f":"IF(Data!$E69=30,Data!L69,\"\")","v":""},{"$f":"IF(Data!$E69=30,Data!M69,IF(Data!H69<>\"\",Data!H69,\"\"))","v":""},{"$f":"IF(Data!$E69=30,Data!N69,\"\")","v":""},{"$f":"IF(Data!$E69=30,Data!O69,\"\")","v":""},{"$f":"IF(Data!$E69=30,Data!P69,IF(Data!I69<>\"\",Data!I69,\"\"))","v":""},{"$f":"IF(Data!$E69=30,Data!Q69,\"\")","v":""},{"$f":"IF(Data!$E69=30,Data!R69,\"\")","v":""},{"$f":"IF(Data!$E69=30,Data!S69,IF(Data!J69<>\"\",Data!J69,\"\"))","v":""},{"$f":"IF(Data!$E69=30,Data!T69,\"\")","v":""},{"$f":"IF(Data!$E69=30,Data!U69,\"\")","v":""},{"$f":"IF(Data!$E69=30,Data!V69,IF(Data!K69<>\"\",Data!K69,\"\"))","v":""},{"$f":"IF(Data!$E69=30,Data!W69,\"\")","v":""},{"$f":"IF(Data!$E69=30,Data!X69,\"\")","v":""},{"$f":"IF(Data!$E69=30,Data!Y69,IF(Data!L69<>\"\",Data!L69,\"\"))","v":""},{"$f":"IF(Data!$E69=30,Data!Z69,\"\")","v":""},{"$f":"IF(Data!$E69=30,Data!AA69,\"\")","v":""},{"$f":"IF(Data!$E69=30,Data!AB69,IF(Data!M69<>\"\",Data!M69,\"\"))","v":""},{"$f":"IF(Data!$E69=30,Data!AC69,\"\")","v":""},{"$f":"IF(Data!$E69=30,Data!AD69,\"\")","v":""},{"$f":"IF(Data!$E69=30,Data!AE69,IF(Data!N69<>\"\",Data!N69,\"\"))","v":""},{"$f":"IF(Data!$E69=30,Data!AF69,\"\")","v":""},{"$f":"IF(Data!$E69=30,Data!AG69,\"\")","v":""},{"$f":"IF(Data!$E69=30,Data!AH69,IF(Data!O69<>\"\",Data!O69,\"\"))","v":""},{"$f":"IF(Data!$E69=30,Data!AI69,\"\")","v":""},null,null,null,{"$f":"IF(Data!$E69=30,Data!AJ69,\"\")","v":""},{"$f":"IF(Data!$E69=30,Data!AK69,IF(Data!P69<>\"\",Data!P69,\"\"))","v":""},{"$f":"IF(Data!$E69=30,Data!AL69,\"\")","v":""},{"$f":"IF(Data!$E69=30,Data!AM69,\"\")","v":""},{"$f":"IF(Data!$E69=30,Data!AN69,IF(Data!Q69<>\"\",Data!Q69,\"\"))","v":""},{"$f":"IF(Data!$E69=30,Data!AO69,\"\")","v":""},{"$f":"IF(Data!$E69=30,Data!AP69,\"\")","v":""},{"$f":"IF(Data!$E69=30,Data!AQ69,IF(Data!R69<>\"\",Data!R69,\"\"))","v":""},{"$f":"IF(Data!$E69=30,Data!AR69,\"\")","v":""},{"$f":"IF(Data!$E69=30,Data!AS69,\"\")","v":""},{"$f":"IF(Data!$E69=30,Data!AT69,IF(Data!S69<>\"\",Data!S69,\"\"))","v":""},{"$f":"IF(Data!$E69=30,Data!AU69,\"\")","v":""},{"$f":"IF(Data!$E69=30,Data!AV69,\"\")","v":""},{"$f":"IF(Data!$E69=30,Data!AW69,IF(Data!T69<>\"\",Data!T69,\"\"))","v":""},{"$f":"IF(Data!$E69=30,Data!AX69,\"\")","v":""},{"$f":"IF(Data!$E69=30,Data!AY69,\"\")","v":""},{"$f":"IF(Data!$E69=30,Data!AZ69,IF(Data!U69<>\"\",Data!U69,\"\"))","v":""},{"$f":"IF(Data!$E69=30,Data!BA69,\"\")","v":""},{"$f":"IF(Data!$E69=30,Data!BB69,\"\")","v":""},{"$f":"IF(Data!$E69=30,Data!BC69,IF(Data!V69<>\"\",Data!V69,\"\"))","v":""},{"$f":"IF(Data!$E69=30,Data!BD69,\"\")","v":""},{"$f":"IF(Data!$E69=30,Data!BE69,\"\")","v":""},{"$f":"IF(Data!$E69=30,Data!BF69,IF(Data!W69<>\"\",Data!W69,\"\"))","v":""},{"$f":"IF(Data!$E69=30,Data!BG69,\"\")","v":""},{"$f":"IF(Data!$E69=30,Data!BH69,\"\")","v":""},{"$f":"IF(Data!$E69=30,Data!BI69,IF(Data!X69<>\"\",Data!X69,\"\"))","v":""},{"$f":"IF(Data!$E69=30,Data!BJ69,\"\")","v":""},{"$f":"IF(Data!$E69=30,Data!BK69,\"\")","v":""},{"$f":"IF(Data!$E69=30,Data!BL69,IF(Data!Y69<>\"\",Data!Y69,\"\"))","v":""},{"$f":"IF(Data!$E69=30,Data!BM69,\"\")","v":""}]
[null,{"$f":"IF(Data!A70<>\"\",Data!A70,\"\")","v":""},{"$f":"IF(Data!$E70=30,Data!F70,\"\")","v":""},{"$f":"IF(Data!$E70=30,Data!G70,IF(Data!F70<>\"\",Data!F70,\"\"))","v":""},{"$f":"IF(Data!$E70=30,Data!H70,\"\")","v":""},{"$f":"IF(Data!$E70=30,Data!I70,\"\")","v":""},{"$f":"IF(Data!$E70=30,Data!J70,IF(Data!G70<>\"\",Data!G70,\"\"))","v":""},{"$f":"IF(Data!$E70=30,Data!K70,\"\")","v":""},{"$f":"IF(Data!$E70=30,Data!L70,\"\")","v":""},{"$f":"IF(Data!$E70=30,Data!M70,IF(Data!H70<>\"\",Data!H70,\"\"))","v":""},{"$f":"IF(Data!$E70=30,Data!N70,\"\")","v":""},{"$f":"IF(Data!$E70=30,Data!O70,\"\")","v":""},{"$f":"IF(Data!$E70=30,Data!P70,IF(Data!I70<>\"\",Data!I70,\"\"))","v":""},{"$f":"IF(Data!$E70=30,Data!Q70,\"\")","v":""},{"$f":"IF(Data!$E70=30,Data!R70,\"\")","v":""},{"$f":"IF(Data!$E70=30,Data!S70,IF(Data!J70<>\"\",Data!J70,\"\"))","v":""},{"$f":"IF(Data!$E70=30,Data!T70,\"\")","v":""},{"$f":"IF(Data!$E70=30,Data!U70,\"\")","v":""},{"$f":"IF(Data!$E70=30,Data!V70,IF(Data!K70<>\"\",Data!K70,\"\"))","v":""},{"$f":"IF(Data!$E70=30,Data!W70,\"\")","v":""},{"$f":"IF(Data!$E70=30,Data!X70,\"\")","v":""},{"$f":"IF(Data!$E70=30,Data!Y70,IF(Data!L70<>\"\",Data!L70,\"\"))","v":""},{"$f":"IF(Data!$E70=30,Data!Z70,\"\")","v":""},{"$f":"IF(Data!$E70=30,Data!AA70,\"\")","v":""},{"$f":"IF(Data!$E70=30,Data!AB70,IF(Data!M70<>\"\",Data!M70,\"\"))","v":""},{"$f":"IF(Data!$E70=30,Data!AC70,\"\")","v":""},{"$f":"IF(Data!$E70=30,Data!AD70,\"\")","v":""},{"$f":"IF(Data!$E70=30,Data!AE70,IF(Data!N70<>\"\",Data!N70,\"\"))","v":""},{"$f":"IF(Data!$E70=30,Data!AF70,\"\")","v":""},{"$f":"IF(Data!$E70=30,Data!AG70,\"\")","v":""},{"$f":"IF(Data!$E70=30,Data!AH70,IF(Data!O70<>\"\",Data!O70,\"\"))","v":""},{"$f":"IF(Data!$E70=30,Data!AI70,\"\")","v":""},null,null,null,{"$f":"IF(Data!$E70=30,Data!AJ70,\"\")","v":""},{"$f":"IF(Data!$E70=30,Data!AK70,IF(Data!P70<>\"\",Data!P70,\"\"))","v":""},{"$f":"IF(Data!$E70=30,Data!AL70,\"\")","v":""},{"$f":"IF(Data!$E70=30,Data!AM70,\"\")","v":""},{"$f":"IF(Data!$E70=30,Data!AN70,IF(Data!Q70<>\"\",Data!Q70,\"\"))","v":""},{"$f":"IF(Data!$E70=30,Data!AO70,\"\")","v":""},{"$f":"IF(Data!$E70=30,Data!AP70,\"\")","v":""},{"$f":"IF(Data!$E70=30,Data!AQ70,IF(Data!R70<>\"\",Data!R70,\"\"))","v":""},{"$f":"IF(Data!$E70=30,Data!AR70,\"\")","v":""},{"$f":"IF(Data!$E70=30,Data!AS70,\"\")","v":""},{"$f":"IF(Data!$E70=30,Data!AT70,IF(Data!S70<>\"\",Data!S70,\"\"))","v":""},{"$f":"IF(Data!$E70=30,Data!AU70,\"\")","v":""},{"$f":"IF(Data!$E70=30,Data!AV70,\"\")","v":""},{"$f":"IF(Data!$E70=30,Data!AW70,IF(Data!T70<>\"\",Data!T70,\"\"))","v":""},{"$f":"IF(Data!$E70=30,Data!AX70,\"\")","v":""},{"$f":"IF(Data!$E70=30,Data!AY70,\"\")","v":""},{"$f":"IF(Data!$E70=30,Data!AZ70,IF(Data!U70<>\"\",Data!U70,\"\"))","v":""},{"$f":"IF(Data!$E70=30,Data!BA70,\"\")","v":""},{"$f":"IF(Data!$E70=30,Data!BB70,\"\")","v":""},{"$f":"IF(Data!$E70=30,Data!BC70,IF(Data!V70<>\"\",Data!V70,\"\"))","v":""},{"$f":"IF(Data!$E70=30,Data!BD70,\"\")","v":""},{"$f":"IF(Data!$E70=30,Data!BE70,\"\")","v":""},{"$f":"IF(Data!$E70=30,Data!BF70,IF(Data!W70<>\"\",Data!W70,\"\"))","v":""},{"$f":"IF(Data!$E70=30,Data!BG70,\"\")","v":""},{"$f":"IF(Data!$E70=30,Data!BH70,\"\")","v":""},{"$f":"IF(Data!$E70=30,Data!BI70,IF(Data!X70<>\"\",Data!X70,\"\"))","v":""},{"$f":"IF(Data!$E70=30,Data!BJ70,\"\")","v":""},{"$f":"IF(Data!$E70=30,Data!BK70,\"\")","v":""},{"$f":"IF(Data!$E70=30,Data!BL70,IF(Data!Y70<>\"\",Data!Y70,\"\"))","v":""},{"$f":"IF(Data!$E70=30,Data!BM70,\"\")","v":""}]
[null,{"$f":"IF(Data!A71<>\"\",Data!A71,\"\")","v":""},{"$f":"IF(Data!$E71=30,Data!F71,\"\")","v":""},{"$f":"IF(Data!$E71=30,Data!G71,IF(Data!F71<>\"\",Data!F71,\"\"))","v":""},{"$f":"IF(Data!$E71=30,Data!H71,\"\")","v":""},{"$f":"IF(Data!$E71=30,Data!I71,\"\")","v":""},{"$f":"IF(Data!$E71=30,Data!J71,IF(Data!G71<>\"\",Data!G71,\"\"))","v":""},{"$f":"IF(Data!$E71=30,Data!K71,\"\")","v":""},{"$f":"IF(Data!$E71=30,Data!L71,\"\")","v":""},{"$f":"IF(Data!$E71=30,Data!M71,IF(Data!H71<>\"\",Data!H71,\"\"))","v":""},{"$f":"IF(Data!$E71=30,Data!N71,\"\")","v":""},{"$f":"IF(Data!$E71=30,Data!O71,\"\")","v":""},{"$f":"IF(Data!$E71=30,Data!P71,IF(Data!I71<>\"\",Data!I71,\"\"))","v":""},{"$f":"IF(Data!$E71=30,Data!Q71,\"\")","v":""},{"$f":"IF(Data!$E71=30,Data!R71,\"\")","v":""},{"$f":"IF(Data!$E71=30,Data!S71,IF(Data!J71<>\"\",Data!J71,\"\"))","v":""},{"$f":"IF(Data!$E71=30,Data!T71,\"\")","v":""},{"$f":"IF(Data!$E71=30,Data!U71,\"\")","v":""},{"$f":"IF(Data!$E71=30,Data!V71,IF(Data!K71<>\"\",Data!K71,\"\"))","v":""},{"$f":"IF(Data!$E71=30,Data!W71,\"\")","v":""},{"$f":"IF(Data!$E71=30,Data!X71,\"\")","v":""},{"$f":"IF(Data!$E71=30,Data!Y71,IF(Data!L71<>\"\",Data!L71,\"\"))","v":""},{"$f":"IF(Data!$E71=30,Data!Z71,\"\")","v":""},{"$f":"IF(Data!$E71=30,Data!AA71,\"\")","v":""},{"$f":"IF(Data!$E71=30,Data!AB71,IF(Data!M71<>\"\",Data!M71,\"\"))","v":""},{"$f":"IF(Data!$E71=30,Data!AC71,\"\")","v":""},{"$f":"IF(Data!$E71=30,Data!AD71,\"\")","v":""},{"$f":"IF(Data!$E71=30,Data!AE71,IF(Data!N71<>\"\",Data!N71,\"\"))","v":""},{"$f":"IF(Data!$E71=30,Data!AF71,\"\")","v":""},{"$f":"IF(Data!$E71=30,Data!AG71,\"\")","v":""},{"$f":"IF(Data!$E71=30,Data!AH71,IF(Data!O71<>\"\",Data!O71,\"\"))","v":""},{"$f":"IF(Data!$E71=30,Data!AI71,\"\")","v":""},null,null,null,{"$f":"IF(Data!$E71=30,Data!AJ71,\"\")","v":""},{"$f":"IF(Data!$E71=30,Data!AK71,IF(Data!P71<>\"\",Data!P71,\"\"))","v":""},{"$f":"IF(Data!$E71=30,Data!AL71,\"\")","v":""},{"$f":"IF(Data!$E71=30,Data!AM71,\"\")","v":""},{"$f":"IF(Data!$E71=30,Data!AN71,IF(Data!Q71<>\"\",Data!Q71,\"\"))","v":""},{"$f":"IF(Data!$E71=30,Data!AO71,\"\")","v":""},{"$f":"IF(Data!$E71=30,Data!AP71,\"\")","v":""},{"$f":"IF(Data!$E71=30,Data!AQ71,IF(Data!R71<>\"\",Data!R71,\"\"))","v":""},{"$f":"IF(Data!$E71=30,Data!AR71,\"\")","v":""},{"$f":"IF(Data!$E71=30,Data!AS71,\"\")","v":""},{"$f":"IF(Data!$E71=30,Data!AT71,IF(Data!S71<>\"\",Data!S71,\"\"))","v":""},{"$f":"IF(Data!$E71=30,Data!AU71,\"\")","v":""},{"$f":"IF(Data!$E71=30,Data!AV71,\"\")","v":""},{"$f":"IF(Data!$E71=30,Data!AW71,IF(Data!T71<>\"\",Data!T71,\"\"))","v":""},{"$f":"IF(Data!$E71=30,Data!AX71,\"\")","v":""},{"$f":"IF(Data!$E71=30,Data!AY71,\"\")","v":""},{"$f":"IF(Data!$E71=30,Data!AZ71,IF(Data!U71<>\"\",Data!U71,\"\"))","v":""},{"$f":"IF(Data!$E71=30,Data!BA71,\"\")","v":""},{"$f":"IF(Data!$E71=30,Data!BB71,\"\")","v":""},{"$f":"IF(Data!$E71=30,Data!BC71,IF(Data!V71<>\"\",Data!V71,\"\"))","v":""},{"$f":"IF(Data!$E71=30,Data!BD71,\"\")","v":""},{"$f":"IF(Data!$E71=30,Data!BE71,\"\")","v":""},{"$f":"IF(Data!$E71=30,Data!BF71,IF(Data!W71<>\"\",Data!W71,\"\"))","v":""},{"$f":"IF(Data!$E71=30,Data!BG71,\"\")","v":""},{"$f":"IF(Data!$E71=30,Data!BH71,\"\")","v":""},{"$f":"IF(Data!$E71=30,Data!BI71,IF(Data!X71<>\"\",Data!X71,\"\"))","v":""},{"$f":"IF(Data!$E71=30,Data!BJ71,\"\")","v":""},{"$f":"IF(Data!$E71=30,Data!BK71,\"\")","v":""},{"$f":"IF(Data!$E71=30,Data!BL71,IF(Data!Y71<>\"\",Data!Y71,\"\"))","v":""},{"$f":"IF(Data!$E71=30,Data!BM71,\"\")","v":""}]
[null,{"$f":"IF(Data!A72<>\"\",Data!A72,\"\")","v":""},{"$f":"IF(Data!$E72=30,Data!F72,\"\")","v":""},{"$f":"IF(Data!$E72=30,Data!G72,IF(Data!F72<>\"\",Data!F72,\"\"))","v":""},{"$f":"IF(Data!$E72=30,Data!H72,\"\")","v":""},{"$f":"IF(Data!$E72=30,Data!I72,\"\")","v":""},{"$f":"IF(Data!$E72=30,Data!J72,IF(Data!G72<>\"\",Data!G72,\"\"))","v":""},{"$f":"IF(Data!$E72=30,Data!K72,\"\")","v":""},{"$f":"IF(Data!$E72=30,Data!L72,\"\")","v":""},{"$f":"IF(Data!$E72=30,Data!M72,IF(Data!H72<>\"\",Data!H72,\"\"))","v":""},{"$f":"IF(Data!$E72=30,Data!N72,\"\")","v":""},{"$f":"IF(Data!$E72=30,Data!O72,\"\")","v":""},{"$f":"IF(Data!$E72=30,Data!P72,IF(Data!I72<>\"\",Data!I72,\"\"))","v":""},{"$f":"IF(Data!$E72=30,Data!Q72,\"\")","v":""},{"$f":"IF(Data!$E72=30,Data!R72,\"\")","v":""},{"$f":"IF(Data!$E72=30,Data!S72,IF(Data!J72<>\"\",Data!J72,\"\"))","v":""},{"$f":"IF(Data!$E72=30,Data!T72,\"\")","v":""},{"$f":"IF(Data!$E72=30,Data!U72,\"\")","v":""},{"$f":"IF(Data!$E72=30,Data!V72,IF(Data!K72<>\"\",Data!K72,\"\"))","v":""},{"$f":"IF(Data!$E72=30,Data!W72,\"\")","v":""},{"$f":"IF(Data!$E72=30,Data!X72,\"\")","v":""},{"$f":"IF(Data!$E72=30,Data!Y72,IF(Data!L72<>\"\",Data!L72,\"\"))","v":""},{"$f":"IF(Data!$E72=30,Data!Z72,\"\")","v":""},{"$f":"IF(Data!$E72=30,Data!AA72,\"\")","v":""},{"$f":"IF(Data!$E72=30,Data!AB72,IF(Data!M72<>\"\",Data!M72,\"\"))","v":""},{"$f":"IF(Data!$E72=30,Data!AC72,\"\")","v":""},{"$f":"IF(Data!$E72=30,Data!AD72,\"\")","v":""},{"$f":"IF(Data!$E72=30,Data!AE72,IF(Data!N72<>\"\",Data!N72,\"\"))","v":""},{"$f":"IF(Data!$E72=30,Data!AF72,\"\")","v":""},{"$f":"IF(Data!$E72=30,Data!AG72,\"\")","v":""},{"$f":"IF(Data!$E72=30,Data!AH72,IF(Data!O72<>\"\",Data!O72,\"\"))","v":""},{"$f":"IF(Data!$E72=30,Data!AI72,\"\")","v":""},null,null,null,{"$f":"IF(Data!$E72=30,Data!AJ72,\"\")","v":""},{"$f":"IF(Data!$E72=30,Data!AK72,IF(Data!P72<>\"\",Data!P72,\"\"))","v":""},{"$f":"IF(Data!$E72=30,Data!AL72,\"\")","v":""},{"$f":"IF(Data!$E72=30,Data!AM72,\"\")","v":""},{"$f":"IF(Data!$E72=30,Data!AN72,IF(Data!Q72<>\"\",Data!Q72,\"\"))","v":""},{"$f":"IF(Data!$E72=30,Data!AO72,\"\")","v":""},{"$f":"IF(Data!$E72=30,Data!AP72,\"\")","v":""},{"$f":"IF(Data!$E72=30,Data!AQ72,IF(Data!R72<>\"\",Data!R72,\"\"))","v":""},{"$f":"IF(Data!$E72=30,Data!AR72,\"\")","v":""},{"$f":"IF(Data!$E72=30,Data!AS72,\"\")","v":""},{"$f":"IF(Data!$E72=30,Data!AT72,IF(Data!S72<>\"\",Data!S72,\"\"))","v":""},{"$f":"IF(Data!$E72=30,Data!AU72,\"\")","v":""},{"$f":"IF(Data!$E72=30,Data!AV72,\"\")","v":""},{"$f":"IF(Data!$E72=30,Data!AW72,IF(Data!T72<>\"\",Data!T72,\"\"))","v":""},{"$f":"IF(Data!$E72=30,Data!AX72,\"\")","v":""},{"$f":"IF(Data!$E72=30,Data!AY72,\"\")","v":""},{"$f":"IF(Data!$E72=30,Data!AZ72,IF(Data!U72<>\"\",Data!U72,\"\"))","v":""},{"$f":"IF(Data!$E72=30,Data!BA72,\"\")","v":""},{"$f":"IF(Data!$E72=30,Data!BB72,\"\")","v":""},{"$f":"IF(Data!$E72=30,Data!BC72,IF(Data!V72<>\"\",Data!V72,\"\"))","v":""},{"$f":"IF(Data!$E72=30,Data!BD72,\"\")","v":""},{"$f":"IF(Data!$E72=30,Data!BE72,\"\")","v":""},{"$f":"IF(Data!$E72=30,Data!BF72,IF(Data!W72<>\"\",Data!W72,\"\"))","v":""},{"$f":"IF(Data!$E72=30,Data!BG72,\"\")","v":""},{"$f":"IF(Data!$E72=30,Data!BH72,\"\")","v":""},{"$f":"IF(Data!$E72=30,Data!BI72,IF(Data!X72<>\"\",Data!X72,\"\"))","v":""},{"$f":"IF(Data!$E72=30,Data!BJ72,\"\")","v":""},{"$f":"IF(Data!$E72=30,Data!BK72,\"\")","v":""},{"$f":"IF(Data!$E72=30,Data!BL72,IF(Data!Y72<>\"\",Data!Y72,\"\"))","v":""},{"$f":"IF(Data!$E72=30,Data!BM72,\"\")","v":""}]
[null,{"$f":"IF(Data!A73<>\"\",Data!A73,\"\")","v":""},{"$f":"IF(Data!$E73=30,Data!F73,\"\")","v":""},{"$f":"IF(Data!$E73=30,Data!G73,IF(Data!F73<>\"\",Data!F73,\"\"))","v":""},{"$f":"IF(Data!$E73=30,Data!H73,\"\")","v":""},{"$f":"IF(Data!$E73=30,Data!I73,\"\")","v":""},{"$f":"IF(Data!$E73=30,Data!J73,IF(Data!G73<>\"\",Data!G73,\"\"))","v":""},{"$f":"IF(Data!$E73=30,Data!K73,\"\")","v":""},{"$f":"IF(Data!$E73=30,Data!L73,\"\")","v":""},{"$f":"IF(Data!$E73=30,Data!M73,IF(Data!H73<>\"\",Data!H73,\"\"))","v":""},{"$f":"IF(Data!$E73=30,Data!N73,\"\")","v":""},{"$f":"IF(Data!$E73=30,Data!O73,\"\")","v":""},{"$f":"IF(Data!$E73=30,Data!P73,IF(Data!I73<>\"\",Data!I73,\"\"))","v":""},{"$f":"IF(Data!$E73=30,Data!Q73,\"\")","v":""},{"$f":"IF(Data!$E73=30,Data!R73,\"\")","v":""},{"$f":"IF(Data!$E73=30,Data!S73,IF(Data!J73<>\"\",Data!J73,\"\"))","v":""},{"$f":"IF(Data!$E73=30,Data!T73,\"\")","v":""},{"$f":"IF(Data!$E73=30,Data!U73,\"\")","v":""},{"$f":"IF(Data!$E73=30,Data!V73,IF(Data!K73<>\"\",Data!K73,\"\"))","v":""},{"$f":"IF(Data!$E73=30,Data!W73,\"\")","v":""},{"$f":"IF(Data!$E73=30,Data!X73,\"\")","v":""},{"$f":"IF(Data!$E73=30,Data!Y73,IF(Data!L73<>\"\",Data!L73,\"\"))","v":""},{"$f":"IF(Data!$E73=30,Data!Z73,\"\")","v":""},{"$f":"IF(Data!$E73=30,Data!AA73,\"\")","v":""},{"$f":"IF(Data!$E73=30,Data!AB73,IF(Data!M73<>\"\",Data!M73,\"\"))","v":""},{"$f":"IF(Data!$E73=30,Data!AC73,\"\")","v":""},{"$f":"IF(Data!$E73=30,Data!AD73,\"\")","v":""},{"$f":"IF(Data!$E73=30,Data!AE73,IF(Data!N73<>\"\",Data!N73,\"\"))","v":""},{"$f":"IF(Data!$E73=30,Data!AF73,\"\")","v":""},{"$f":"IF(Data!$E73=30,Data!AG73,\"\")","v":""},{"$f":"IF(Data!$E73=30,Data!AH73,IF(Data!O73<>\"\",Data!O73,\"\"))","v":""},{"$f":"IF(Data!$E73=30,Data!AI73,\"\")","v":""},null,null,null,{"$f":"IF(Data!$E73=30,Data!AJ73,\"\")","v":""},{"$f":"IF(Data!$E73=30,Data!AK73,IF(Data!P73<>\"\",Data!P73,\"\"))","v":""},{"$f":"IF(Data!$E73=30,Data!AL73,\"\")","v":""},{"$f":"IF(Data!$E73=30,Data!AM73,\"\")","v":""},{"$f":"IF(Data!$E73=30,Data!AN73,IF(Data!Q73<>\"\",Data!Q73,\"\"))","v":""},{"$f":"IF(Data!$E73=30,Data!AO73,\"\")","v":""},{"$f":"IF(Data!$E73=30,Data!AP73,\"\")","v":""},{"$f":"IF(Data!$E73=30,Data!AQ73,IF(Data!R73<>\"\",Data!R73,\"\"))","v":""},{"$f":"IF(Data!$E73=30,Data!AR73,\"\")","v":""},{"$f":"IF(Data!$E73=30,Data!AS73,\"\")","v":""},{"$f":"IF(Data!$E73=30,Data!AT73,IF(Data!S73<>\"\",Data!S73,\"\"))","v":""},{"$f":"IF(Data!$E73=30,Data!AU73,\"\")","v":""},{"$f":"IF(Data!$E73=30,Data!AV73,\"\")","v":""},{"$f":"IF(Data!$E73=30,Data!AW73,IF(Data!T73<>\"\",Data!T73,\"\"))","v":""},{"$f":"IF(Data!$E73=30,Data!AX73,\"\")","v":""},{"$f":"IF(Data!$E73=30,Data!AY73,\"\")","v":""},{"$f":"IF(Data!$E73=30,Data!AZ73,IF(Data!U73<>\"\",Data!U73,\"\"))","v":""},{"$f":"IF(Data!$E73=30,Data!BA73,\"\")","v":""},{"$f":"IF(Data!$E73=30,Data!BB73,\"\")","v":""},{"$f":"IF(Data!$E73=30,Data!BC73,IF(Data!V73<>\"\",Data!V73,\"\"))","v":""},{"$f":"IF(Data!$E73=30,Data!BD73,\"\")","v":""},{"$f":"IF(Data!$E73=30,Data!BE73,\"\")","v":""},{"$f":"IF(Data!$E73=30,Data!BF73,IF(Data!W73<>\"\",Data!W73,\"\"))","v":""},{"$f":"IF(Data!$E73=30,Data!BG73,\"\")","v":""},{"$f":"IF(Data!$E73=30,Data!BH73,\"\")","v":""},{"$f":"IF(Data!$E73=30,Data!BI73,IF(Data!X73<>\"\",Data!X73,\"\"))","v":""},{"$f":"IF(Data!$E73=30,Data!BJ73,\"\")","v":""},{"$f":"IF(Data!$E73=30,Data!BK73,\"\")","v":""},{"$f":"IF(Data!$E73=30,Data!BL73,IF(Data!Y73<>\"\",Data!Y73,\"\"))","v":""},{"$f":"IF(Data!$E73=30,Data!BM73,\"\")","v":""}]
[null,{"$f":"IF(Data!A74<>\"\",Data!A74,\"\")","v":""},{"$f":"IF(Data!$E74=30,Data!F74,\"\")","v":""},{"$f":"IF(Data!$E74=30,Data!G74,IF(Data!F74<>\"\",Data!F74,\"\"))","v":""},{"$f":"IF(Data!$E74=30,Data!H74,\"\")","v":""},{"$f":"IF(Data!$E74=30,Data!I74,\"\")","v":""},{"$f":"IF(Data!$E74=30,Data!J74,IF(Data!G74<>\"\",Data!G74,\"\"))","v":""},{"$f":"IF(Data!$E74=30,Data!K74,\"\")","v":""},{"$f":"IF(Data!$E74=30,Data!L74,\"\")","v":""},{"$f":"IF(Data!$E74=30,Data!M74,IF(Data!H74<>\"\",Data!H74,\"\"))","v":""},{"$f":"IF(Data!$E74=30,Data!N74,\"\")","v":""},{"$f":"IF(Data!$E74=30,Data!O74,\"\")","v":""},{"$f":"IF(Data!$E74=30,Data!P74,IF(Data!I74<>\"\",Data!I74,\"\"))","v":""},{"$f":"IF(Data!$E74=30,Data!Q74,\"\")","v":""},{"$f":"IF(Data!$E74=30,Data!R74,\"\")","v":""},{"$f":"IF(Data!$E74=30,Data!S74,IF(Data!J74<>\"\",Data!J74,\"\"))","v":""},{"$f":"IF(Data!$E74=30,Data!T74,\"\")","v":""},{"$f":"IF(Data!$E74=30,Data!U74,\"\")","v":""},{"$f":"IF(Data!$E74=30,Data!V74,IF(Data!K74<>\"\",Data!K74,\"\"))","v":""},{"$f":"IF(Data!$E74=30,Data!W74,\"\")","v":""},{"$f":"IF(Data!$E74=30,Data!X74,\"\")","v":""},{"$f":"IF(Data!$E74=30,Data!Y74,IF(Data!L74<>\"\",Data!L74,\"\"))","v":""},{"$f":"IF(Data!$E74=30,Data!Z74,\"\")","v":""},{"$f":"IF(Data!$E74=30,Data!AA74,\"\")","v":""},{"$f":"IF(Data!$E74=30,Data!AB74,IF(Data!M74<>\"\",Data!M74,\"\"))","v":""},{"$f":"IF(Data!$E74=30,Data!AC74,\"\")","v":""},{"$f":"IF(Data!$E74=30,Data!AD74,\"\")","v":""},{"$f":"IF(Data!$E74=30,Data!AE74,IF(Data!N74<>\"\",Data!N74,\"\"))","v":""},{"$f":"IF(Data!$E74=30,Data!AF74,\"\")","v":""},{"$f":"IF(Data!$E74=30,Data!AG74,\"\")","v":""},{"$f":"IF(Data!$E74=30,Data!AH74,IF(Data!O74<>\"\",Data!O74,\"\"))","v":""},{"$f":"IF(Data!$E74=30,Data!AI74,\"\")","v":""},null,null,null,{"$f":"IF(Data!$E74=30,Data!AJ74,\"\")","v":""},{"$f":"IF(Data!$E74=30,Data!AK74,IF(Data!P74<>\"\",Data!P74,\"\"))","v":""},{"$f":"IF(Data!$E74=30,Data!AL74,\"\")","v":""},{"$f":"IF(Data!$E74=30,Data!AM74,\"\")","v":""},{"$f":"IF(Data!$E74=30,Data!AN74,IF(Data!Q74<>\"\",Data!Q74,\"\"))","v":""},{"$f":"IF(Data!$E74=30,Data!AO74,\"\")","v":""},{"$f":"IF(Data!$E74=30,Data!AP74,\"\")","v":""},{"$f":"IF(Data!$E74=30,Data!AQ74,IF(Data!R74<>\"\",Data!R74,\"\"))","v":""},{"$f":"IF(Data!$E74=30,Data!AR74,\"\")","v":""},{"$f":"IF(Data!$E74=30,Data!AS74,\"\")","v":""},{"$f":"IF(Data!$E74=30,Data!AT74,IF(Data!S74<>\"\",Data!S74,\"\"))","v":""},{"$f":"IF(Data!$E74=30,Data!AU74,\"\")","v":""},{"$f":"IF(Data!$E74=30,Data!AV74,\"\")","v":""},{"$f":"IF(Data!$E74=30,Data!AW74,IF(Data!T74<>\"\",Data!T74,\"\"))","v":""},{"$f":"IF(Data!$E74=30,Data!AX74,\"\")","v":""},{"$f":"IF(Data!$E74=30,Data!AY74,\"\")","v":""},{"$f":"IF(Data!$E74=30,Data!AZ74,IF(Data!U74<>\"\",Data!U74,\"\"))","v":""},{"$f":"IF(Data!$E74=30,Data!BA74,\"\")","v":""},{"$f":"IF(Data!$E74=30,Data!BB74,\"\")","v":""},{"$f":"IF(Data!$E74=30,Data!BC74,IF(Data!V74<>\"\",Data!V74,\"\"))","v":""},{"$f":"IF(Data!$E74=30,Data!BD74,\"\")","v":""},{"$f":"IF(Data!$E74=30,Data!BE74,\"\")","v":""},{"$f":"IF(Data!$E74=30,Data!BF74,IF(Data!W74<>\"\",Data!W74,\"\"))","v":""},{"$f":"IF(Data!$E74=30,Data!BG74,\"\")","v":""},{"$f":"IF(Data!$E74=30,Data!BH74,\"\")","v":""},{"$f":"IF(Data!$E74=30,Data!BI74,IF(Data!X74<>\"\",Data!X74,\"\"))","v":""},{"$f":"IF(Data!$E74=30,Data!BJ74,\"\")","v":""},{"$f":"IF(Data!$E74=30,Data!BK74,\"\")","v":""},{"$f":"IF(Data!$E74=30,Data!BL74,IF(Data!Y74<>\"\",Data!Y74,\"\"))","v":""},{"$f":"IF(Data!$E74=30,Data!BM74,\"\")","v":""}]
[null,{"$f":"IF(Data!A75<>\"\",Data!A75,\"\")","v":""},{"$f":"IF(Data!$E75=30,Data!F75,\"\")","v":""},{"$f":"IF(Data!$E75=30,Data!G75,IF(Data!F75<>\"\",Data!F75,\"\"))","v":""},{"$f":"IF(Data!$E75=30,Data!H75,\"\")","v":""},{"$f":"IF(Data!$E75=30,Data!I75,\"\")","v":""},{"$f":"IF(Data!$E75=30,Data!J75,IF(Data!G75<>\"\",Data!G75,\"\"))","v":""},{"$f":"IF(Data!$E75=30,Data!K75,\"\")","v":""},{"$f":"IF(Data!$E75=30,Data!L75,\"\")","v":""},{"$f":"IF(Data!$E75=30,Data!M75,IF(Data!H75<>\"\",Data!H75,\"\"))","v":""},{"$f":"IF(Data!$E75=30,Data!N75,\"\")","v":""},{"$f":"IF(Data!$E75=30,Data!O75,\"\")","v":""},{"$f":"IF(Data!$E75=30,Data!P75,IF(Data!I75<>\"\",Data!I75,\"\"))","v":""},{"$f":"IF(Data!$E75=30,Data!Q75,\"\")","v":""},{"$f":"IF(Data!$E75=30,Data!R75,\"\")","v":""},{"$f":"IF(Data!$E75=30,Data!S75,IF(Data!J75<>\"\",Data!J75,\"\"))","v":""},{"$f":"IF(Data!$E75=30,Data!T75,\"\")","v":""},{"$f":"IF(Data!$E75=30,Data!U75,\"\")","v":""},{"$f":"IF(Data!$E75=30,Data!V75,IF(Data!K75<>\"\",Data!K75,\"\"))","v":""},{"$f":"IF(Data!$E75=30,Data!W75,\"\")","v":""},{"$f":"IF(Data!$E75=30,Data!X75,\"\")","v":""},{"$f":"IF(Data!$E75=30,Data!Y75,IF(Data!L75<>\"\",Data!L75,\"\"))","v":""},{"$f":"IF(Data!$E75=30,Data!Z75,\"\")","v":""},{"$f":"IF(Data!$E75=30,Data!AA75,\"\")","v":""},{"$f":"IF(Data!$E75=30,Data!AB75,IF(Data!M75<>\"\",Data!M75,\"\"))","v":""},{"$f":"IF(Data!$E75=30,Data!AC75,\"\")","v":""},{"$f":"IF(Data!$E75=30,Data!AD75,\"\")","v":""},{"$f":"IF(Data!$E75=30,Data!AE75,IF(Data!N75<>\"\",Data!N75,\"\"))","v":""},{"$f":"IF(Data!$E75=30,Data!AF75,\"\")","v":""},{"$f":"IF(Data!$E75=30,Data!AG75,\"\")","v":""},{"$f":"IF(Data!$E75=30,Data!AH75,IF(Data!O75<>\"\",Data!O75,\"\"))","v":""},{"$f":"IF(Data!$E75=30,Data!AI75,\"\")","v":""},null,null,null,{"$f":"IF(Data!$E75=30,Data!AJ75,\"\")","v":""},{"$f":"IF(Data!$E75=30,Data!AK75,IF(Data!P75<>\"\",Data!P75,\"\"))","v":""},{"$f":"IF(Data!$E75=30,Data!AL75,\"\")","v":""},{"$f":"IF(Data!$E75=30,Data!AM75,\"\")","v":""},{"$f":"IF(Data!$E75=30,Data!AN75,IF(Data!Q75<>\"\",Data!Q75,\"\"))","v":""},{"$f":"IF(Data!$E75=30,Data!AO75,\"\")","v":""},{"$f":"IF(Data!$E75=30,Data!AP75,\"\")","v":""},{"$f":"IF(Data!$E75=30,Data!AQ75,IF(Data!R75<>\"\",Data!R75,\"\"))","v":""},{"$f":"IF(Data!$E75=30,Data!AR75,\"\")","v":""},{"$f":"IF(Data!$E75=30,Data!AS75,\"\")","v":""},{"$f":"IF(Data!$E75=30,Data!AT75,IF(Data!S75<>\"\",Data!S75,\"\"))","v":""},{"$f":"IF(Data!$E75=30,Data!AU75,\"\")","v":""},{"$f":"IF(Data!$E75=30,Data!AV75,\"\")","v":""},{"$f":"IF(Data!$E75=30,Data!AW75,IF(Data!T75<>\"\",Data!T75,\"\"))","v":""},{"$f":"IF(Data!$E75=30,Data!AX75,\"\")","v":""},{"$f":"IF(Data!$E75=30,Data!AY75,\"\")","v":""},{"$f":"IF(Data!$E75=30,Data!AZ75,IF(Data!U75<>\"\",Data!U75,\"\"))","v":""},{"$f":"IF(Data!$E75=30,Data!BA75,\"\")","v":""},{"$f":"IF(Data!$E75=30,Data!BB75,\"\")","v":""},{"$f":"IF(Data!$E75=30,Data!BC75,IF(Data!V75<>\"\",Data!V75,\"\"))","v":""},{"$f":"IF(Data!$E75=30,Data!BD75,\"\")","v":""},{"$f":"IF(Data!$E75=30,Data!BE75,\"\")","v":""},{"$f":"IF(Data!$E75=30,Data!BF75,IF(Data!W75<>\"\",Data!W75,\"\"))","v":""},{"$f":"IF(Data!$E75=30,Data!BG75,\"\")","v":""},{"$f":"IF(Data!$E75=30,Data!BH75,\"\")","v":""},{"$f":"IF(Data!$E75=30,Data!BI75,IF(Data!X75<>\"\",Data!X75,\"\"))","v":""},{"$f":"IF(Data!$E75=30,Data!BJ75,\"\")","v":""},{"$f":"IF(Data!$E75=30,Data!BK75,\"\")","v":""},{"$f":"IF(Data!$E75=30,Data!BL75,IF(Data!Y75<>\"\",Data!Y75,\"\"))","v":""},{"$f":"IF(Data!$E75=30,Data!BM75,\"\")","v":""}]
[null,{"$f":"IF(Data!A76<>\"\",Data!A76,\"\")","v":""},{"$f":"IF(Data!$E76=30,Data!F76,\"\")","v":""},{"$f":"IF(Data!$E76=30,Data!G76,IF(Data!F76<>\"\",Data!F76,\"\"))","v":""},{"$f":"IF(Data!$E76=30,Data!H76,\"\")","v":""},{"$f":"IF(Data!$E76=30,Data!I76,\"\")","v":""},{"$f":"IF(Data!$E76=30,Data!J76,IF(Data!G76<>\"\",Data!G76,\"\"))","v":""},{"$f":"IF(Data!$E76=30,Data!K76,\"\")","v":""},{"$f":"IF(Data!$E76=30,Data!L76,\"\")","v":""},{"$f":"IF(Data!$E76=30,Data!M76,IF(Data!H76<>\"\",Data!H76,\"\"))","v":""},{"$f":"IF(Data!$E76=30,Data!N76,\"\")","v":""},{"$f":"IF(Data!$E76=30,Data!O76,\"\")","v":""},{"$f":"IF(Data!$E76=30,Data!P76,IF(Data!I76<>\"\",Data!I76,\"\"))","v":""},{"$f":"IF(Data!$E76=30,Data!Q76,\"\")","v":""},{"$f":"IF(Data!$E76=30,Data!R76,\"\")","v":""},{"$f":"IF(Data!$E76=30,Data!S76,IF(Data!J76<>\"\",Data!J76,\"\"))","v":""},{"$f":"IF(Data!$E76=30,Data!T76,\"\")","v":""},{"$f":"IF(Data!$E76=30,Data!U76,\"\")","v":""},{"$f":"IF(Data!$E76=30,Data!V76,IF(Data!K76<>\"\",Data!K76,\"\"))","v":""},{"$f":"IF(Data!$E76=30,Data!W76,\"\")","v":""},{"$f":"IF(Data!$E76=30,Data!X76,\"\")","v":""},{"$f":"IF(Data!$E76=30,Data!Y76,IF(Data!L76<>\"\",Data!L76,\"\"))","v":""},{"$f":"IF(Data!$E76=30,Data!Z76,\"\")","v":""},{"$f":"IF(Data!$E76=30,Data!AA76,\"\")","v":""},{"$f":"IF(Data!$E76=30,Data!AB76,IF(Data!M76<>\"\",Data!M76,\"\"))","v":""},{"$f":"IF(Data!$E76=30,Data!AC76,\"\")","v":""},{"$f":"IF(Data!$E76=30,Data!AD76,\"\")","v":""},{"$f":"IF(Data!$E76=30,Data!AE76,IF(Data!N76<>\"\",Data!N76,\"\"))","v":""},{"$f":"IF(Data!$E76=30,Data!AF76,\"\")","v":""},{"$f":"IF(Data!$E76=30,Data!AG76,\"\")","v":""},{"$f":"IF(Data!$E76=30,Data!AH76,IF(Data!O76<>\"\",Data!O76,\"\"))","v":""},{"$f":"IF(Data!$E76=30,Data!AI76,\"\")","v":""},null,null,null,{"$f":"IF(Data!$E76=30,Data!AJ76,\"\")","v":""},{"$f":"IF(Data!$E76=30,Data!AK76,IF(Data!P76<>\"\",Data!P76,\"\"))","v":""},{"$f":"IF(Data!$E76=30,Data!AL76,\"\")","v":""},{"$f":"IF(Data!$E76=30,Data!AM76,\"\")","v":""},{"$f":"IF(Data!$E76=30,Data!AN76,IF(Data!Q76<>\"\",Data!Q76,\"\"))","v":""},{"$f":"IF(Data!$E76=30,Data!AO76,\"\")","v":""},{"$f":"IF(Data!$E76=30,Data!AP76,\"\")","v":""},{"$f":"IF(Data!$E76=30,Data!AQ76,IF(Data!R76<>\"\",Data!R76,\"\"))","v":""},{"$f":"IF(Data!$E76=30,Data!AR76,\"\")","v":""},{"$f":"IF(Data!$E76=30,Data!AS76,\"\")","v":""},{"$f":"IF(Data!$E76=30,Data!AT76,IF(Data!S76<>\"\",Data!S76,\"\"))","v":""},{"$f":"IF(Data!$E76=30,Data!AU76,\"\")","v":""},{"$f":"IF(Data!$E76=30,Data!AV76,\"\")","v":""},{"$f":"IF(Data!$E76=30,Data!AW76,IF(Data!T76<>\"\",Data!T76,\"\"))","v":""},{"$f":"IF(Data!$E76=30,Data!AX76,\"\")","v":""},{"$f":"IF(Data!$E76=30,Data!AY76,\"\")","v":""},{"$f":"IF(Data!$E76=30,Data!AZ76,IF(Data!U76<>\"\",Data!U76,\"\"))","v":""},{"$f":"IF(Data!$E76=30,Data!BA76,\"\")","v":""},{"$f":"IF(Data!$E76=30,Data!BB76,\"\")","v":""},{"$f":"IF(Data!$E76=30,Data!BC76,IF(Data!V76<>\"\",Data!V76,\"\"))","v":""},{"$f":"IF(Data!$E76=30,Data!BD76,\"\")","v":""},{"$f":"IF(Data!$E76=30,Data!BE76,\"\")","v":""},{"$f":"IF(Data!$E76=30,Data!BF76,IF(Data!W76<>\"\",Data!W76,\"\"))","v":""},{"$f":"IF(Data!$E76=30,Data!BG76,\"\")","v":""},{"$f":"IF(Data!$E76=30,Data!BH76,\"\")","v":""},{"$f":"IF(Data!$E76=30,Data!BI76,IF(Data!X76<>\"\",Data!X76,\"\"))","v":""},{"$f":"IF(Data!$E76=30,Data!BJ76,\"\")","v":""},{"$f":"IF(Data!$E76=30,Data!BK76,\"\")","v":""},{"$f":"IF(Data!$E76=30,Data!BL76,IF(Data!Y76<>\"\",Data!Y76,\"\"))","v":""},{"$f":"IF(Data!$E76=30,Data!BM76,\"\")","v":""}]
[null,{"$f":"IF(Data!A77<>\"\",Data!A77,\"\")","v":""},{"$f":"IF(Data!$E77=30,Data!F77,\"\")","v":""},{"$f":"IF(Data!$E77=30,Data!G77,IF(Data!F77<>\"\",Data!F77,\"\"))","v":""},{"$f":"IF(Data!$E77=30,Data!H77,\"\")","v":""},{"$f":"IF(Data!$E77=30,Data!I77,\"\")","v":""},{"$f":"IF(Data!$E77=30,Data!J77,IF(Data!G77<>\"\",Data!G77,\"\"))","v":""},{"$f":"IF(Data!$E77=30,Data!K77,\"\")","v":""},{"$f":"IF(Data!$E77=30,Data!L77,\"\")","v":""},{"$f":"IF(Data!$E77=30,Data!M77,IF(Data!H77<>\"\",Data!H77,\"\"))","v":""},{"$f":"IF(Data!$E77=30,Data!N77,\"\")","v":""},{"$f":"IF(Data!$E77=30,Data!O77,\"\")","v":""},{"$f":"IF(Data!$E77=30,Data!P77,IF(Data!I77<>\"\",Data!I77,\"\"))","v":""},{"$f":"IF(Data!$E77=30,Data!Q77,\"\")","v":""},{"$f":"IF(Data!$E77=30,Data!R77,\"\")","v":""},{"$f":"IF(Data!$E77=30,Data!S77,IF(Data!J77<>\"\",Data!J77,\"\"))","v":""},{"$f":"IF(Data!$E77=30,Data!T77,\"\")","v":""},{"$f":"IF(Data!$E77=30,Data!U77,\"\")","v":""},{"$f":"IF(Data!$E77=30,Data!V77,IF(Data!K77<>\"\",Data!K77,\"\"))","v":""},{"$f":"IF(Data!$E77=30,Data!W77,\"\")","v":""},{"$f":"IF(Data!$E77=30,Data!X77,\"\")","v":""},{"$f":"IF(Data!$E77=30,Data!Y77,IF(Data!L77<>\"\",Data!L77,\"\"))","v":""},{"$f":"IF(Data!$E77=30,Data!Z77,\"\")","v":""},{"$f":"IF(Data!$E77=30,Data!AA77,\"\")","v":""},{"$f":"IF(Data!$E77=30,Data!AB77,IF(Data!M77<>\"\",Data!M77,\"\"))","v":""},{"$f":"IF(Data!$E77=30,Data!AC77,\"\")","v":""},{"$f":"IF(Data!$E77=30,Data!AD77,\"\")","v":""},{"$f":"IF(Data!$E77=30,Data!AE77,IF(Data!N77<>\"\",Data!N77,\"\"))","v":""},{"$f":"IF(Data!$E77=30,Data!AF77,\"\")","v":""},{"$f":"IF(Data!$E77=30,Data!AG77,\"\")","v":""},{"$f":"IF(Data!$E77=30,Data!AH77,IF(Data!O77<>\"\",Data!O77,\"\"))","v":""},{"$f":"IF(Data!$E77=30,Data!AI77,\"\")","v":""},null,null,null,{"$f":"IF(Data!$E77=30,Data!AJ77,\"\")","v":""},{"$f":"IF(Data!$E77=30,Data!AK77,IF(Data!P77<>\"\",Data!P77,\"\"))","v":""},{"$f":"IF(Data!$E77=30,Data!AL77,\"\")","v":""},{"$f":"IF(Data!$E77=30,Data!AM77,\"\")","v":""},{"$f":"IF(Data!$E77=30,Data!AN77,IF(Data!Q77<>\"\",Data!Q77,\"\"))","v":""},{"$f":"IF(Data!$E77=30,Data!AO77,\"\")","v":""},{"$f":"IF(Data!$E77=30,Data!AP77,\"\")","v":""},{"$f":"IF(Data!$E77=30,Data!AQ77,IF(Data!R77<>\"\",Data!R77,\"\"))","v":""},{"$f":"IF(Data!$E77=30,Data!AR77,\"\")","v":""},{"$f":"IF(Data!$E77=30,Data!AS77,\"\")","v":""},{"$f":"IF(Data!$E77=30,Data!AT77,IF(Data!S77<>\"\",Data!S77,\"\"))","v":""},{"$f":"IF(Data!$E77=30,Data!AU77,\"\")","v":""},{"$f":"IF(Data!$E77=30,Data!AV77,\"\")","v":""},{"$f":"IF(Data!$E77=30,Data!AW77,IF(Data!T77<>\"\",Data!T77,\"\"))","v":""},{"$f":"IF(Data!$E77=30,Data!AX77,\"\")","v":""},{"$f":"IF(Data!$E77=30,Data!AY77,\"\")","v":""},{"$f":"IF(Data!$E77=30,Data!AZ77,IF(Data!U77<>\"\",Data!U77,\"\"))","v":""},{"$f":"IF(Data!$E77=30,Data!BA77,\"\")","v":""},{"$f":"IF(Data!$E77=30,Data!BB77,\"\")","v":""},{"$f":"IF(Data!$E77=30,Data!BC77,IF(Data!V77<>\"\",Data!V77,\"\"))","v":""},{"$f":"IF(Data!$E77=30,Data!BD77,\"\")","v":""},{"$f":"IF(Data!$E77=30,Data!BE77,\"\")","v":""},{"$f":"IF(Data!$E77=30,Data!BF77,IF(Data!W77<>\"\",Data!W77,\"\"))","v":""},{"$f":"IF(Data!$E77=30,Data!BG77,\"\")","v":""},{"$f":"IF(Data!$E77=30,Data!BH77,\"\")","v":""},{"$f":"IF(Data!$E77=30,Data!BI77,IF(Data!X77<>\"\",Data!X77,\"\"))","v":""},{"$f":"IF(Data!$E77=30,Data!BJ77,\"\")","v":""},{"$f":"IF(Data!$E77=30,Data!BK77,\"\")","v":""},{"$f":"IF(Data!$E77=30,Data!BL77,IF(Data!Y77<>\"\",Data!Y77,\"\"))","v":""},{"$f":"IF(Data!$E77=30,Data!BM77,\"\")","v":""}]
[null,{"$f":"IF(Data!A78<>\"\",Data!A78,\"\")","v":""},{"$f":"IF(Data!$E78=30,Data!F78,\"\")","v":""},{"$f":"IF(Data!$E78=30,Data!G78,IF(Data!F78<>\"\",Data!F78,\"\"))","v":""},{"$f":"IF(Data!$E78=30,Data!H78,\"\")","v":""},{"$f":"IF(Data!$E78=30,Data!I78,\"\")","v":""},{"$f":"IF(Data!$E78=30,Data!J78,IF(Data!G78<>\"\",Data!G78,\"\"))","v":""},{"$f":"IF(Data!$E78=30,Data!K78,\"\")","v":""},{"$f":"IF(Data!$E78=30,Data!L78,\"\")","v":""},{"$f":"IF(Data!$E78=30,Data!M78,IF(Data!H78<>\"\",Data!H78,\"\"))","v":""},{"$f":"IF(Data!$E78=30,Data!N78,\"\")","v":""},{"$f":"IF(Data!$E78=30,Data!O78,\"\")","v":""},{"$f":"IF(Data!$E78=30,Data!P78,IF(Data!I78<>\"\",Data!I78,\"\"))","v":""},{"$f":"IF(Data!$E78=30,Data!Q78,\"\")","v":""},{"$f":"IF(Data!$E78=30,Data!R78,\"\")","v":""},{"$f":"IF(Data!$E78=30,Data!S78,IF(Data!J78<>\"\",Data!J78,\"\"))","v":""},{"$f":"IF(Data!$E78=30,Data!T78,\"\")","v":""},{"$f":"IF(Data!$E78=30,Data!U78,\"\")","v":""},{"$f":"IF(Data!$E78=30,Data!V78,IF(Data!K78<>\"\",Data!K78,\"\"))","v":""},{"$f":"IF(Data!$E78=30,Data!W78,\"\")","v":""},{"$f":"IF(Data!$E78=30,Data!X78,\"\")","v":""},{"$f":"IF(Data!$E78=30,Data!Y78,IF(Data!L78<>\"\",Data!L78,\"\"))","v":""},{"$f":"IF(Data!$E78=30,Data!Z78,\"\")","v":""},{"$f":"IF(Data!$E78=30,Data!AA78,\"\")","v":""},{"$f":"IF(Data!$E78=30,Data!AB78,IF(Data!M78<>\"\",Data!M78,\"\"))","v":""},{"$f":"IF(Data!$E78=30,Data!AC78,\"\")","v":""},{"$f":"IF(Data!$E78=30,Data!AD78,\"\")","v":""},{"$f":"IF(Data!$E78=30,Data!AE78,IF(Data!N78<>\"\",Data!N78,\"\"))","v":""},{"$f":"IF(Data!$E78=30,Data!AF78,\"\")","v":""},{"$f":"IF(Data!$E78=30,Data!AG78,\"\")","v":""},{"$f":"IF(Data!$E78=30,Data!AH78,IF(Data!O78<>\"\",Data!O78,\"\"))","v":""},{"$f":"IF(Data!$E78=30,Data!AI78,\"\")","v":""},null,null,null,{"$f":"IF(Data!$E78=30,Data!AJ78,\"\")","v":""},{"$f":"IF(Data!$E78=30,Data!AK78,IF(Data!P78<>\"\",Data!P78,\"\"))","v":""},{"$f":"IF(Data!$E78=30,Data!AL78,\"\")","v":""},{"$f":"IF(Data!$E78=30,Data!AM78,\"\")","v":""},{"$f":"IF(Data!$E78=30,Data!AN78,IF(Data!Q78<>\"\",Data!Q78,\"\"))","v":""},{"$f":"IF(Data!$E78=30,Data!AO78,\"\")","v":""},{"$f":"IF(Data!$E78=30,Data!AP78,\"\")","v":""},{"$f":"IF(Data!$E78=30,Data!AQ78,IF(Data!R78<>\"\",Data!R78,\"\"))","v":""},{"$f":"IF(Data!$E78=30,Data!AR78,\"\")","v":""},{"$f":"IF(Data!$E78=30,Data!AS78,\"\")","v":""},{"$f":"IF(Data!$E78=30,Data!AT78,IF(Data!S78<>\"\",Data!S78,\"\"))","v":""},{"$f":"IF(Data!$E78=30,Data!AU78,\"\")","v":""},{"$f":"IF(Data!$E78=30,Data!AV78,\"\")","v":""},{"$f":"IF(Data!$E78=30,Data!AW78,IF(Data!T78<>\"\",Data!T78,\"\"))","v":""},{"$f":"IF(Data!$E78=30,Data!AX78,\"\")","v":""},{"$f":"IF(Data!$E78=30,Data!AY78,\"\")","v":""},{"$f":"IF(Data!$E78=30,Data!AZ78,IF(Data!U78<>\"\",Data!U78,\"\"))","v":""},{"$f":"IF(Data!$E78=30,Data!BA78,\"\")","v":""},{"$f":"IF(Data!$E78=30,Data!BB78,\"\")","v":""},{"$f":"IF(Data!$E78=30,Data!BC78,IF(Data!V78<>\"\",Data!V78,\"\"))","v":""},{"$f":"IF(Data!$E78=30,Data!BD78,\"\")","v":""},{"$f":"IF(Data!$E78=30,Data!BE78,\"\")","v":""},{"$f":"IF(Data!$E78=30,Data!BF78,IF(Data!W78<>\"\",Data!W78,\"\"))","v":""},{"$f":"IF(Data!$E78=30,Data!BG78,\"\")","v":""},{"$f":"IF(Data!$E78=30,Data!BH78,\"\")","v":""},{"$f":"IF(Data!$E78=30,Data!BI78,IF(Data!X78<>\"\",Data!X78,\"\"))","v":""},{"$f":"IF(Data!$E78=30,Data!BJ78,\"\")","v":""},{"$f":"IF(Data!$E78=30,Data!BK78,\"\")","v":""},{"$f":"IF(Data!$E78=30,Data!BL78,IF(Data!Y78<>\"\",Data!Y78,\"\"))","v":""},{"$f":"IF(Data!$E78=30,Data!BM78,\"\")","v":""}]
[null,{"$f":"IF(Data!A79<>\"\",Data!A79,\"\")","v":""},{"$f":"IF(Data!$E79=30,Data!F79,\"\")","v":""},{"$f":"IF(Data!$E79=30,Data!G79,IF(Data!F79<>\"\",Data!F79,\"\"))","v":""},{"$f":"IF(Data!$E79=30,Data!H79,\"\")","v":""},{"$f":"IF(Data!$E79=30,Data!I79,\"\")","v":""},{"$f":"IF(Data!$E79=30,Data!J79,IF(Data!G79<>\"\",Data!G79,\"\"))","v":""},{"$f":"IF(Data!$E79=30,Data!K79,\"\")","v":""},{"$f":"IF(Data!$E79=30,Data!L79,\"\")","v":""},{"$f":"IF(Data!$E79=30,Data!M79,IF(Data!H79<>\"\",Data!H79,\"\"))","v":""},{"$f":"IF(Data!$E79=30,Data!N79,\"\")","v":""},{"$f":"IF(Data!$E79=30,Data!O79,\"\")","v":""},{"$f":"IF(Data!$E79=30,Data!P79,IF(Data!I79<>\"\",Data!I79,\"\"))","v":""},{"$f":"IF(Data!$E79=30,Data!Q79,\"\")","v":""},{"$f":"IF(Data!$E79=30,Data!R79,\"\")","v":""},{"$f":"IF(Data!$E79=30,Data!S79,IF(Data!J79<>\"\",Data!J79,\"\"))","v":""},{"$f":"IF(Data!$E79=30,Data!T79,\"\")","v":""},{"$f":"IF(Data!$E79=30,Data!U79,\"\")","v":""},{"$f":"IF(Data!$E79=30,Data!V79,IF(Data!K79<>\"\",Data!K79,\"\"))","v":""},{"$f":"IF(Data!$E79=30,Data!W79,\"\")","v":""},{"$f":"IF(Data!$E79=30,Data!X79,\"\")","v":""},{"$f":"IF(Data!$E79=30,Data!Y79,IF(Data!L79<>\"\",Data!L79,\"\"))","v":""},{"$f":"IF(Data!$E79=30,Data!Z79,\"\")","v":""},{"$f":"IF(Data!$E79=30,Data!AA79,\"\")","v":""},{"$f":"IF(Data!$E79=30,Data!AB79,IF(Data!M79<>\"\",Data!M79,\"\"))","v":""},{"$f":"IF(Data!$E79=30,Data!AC79,\"\")","v":""},{"$f":"IF(Data!$E79=30,Data!AD79,\"\")","v":""},{"$f":"IF(Data!$E79=30,Data!AE79,IF(Data!N79<>\"\",Data!N79,\"\"))","v":""},{"$f":"IF(Data!$E79=30,Data!AF79,\"\")","v":""},{"$f":"IF(Data!$E79=30,Data!AG79,\"\")","v":""},{"$f":"IF(Data!$E79=30,Data!AH79,IF(Data!O79<>\"\",Data!O79,\"\"))","v":""},{"$f":"IF(Data!$E79=30,Data!AI79,\"\")","v":""},null,null,null,{"$f":"IF(Data!$E79=30,Data!AJ79,\"\")","v":""},{"$f":"IF(Data!$E79=30,Data!AK79,IF(Data!P79<>\"\",Data!P79,\"\"))","v":""},{"$f":"IF(Data!$E79=30,Data!AL79,\"\")","v":""},{"$f":"IF(Data!$E79=30,Data!AM79,\"\")","v":""},{"$f":"IF(Data!$E79=30,Data!AN79,IF(Data!Q79<>\"\",Data!Q79,\"\"))","v":""},{"$f":"IF(Data!$E79=30,Data!AO79,\"\")","v":""},{"$f":"IF(Data!$E79=30,Data!AP79,\"\")","v":""},{"$f":"IF(Data!$E79=30,Data!AQ79,IF(Data!R79<>\"\",Data!R79,\"\"))","v":""},{"$f":"IF(Data!$E79=30,Data!AR79,\"\")","v":""},{"$f":"IF(Data!$E79=30,Data!AS79,\"\")","v":""},{"$f":"IF(Data!$E79=30,Data!AT79,IF(Data!S79<>\"\",Data!S79,\"\"))","v":""},{"$f":"IF(Data!$E79=30,Data!AU79,\"\")","v":""},{"$f":"IF(Data!$E79=30,Data!AV79,\"\")","v":""},{"$f":"IF(Data!$E79=30,Data!AW79,IF(Data!T79<>\"\",Data!T79,\"\"))","v":""},{"$f":"IF(Data!$E79=30,Data!AX79,\"\")","v":""},{"$f":"IF(Data!$E79=30,Data!AY79,\"\")","v":""},{"$f":"IF(Data!$E79=30,Data!AZ79,IF(Data!U79<>\"\",Data!U79,\"\"))","v":""},{"$f":"IF(Data!$E79=30,Data!BA79,\"\")","v":""},{"$f":"IF(Data!$E79=30,Data!BB79,\"\")","v":""},{"$f":"IF(Data!$E79=30,Data!BC79,IF(Data!V79<>\"\",Data!V79,\"\"))","v":""},{"$f":"IF(Data!$E79=30,Data!BD79,\"\")","v":""},{"$f":"IF(Data!$E79=30,Data!BE79,\"\")","v":""},{"$f":"IF(Data!$E79=30,Data!BF79,IF(Data!W79<>\"\",Data!W79,\"\"))","v":""},{"$f":"IF(Data!$E79=30,Data!BG79,\"\")","v":""},{"$f":"IF(Data!$E79=30,Data!BH79,\"\")","v":""},{"$f":"IF(Data!$E79=30,Data!BI79,IF(Data!X79<>\"\",Data!X79,\"\"))","v":""},{"$f":"IF(Data!$E79=30,Data!BJ79,\"\")","v":""},{"$f":"IF(Data!$E79=30,Data!BK79,\"\")","v":""},{"$f":"IF(Data!$E79=30,Data!BL79,IF(Data!Y79<>\"\",Data!Y79,\"\"))","v":""},{"$f":"IF(Data!$E79=30,Data!BM79,\"\")","v":""}]
[null,{"$f":"IF(Data!A80<>\"\",Data!A80,\"\")","v":""},{"$f":"IF(Data!$E80=30,Data!F80,\"\")","v":""},{"$f":"IF(Data!$E80=30,Data!G80,IF(Data!F80<>\"\",Data!F80,\"\"))","v":""},{"$f":"IF(Data!$E80=30,Data!H80,\"\")","v":""},{"$f":"IF(Data!$E80=30,Data!I80,\"\")","v":""},{"$f":"IF(Data!$E80=30,Data!J80,IF(Data!G80<>\"\",Data!G80,\"\"))","v":""},{"$f":"IF(Data!$E80=30,Data!K80,\"\")","v":""},{"$f":"IF(Data!$E80=30,Data!L80,\"\")","v":""},{"$f":"IF(Data!$E80=30,Data!M80,IF(Data!H80<>\"\",Data!H80,\"\"))","v":""},{"$f":"IF(Data!$E80=30,Data!N80,\"\")","v":""},{"$f":"IF(Data!$E80=30,Data!O80,\"\")","v":""},{"$f":"IF(Data!$E80=30,Data!P80,IF(Data!I80<>\"\",Data!I80,\"\"))","v":""},{"$f":"IF(Data!$E80=30,Data!Q80,\"\")","v":""},{"$f":"IF(Data!$E80=30,Data!R80,\"\")","v":""},{"$f":"IF(Data!$E80=30,Data!S80,IF(Data!J80<>\"\",Data!J80,\"\"))","v":""},{"$f":"IF(Data!$E80=30,Data!T80,\"\")","v":""},{"$f":"IF(Data!$E80=30,Data!U80,\"\")","v":""},{"$f":"IF(Data!$E80=30,Data!V80,IF(Data!K80<>\"\",Data!K80,\"\"))","v":""},{"$f":"IF(Data!$E80=30,Data!W80,\"\")","v":""},{"$f":"IF(Data!$E80=30,Data!X80,\"\")","v":""},{"$f":"IF(Data!$E80=30,Data!Y80,IF(Data!L80<>\"\",Data!L80,\"\"))","v":""},{"$f":"IF(Data!$E80=30,Data!Z80,\"\")","v":""},{"$f":"IF(Data!$E80=30,Data!AA80,\"\")","v":""},{"$f":"IF(Data!$E80=30,Data!AB80,IF(Data!M80<>\"\",Data!M80,\"\"))","v":""},{"$f":"IF(Data!$E80=30,Data!AC80,\"\")","v":""},{"$f":"IF(Data!$E80=30,Data!AD80,\"\")","v":""},{"$f":"IF(Data!$E80=30,Data!AE80,IF(Data!N80<>\"\",Data!N80,\"\"))","v":""},{"$f":"IF(Data!$E80=30,Data!AF80,\"\")","v":""},{"$f":"IF(Data!$E80=30,Data!AG80,\"\")","v":""},{"$f":"IF(Data!$E80=30,Data!AH80,IF(Data!O80<>\"\",Data!O80,\"\"))","v":""},{"$f":"IF(Data!$E80=30,Data!AI80,\"\")","v":""},null,null,null,{"$f":"IF(Data!$E80=30,Data!AJ80,\"\")","v":""},{"$f":"IF(Data!$E80=30,Data!AK80,IF(Data!P80<>\"\",Data!P80,\"\"))","v":""},{"$f":"IF(Data!$E80=30,Data!AL80,\"\")","v":""},{"$f":"IF(Data!$E80=30,Data!AM80,\"\")","v":""},{"$f":"IF(Data!$E80=30,Data!AN80,IF(Data!Q80<>\"\",Data!Q80,\"\"))","v":""},{"$f":"IF(Data!$E80=30,Data!AO80,\"\")","v":""},{"$f":"IF(Data!$E80=30,Data!AP80,\"\")","v":""},{"$f":"IF(Data!$E80=30,Data!AQ80,IF(Data!R80<>\"\",Data!R80,\"\"))","v":""},{"$f":"IF(Data!$E80=30,Data!AR80,\"\")","v":""},{"$f":"IF(Data!$E80=30,Data!AS80,\"\")","v":""},{"$f":"IF(Data!$E80=30,Data!AT80,IF(Data!S80<>\"\",Data!S80,\"\"))","v":""},{"$f":"IF(Data!$E80=30,Data!AU80,\"\")","v":""},{"$f":"IF(Data!$E80=30,Data!AV80,\"\")","v":""},{"$f":"IF(Data!$E80=30,Data!AW80,IF(Data!T80<>\"\",Data!T80,\"\"))","v":""},{"$f":"IF(Data!$E80=30,Data!AX80,\"\")","v":""},{"$f":"IF(Data!$E80=30,Data!AY80,\"\")","v":""},{"$f":"IF(Data!$E80=30,Data!AZ80,IF(Data!U80<>\"\",Data!U80,\"\"))","v":""},{"$f":"IF(Data!$E80=30,Data!BA80,\"\")","v":""},{"$f":"IF(Data!$E80=30,Data!BB80,\"\")","v":""},{"$f":"IF(Data!$E80=30,Data!BC80,IF(Data!V80<>\"\",Data!V80,\"\"))","v":""},{"$f":"IF(Data!$E80=30,Data!BD80,\"\")","v":""},{"$f":"IF(Data!$E80=30,Data!BE80,\"\")","v":""},{"$f":"IF(Data!$E80=30,Data!BF80,IF(Data!W80<>\"\",Data!W80,\"\"))","v":""},{"$f":"IF(Data!$E80=30,Data!BG80,\"\")","v":""},{"$f":"IF(Data!$E80=30,Data!BH80,\"\")","v":""},{"$f":"IF(Data!$E80=30,Data!BI80,IF(Data!X80<>\"\",Data!X80,\"\"))","v":""},{"$f":"IF(Data!$E80=30,Data!BJ80,\"\")","v":""},{"$f":"IF(Data!$E80=30,Data!BK80,\"\")","v":""},{"$f":"IF(Data!$E80=30,Data!BL80,IF(Data!Y80<>\"\",Data!Y80,\"\"))","v":""},{"$f":"IF(Data!$E80=30,Data!BM80,\"\")","v":""}]
[null,{"$f":"IF(Data!A81<>\"\",Data!A81,\"\")","v":""},{"$f":"IF(Data!$E81=30,Data!F81,\"\")","v":""},{"$f":"IF(Data!$E81=30,Data!G81,IF(Data!F81<>\"\",Data!F81,\"\"))","v":""},{"$f":"IF(Data!$E81=30,Data!H81,\"\")","v":""},{"$f":"IF(Data!$E81=30,Data!I81,\"\")","v":""},{"$f":"IF(Data!$E81=30,Data!J81,IF(Data!G81<>\"\",Data!G81,\"\"))","v":""},{"$f":"IF(Data!$E81=30,Data!K81,\"\")","v":""},{"$f":"IF(Data!$E81=30,Data!L81,\"\")","v":""},{"$f":"IF(Data!$E81=30,Data!M81,IF(Data!H81<>\"\",Data!H81,\"\"))","v":""},{"$f":"IF(Data!$E81=30,Data!N81,\"\")","v":""},{"$f":"IF(Data!$E81=30,Data!O81,\"\")","v":""},{"$f":"IF(Data!$E81=30,Data!P81,IF(Data!I81<>\"\",Data!I81,\"\"))","v":""},{"$f":"IF(Data!$E81=30,Data!Q81,\"\")","v":""},{"$f":"IF(Data!$E81=30,Data!R81,\"\")","v":""},{"$f":"IF(Data!$E81=30,Data!S81,IF(Data!J81<>\"\",Data!J81,\"\"))","v":""},{"$f":"IF(Data!$E81=30,Data!T81,\"\")","v":""},{"$f":"IF(Data!$E81=30,Data!U81,\"\")","v":""},{"$f":"IF(Data!$E81=30,Data!V81,IF(Data!K81<>\"\",Data!K81,\"\"))","v":""},{"$f":"IF(Data!$E81=30,Data!W81,\"\")","v":""},{"$f":"IF(Data!$E81=30,Data!X81,\"\")","v":""},{"$f":"IF(Data!$E81=30,Data!Y81,IF(Data!L81<>\"\",Data!L81,\"\"))","v":""},{"$f":"IF(Data!$E81=30,Data!Z81,\"\")","v":""},{"$f":"IF(Data!$E81=30,Data!AA81,\"\")","v":""},{"$f":"IF(Data!$E81=30,Data!AB81,IF(Data!M81<>\"\",Data!M81,\"\"))","v":""},{"$f":"IF(Data!$E81=30,Data!AC81,\"\")","v":""},{"$f":"IF(Data!$E81=30,Data!AD81,\"\")","v":""},{"$f":"IF(Data!$E81=30,Data!AE81,IF(Data!N81<>\"\",Data!N81,\"\"))","v":""},{"$f":"IF(Data!$E81=30,Data!AF81,\"\")","v":""},{"$f":"IF(Data!$E81=30,Data!AG81,\"\")","v":""},{"$f":"IF(Data!$E81=30,Data!AH81,IF(Data!O81<>\"\",Data!O81,\"\"))","v":""},{"$f":"IF(Data!$E81=30,Data!AI81,\"\")","v":""},null,null,null,{"$f":"IF(Data!$E81=30,Data!AJ81,\"\")","v":""},{"$f":"IF(Data!$E81=30,Data!AK81,IF(Data!P81<>\"\",Data!P81,\"\"))","v":""},{"$f":"IF(Data!$E81=30,Data!AL81,\"\")","v":""},{"$f":"IF(Data!$E81=30,Data!AM81,\"\")","v":""},{"$f":"IF(Data!$E81=30,Data!AN81,IF(Data!Q81<>\"\",Data!Q81,\"\"))","v":""},{"$f":"IF(Data!$E81=30,Data!AO81,\"\")","v":""},{"$f":"IF(Data!$E81=30,Data!AP81,\"\")","v":""},{"$f":"IF(Data!$E81=30,Data!AQ81,IF(Data!R81<>\"\",Data!R81,\"\"))","v":""},{"$f":"IF(Data!$E81=30,Data!AR81,\"\")","v":""},{"$f":"IF(Data!$E81=30,Data!AS81,\"\")","v":""},{"$f":"IF(Data!$E81=30,Data!AT81,IF(Data!S81<>\"\",Data!S81,\"\"))","v":""},{"$f":"IF(Data!$E81=30,Data!AU81,\"\")","v":""},{"$f":"IF(Data!$E81=30,Data!AV81,\"\")","v":""},{"$f":"IF(Data!$E81=30,Data!AW81,IF(Data!T81<>\"\",Data!T81,\"\"))","v":""},{"$f":"IF(Data!$E81=30,Data!AX81,\"\")","v":""},{"$f":"IF(Data!$E81=30,Data!AY81,\"\")","v":""},{"$f":"IF(Data!$E81=30,Data!AZ81,IF(Data!U81<>\"\",Data!U81,\"\"))","v":""},{"$f":"IF(Data!$E81=30,Data!BA81,\"\")","v":""},{"$f":"IF(Data!$E81=30,Data!BB81,\"\")","v":""},{"$f":"IF(Data!$E81=30,Data!BC81,IF(Data!V81<>\"\",Data!V81,\"\"))","v":""},{"$f":"IF(Data!$E81=30,Data!BD81,\"\")","v":""},{"$f":"IF(Data!$E81=30,Data!BE81,\"\")","v":""},{"$f":"IF(Data!$E81=30,Data!BF81,IF(Data!W81<>\"\",Data!W81,\"\"))","v":""},{"$f":"IF(Data!$E81=30,Data!BG81,\"\")","v":""},{"$f":"IF(Data!$E81=30,Data!BH81,\"\")","v":""},{"$f":"IF(Data!$E81=30,Data!BI81,IF(Data!X81<>\"\",Data!X81,\"\"))","v":""},{"$f":"IF(Data!$E81=30,Data!BJ81,\"\")","v":""},{"$f":"IF(Data!$E81=30,Data!BK81,\"\")","v":""},{"$f":"IF(Data!$E81=30,Data!BL81,IF(Data!Y81<>\"\",Data!Y81,\"\"))","v":""},{"$f":"IF(Data!$E81=30,Data!BM81,\"\")","v":""}]
[null,{"$f":"IF(Data!A82<>\"\",Data!A82,\"\")","v":""},{"$f":"IF(Data!$E82=30,Data!F82,\"\")","v":""},{"$f":"IF(Data!$E82=30,Data!G82,IF(Data!F82<>\"\",Data!F82,\"\"))","v":""},{"$f":"IF(Data!$E82=30,Data!H82,\"\")","v":""},{"$f":"IF(Data!$E82=30,Data!I82,\"\")","v":""},{"$f":"IF(Data!$E82=30,Data!J82,IF(Data!G82<>\"\",Data!G82,\"\"))","v":""},{"$f":"IF(Data!$E82=30,Data!K82,\"\")","v":""},{"$f":"IF(Data!$E82=30,Data!L82,\"\")","v":""},{"$f":"IF(Data!$E82=30,Data!M82,IF(Data!H82<>\"\",Data!H82,\"\"))","v":""},{"$f":"IF(Data!$E82=30,Data!N82,\"\")","v":""},{"$f":"IF(Data!$E82=30,Data!O82,\"\")","v":""},{"$f":"IF(Data!$E82=30,Data!P82,IF(Data!I82<>\"\",Data!I82,\"\"))","v":""},{"$f":"IF(Data!$E82=30,Data!Q82,\"\")","v":""},{"$f":"IF(Data!$E82=30,Data!R82,\"\")","v":""},{"$f":"IF(Data!$E82=30,Data!S82,IF(Data!J82<>\"\",Data!J82,\"\"))","v":""},{"$f":"IF(Data!$E82=30,Data!T82,\"\")","v":""},{"$f":"IF(Data!$E82=30,Data!U82,\"\")","v":""},{"$f":"IF(Data!$E82=30,Data!V82,IF(Data!K82<>\"\",Data!K82,\"\"))","v":""},{"$f":"IF(Data!$E82=30,Data!W82,\"\")","v":""},{"$f":"IF(Data!$E82=30,Data!X82,\"\")","v":""},{"$f":"IF(Data!$E82=30,Data!Y82,IF(Data!L82<>\"\",Data!L82,\"\"))","v":""},{"$f":"IF(Data!$E82=30,Data!Z82,\"\")","v":""},{"$f":"IF(Data!$E82=30,Data!AA82,\"\")","v":""},{"$f":"IF(Data!$E82=30,Data!AB82,IF(Data!M82<>\"\",Data!M82,\"\"))","v":""},{"$f":"IF(Data!$E82=30,Data!AC82,\"\")","v":""},{"$f":"IF(Data!$E82=30,Data!AD82,\"\")","v":""},{"$f":"IF(Data!$E82=30,Data!AE82,IF(Data!N82<>\"\",Data!N82,\"\"))","v":""},{"$f":"IF(Data!$E82=30,Data!AF82,\"\")","v":""},{"$f":"IF(Data!$E82=30,Data!AG82,\"\")","v":""},{"$f":"IF(Data!$E82=30,Data!AH82,IF(Data!O82<>\"\",Data!O82,\"\"))","v":""},{"$f":"IF(Data!$E82=30,Data!AI82,\"\")","v":""},null,null,null,{"$f":"IF(Data!$E82=30,Data!AJ82,\"\")","v":""},{"$f":"IF(Data!$E82=30,Data!AK82,IF(Data!P82<>\"\",Data!P82,\"\"))","v":""},{"$f":"IF(Data!$E82=30,Data!AL82,\"\")","v":""},{"$f":"IF(Data!$E82=30,Data!AM82,\"\")","v":""},{"$f":"IF(Data!$E82=30,Data!AN82,IF(Data!Q82<>\"\",Data!Q82,\"\"))","v":""},{"$f":"IF(Data!$E82=30,Data!AO82,\"\")","v":""},{"$f":"IF(Data!$E82=30,Data!AP82,\"\")","v":""},{"$f":"IF(Data!$E82=30,Data!AQ82,IF(Data!R82<>\"\",Data!R82,\"\"))","v":""},{"$f":"IF(Data!$E82=30,Data!AR82,\"\")","v":""},{"$f":"IF(Data!$E82=30,Data!AS82,\"\")","v":""},{"$f":"IF(Data!$E82=30,Data!AT82,IF(Data!S82<>\"\",Data!S82,\"\"))","v":""},{"$f":"IF(Data!$E82=30,Data!AU82,\"\")","v":""},{"$f":"IF(Data!$E82=30,Data!AV82,\"\")","v":""},{"$f":"IF(Data!$E82=30,Data!AW82,IF(Data!T82<>\"\",Data!T82,\"\"))","v":""},{"$f":"IF(Data!$E82=30,Data!AX82,\"\")","v":""},{"$f":"IF(Data!$E82=30,Data!AY82,\"\")","v":""},{"$f":"IF(Data!$E82=30,Data!AZ82,IF(Data!U82<>\"\",Data!U82,\"\"))","v":""},{"$f":"IF(Data!$E82=30,Data!BA82,\"\")","v":""},{"$f":"IF(Data!$E82=30,Data!BB82,\"\")","v":""},{"$f":"IF(Data!$E82=30,Data!BC82,IF(Data!V82<>\"\",Data!V82,\"\"))","v":""},{"$f":"IF(Data!$E82=30,Data!BD82,\"\")","v":""},{"$f":"IF(Data!$E82=30,Data!BE82,\"\")","v":""},{"$f":"IF(Data!$E82=30,Data!BF82,IF(Data!W82<>\"\",Data!W82,\"\"))","v":""},{"$f":"IF(Data!$E82=30,Data!BG82,\"\")","v":""},{"$f":"IF(Data!$E82=30,Data!BH82,\"\")","v":""},{"$f":"IF(Data!$E82=30,Data!BI82,IF(Data!X82<>\"\",Data!X82,\"\"))","v":""},{"$f":"IF(Data!$E82=30,Data!BJ82,\"\")","v":""},{"$f":"IF(Data!$E82=30,Data!BK82,\"\")","v":""},{"$f":"IF(Data!$E82=30,Data!BL82,IF(Data!Y82<>\"\",Data!Y82,\"\"))","v":""},{"$f":"IF(Data!$E82=30,Data!BM82,\"\")","v":""}]
[null,{"$f":"IF(Data!A83<>\"\",Data!A83,\"\")","v":""},{"$f":"IF(Data!$E83=30,Data!F83,\"\")","v":""},{"$f":"IF(Data!$E83=30,Data!G83,IF(Data!F83<>\"\",Data!F83,\"\"))","v":""},{"$f":"IF(Data!$E83=30,Data!H83,\"\")","v":""},{"$f":"IF(Data!$E83=30,Data!I83,\"\")","v":""},{"$f":"IF(Data!$E83=30,Data!J83,IF(Data!G83<>\"\",Data!G83,\"\"))","v":""},{"$f":"IF(Data!$E83=30,Data!K83,\"\")","v":""},{"$f":"IF(Data!$E83=30,Data!L83,\"\")","v":""},{"$f":"IF(Data!$E83=30,Data!M83,IF(Data!H83<>\"\",Data!H83,\"\"))","v":""},{"$f":"IF(Data!$E83=30,Data!N83,\"\")","v":""},{"$f":"IF(Data!$E83=30,Data!O83,\"\")","v":""},{"$f":"IF(Data!$E83=30,Data!P83,IF(Data!I83<>\"\",Data!I83,\"\"))","v":""},{"$f":"IF(Data!$E83=30,Data!Q83,\"\")","v":""},{"$f":"IF(Data!$E83=30,Data!R83,\"\")","v":""},{"$f":"IF(Data!$E83=30,Data!S83,IF(Data!J83<>\"\",Data!J83,\"\"))","v":""},{"$f":"IF(Data!$E83=30,Data!T83,\"\")","v":""},{"$f":"IF(Data!$E83=30,Data!U83,\"\")","v":""},{"$f":"IF(Data!$E83=30,Data!V83,IF(Data!K83<>\"\",Data!K83,\"\"))","v":""},{"$f":"IF(Data!$E83=30,Data!W83,\"\")","v":""},{"$f":"IF(Data!$E83=30,Data!X83,\"\")","v":""},{"$f":"IF(Data!$E83=30,Data!Y83,IF(Data!L83<>\"\",Data!L83,\"\"))","v":""},{"$f":"IF(Data!$E83=30,Data!Z83,\"\")","v":""},{"$f":"IF(Data!$E83=30,Data!AA83,\"\")","v":""},{"$f":"IF(Data!$E83=30,Data!AB83,IF(Data!M83<>\"\",Data!M83,\"\"))","v":""},{"$f":"IF(Data!$E83=30,Data!AC83,\"\")","v":""},{"$f":"IF(Data!$E83=30,Data!AD83,\"\")","v":""},{"$f":"IF(Data!$E83=30,Data!AE83,IF(Data!N83<>\"\",Data!N83,\"\"))","v":""},{"$f":"IF(Data!$E83=30,Data!AF83,\"\")","v":""},{"$f":"IF(Data!$E83=30,Data!AG83,\"\")","v":""},{"$f":"IF(Data!$E83=30,Data!AH83,IF(Data!O83<>\"\",Data!O83,\"\"))","v":""},{"$f":"IF(Data!$E83=30,Data!AI83,\"\")","v":""},null,null,null,{"$f":"IF(Data!$E83=30,Data!AJ83,\"\")","v":""},{"$f":"IF(Data!$E83=30,Data!AK83,IF(Data!P83<>\"\",Data!P83,\"\"))","v":""},{"$f":"IF(Data!$E83=30,Data!AL83,\"\")","v":""},{"$f":"IF(Data!$E83=30,Data!AM83,\"\")","v":""},{"$f":"IF(Data!$E83=30,Data!AN83,IF(Data!Q83<>\"\",Data!Q83,\"\"))","v":""},{"$f":"IF(Data!$E83=30,Data!AO83,\"\")","v":""},{"$f":"IF(Data!$E83=30,Data!AP83,\"\")","v":""},{"$f":"IF(Data!$E83=30,Data!AQ83,IF(Data!R83<>\"\",Data!R83,\"\"))","v":""},{"$f":"IF(Data!$E83=30,Data!AR83,\"\")","v":""},{"$f":"IF(Data!$E83=30,Data!AS83,\"\")","v":""},{"$f":"IF(Data!$E83=30,Data!AT83,IF(Data!S83<>\"\",Data!S83,\"\"))","v":""},{"$f":"IF(Data!$E83=30,Data!AU83,\"\")","v":""},{"$f":"IF(Data!$E83=30,Data!AV83,\"\")","v":""},{"$f":"IF(Data!$E83=30,Data!AW83,IF(Data!T83<>\"\",Data!T83,\"\"))","v":""},{"$f":"IF(Data!$E83=30,Data!AX83,\"\")","v":""},{"$f":"IF(Data!$E83=30,Data!AY83,\"\")","v":""},{"$f":"IF(Data!$E83=30,Data!AZ83,IF(Data!U83<>\"\",Data!U83,\"\"))","v":""},{"$f":"IF(Data!$E83=30,Data!BA83,\"\")","v":""},{"$f":"IF(Data!$E83=30,Data!BB83,\"\")","v":""},{"$f":"IF(Data!$E83=30,Data!BC83,IF(Data!V83<>\"\",Data!V83,\"\"))","v":""},{"$f":"IF(Data!$E83=30,Data!BD83,\"\")","v":""},{"$f":"IF(Data!$E83=30,Data!BE83,\"\")","v":""},{"$f":"IF(Data!$E83=30,Data!BF83,IF(Data!W83<>\"\",Data!W83,\"\"))","v":""},{"$f":"IF(Data!$E83=30,Data!BG83,\"\")","v":""},{"$f":"IF(Data!$E83=30,Data!BH83,\"\")","v":""},{"$f":"IF(Data!$E83=30,Data!BI83,IF(Data!X83<>\"\",Data!X83,\"\"))","v":""},{"$f":"IF(Data!$E83=30,Data!BJ83,\"\")","v":""},{"$f":"IF(Data!$E83=30,Data!BK83,\"\")","v":""},{"$f":"IF(Data!$E83=30,Data!BL83,IF(Data!Y83<>\"\",Data!Y83,\"\"))","v":""},{"$f":"IF(Data!$E83=30,Data!BM83,\"\")","v":""}]
[null,{"$f":"IF(Data!A84<>\"\",Data!A84,\"\")","v":""},{"$f":"IF(Data!$E84=30,Data!F84,\"\")","v":""},{"$f":"IF(Data!$E84=30,Data!G84,IF(Data!F84<>\"\",Data!F84,\"\"))","v":""},{"$f":"IF(Data!$E84=30,Data!H84,\"\")","v":""},{"$f":"IF(Data!$E84=30,Data!I84,\"\")","v":""},{"$f":"IF(Data!$E84=30,Data!J84,IF(Data!G84<>\"\",Data!G84,\"\"))","v":""},{"$f":"IF(Data!$E84=30,Data!K84,\"\")","v":""},{"$f":"IF(Data!$E84=30,Data!L84,\"\")","v":""},{"$f":"IF(Data!$E84=30,Data!M84,IF(Data!H84<>\"\",Data!H84,\"\"))","v":""},{"$f":"IF(Data!$E84=30,Data!N84,\"\")","v":""},{"$f":"IF(Data!$E84=30,Data!O84,\"\")","v":""},{"$f":"IF(Data!$E84=30,Data!P84,IF(Data!I84<>\"\",Data!I84,\"\"))","v":""},{"$f":"IF(Data!$E84=30,Data!Q84,\"\")","v":""},{"$f":"IF(Data!$E84=30,Data!R84,\"\")","v":""},{"$f":"IF(Data!$E84=30,Data!S84,IF(Data!J84<>\"\",Data!J84,\"\"))","v":""},{"$f":"IF(Data!$E84=30,Data!T84,\"\")","v":""},{"$f":"IF(Data!$E84=30,Data!U84,\"\")","v":""},{"$f":"IF(Data!$E84=30,Data!V84,IF(Data!K84<>\"\",Data!K84,\"\"))","v":""},{"$f":"IF(Data!$E84=30,Data!W84,\"\")","v":""},{"$f":"IF(Data!$E84=30,Data!X84,\"\")","v":""},{"$f":"IF(Data!$E84=30,Data!Y84,IF(Data!L84<>\"\",Data!L84,\"\"))","v":""},{"$f":"IF(Data!$E84=30,Data!Z84,\"\")","v":""},{"$f":"IF(Data!$E84=30,Data!AA84,\"\")","v":""},{"$f":"IF(Data!$E84=30,Data!AB84,IF(Data!M84<>\"\",Data!M84,\"\"))","v":""},{"$f":"IF(Data!$E84=30,Data!AC84,\"\")","v":""},{"$f":"IF(Data!$E84=30,Data!AD84,\"\")","v":""},{"$f":"IF(Data!$E84=30,Data!AE84,IF(Data!N84<>\"\",Data!N84,\"\"))","v":""},{"$f":"IF(Data!$E84=30,Data!AF84,\"\")","v":""},{"$f":"IF(Data!$E84=30,Data!AG84,\"\")","v":""},{"$f":"IF(Data!$E84=30,Data!AH84,IF(Data!O84<>\"\",Data!O84,\"\"))","v":""},{"$f":"IF(Data!$E84=30,Data!AI84,\"\")","v":""},null,null,null,{"$f":"IF(Data!$E84=30,Data!AJ84,\"\")","v":""},{"$f":"IF(Data!$E84=30,Data!AK84,IF(Data!P84<>\"\",Data!P84,\"\"))","v":""},{"$f":"IF(Data!$E84=30,Data!AL84,\"\")","v":""},{"$f":"IF(Data!$E84=30,Data!AM84,\"\")","v":""},{"$f":"IF(Data!$E84=30,Data!AN84,IF(Data!Q84<>\"\",Data!Q84,\"\"))","v":""},{"$f":"IF(Data!$E84=30,Data!AO84,\"\")","v":""},{"$f":"IF(Data!$E84=30,Data!AP84,\"\")","v":""},{"$f":"IF(Data!$E84=30,Data!AQ84,IF(Data!R84<>\"\",Data!R84,\"\"))","v":""},{"$f":"IF(Data!$E84=30,Data!AR84,\"\")","v":""},{"$f":"IF(Data!$E84=30,Data!AS84,\"\")","v":""},{"$f":"IF(Data!$E84=30,Data!AT84,IF(Data!S84<>\"\",Data!S84,\"\"))","v":""},{"$f":"IF(Data!$E84=30,Data!AU84,\"\")","v":""},{"$f":"IF(Data!$E84=30,Data!AV84,\"\")","v":""},{"$f":"IF(Data!$E84=30,Data!AW84,IF(Data!T84<>\"\",Data!T84,\"\"))","v":""},{"$f":"IF(Data!$E84=30,Data!AX84,\"\")","v":""},{"$f":"IF(Data!$E84=30,Data!AY84,\"\")","v":""},{"$f":"IF(Data!$E84=30,Data!AZ84,IF(Data!U84<>\"\",Data!U84,\"\"))","v":""},{"$f":"IF(Data!$E84=30,Data!BA84,\"\")","v":""},{"$f":"IF(Data!$E84=30,Data!BB84,\"\")","v":""},{"$f":"IF(Data!$E84=30,Data!BC84,IF(Data!V84<>\"\",Data!V84,\"\"))","v":""},{"$f":"IF(Data!$E84=30,Data!BD84,\"\")","v":""},{"$f":"IF(Data!$E84=30,Data!BE84,\"\")","v":""},{"$f":"IF(Data!$E84=30,Data!BF84,IF(Data!W84<>\"\",Data!W84,\"\"))","v":""},{"$f":"IF(Data!$E84=30,Data!BG84,\"\")","v":""},{"$f":"IF(Data!$E84=30,Data!BH84,\"\")","v":""},{"$f":"IF(Data!$E84=30,Data!BI84,IF(Data!X84<>\"\",Data!X84,\"\"))","v":""},{"$f":"IF(Data!$E84=30,Data!BJ84,\"\")","v":""},{"$f":"IF(Data!$E84=30,Data!BK84,\"\")","v":""},{"$f":"IF(Data!$E84=30,Data!BL84,IF(Data!Y84<>\"\",Data!Y84,\"\"))","v":""},{"$f":"IF(Data!$E84=30,Data!BM84,\"\")","v":""}]
[null,{"$f":"IF(Data!A85<>\"\",Data!A85,\"\")","v":""},{"$f":"IF(Data!$E85=30,Data!F85,\"\")","v":""},{"$f":"IF(Data!$E85=30,Data!G85,IF(Data!F85<>\"\",Data!F85,\"\"))","v":""},{"$f":"IF(Data!$E85=30,Data!H85,\"\")","v":""},{"$f":"IF(Data!$E85=30,Data!I85,\"\")","v":""},{"$f":"IF(Data!$E85=30,Data!J85,IF(Data!G85<>\"\",Data!G85,\"\"))","v":""},{"$f":"IF(Data!$E85=30,Data!K85,\"\")","v":""},{"$f":"IF(Data!$E85=30,Data!L85,\"\")","v":""},{"$f":"IF(Data!$E85=30,Data!M85,IF(Data!H85<>\"\",Data!H85,\"\"))","v":""},{"$f":"IF(Data!$E85=30,Data!N85,\"\")","v":""},{"$f":"IF(Data!$E85=30,Data!O85,\"\")","v":""},{"$f":"IF(Data!$E85=30,Data!P85,IF(Data!I85<>\"\",Data!I85,\"\"))","v":""},{"$f":"IF(Data!$E85=30,Data!Q85,\"\")","v":""},{"$f":"IF(Data!$E85=30,Data!R85,\"\")","v":""},{"$f":"IF(Data!$E85=30,Data!S85,IF(Data!J85<>\"\",Data!J85,\"\"))","v":""},{"$f":"IF(Data!$E85=30,Data!T85,\"\")","v":""},{"$f":"IF(Data!$E85=30,Data!U85,\"\")","v":""},{"$f":"IF(Data!$E85=30,Data!V85,IF(Data!K85<>\"\",Data!K85,\"\"))","v":""},{"$f":"IF(Data!$E85=30,Data!W85,\"\")","v":""},{"$f":"IF(Data!$E85=30,Data!X85,\"\")","v":""},{"$f":"IF(Data!$E85=30,Data!Y85,IF(Data!L85<>\"\",Data!L85,\"\"))","v":""},{"$f":"IF(Data!$E85=30,Data!Z85,\"\")","v":""},{"$f":"IF(Data!$E85=30,Data!AA85,\"\")","v":""},{"$f":"IF(Data!$E85=30,Data!AB85,IF(Data!M85<>\"\",Data!M85,\"\"))","v":""},{"$f":"IF(Data!$E85=30,Data!AC85,\"\")","v":""},{"$f":"IF(Data!$E85=30,Data!AD85,\"\")","v":""},{"$f":"IF(Data!$E85=30,Data!AE85,IF(Data!N85<>\"\",Data!N85,\"\"))","v":""},{"$f":"IF(Data!$E85=30,Data!AF85,\"\")","v":""},{"$f":"IF(Data!$E85=30,Data!AG85,\"\")","v":""},{"$f":"IF(Data!$E85=30,Data!AH85,IF(Data!O85<>\"\",Data!O85,\"\"))","v":""},{"$f":"IF(Data!$E85=30,Data!AI85,\"\")","v":""},null,null,null,{"$f":"IF(Data!$E85=30,Data!AJ85,\"\")","v":""},{"$f":"IF(Data!$E85=30,Data!AK85,IF(Data!P85<>\"\",Data!P85,\"\"))","v":""},{"$f":"IF(Data!$E85=30,Data!AL85,\"\")","v":""},{"$f":"IF(Data!$E85=30,Data!AM85,\"\")","v":""},{"$f":"IF(Data!$E85=30,Data!AN85,IF(Data!Q85<>\"\",Data!Q85,\"\"))","v":""},{"$f":"IF(Data!$E85=30,Data!AO85,\"\")","v":""},{"$f":"IF(Data!$E85=30,Data!AP85,\"\")","v":""},{"$f":"IF(Data!$E85=30,Data!AQ85,IF(Data!R85<>\"\",Data!R85,\"\"))","v":""},{"$f":"IF(Data!$E85=30,Data!AR85,\"\")","v":""},{"$f":"IF(Data!$E85=30,Data!AS85,\"\")","v":""},{"$f":"IF(Data!$E85=30,Data!AT85,IF(Data!S85<>\"\",Data!S85,\"\"))","v":""},{"$f":"IF(Data!$E85=30,Data!AU85,\"\")","v":""},{"$f":"IF(Data!$E85=30,Data!AV85,\"\")","v":""},{"$f":"IF(Data!$E85=30,Data!AW85,IF(Data!T85<>\"\",Data!T85,\"\"))","v":""},{"$f":"IF(Data!$E85=30,Data!AX85,\"\")","v":""},{"$f":"IF(Data!$E85=30,Data!AY85,\"\")","v":""},{"$f":"IF(Data!$E85=30,Data!AZ85,IF(Data!U85<>\"\",Data!U85,\"\"))","v":""},{"$f":"IF(Data!$E85=30,Data!BA85,\"\")","v":""},{"$f":"IF(Data!$E85=30,Data!BB85,\"\")","v":""},{"$f":"IF(Data!$E85=30,Data!BC85,IF(Data!V85<>\"\",Data!V85,\"\"))","v":""},{"$f":"IF(Data!$E85=30,Data!BD85,\"\")","v":""},{"$f":"IF(Data!$E85=30,Data!BE85,\"\")","v":""},{"$f":"IF(Data!$E85=30,Data!BF85,IF(Data!W85<>\"\",Data!W85,\"\"))","v":""},{"$f":"IF(Data!$E85=30,Data!BG85,\"\")","v":""},{"$f":"IF(Data!$E85=30,Data!BH85,\"\")","v":""},{"$f":"IF(Data!$E85=30,Data!BI85,IF(Data!X85<>\"\",Data!X85,\"\"))","v":""},{"$f":"IF(Data!$E85=30,Data!BJ85,\"\")","v":""},{"$f":"IF(Data!$E85=30,Data!BK85,\"\")","v":""},{"$f":"IF(Data!$E85=30,Data!BL85,IF(Data!Y85<>\"\",Data!Y85,\"\"))","v":""},{"$f":"IF(Data!$E85=30,Data!BM85,\"\")","v":""}]
[null,{"$f":"IF(Data!A86<>\"\",Data!A86,\"\")","v":""},{"$f":"IF(Data!$E86=30,Data!F86,\"\")","v":""},{"$f":"IF(Data!$E86=30,Data!G86,IF(Data!F86<>\"\",Data!F86,\"\"))","v":""},{"$f":"IF(Data!$E86=30,Data!H86,\"\")","v":""},{"$f":"IF(Data!$E86=30,Data!I86,\"\")","v":""},{"$f":"IF(Data!$E86=30,Data!J86,IF(Data!G86<>\"\",Data!G86,\"\"))","v":""},{"$f":"IF(Data!$E86=30,Data!K86,\"\")","v":""},{"$f":"IF(Data!$E86=30,Data!L86,\"\")","v":""},{"$f":"IF(Data!$E86=30,Data!M86,IF(Data!H86<>\"\",Data!H86,\"\"))","v":""},{"$f":"IF(Data!$E86=30,Data!N86,\"\")","v":""},{"$f":"IF(Data!$E86=30,Data!O86,\"\")","v":""},{"$f":"IF(Data!$E86=30,Data!P86,IF(Data!I86<>\"\",Data!I86,\"\"))","v":""},{"$f":"IF(Data!$E86=30,Data!Q86,\"\")","v":""},{"$f":"IF(Data!$E86=30,Data!R86,\"\")","v":""},{"$f":"IF(Data!$E86=30,Data!S86,IF(Data!J86<>\"\",Data!J86,\"\"))","v":""},{"$f":"IF(Data!$E86=30,Data!T86,\"\")","v":""},{"$f":"IF(Data!$E86=30,Data!U86,\"\")","v":""},{"$f":"IF(Data!$E86=30,Data!V86,IF(Data!K86<>\"\",Data!K86,\"\"))","v":""},{"$f":"IF(Data!$E86=30,Data!W86,\"\")","v":""},{"$f":"IF(Data!$E86=30,Data!X86,\"\")","v":""},{"$f":"IF(Data!$E86=30,Data!Y86,IF(Data!L86<>\"\",Data!L86,\"\"))","v":""},{"$f":"IF(Data!$E86=30,Data!Z86,\"\")","v":""},{"$f":"IF(Data!$E86=30,Data!AA86,\"\")","v":""},{"$f":"IF(Data!$E86=30,Data!AB86,IF(Data!M86<>\"\",Data!M86,\"\"))","v":""},{"$f":"IF(Data!$E86=30,Data!AC86,\"\")","v":""},{"$f":"IF(Data!$E86=30,Data!AD86,\"\")","v":""},{"$f":"IF(Data!$E86=30,Data!AE86,IF(Data!N86<>\"\",Data!N86,\"\"))","v":""},{"$f":"IF(Data!$E86=30,Data!AF86,\"\")","v":""},{"$f":"IF(Data!$E86=30,Data!AG86,\"\")","v":""},{"$f":"IF(Data!$E86=30,Data!AH86,IF(Data!O86<>\"\",Data!O86,\"\"))","v":""},{"$f":"IF(Data!$E86=30,Data!AI86,\"\")","v":""},null,null,null,{"$f":"IF(Data!$E86=30,Data!AJ86,\"\")","v":""},{"$f":"IF(Data!$E86=30,Data!AK86,IF(Data!P86<>\"\",Data!P86,\"\"))","v":""},{"$f":"IF(Data!$E86=30,Data!AL86,\"\")","v":""},{"$f":"IF(Data!$E86=30,Data!AM86,\"\")","v":""},{"$f":"IF(Data!$E86=30,Data!AN86,IF(Data!Q86<>\"\",Data!Q86,\"\"))","v":""},{"$f":"IF(Data!$E86=30,Data!AO86,\"\")","v":""},{"$f":"IF(Data!$E86=30,Data!AP86,\"\")","v":""},{"$f":"IF(Data!$E86=30,Data!AQ86,IF(Data!R86<>\"\",Data!R86,\"\"))","v":""},{"$f":"IF(Data!$E86=30,Data!AR86,\"\")","v":""},{"$f":"IF(Data!$E86=30,Data!AS86,\"\")","v":""},{"$f":"IF(Data!$E86=30,Data!AT86,IF(Data!S86<>\"\",Data!S86,\"\"))","v":""},{"$f":"IF(Data!$E86=30,Data!AU86,\"\")","v":""},{"$f":"IF(Data!$E86=30,Data!AV86,\"\")","v":""},{"$f":"IF(Data!$E86=30,Data!AW86,IF(Data!T86<>\"\",Data!T86,\"\"))","v":""},{"$f":"IF(Data!$E86=30,Data!AX86,\"\")","v":""},{"$f":"IF(Data!$E86=30,Data!AY86,\"\")","v":""},{"$f":"IF(Data!$E86=30,Data!AZ86,IF(Data!U86<>\"\",Data!U86,\"\"))","v":""},{"$f":"IF(Data!$E86=30,Data!BA86,\"\")","v":""},{"$f":"IF(Data!$E86=30,Data!BB86,\"\")","v":""},{"$f":"IF(Data!$E86=30,Data!BC86,IF(Data!V86<>\"\",Data!V86,\"\"))","v":""},{"$f":"IF(Data!$E86=30,Data!BD86,\"\")","v":""},{"$f":"IF(Data!$E86=30,Data!BE86,\"\")","v":""},{"$f":"IF(Data!$E86=30,Data!BF86,IF(Data!W86<>\"\",Data!W86,\"\"))","v":""},{"$f":"IF(Data!$E86=30,Data!BG86,\"\")","v":""},{"$f":"IF(Data!$E86=30,Data!BH86,\"\")","v":""},{"$f":"IF(Data!$E86=30,Data!BI86,IF(Data!X86<>\"\",Data!X86,\"\"))","v":""},{"$f":"IF(Data!$E86=30,Data!BJ86,\"\")","v":""},{"$f":"IF(Data!$E86=30,Data!BK86,\"\")","v":""},{"$f":"IF(Data!$E86=30,Data!BL86,IF(Data!Y86<>\"\",Data!Y86,\"\"))","v":""},{"$f":"IF(Data!$E86=30,Data!BM86,\"\")","v":""}]
[null,{"$f":"IF(Data!A87<>\"\",Data!A87,\"\")","v":""},{"$f":"IF(Data!$E87=30,Data!F87,\"\")","v":""},{"$f":"IF(Data!$E87=30,Data!G87,IF(Data!F87<>\"\",Data!F87,\"\"))","v":""},{"$f":"IF(Data!$E87=30,Data!H87,\"\")","v":""},{"$f":"IF(Data!$E87=30,Data!I87,\"\")","v":""},{"$f":"IF(Data!$E87=30,Data!J87,IF(Data!G87<>\"\",Data!G87,\"\"))","v":""},{"$f":"IF(Data!$E87=30,Data!K87,\"\")","v":""},{"$f":"IF(Data!$E87=30,Data!L87,\"\")","v":""},{"$f":"IF(Data!$E87=30,Data!M87,IF(Data!H87<>\"\",Data!H87,\"\"))","v":""},{"$f":"IF(Data!$E87=30,Data!N87,\"\")","v":""},{"$f":"IF(Data!$E87=30,Data!O87,\"\")","v":""},{"$f":"IF(Data!$E87=30,Data!P87,IF(Data!I87<>\"\",Data!I87,\"\"))","v":""},{"$f":"IF(Data!$E87=30,Data!Q87,\"\")","v":""},{"$f":"IF(Data!$E87=30,Data!R87,\"\")","v":""},{"$f":"IF(Data!$E87=30,Data!S87,IF(Data!J87<>\"\",Data!J87,\"\"))","v":""},{"$f":"IF(Data!$E87=30,Data!T87,\"\")","v":""},{"$f":"IF(Data!$E87=30,Data!U87,\"\")","v":""},{"$f":"IF(Data!$E87=30,Data!V87,IF(Data!K87<>\"\",Data!K87,\"\"))","v":""},{"$f":"IF(Data!$E87=30,Data!W87,\"\")","v":""},{"$f":"IF(Data!$E87=30,Data!X87,\"\")","v":""},{"$f":"IF(Data!$E87=30,Data!Y87,IF(Data!L87<>\"\",Data!L87,\"\"))","v":""},{"$f":"IF(Data!$E87=30,Data!Z87,\"\")","v":""},{"$f":"IF(Data!$E87=30,Data!AA87,\"\")","v":""},{"$f":"IF(Data!$E87=30,Data!AB87,IF(Data!M87<>\"\",Data!M87,\"\"))","v":""},{"$f":"IF(Data!$E87=30,Data!AC87,\"\")","v":""},{"$f":"IF(Data!$E87=30,Data!AD87,\"\")","v":""},{"$f":"IF(Data!$E87=30,Data!AE87,IF(Data!N87<>\"\",Data!N87,\"\"))","v":""},{"$f":"IF(Data!$E87=30,Data!AF87,\"\")","v":""},{"$f":"IF(Data!$E87=30,Data!AG87,\"\")","v":""},{"$f":"IF(Data!$E87=30,Data!AH87,IF(Data!O87<>\"\",Data!O87,\"\"))","v":""},{"$f":"IF(Data!$E87=30,Data!AI87,\"\")","v":""},null,null,null,{"$f":"IF(Data!$E87=30,Data!AJ87,\"\")","v":""},{"$f":"IF(Data!$E87=30,Data!AK87,IF(Data!P87<>\"\",Data!P87,\"\"))","v":""},{"$f":"IF(Data!$E87=30,Data!AL87,\"\")","v":""},{"$f":"IF(Data!$E87=30,Data!AM87,\"\")","v":""},{"$f":"IF(Data!$E87=30,Data!AN87,IF(Data!Q87<>\"\",Data!Q87,\"\"))","v":""},{"$f":"IF(Data!$E87=30,Data!AO87,\"\")","v":""},{"$f":"IF(Data!$E87=30,Data!AP87,\"\")","v":""},{"$f":"IF(Data!$E87=30,Data!AQ87,IF(Data!R87<>\"\",Data!R87,\"\"))","v":""},{"$f":"IF(Data!$E87=30,Data!AR87,\"\")","v":""},{"$f":"IF(Data!$E87=30,Data!AS87,\"\")","v":""},{"$f":"IF(Data!$E87=30,Data!AT87,IF(Data!S87<>\"\",Data!S87,\"\"))","v":""},{"$f":"IF(Data!$E87=30,Data!AU87,\"\")","v":""},{"$f":"IF(Data!$E87=30,Data!AV87,\"\")","v":""},{"$f":"IF(Data!$E87=30,Data!AW87,IF(Data!T87<>\"\",Data!T87,\"\"))","v":""},{"$f":"IF(Data!$E87=30,Data!AX87,\"\")","v":""},{"$f":"IF(Data!$E87=30,Data!AY87,\"\")","v":""},{"$f":"IF(Data!$E87=30,Data!AZ87,IF(Data!U87<>\"\",Data!U87,\"\"))","v":""},{"$f":"IF(Data!$E87=30,Data!BA87,\"\")","v":""},{"$f":"IF(Data!$E87=30,Data!BB87,\"\")","v":""},{"$f":"IF(Data!$E87=30,Data!BC87,IF(Data!V87<>\"\",Data!V87,\"\"))","v":""},{"$f":"IF(Data!$E87=30,Data!BD87,\"\")","v":""},{"$f":"IF(Data!$E87=30,Data!BE87,\"\")","v":""},{"$f":"IF(Data!$E87=30,Data!BF87,IF(Data!W87<>\"\",Data!W87,\"\"))","v":""},{"$f":"IF(Data!$E87=30,Data!BG87,\"\")","v":""},{"$f":"IF(Data!$E87=30,Data!BH87,\"\")","v":""},{"$f":"IF(Data!$E87=30,Data!BI87,IF(Data!X87<>\"\",Data!X87,\"\"))","v":""},{"$f":"IF(Data!$E87=30,Data!BJ87,\"\")","v":""},{"$f":"IF(Data!$E87=30,Data!BK87,\"\")","v":""},{"$f":"IF(Data!$E87=30,Data!BL87,IF(Data!Y87<>\"\",Data!Y87,\"\"))","v":""},{"$f":"IF(Data!$E87=30,Data!BM87,\"\")","v":""}]
[null,{"$f":"IF(Data!A88<>\"\",Data!A88,\"\")","v":""},{"$f":"IF(Data!$E88=30,Data!F88,\"\")","v":""},{"$f":"IF(Data!$E88=30,Data!G88,IF(Data!F88<>\"\",Data!F88,\"\"))","v":""},{"$f":"IF(Data!$E88=30,Data!H88,\"\")","v":""},{"$f":"IF(Data!$E88=30,Data!I88,\"\")","v":""},{"$f":"IF(Data!$E88=30,Data!J88,IF(Data!G88<>\"\",Data!G88,\"\"))","v":""},{"$f":"IF(Data!$E88=30,Data!K88,\"\")","v":""},{"$f":"IF(Data!$E88=30,Data!L88,\"\")","v":""},{"$f":"IF(Data!$E88=30,Data!M88,IF(Data!H88<>\"\",Data!H88,\"\"))","v":""},{"$f":"IF(Data!$E88=30,Data!N88,\"\")","v":""},{"$f":"IF(Data!$E88=30,Data!O88,\"\")","v":""},{"$f":"IF(Data!$E88=30,Data!P88,IF(Data!I88<>\"\",Data!I88,\"\"))","v":""},{"$f":"IF(Data!$E88=30,Data!Q88,\"\")","v":""},{"$f":"IF(Data!$E88=30,Data!R88,\"\")","v":""},{"$f":"IF(Data!$E88=30,Data!S88,IF(Data!J88<>\"\",Data!J88,\"\"))","v":""},{"$f":"IF(Data!$E88=30,Data!T88,\"\")","v":""},{"$f":"IF(Data!$E88=30,Data!U88,\"\")","v":""},{"$f":"IF(Data!$E88=30,Data!V88,IF(Data!K88<>\"\",Data!K88,\"\"))","v":""},{"$f":"IF(Data!$E88=30,Data!W88,\"\")","v":""},{"$f":"IF(Data!$E88=30,Data!X88,\"\")","v":""},{"$f":"IF(Data!$E88=30,Data!Y88,IF(Data!L88<>\"\",Data!L88,\"\"))","v":""},{"$f":"IF(Data!$E88=30,Data!Z88,\"\")","v":""},{"$f":"IF(Data!$E88=30,Data!AA88,\"\")","v":""},{"$f":"IF(Data!$E88=30,Data!AB88,IF(Data!M88<>\"\",Data!M88,\"\"))","v":""},{"$f":"IF(Data!$E88=30,Data!AC88,\"\")","v":""},{"$f":"IF(Data!$E88=30,Data!AD88,\"\")","v":""},{"$f":"IF(Data!$E88=30,Data!AE88,IF(Data!N88<>\"\",Data!N88,\"\"))","v":""},{"$f":"IF(Data!$E88=30,Data!AF88,\"\")","v":""},{"$f":"IF(Data!$E88=30,Data!AG88,\"\")","v":""},{"$f":"IF(Data!$E88=30,Data!AH88,IF(Data!O88<>\"\",Data!O88,\"\"))","v":""},{"$f":"IF(Data!$E88=30,Data!AI88,\"\")","v":""},null,null,null,{"$f":"IF(Data!$E88=30,Data!AJ88,\"\")","v":""},{"$f":"IF(Data!$E88=30,Data!AK88,IF(Data!P88<>\"\",Data!P88,\"\"))","v":""},{"$f":"IF(Data!$E88=30,Data!AL88,\"\")","v":""},{"$f":"IF(Data!$E88=30,Data!AM88,\"\")","v":""},{"$f":"IF(Data!$E88=30,Data!AN88,IF(Data!Q88<>\"\",Data!Q88,\"\"))","v":""},{"$f":"IF(Data!$E88=30,Data!AO88,\"\")","v":""},{"$f":"IF(Data!$E88=30,Data!AP88,\"\")","v":""},{"$f":"IF(Data!$E88=30,Data!AQ88,IF(Data!R88<>\"\",Data!R88,\"\"))","v":""},{"$f":"IF(Data!$E88=30,Data!AR88,\"\")","v":""},{"$f":"IF(Data!$E88=30,Data!AS88,\"\")","v":""},{"$f":"IF(Data!$E88=30,Data!AT88,IF(Data!S88<>\"\",Data!S88,\"\"))","v":""},{"$f":"IF(Data!$E88=30,Data!AU88,\"\")","v":""},{"$f":"IF(Data!$E88=30,Data!AV88,\"\")","v":""},{"$f":"IF(Data!$E88=30,Data!AW88,IF(Data!T88<>\"\",Data!T88,\"\"))","v":""},{"$f":"IF(Data!$E88=30,Data!AX88,\"\")","v":""},{"$f":"IF(Data!$E88=30,Data!AY88,\"\")","v":""},{"$f":"IF(Data!$E88=30,Data!AZ88,IF(Data!U88<>\"\",Data!U88,\"\"))","v":""},{"$f":"IF(Data!$E88=30,Data!BA88,\"\")","v":""},{"$f":"IF(Data!$E88=30,Data!BB88,\"\")","v":""},{"$f":"IF(Data!$E88=30,Data!BC88,IF(Data!V88<>\"\",Data!V88,\"\"))","v":""},{"$f":"IF(Data!$E88=30,Data!BD88,\"\")","v":""},{"$f":"IF(Data!$E88=30,Data!BE88,\"\")","v":""},{"$f":"IF(Data!$E88=30,Data!BF88,IF(Data!W88<>\"\",Data!W88,\"\"))","v":""},{"$f":"IF(Data!$E88=30,Data!BG88,\"\")","v":""},{"$f":"IF(Data!$E88=30,Data!BH88,\"\")","v":""},{"$f":"IF(Data!$E88=30,Data!BI88,IF(Data!X88<>\"\",Data!X88,\"\"))","v":""},{"$f":"IF(Data!$E88=30,Data!BJ88,\"\")","v":""},{"$f":"IF(Data!$E88=30,Data!BK88,\"\")","v":""},{"$f":"IF(Data!$E88=30,Data!BL88,IF(Data!Y88<>\"\",Data!Y88,\"\"))","v":""},{"$f":"IF(Data!$E88=30,Data!BM88,\"\")","v":""}]
[null,{"$f":"IF(Data!A89<>\"\",Data!A89,\"\")","v":""},{"$f":"IF(Data!$E89=30,Data!F89,\"\")","v":""},{"$f":"IF(Data!$E89=30,Data!G89,IF(Data!F89<>\"\",Data!F89,\"\"))","v":""},{"$f":"IF(Data!$E89=30,Data!H89,\"\")","v":""},{"$f":"IF(Data!$E89=30,Data!I89,\"\")","v":""},{"$f":"IF(Data!$E89=30,Data!J89,IF(Data!G89<>\"\",Data!G89,\"\"))","v":""},{"$f":"IF(Data!$E89=30,Data!K89,\"\")","v":""},{"$f":"IF(Data!$E89=30,Data!L89,\"\")","v":""},{"$f":"IF(Data!$E89=30,Data!M89,IF(Data!H89<>\"\",Data!H89,\"\"))","v":""},{"$f":"IF(Data!$E89=30,Data!N89,\"\")","v":""},{"$f":"IF(Data!$E89=30,Data!O89,\"\")","v":""},{"$f":"IF(Data!$E89=30,Data!P89,IF(Data!I89<>\"\",Data!I89,\"\"))","v":""},{"$f":"IF(Data!$E89=30,Data!Q89,\"\")","v":""},{"$f":"IF(Data!$E89=30,Data!R89,\"\")","v":""},{"$f":"IF(Data!$E89=30,Data!S89,IF(Data!J89<>\"\",Data!J89,\"\"))","v":""},{"$f":"IF(Data!$E89=30,Data!T89,\"\")","v":""},{"$f":"IF(Data!$E89=30,Data!U89,\"\")","v":""},{"$f":"IF(Data!$E89=30,Data!V89,IF(Data!K89<>\"\",Data!K89,\"\"))","v":""},{"$f":"IF(Data!$E89=30,Data!W89,\"\")","v":""},{"$f":"IF(Data!$E89=30,Data!X89,\"\")","v":""},{"$f":"IF(Data!$E89=30,Data!Y89,IF(Data!L89<>\"\",Data!L89,\"\"))","v":""},{"$f":"IF(Data!$E89=30,Data!Z89,\"\")","v":""},{"$f":"IF(Data!$E89=30,Data!AA89,\"\")","v":""},{"$f":"IF(Data!$E89=30,Data!AB89,IF(Data!M89<>\"\",Data!M89,\"\"))","v":""},{"$f":"IF(Data!$E89=30,Data!AC89,\"\")","v":""},{"$f":"IF(Data!$E89=30,Data!AD89,\"\")","v":""},{"$f":"IF(Data!$E89=30,Data!AE89,IF(Data!N89<>\"\",Data!N89,\"\"))","v":""},{"$f":"IF(Data!$E89=30,Data!AF89,\"\")","v":""},{"$f":"IF(Data!$E89=30,Data!AG89,\"\")","v":""},{"$f":"IF(Data!$E89=30,Data!AH89,IF(Data!O89<>\"\",Data!O89,\"\"))","v":""},{"$f":"IF(Data!$E89=30,Data!AI89,\"\")","v":""},null,null,null,{"$f":"IF(Data!$E89=30,Data!AJ89,\"\")","v":""},{"$f":"IF(Data!$E89=30,Data!AK89,IF(Data!P89<>\"\",Data!P89,\"\"))","v":""},{"$f":"IF(Data!$E89=30,Data!AL89,\"\")","v":""},{"$f":"IF(Data!$E89=30,Data!AM89,\"\")","v":""},{"$f":"IF(Data!$E89=30,Data!AN89,IF(Data!Q89<>\"\",Data!Q89,\"\"))","v":""},{"$f":"IF(Data!$E89=30,Data!AO89,\"\")","v":""},{"$f":"IF(Data!$E89=30,Data!AP89,\"\")","v":""},{"$f":"IF(Data!$E89=30,Data!AQ89,IF(Data!R89<>\"\",Data!R89,\"\"))","v":""},{"$f":"IF(Data!$E89=30,Data!AR89,\"\")","v":""},{"$f":"IF(Data!$E89=30,Data!AS89,\"\")","v":""},{"$f":"IF(Data!$E89=30,Data!AT89,IF(Data!S89<>\"\",Data!S89,\"\"))","v":""},{"$f":"IF(Data!$E89=30,Data!AU89,\"\")","v":""},{"$f":"IF(Data!$E89=30,Data!AV89,\"\")","v":""},{"$f":"IF(Data!$E89=30,Data!AW89,IF(Data!T89<>\"\",Data!T89,\"\"))","v":""},{"$f":"IF(Data!$E89=30,Data!AX89,\"\")","v":""},{"$f":"IF(Data!$E89=30,Data!AY89,\"\")","v":""},{"$f":"IF(Data!$E89=30,Data!AZ89,IF(Data!U89<>\"\",Data!U89,\"\"))","v":""},{"$f":"IF(Data!$E89=30,Data!BA89,\"\")","v":""},{"$f":"IF(Data!$E89=30,Data!BB89,\"\")","v":""},{"$f":"IF(Data!$E89=30,Data!BC89,IF(Data!V89<>\"\",Data!V89,\"\"))","v":""},{"$f":"IF(Data!$E89=30,Data!BD89,\"\")","v":""},{"$f":"IF(Data!$E89=30,Data!BE89,\"\")","v":""},{"$f":"IF(Data!$E89=30,Data!BF89,IF(Data!W89<>\"\",Data!W89,\"\"))","v":""},{"$f":"IF(Data!$E89=30,Data!BG89,\"\")","v":""},{"$f":"IF(Data!$E89=30,Data!BH89,\"\")","v":""},{"$f":"IF(Data!$E89=30,Data!BI89,IF(Data!X89<>\"\",Data!X89,\"\"))","v":""},{"$f":"IF(Data!$E89=30,Data!BJ89,\"\")","v":""},{"$f":"IF(Data!$E89=30,Data!BK89,\"\")","v":""},{"$f":"IF(Data!$E89=30,Data!BL89,IF(Data!Y89<>\"\",Data!Y89,\"\"))","v":""},{"$f":"IF(Data!$E89=30,Data!BM89,\"\")","v":""}]
[null,{"$f":"IF(Data!A90<>\"\",Data!A90,\"\")","v":""},{"$f":"IF(Data!$E90=30,Data!F90,\"\")","v":""},{"$f":"IF(Data!$E90=30,Data!G90,IF(Data!F90<>\"\",Data!F90,\"\"))","v":""},{"$f":"IF(Data!$E90=30,Data!H90,\"\")","v":""},{"$f":"IF(Data!$E90=30,Data!I90,\"\")","v":""},{"$f":"IF(Data!$E90=30,Data!J90,IF(Data!G90<>\"\",Data!G90,\"\"))","v":""},{"$f":"IF(Data!$E90=30,Data!K90,\"\")","v":""},{"$f":"IF(Data!$E90=30,Data!L90,\"\")","v":""},{"$f":"IF(Data!$E90=30,Data!M90,IF(Data!H90<>\"\",Data!H90,\"\"))","v":""},{"$f":"IF(Data!$E90=30,Data!N90,\"\")","v":""},{"$f":"IF(Data!$E90=30,Data!O90,\"\")","v":""},{"$f":"IF(Data!$E90=30,Data!P90,IF(Data!I90<>\"\",Data!I90,\"\"))","v":""},{"$f":"IF(Data!$E90=30,Data!Q90,\"\")","v":""},{"$f":"IF(Data!$E90=30,Data!R90,\"\")","v":""},{"$f":"IF(Data!$E90=30,Data!S90,IF(Data!J90<>\"\",Data!J90,\"\"))","v":""},{"$f":"IF(Data!$E90=30,Data!T90,\"\")","v":""},{"$f":"IF(Data!$E90=30,Data!U90,\"\")","v":""},{"$f":"IF(Data!$E90=30,Data!V90,IF(Data!K90<>\"\",Data!K90,\"\"))","v":""},{"$f":"IF(Data!$E90=30,Data!W90,\"\")","v":""},{"$f":"IF(Data!$E90=30,Data!X90,\"\")","v":""},{"$f":"IF(Data!$E90=30,Data!Y90,IF(Data!L90<>\"\",Data!L90,\"\"))","v":""},{"$f":"IF(Data!$E90=30,Data!Z90,\"\")","v":""},{"$f":"IF(Data!$E90=30,Data!AA90,\"\")","v":""},{"$f":"IF(Data!$E90=30,Data!AB90,IF(Data!M90<>\"\",Data!M90,\"\"))","v":""},{"$f":"IF(Data!$E90=30,Data!AC90,\"\")","v":""},{"$f":"IF(Data!$E90=30,Data!AD90,\"\")","v":""},{"$f":"IF(Data!$E90=30,Data!AE90,IF(Data!N90<>\"\",Data!N90,\"\"))","v":""},{"$f":"IF(Data!$E90=30,Data!AF90,\"\")","v":""},{"$f":"IF(Data!$E90=30,Data!AG90,\"\")","v":""},{"$f":"IF(Data!$E90=30,Data!AH90,IF(Data!O90<>\"\",Data!O90,\"\"))","v":""},{"$f":"IF(Data!$E90=30,Data!AI90,\"\")","v":""},null,null,null,{"$f":"IF(Data!$E90=30,Data!AJ90,\"\")","v":""},{"$f":"IF(Data!$E90=30,Data!AK90,IF(Data!P90<>\"\",Data!P90,\"\"))","v":""},{"$f":"IF(Data!$E90=30,Data!AL90,\"\")","v":""},{"$f":"IF(Data!$E90=30,Data!AM90,\"\")","v":""},{"$f":"IF(Data!$E90=30,Data!AN90,IF(Data!Q90<>\"\",Data!Q90,\"\"))","v":""},{"$f":"IF(Data!$E90=30,Data!AO90,\"\")","v":""},{"$f":"IF(Data!$E90=30,Data!AP90,\"\")","v":""},{"$f":"IF(Data!$E90=30,Data!AQ90,IF(Data!R90<>\"\",Data!R90,\"\"))","v":""},{"$f":"IF(Data!$E90=30,Data!AR90,\"\")","v":""},{"$f":"IF(Data!$E90=30,Data!AS90,\"\")","v":""},{"$f":"IF(Data!$E90=30,Data!AT90,IF(Data!S90<>\"\",Data!S90,\"\"))","v":""},{"$f":"IF(Data!$E90=30,Data!AU90,\"\")","v":""},{"$f":"IF(Data!$E90=30,Data!AV90,\"\")","v":""},{"$f":"IF(Data!$E90=30,Data!AW90,IF(Data!T90<>\"\",Data!T90,\"\"))","v":""},{"$f":"IF(Data!$E90=30,Data!AX90,\"\")","v":""},{"$f":"IF(Data!$E90=30,Data!AY90,\"\")","v":""},{"$f":"IF(Data!$E90=30,Data!AZ90,IF(Data!U90<>\"\",Data!U90,\"\"))","v":""},{"$f":"IF(Data!$E90=30,Data!BA90,\"\")","v":""},{"$f":"IF(Data!$E90=30,Data!BB90,\"\")","v":""},{"$f":"IF(Data!$E90=30,Data!BC90,IF(Data!V90<>\"\",Data!V90,\"\"))","v":""},{"$f":"IF(Data!$E90=30,Data!BD90,\"\")","v":""},{"$f":"IF(Data!$E90=30,Data!BE90,\"\")","v":""},{"$f":"IF(Data!$E90=30,Data!BF90,IF(Data!W90<>\"\",Data!W90,\"\"))","v":""},{"$f":"IF(Data!$E90=30,Data!BG90,\"\")","v":""},{"$f":"IF(Data!$E90=30,Data!BH90,\"\")","v":""},{"$f":"IF(Data!$E90=30,Data!BI90,IF(Data!X90<>\"\",Data!X90,\"\"))","v":""},{"$f":"IF(Data!$E90=30,Data!BJ90,\"\")","v":""},{"$f":"IF(Data!$E90=30,Data!BK90,\"\")","v":""},{"$f":"IF(Data!$E90=30,Data!BL90,IF(Data!Y90<>\"\",Data!Y90,\"\"))","v":""},{"$f":"IF(Data!$E90=30,Data!BM90,\"\")","v":""}]
[null,{"$f":"IF(Data!A91<>\"\",Data!A91,\"\")","v":""},{"$f":"IF(Data!$E91=30,Data!F91,\"\")","v":""},{"$f":"IF(Data!$E91=30,Data!G91,IF(Data!F91<>\"\",Data!F91,\"\"))","v":""},{"$f":"IF(Data!$E91=30,Data!H91,\"\")","v":""},{"$f":"IF(Data!$E91=30,Data!I91,\"\")","v":""},{"$f":"IF(Data!$E91=30,Data!J91,IF(Data!G91<>\"\",Data!G91,\"\"))","v":""},{"$f":"IF(Data!$E91=30,Data!K91,\"\")","v":""},{"$f":"IF(Data!$E91=30,Data!L91,\"\")","v":""},{"$f":"IF(Data!$E91=30,Data!M91,IF(Data!H91<>\"\",Data!H91,\"\"))","v":""},{"$f":"IF(Data!$E91=30,Data!N91,\"\")","v":""},{"$f":"IF(Data!$E91=30,Data!O91,\"\")","v":""},{"$f":"IF(Data!$E91=30,Data!P91,IF(Data!I91<>\"\",Data!I91,\"\"))","v":""},{"$f":"IF(Data!$E91=30,Data!Q91,\"\")","v":""},{"$f":"IF(Data!$E91=30,Data!R91,\"\")","v":""},{"$f":"IF(Data!$E91=30,Data!S91,IF(Data!J91<>\"\",Data!J91,\"\"))","v":""},{"$f":"IF(Data!$E91=30,Data!T91,\"\")","v":""},{"$f":"IF(Data!$E91=30,Data!U91,\"\")","v":""},{"$f":"IF(Data!$E91=30,Data!V91,IF(Data!K91<>\"\",Data!K91,\"\"))","v":""},{"$f":"IF(Data!$E91=30,Data!W91,\"\")","v":""},{"$f":"IF(Data!$E91=30,Data!X91,\"\")","v":""},{"$f":"IF(Data!$E91=30,Data!Y91,IF(Data!L91<>\"\",Data!L91,\"\"))","v":""},{"$f":"IF(Data!$E91=30,Data!Z91,\"\")","v":""},{"$f":"IF(Data!$E91=30,Data!AA91,\"\")","v":""},{"$f":"IF(Data!$E91=30,Data!AB91,IF(Data!M91<>\"\",Data!M91,\"\"))","v":""},{"$f":"IF(Data!$E91=30,Data!AC91,\"\")","v":""},{"$f":"IF(Data!$E91=30,Data!AD91,\"\")","v":""},{"$f":"IF(Data!$E91=30,Data!AE91,IF(Data!N91<>\"\",Data!N91,\"\"))","v":""},{"$f":"IF(Data!$E91=30,Data!AF91,\"\")","v":""},{"$f":"IF(Data!$E91=30,Data!AG91,\"\")","v":""},{"$f":"IF(Data!$E91=30,Data!AH91,IF(Data!O91<>\"\",Data!O91,\"\"))","v":""},{"$f":"IF(Data!$E91=30,Data!AI91,\"\")","v":""},null,null,null,{"$f":"IF(Data!$E91=30,Data!AJ91,\"\")","v":""},{"$f":"IF(Data!$E91=30,Data!AK91,IF(Data!P91<>\"\",Data!P91,\"\"))","v":""},{"$f":"IF(Data!$E91=30,Data!AL91,\"\")","v":""},{"$f":"IF(Data!$E91=30,Data!AM91,\"\")","v":""},{"$f":"IF(Data!$E91=30,Data!AN91,IF(Data!Q91<>\"\",Data!Q91,\"\"))","v":""},{"$f":"IF(Data!$E91=30,Data!AO91,\"\")","v":""},{"$f":"IF(Data!$E91=30,Data!AP91,\"\")","v":""},{"$f":"IF(Data!$E91=30,Data!AQ91,IF(Data!R91<>\"\",Data!R91,\"\"))","v":""},{"$f":"IF(Data!$E91=30,Data!AR91,\"\")","v":""},{"$f":"IF(Data!$E91=30,Data!AS91,\"\")","v":""},{"$f":"IF(Data!$E91=30,Data!AT91,IF(Data!S91<>\"\",Data!S91,\"\"))","v":""},{"$f":"IF(Data!$E91=30,Data!AU91,\"\")","v":""},{"$f":"IF(Data!$E91=30,Data!AV91,\"\")","v":""},{"$f":"IF(Data!$E91=30,Data!AW91,IF(Data!T91<>\"\",Data!T91,\"\"))","v":""},{"$f":"IF(Data!$E91=30,Data!AX91,\"\")","v":""},{"$f":"IF(Data!$E91=30,Data!AY91,\"\")","v":""},{"$f":"IF(Data!$E91=30,Data!AZ91,IF(Data!U91<>\"\",Data!U91,\"\"))","v":""},{"$f":"IF(Data!$E91=30,Data!BA91,\"\")","v":""},{"$f":"IF(Data!$E91=30,Data!BB91,\"\")","v":""},{"$f":"IF(Data!$E91=30,Data!BC91,IF(Data!V91<>\"\",Data!V91,\"\"))","v":""},{"$f":"IF(Data!$E91=30,Data!BD91,\"\")","v":""},{"$f":"IF(Data!$E91=30,Data!BE91,\"\")","v":""},{"$f":"IF(Data!$E91=30,Data!BF91,IF(Data!W91<>\"\",Data!W91,\"\"))","v":""},{"$f":"IF(Data!$E91=30,Data!BG91,\"\")","v":""},{"$f":"IF(Data!$E91=30,Data!BH91,\"\")","v":""},{"$f":"IF(Data!$E91=30,Data!BI91,IF(Data!X91<>\"\",Data!X91,\"\"))","v":""},{"$f":"IF(Data!$E91=30,Data!BJ91,\"\")","v":""},{"$f":"IF(Data!$E91=30,Data!BK91,\"\")","v":""},{"$f":"IF(Data!$E91=30,Data!BL91,IF(Data!Y91<>\"\",Data!Y91,\"\"))","v":""},{"$f":"IF(Data!$E91=30,Data!BM91,\"\")","v":""}]
[null,{"$f":"IF(Data!A92<>\"\",Data!A92,\"\")","v":""},{"$f":"IF(Data!$E92=30,Data!F92,\"\")","v":""},{"$f":"IF(Data!$E92=30,Data!G92,IF(Data!F92<>\"\",Data!F92,\"\"))","v":""},{"$f":"IF(Data!$E92=30,Data!H92,\"\")","v":""},{"$f":"IF(Data!$E92=30,Data!I92,\"\")","v":""},{"$f":"IF(Data!$E92=30,Data!J92,IF(Data!G92<>\"\",Data!G92,\"\"))","v":""},{"$f":"IF(Data!$E92=30,Data!K92,\"\")","v":""},{"$f":"IF(Data!$E92=30,Data!L92,\"\")","v":""},{"$f":"IF(Data!$E92=30,Data!M92,IF(Data!H92<>\"\",Data!H92,\"\"))","v":""},{"$f":"IF(Data!$E92=30,Data!N92,\"\")","v":""},{"$f":"IF(Data!$E92=30,Data!O92,\"\")","v":""},{"$f":"IF(Data!$E92=30,Data!P92,IF(Data!I92<>\"\",Data!I92,\"\"))","v":""},{"$f":"IF(Data!$E92=30,Data!Q92,\"\")","v":""},{"$f":"IF(Data!$E92=30,Data!R92,\"\")","v":""},{"$f":"IF(Data!$E92=30,Data!S92,IF(Data!J92<>\"\",Data!J92,\"\"))","v":""},{"$f":"IF(Data!$E92=30,Data!T92,\"\")","v":""},{"$f":"IF(Data!$E92=30,Data!U92,\"\")","v":""},{"$f":"IF(Data!$E92=30,Data!V92,IF(Data!K92<>\"\",Data!K92,\"\"))","v":""},{"$f":"IF(Data!$E92=30,Data!W92,\"\")","v":""},{"$f":"IF(Data!$E92=30,Data!X92,\"\")","v":""},{"$f":"IF(Data!$E92=30,Data!Y92,IF(Data!L92<>\"\",Data!L92,\"\"))","v":""},{"$f":"IF(Data!$E92=30,Data!Z92,\"\")","v":""},{"$f":"IF(Data!$E92=30,Data!AA92,\"\")","v":""},{"$f":"IF(Data!$E92=30,Data!AB92,IF(Data!M92<>\"\",Data!M92,\"\"))","v":""},{"$f":"IF(Data!$E92=30,Data!AC92,\"\")","v":""},{"$f":"IF(Data!$E92=30,Data!AD92,\"\")","v":""},{"$f":"IF(Data!$E92=30,Data!AE92,IF(Data!N92<>\"\",Data!N92,\"\"))","v":""},{"$f":"IF(Data!$E92=30,Data!AF92,\"\")","v":""},{"$f":"IF(Data!$E92=30,Data!AG92,\"\")","v":""},{"$f":"IF(Data!$E92=30,Data!AH92,IF(Data!O92<>\"\",Data!O92,\"\"))","v":""},{"$f":"IF(Data!$E92=30,Data!AI92,\"\")","v":""},null,null,null,{"$f":"IF(Data!$E92=30,Data!AJ92,\"\")","v":""},{"$f":"IF(Data!$E92=30,Data!AK92,IF(Data!P92<>\"\",Data!P92,\"\"))","v":""},{"$f":"IF(Data!$E92=30,Data!AL92,\"\")","v":""},{"$f":"IF(Data!$E92=30,Data!AM92,\"\")","v":""},{"$f":"IF(Data!$E92=30,Data!AN92,IF(Data!Q92<>\"\",Data!Q92,\"\"))","v":""},{"$f":"IF(Data!$E92=30,Data!AO92,\"\")","v":""},{"$f":"IF(Data!$E92=30,Data!AP92,\"\")","v":""},{"$f":"IF(Data!$E92=30,Data!AQ92,IF(Data!R92<>\"\",Data!R92,\"\"))","v":""},{"$f":"IF(Data!$E92=30,Data!AR92,\"\")","v":""},{"$f":"IF(Data!$E92=30,Data!AS92,\"\")","v":""},{"$f":"IF(Data!$E92=30,Data!AT92,IF(Data!S92<>\"\",Data!S92,\"\"))","v":""},{"$f":"IF(Data!$E92=30,Data!AU92,\"\")","v":""},{"$f":"IF(Data!$E92=30,Data!AV92,\"\")","v":""},{"$f":"IF(Data!$E92=30,Data!AW92,IF(Data!T92<>\"\",Data!T92,\"\"))","v":""},{"$f":"IF(Data!$E92=30,Data!AX92,\"\")","v":""},{"$f":"IF(Data!$E92=30,Data!AY92,\"\")","v":""},{"$f":"IF(Data!$E92=30,Data!AZ92,IF(Data!U92<>\"\",Data!U92,\"\"))","v":""},{"$f":"IF(Data!$E92=30,Data!BA92,\"\")","v":""},{"$f":"IF(Data!$E92=30,Data!BB92,\"\")","v":""},{"$f":"IF(Data!$E92=30,Data!BC92,IF(Data!V92<>\"\",Data!V92,\"\"))","v":""},{"$f":"IF(Data!$E92=30,Data!BD92,\"\")","v":""},{"$f":"IF(Data!$E92=30,Data!BE92,\"\")","v":""},{"$f":"IF(Data!$E92=30,Data!BF92,IF(Data!W92<>\"\",Data!W92,\"\"))","v":""},{"$f":"IF(Data!$E92=30,Data!BG92,\"\")","v":""},{"$f":"IF(Data!$E92=30,Data!BH92,\"\")","v":""},{"$f":"IF(Data!$E92=30,Data!BI92,IF(Data!X92<>\"\",Data!X92,\"\"))","v":""},{"$f":"IF(Data!$E92=30,Data!BJ92,\"\")","v":""},{"$f":"IF(Data!$E92=30,Data!BK92,\"\")","v":""},{"$f":"IF(Data!$E92=30,Data!BL92,IF(Data!Y92<>\"\",Data!Y92,\"\"))","v":""},{"$f":"IF(Data!$E92=30,Data!BM92,\"\")","v":""}]
[null,{"$f":"IF(Data!A93<>\"\",Data!A93,\"\")","v":""},{"$f":"IF(Data!$E93=30,Data!F93,\"\")","v":""},{"$f":"IF(Data!$E93=30,Data!G93,IF(Data!F93<>\"\",Data!F93,\"\"))","v":""},{"$f":"IF(Data!$E93=30,Data!H93,\"\")","v":""},{"$f":"IF(Data!$E93=30,Data!I93,\"\")","v":""},{"$f":"IF(Data!$E93=30,Data!J93,IF(Data!G93<>\"\",Data!G93,\"\"))","v":""},{"$f":"IF(Data!$E93=30,Data!K93,\"\")","v":""},{"$f":"IF(Data!$E93=30,Data!L93,\"\")","v":""},{"$f":"IF(Data!$E93=30,Data!M93,IF(Data!H93<>\"\",Data!H93,\"\"))","v":""},{"$f":"IF(Data!$E93=30,Data!N93,\"\")","v":""},{"$f":"IF(Data!$E93=30,Data!O93,\"\")","v":""},{"$f":"IF(Data!$E93=30,Data!P93,IF(Data!I93<>\"\",Data!I93,\"\"))","v":""},{"$f":"IF(Data!$E93=30,Data!Q93,\"\")","v":""},{"$f":"IF(Data!$E93=30,Data!R93,\"\")","v":""},{"$f":"IF(Data!$E93=30,Data!S93,IF(Data!J93<>\"\",Data!J93,\"\"))","v":""},{"$f":"IF(Data!$E93=30,Data!T93,\"\")","v":""},{"$f":"IF(Data!$E93=30,Data!U93,\"\")","v":""},{"$f":"IF(Data!$E93=30,Data!V93,IF(Data!K93<>\"\",Data!K93,\"\"))","v":""},{"$f":"IF(Data!$E93=30,Data!W93,\"\")","v":""},{"$f":"IF(Data!$E93=30,Data!X93,\"\")","v":""},{"$f":"IF(Data!$E93=30,Data!Y93,IF(Data!L93<>\"\",Data!L93,\"\"))","v":""},{"$f":"IF(Data!$E93=30,Data!Z93,\"\")","v":""},{"$f":"IF(Data!$E93=30,Data!AA93,\"\")","v":""},{"$f":"IF(Data!$E93=30,Data!AB93,IF(Data!M93<>\"\",Data!M93,\"\"))","v":""},{"$f":"IF(Data!$E93=30,Data!AC93,\"\")","v":""},{"$f":"IF(Data!$E93=30,Data!AD93,\"\")","v":""},{"$f":"IF(Data!$E93=30,Data!AE93,IF(Data!N93<>\"\",Data!N93,\"\"))","v":""},{"$f":"IF(Data!$E93=30,Data!AF93,\"\")","v":""},{"$f":"IF(Data!$E93=30,Data!AG93,\"\")","v":""},{"$f":"IF(Data!$E93=30,Data!AH93,IF(Data!O93<>\"\",Data!O93,\"\"))","v":""},{"$f":"IF(Data!$E93=30,Data!AI93,\"\")","v":""},null,null,null,{"$f":"IF(Data!$E93=30,Data!AJ93,\"\")","v":""},{"$f":"IF(Data!$E93=30,Data!AK93,IF(Data!P93<>\"\",Data!P93,\"\"))","v":""},{"$f":"IF(Data!$E93=30,Data!AL93,\"\")","v":""},{"$f":"IF(Data!$E93=30,Data!AM93,\"\")","v":""},{"$f":"IF(Data!$E93=30,Data!AN93,IF(Data!Q93<>\"\",Data!Q93,\"\"))","v":""},{"$f":"IF(Data!$E93=30,Data!AO93,\"\")","v":""},{"$f":"IF(Data!$E93=30,Data!AP93,\"\")","v":""},{"$f":"IF(Data!$E93=30,Data!AQ93,IF(Data!R93<>\"\",Data!R93,\"\"))","v":""},{"$f":"IF(Data!$E93=30,Data!AR93,\"\")","v":""},{"$f":"IF(Data!$E93=30,Data!AS93,\"\")","v":""},{"$f":"IF(Data!$E93=30,Data!AT93,IF(Data!S93<>\"\",Data!S93,\"\"))","v":""},{"$f":"IF(Data!$E93=30,Data!AU93,\"\")","v":""},{"$f":"IF(Data!$E93=30,Data!AV93,\"\")","v":""},{"$f":"IF(Data!$E93=30,Data!AW93,IF(Data!T93<>\"\",Data!T93,\"\"))","v":""},{"$f":"IF(Data!$E93=30,Data!AX93,\"\")","v":""},{"$f":"IF(Data!$E93=30,Data!AY93,\"\")","v":""},{"$f":"IF(Data!$E93=30,Data!AZ93,IF(Data!U93<>\"\",Data!U93,\"\"))","v":""},{"$f":"IF(Data!$E93=30,Data!BA93,\"\")","v":""},{"$f":"IF(Data!$E93=30,Data!BB93,\"\")","v":""},{"$f":"IF(Data!$E93=30,Data!BC93,IF(Data!V93<>\"\",Data!V93,\"\"))","v":""},{"$f":"IF(Data!$E93=30,Data!BD93,\"\")","v":""},{"$f":"IF(Data!$E93=30,Data!BE93,\"\")","v":""},{"$f":"IF(Data!$E93=30,Data!BF93,IF(Data!W93<>\"\",Data!W93,\"\"))","v":""},{"$f":"IF(Data!$E93=30,Data!BG93,\"\")","v":""},{"$f":"IF(Data!$E93=30,Data!BH93,\"\")","v":""},{"$f":"IF(Data!$E93=30,Data!BI93,IF(Data!X93<>\"\",Data!X93,\"\"))","v":""},{"$f":"IF(Data!$E93=30,Data!BJ93,\"\")","v":""},{"$f":"IF(Data!$E93=30,Data!BK93,\"\")","v":""},{"$f":"IF(Data!$E93=30,Data!BL93,IF(Data!Y93<>\"\",Data!Y93,\"\"))","v":""},{"$f":"IF(Data!$E93=30,Data!BM93,\"\")","v":""}]
[null,{"$f":"IF(Data!A94<>\"\",Data!A94,\"\")","v":""},{"$f":"IF(Data!$E94=30,Data!F94,\"\")","v":""},{"$f":"IF(Data!$E94=30,Data!G94,IF(Data!F94<>\"\",Data!F94,\"\"))","v":""},{"$f":"IF(Data!$E94=30,Data!H94,\"\")","v":""},{"$f":"IF(Data!$E94=30,Data!I94,\"\")","v":""},{"$f":"IF(Data!$E94=30,Data!J94,IF(Data!G94<>\"\",Data!G94,\"\"))","v":""},{"$f":"IF(Data!$E94=30,Data!K94,\"\")","v":""},{"$f":"IF(Data!$E94=30,Data!L94,\"\")","v":""},{"$f":"IF(Data!$E94=30,Data!M94,IF(Data!H94<>\"\",Data!H94,\"\"))","v":""},{"$f":"IF(Data!$E94=30,Data!N94,\"\")","v":""},{"$f":"IF(Data!$E94=30,Data!O94,\"\")","v":""},{"$f":"IF(Data!$E94=30,Data!P94,IF(Data!I94<>\"\",Data!I94,\"\"))","v":""},{"$f":"IF(Data!$E94=30,Data!Q94,\"\")","v":""},{"$f":"IF(Data!$E94=30,Data!R94,\"\")","v":""},{"$f":"IF(Data!$E94=30,Data!S94,IF(Data!J94<>\"\",Data!J94,\"\"))","v":""},{"$f":"IF(Data!$E94=30,Data!T94,\"\")","v":""},{"$f":"IF(Data!$E94=30,Data!U94,\"\")","v":""},{"$f":"IF(Data!$E94=30,Data!V94,IF(Data!K94<>\"\",Data!K94,\"\"))","v":""},{"$f":"IF(Data!$E94=30,Data!W94,\"\")","v":""},{"$f":"IF(Data!$E94=30,Data!X94,\"\")","v":""},{"$f":"IF(Data!$E94=30,Data!Y94,IF(Data!L94<>\"\",Data!L94,\"\"))","v":""},{"$f":"IF(Data!$E94=30,Data!Z94,\"\")","v":""},{"$f":"IF(Data!$E94=30,Data!AA94,\"\")","v":""},{"$f":"IF(Data!$E94=30,Data!AB94,IF(Data!M94<>\"\",Data!M94,\"\"))","v":""},{"$f":"IF(Data!$E94=30,Data!AC94,\"\")","v":""},{"$f":"IF(Data!$E94=30,Data!AD94,\"\")","v":""},{"$f":"IF(Data!$E94=30,Data!AE94,IF(Data!N94<>\"\",Data!N94,\"\"))","v":""},{"$f":"IF(Data!$E94=30,Data!AF94,\"\")","v":""},{"$f":"IF(Data!$E94=30,Data!AG94,\"\")","v":""},{"$f":"IF(Data!$E94=30,Data!AH94,IF(Data!O94<>\"\",Data!O94,\"\"))","v":""},{"$f":"IF(Data!$E94=30,Data!AI94,\"\")","v":""},null,null,null,{"$f":"IF(Data!$E94=30,Data!AJ94,\"\")","v":""},{"$f":"IF(Data!$E94=30,Data!AK94,IF(Data!P94<>\"\",Data!P94,\"\"))","v":""},{"$f":"IF(Data!$E94=30,Data!AL94,\"\")","v":""},{"$f":"IF(Data!$E94=30,Data!AM94,\"\")","v":""},{"$f":"IF(Data!$E94=30,Data!AN94,IF(Data!Q94<>\"\",Data!Q94,\"\"))","v":""},{"$f":"IF(Data!$E94=30,Data!AO94,\"\")","v":""},{"$f":"IF(Data!$E94=30,Data!AP94,\"\")","v":""},{"$f":"IF(Data!$E94=30,Data!AQ94,IF(Data!R94<>\"\",Data!R94,\"\"))","v":""},{"$f":"IF(Data!$E94=30,Data!AR94,\"\")","v":""},{"$f":"IF(Data!$E94=30,Data!AS94,\"\")","v":""},{"$f":"IF(Data!$E94=30,Data!AT94,IF(Data!S94<>\"\",Data!S94,\"\"))","v":""},{"$f":"IF(Data!$E94=30,Data!AU94,\"\")","v":""},{"$f":"IF(Data!$E94=30,Data!AV94,\"\")","v":""},{"$f":"IF(Data!$E94=30,Data!AW94,IF(Data!T94<>\"\",Data!T94,\"\"))","v":""},{"$f":"IF(Data!$E94=30,Data!AX94,\"\")","v":""},{"$f":"IF(Data!$E94=30,Data!AY94,\"\")","v":""},{"$f":"IF(Data!$E94=30,Data!AZ94,IF(Data!U94<>\"\",Data!U94,\"\"))","v":""},{"$f":"IF(Data!$E94=30,Data!BA94,\"\")","v":""},{"$f":"IF(Data!$E94=30,Data!BB94,\"\")","v":""},{"$f":"IF(Data!$E94=30,Data!BC94,IF(Data!V94<>\"\",Data!V94,\"\"))","v":""},{"$f":"IF(Data!$E94=30,Data!BD94,\"\")","v":""},{"$f":"IF(Data!$E94=30,Data!BE94,\"\")","v":""},{"$f":"IF(Data!$E94=30,Data!BF94,IF(Data!W94<>\"\",Data!W94,\"\"))","v":""},{"$f":"IF(Data!$E94=30,Data!BG94,\"\")","v":""},{"$f":"IF(Data!$E94=30,Data!BH94,\"\")","v":""},{"$f":"IF(Data!$E94=30,Data!BI94,IF(Data!X94<>\"\",Data!X94,\"\"))","v":""},{"$f":"IF(Data!$E94=30,Data!BJ94,\"\")","v":""},{"$f":"IF(Data!$E94=30,Data!BK94,\"\")","v":""},{"$f":"IF(Data!$E94=30,Data!BL94,IF(Data!Y94<>\"\",Data!Y94,\"\"))","v":""},{"$f":"IF(Data!$E94=30,Data!BM94,\"\")","v":""}]
[null,{"$f":"IF(Data!A95<>\"\",Data!A95,\"\")","v":""},{"$f":"IF(Data!$E95=30,Data!F95,\"\")","v":""},{"$f":"IF(Data!$E95=30,Data!G95,IF(Data!F95<>\"\",Data!F95,\"\"))","v":""},{"$f":"IF(Data!$E95=30,Data!H95,\"\")","v":""},{"$f":"IF(Data!$E95=30,Data!I95,\"\")","v":""},{"$f":"IF(Data!$E95=30,Data!J95,IF(Data!G95<>\"\",Data!G95,\"\"))","v":""},{"$f":"IF(Data!$E95=30,Data!K95,\"\")","v":""},{"$f":"IF(Data!$E95=30,Data!L95,\"\")","v":""},{"$f":"IF(Data!$E95=30,Data!M95,IF(Data!H95<>\"\",Data!H95,\"\"))","v":""},{"$f":"IF(Data!$E95=30,Data!N95,\"\")","v":""},{"$f":"IF(Data!$E95=30,Data!O95,\"\")","v":""},{"$f":"IF(Data!$E95=30,Data!P95,IF(Data!I95<>\"\",Data!I95,\"\"))","v":""},{"$f":"IF(Data!$E95=30,Data!Q95,\"\")","v":""},{"$f":"IF(Data!$E95=30,Data!R95,\"\")","v":""},{"$f":"IF(Data!$E95=30,Data!S95,IF(Data!J95<>\"\",Data!J95,\"\"))","v":""},{"$f":"IF(Data!$E95=30,Data!T95,\"\")","v":""},{"$f":"IF(Data!$E95=30,Data!U95,\"\")","v":""},{"$f":"IF(Data!$E95=30,Data!V95,IF(Data!K95<>\"\",Data!K95,\"\"))","v":""},{"$f":"IF(Data!$E95=30,Data!W95,\"\")","v":""},{"$f":"IF(Data!$E95=30,Data!X95,\"\")","v":""},{"$f":"IF(Data!$E95=30,Data!Y95,IF(Data!L95<>\"\",Data!L95,\"\"))","v":""},{"$f":"IF(Data!$E95=30,Data!Z95,\"\")","v":""},{"$f":"IF(Data!$E95=30,Data!AA95,\"\")","v":""},{"$f":"IF(Data!$E95=30,Data!AB95,IF(Data!M95<>\"\",Data!M95,\"\"))","v":""},{"$f":"IF(Data!$E95=30,Data!AC95,\"\")","v":""},{"$f":"IF(Data!$E95=30,Data!AD95,\"\")","v":""},{"$f":"IF(Data!$E95=30,Data!AE95,IF(Data!N95<>\"\",Data!N95,\"\"))","v":""},{"$f":"IF(Data!$E95=30,Data!AF95,\"\")","v":""},{"$f":"IF(Data!$E95=30,Data!AG95,\"\")","v":""},{"$f":"IF(Data!$E95=30,Data!AH95,IF(Data!O95<>\"\",Data!O95,\"\"))","v":""},{"$f":"IF(Data!$E95=30,Data!AI95,\"\")","v":""},null,null,null,{"$f":"IF(Data!$E95=30,Data!AJ95,\"\")","v":""},{"$f":"IF(Data!$E95=30,Data!AK95,IF(Data!P95<>\"\",Data!P95,\"\"))","v":""},{"$f":"IF(Data!$E95=30,Data!AL95,\"\")","v":""},{"$f":"IF(Data!$E95=30,Data!AM95,\"\")","v":""},{"$f":"IF(Data!$E95=30,Data!AN95,IF(Data!Q95<>\"\",Data!Q95,\"\"))","v":""},{"$f":"IF(Data!$E95=30,Data!AO95,\"\")","v":""},{"$f":"IF(Data!$E95=30,Data!AP95,\"\")","v":""},{"$f":"IF(Data!$E95=30,Data!AQ95,IF(Data!R95<>\"\",Data!R95,\"\"))","v":""},{"$f":"IF(Data!$E95=30,Data!AR95,\"\")","v":""},{"$f":"IF(Data!$E95=30,Data!AS95,\"\")","v":""},{"$f":"IF(Data!$E95=30,Data!AT95,IF(Data!S95<>\"\",Data!S95,\"\"))","v":""},{"$f":"IF(Data!$E95=30,Data!AU95,\"\")","v":""},{"$f":"IF(Data!$E95=30,Data!AV95,\"\")","v":""},{"$f":"IF(Data!$E95=30,Data!AW95,IF(Data!T95<>\"\",Data!T95,\"\"))","v":""},{"$f":"IF(Data!$E95=30,Data!AX95,\"\")","v":""},{"$f":"IF(Data!$E95=30,Data!AY95,\"\")","v":""},{"$f":"IF(Data!$E95=30,Data!AZ95,IF(Data!U95<>\"\",Data!U95,\"\"))","v":""},{"$f":"IF(Data!$E95=30,Data!BA95,\"\")","v":""},{"$f":"IF(Data!$E95=30,Data!BB95,\"\")","v":""},{"$f":"IF(Data!$E95=30,Data!BC95,IF(Data!V95<>\"\",Data!V95,\"\"))","v":""},{"$f":"IF(Data!$E95=30,Data!BD95,\"\")","v":""},{"$f":"IF(Data!$E95=30,Data!BE95,\"\")","v":""},{"$f":"IF(Data!$E95=30,Data!BF95,IF(Data!W95<>\"\",Data!W95,\"\"))","v":""},{"$f":"IF(Data!$E95=30,Data!BG95,\"\")","v":""},{"$f":"IF(Data!$E95=30,Data!BH95,\"\")","v":""},{"$f":"IF(Data!$E95=30,Data!BI95,IF(Data!X95<>\"\",Data!X95,\"\"))","v":""},{"$f":"IF(Data!$E95=30,Data!BJ95,\"\")","v":""},{"$f":"IF(Data!$E95=30,Data!BK95,\"\")","v":""},{"$f":"IF(Data!$E95=30,Data!BL95,IF(Data!Y95<>\"\",Data!Y95,\"\"))","v":""},{"$f":"IF(Data!$E95=30,Data!BM95,\"\")","v":""}]
[null,{"$f":"IF(Data!A96<>\"\",Data!A96,\"\")","v":""},{"$f":"IF(Data!$E96=30,Data!F96,\"\")","v":""},{"$f":"IF(Data!$E96=30,Data!G96,IF(Data!F96<>\"\",Data!F96,\"\"))","v":""},{"$f":"IF(Data!$E96=30,Data!H96,\"\")","v":""},{"$f":"IF(Data!$E96=30,Data!I96,\"\")","v":""},{"$f":"IF(Data!$E96=30,Data!J96,IF(Data!G96<>\"\",Data!G96,\"\"))","v":""},{"$f":"IF(Data!$E96=30,Data!K96,\"\")","v":""},{"$f":"IF(Data!$E96=30,Data!L96,\"\")","v":""},{"$f":"IF(Data!$E96=30,Data!M96,IF(Data!H96<>\"\",Data!H96,\"\"))","v":""},{"$f":"IF(Data!$E96=30,Data!N96,\"\")","v":""},{"$f":"IF(Data!$E96=30,Data!O96,\"\")","v":""},{"$f":"IF(Data!$E96=30,Data!P96,IF(Data!I96<>\"\",Data!I96,\"\"))","v":""},{"$f":"IF(Data!$E96=30,Data!Q96,\"\")","v":""},{"$f":"IF(Data!$E96=30,Data!R96,\"\")","v":""},{"$f":"IF(Data!$E96=30,Data!S96,IF(Data!J96<>\"\",Data!J96,\"\"))","v":""},{"$f":"IF(Data!$E96=30,Data!T96,\"\")","v":""},{"$f":"IF(Data!$E96=30,Data!U96,\"\")","v":""},{"$f":"IF(Data!$E96=30,Data!V96,IF(Data!K96<>\"\",Data!K96,\"\"))","v":""},{"$f":"IF(Data!$E96=30,Data!W96,\"\")","v":""},{"$f":"IF(Data!$E96=30,Data!X96,\"\")","v":""},{"$f":"IF(Data!$E96=30,Data!Y96,IF(Data!L96<>\"\",Data!L96,\"\"))","v":""},{"$f":"IF(Data!$E96=30,Data!Z96,\"\")","v":""},{"$f":"IF(Data!$E96=30,Data!AA96,\"\")","v":""},{"$f":"IF(Data!$E96=30,Data!AB96,IF(Data!M96<>\"\",Data!M96,\"\"))","v":""},{"$f":"IF(Data!$E96=30,Data!AC96,\"\")","v":""},{"$f":"IF(Data!$E96=30,Data!AD96,\"\")","v":""},{"$f":"IF(Data!$E96=30,Data!AE96,IF(Data!N96<>\"\",Data!N96,\"\"))","v":""},{"$f":"IF(Data!$E96=30,Data!AF96,\"\")","v":""},{"$f":"IF(Data!$E96=30,Data!AG96,\"\")","v":""},{"$f":"IF(Data!$E96=30,Data!AH96,IF(Data!O96<>\"\",Data!O96,\"\"))","v":""},{"$f":"IF(Data!$E96=30,Data!AI96,\"\")","v":""},null,null,null,{"$f":"IF(Data!$E96=30,Data!AJ96,\"\")","v":""},{"$f":"IF(Data!$E96=30,Data!AK96,IF(Data!P96<>\"\",Data!P96,\"\"))","v":""},{"$f":"IF(Data!$E96=30,Data!AL96,\"\")","v":""},{"$f":"IF(Data!$E96=30,Data!AM96,\"\")","v":""},{"$f":"IF(Data!$E96=30,Data!AN96,IF(Data!Q96<>\"\",Data!Q96,\"\"))","v":""},{"$f":"IF(Data!$E96=30,Data!AO96,\"\")","v":""},{"$f":"IF(Data!$E96=30,Data!AP96,\"\")","v":""},{"$f":"IF(Data!$E96=30,Data!AQ96,IF(Data!R96<>\"\",Data!R96,\"\"))","v":""},{"$f":"IF(Data!$E96=30,Data!AR96,\"\")","v":""},{"$f":"IF(Data!$E96=30,Data!AS96,\"\")","v":""},{"$f":"IF(Data!$E96=30,Data!AT96,IF(Data!S96<>\"\",Data!S96,\"\"))","v":""},{"$f":"IF(Data!$E96=30,Data!AU96,\"\")","v":""},{"$f":"IF(Data!$E96=30,Data!AV96,\"\")","v":""},{"$f":"IF(Data!$E96=30,Data!AW96,IF(Data!T96<>\"\",Data!T96,\"\"))","v":""},{"$f":"IF(Data!$E96=30,Data!AX96,\"\")","v":""},{"$f":"IF(Data!$E96=30,Data!AY96,\"\")","v":""},{"$f":"IF(Data!$E96=30,Data!AZ96,IF(Data!U96<>\"\",Data!U96,\"\"))","v":""},{"$f":"IF(Data!$E96=30,Data!BA96,\"\")","v":""},{"$f":"IF(Data!$E96=30,Data!BB96,\"\")","v":""},{"$f":"IF(Data!$E96=30,Data!BC96,IF(Data!V96<>\"\",Data!V96,\"\"))","v":""},{"$f":"IF(Data!$E96=30,Data!BD96,\"\")","v":""},{"$f":"IF(Data!$E96=30,Data!BE96,\"\")","v":""},{"$f":"IF(Data!$E96=30,Data!BF96,IF(Data!W96<>\"\",Data!W96,\"\"))","v":""},{"$f":"IF(Data!$E96=30,Data!BG96,\"\")","v":""},{"$f":"IF(Data!$E96=30,Data!BH96,\"\")","v":""},{"$f":"IF(Data!$E96=30,Data!BI96,IF(Data!X96<>\"\",Data!X96,\"\"))","v":""},{"$f":"IF(Data!$E96=30,Data!BJ96,\"\")","v":""},{"$f":"IF(Data!$E96=30,Data!BK96,\"\")","v":""},{"$f":"IF(Data!$E96=30,Data!BL96,IF(Data!Y96<>\"\",Data!Y96,\"\"))","v":""},{"$f":"IF(Data!$E96=30,Data!BM96,\"\")","v":""}]
[null,{"$f":"IF(Data!A97<>\"\",Data!A97,\"\")","v":""},{"$f":"IF(Data!$E97=30,Data!F97,\"\")","v":""},{"$f":"IF(Data!$E97=30,Data!G97,IF(Data!F97<>\"\",Data!F97,\"\"))","v":""},{"$f":"IF(Data!$E97=30,Data!H97,\"\")","v":""},{"$f":"IF(Data!$E97=30,Data!I97,\"\")","v":""},{"$f":"IF(Data!$E97=30,Data!J97,IF(Data!G97<>\"\",Data!G97,\"\"))","v":""},{"$f":"IF(Data!$E97=30,Data!K97,\"\")","v":""},{"$f":"IF(Data!$E97=30,Data!L97,\"\")","v":""},{"$f":"IF(Data!$E97=30,Data!M97,IF(Data!H97<>\"\",Data!H97,\"\"))","v":""},{"$f":"IF(Data!$E97=30,Data!N97,\"\")","v":""},{"$f":"IF(Data!$E97=30,Data!O97,\"\")","v":""},{"$f":"IF(Data!$E97=30,Data!P97,IF(Data!I97<>\"\",Data!I97,\"\"))","v":""},{"$f":"IF(Data!$E97=30,Data!Q97,\"\")","v":""},{"$f":"IF(Data!$E97=30,Data!R97,\"\")","v":""},{"$f":"IF(Data!$E97=30,Data!S97,IF(Data!J97<>\"\",Data!J97,\"\"))","v":""},{"$f":"IF(Data!$E97=30,Data!T97,\"\")","v":""},{"$f":"IF(Data!$E97=30,Data!U97,\"\")","v":""},{"$f":"IF(Data!$E97=30,Data!V97,IF(Data!K97<>\"\",Data!K97,\"\"))","v":""},{"$f":"IF(Data!$E97=30,Data!W97,\"\")","v":""},{"$f":"IF(Data!$E97=30,Data!X97,\"\")","v":""},{"$f":"IF(Data!$E97=30,Data!Y97,IF(Data!L97<>\"\",Data!L97,\"\"))","v":""},{"$f":"IF(Data!$E97=30,Data!Z97,\"\")","v":""},{"$f":"IF(Data!$E97=30,Data!AA97,\"\")","v":""},{"$f":"IF(Data!$E97=30,Data!AB97,IF(Data!M97<>\"\",Data!M97,\"\"))","v":""},{"$f":"IF(Data!$E97=30,Data!AC97,\"\")","v":""},{"$f":"IF(Data!$E97=30,Data!AD97,\"\")","v":""},{"$f":"IF(Data!$E97=30,Data!AE97,IF(Data!N97<>\"\",Data!N97,\"\"))","v":""},{"$f":"IF(Data!$E97=30,Data!AF97,\"\")","v":""},{"$f":"IF(Data!$E97=30,Data!AG97,\"\")","v":""},{"$f":"IF(Data!$E97=30,Data!AH97,IF(Data!O97<>\"\",Data!O97,\"\"))","v":""},{"$f":"IF(Data!$E97=30,Data!AI97,\"\")","v":""},null,null,null,{"$f":"IF(Data!$E97=30,Data!AJ97,\"\")","v":""},{"$f":"IF(Data!$E97=30,Data!AK97,IF(Data!P97<>\"\",Data!P97,\"\"))","v":""},{"$f":"IF(Data!$E97=30,Data!AL97,\"\")","v":""},{"$f":"IF(Data!$E97=30,Data!AM97,\"\")","v":""},{"$f":"IF(Data!$E97=30,Data!AN97,IF(Data!Q97<>\"\",Data!Q97,\"\"))","v":""},{"$f":"IF(Data!$E97=30,Data!AO97,\"\")","v":""},{"$f":"IF(Data!$E97=30,Data!AP97,\"\")","v":""},{"$f":"IF(Data!$E97=30,Data!AQ97,IF(Data!R97<>\"\",Data!R97,\"\"))","v":""},{"$f":"IF(Data!$E97=30,Data!AR97,\"\")","v":""},{"$f":"IF(Data!$E97=30,Data!AS97,\"\")","v":""},{"$f":"IF(Data!$E97=30,Data!AT97,IF(Data!S97<>\"\",Data!S97,\"\"))","v":""},{"$f":"IF(Data!$E97=30,Data!AU97,\"\")","v":""},{"$f":"IF(Data!$E97=30,Data!AV97,\"\")","v":""},{"$f":"IF(Data!$E97=30,Data!AW97,IF(Data!T97<>\"\",Data!T97,\"\"))","v":""},{"$f":"IF(Data!$E97=30,Data!AX97,\"\")","v":""},{"$f":"IF(Data!$E97=30,Data!AY97,\"\")","v":""},{"$f":"IF(Data!$E97=30,Data!AZ97,IF(Data!U97<>\"\",Data!U97,\"\"))","v":""},{"$f":"IF(Data!$E97=30,Data!BA97,\"\")","v":""},{"$f":"IF(Data!$E97=30,Data!BB97,\"\")","v":""},{"$f":"IF(Data!$E97=30,Data!BC97,IF(Data!V97<>\"\",Data!V97,\"\"))","v":""},{"$f":"IF(Data!$E97=30,Data!BD97,\"\")","v":""},{"$f":"IF(Data!$E97=30,Data!BE97,\"\")","v":""},{"$f":"IF(Data!$E97=30,Data!BF97,IF(Data!W97<>\"\",Data!W97,\"\"))","v":""},{"$f":"IF(Data!$E97=30,Data!BG97,\"\")","v":""},{"$f":"IF(Data!$E97=30,Data!BH97,\"\")","v":""},{"$f":"IF(Data!$E97=30,Data!BI97,IF(Data!X97<>\"\",Data!X97,\"\"))","v":""},{"$f":"IF(Data!$E97=30,Data!BJ97,\"\")","v":""},{"$f":"IF(Data!$E97=30,Data!BK97,\"\")","v":""},{"$f":"IF(Data!$E97=30,Data!BL97,IF(Data!Y97<>\"\",Data!Y97,\"\"))","v":""},{"$f":"IF(Data!$E97=30,Data!BM97,\"\")","v":""}]
[null,{"$f":"IF(Data!A98<>\"\",Data!A98,\"\")","v":""},{"$f":"IF(Data!$E98=30,Data!F98,\"\")","v":""},{"$f":"IF(Data!$E98=30,Data!G98,IF(Data!F98<>\"\",Data!F98,\"\"))","v":""},{"$f":"IF(Data!$E98=30,Data!H98,\"\")","v":""},{"$f":"IF(Data!$E98=30,Data!I98,\"\")","v":""},{"$f":"IF(Data!$E98=30,Data!J98,IF(Data!G98<>\"\",Data!G98,\"\"))","v":""},{"$f":"IF(Data!$E98=30,Data!K98,\"\")","v":""},{"$f":"IF(Data!$E98=30,Data!L98,\"\")","v":""},{"$f":"IF(Data!$E98=30,Data!M98,IF(Data!H98<>\"\",Data!H98,\"\"))","v":""},{"$f":"IF(Data!$E98=30,Data!N98,\"\")","v":""},{"$f":"IF(Data!$E98=30,Data!O98,\"\")","v":""},{"$f":"IF(Data!$E98=30,Data!P98,IF(Data!I98<>\"\",Data!I98,\"\"))","v":""},{"$f":"IF(Data!$E98=30,Data!Q98,\"\")","v":""},{"$f":"IF(Data!$E98=30,Data!R98,\"\")","v":""},{"$f":"IF(Data!$E98=30,Data!S98,IF(Data!J98<>\"\",Data!J98,\"\"))","v":""},{"$f":"IF(Data!$E98=30,Data!T98,\"\")","v":""},{"$f":"IF(Data!$E98=30,Data!U98,\"\")","v":""},{"$f":"IF(Data!$E98=30,Data!V98,IF(Data!K98<>\"\",Data!K98,\"\"))","v":""},{"$f":"IF(Data!$E98=30,Data!W98,\"\")","v":""},{"$f":"IF(Data!$E98=30,Data!X98,\"\")","v":""},{"$f":"IF(Data!$E98=30,Data!Y98,IF(Data!L98<>\"\",Data!L98,\"\"))","v":""},{"$f":"IF(Data!$E98=30,Data!Z98,\"\")","v":""},{"$f":"IF(Data!$E98=30,Data!AA98,\"\")","v":""},{"$f":"IF(Data!$E98=30,Data!AB98,IF(Data!M98<>\"\",Data!M98,\"\"))","v":""},{"$f":"IF(Data!$E98=30,Data!AC98,\"\")","v":""},{"$f":"IF(Data!$E98=30,Data!AD98,\"\")","v":""},{"$f":"IF(Data!$E98=30,Data!AE98,IF(Data!N98<>\"\",Data!N98,\"\"))","v":""},{"$f":"IF(Data!$E98=30,Data!AF98,\"\")","v":""},{"$f":"IF(Data!$E98=30,Data!AG98,\"\")","v":""},{"$f":"IF(Data!$E98=30,Data!AH98,IF(Data!O98<>\"\",Data!O98,\"\"))","v":""},{"$f":"IF(Data!$E98=30,Data!AI98,\"\")","v":""},null,null,null,{"$f":"IF(Data!$E98=30,Data!AJ98,\"\")","v":""},{"$f":"IF(Data!$E98=30,Data!AK98,IF(Data!P98<>\"\",Data!P98,\"\"))","v":""},{"$f":"IF(Data!$E98=30,Data!AL98,\"\")","v":""},{"$f":"IF(Data!$E98=30,Data!AM98,\"\")","v":""},{"$f":"IF(Data!$E98=30,Data!AN98,IF(Data!Q98<>\"\",Data!Q98,\"\"))","v":""},{"$f":"IF(Data!$E98=30,Data!AO98,\"\")","v":""},{"$f":"IF(Data!$E98=30,Data!AP98,\"\")","v":""},{"$f":"IF(Data!$E98=30,Data!AQ98,IF(Data!R98<>\"\",Data!R98,\"\"))","v":""},{"$f":"IF(Data!$E98=30,Data!AR98,\"\")","v":""},{"$f":"IF(Data!$E98=30,Data!AS98,\"\")","v":""},{"$f":"IF(Data!$E98=30,Data!AT98,IF(Data!S98<>\"\",Data!S98,\"\"))","v":""},{"$f":"IF(Data!$E98=30,Data!AU98,\"\")","v":""},{"$f":"IF(Data!$E98=30,Data!AV98,\"\")","v":""},{"$f":"IF(Data!$E98=30,Data!AW98,IF(Data!T98<>\"\",Data!T98,\"\"))","v":""},{"$f":"IF(Data!$E98=30,Data!AX98,\"\")","v":""},{"$f":"IF(Data!$E98=30,Data!AY98,\"\")","v":""},{"$f":"IF(Data!$E98=30,Data!AZ98,IF(Data!U98<>\"\",Data!U98,\"\"))","v":""},{"$f":"IF(Data!$E98=30,Data!BA98,\"\")","v":""},{"$f":"IF(Data!$E98=30,Data!BB98,\"\")","v":""},{"$f":"IF(Data!$E98=30,Data!BC98,IF(Data!V98<>\"\",Data!V98,\"\"))","v":""},{"$f":"IF(Data!$E98=30,Data!BD98,\"\")","v":""},{"$f":"IF(Data!$E98=30,Data!BE98,\"\")","v":""},{"$f":"IF(Data!$E98=30,Data!BF98,IF(Data!W98<>\"\",Data!W98,\"\"))","v":""},{"$f":"IF(Data!$E98=30,Data!BG98,\"\")","v":""},{"$f":"IF(Data!$E98=30,Data!BH98,\"\")","v":""},{"$f":"IF(Data!$E98=30,Data!BI98,IF(Data!X98<>\"\",Data!X98,\"\"))","v":""},{"$f":"IF(Data!$E98=30,Data!BJ98,\"\")","v":""},{"$f":"IF(Data!$E98=30,Data!BK98,\"\")","v":""},{"$f":"IF(Data!$E98=30,Data!BL98,IF(Data!Y98<>\"\",Data!Y98,\"\"))","v":""},{"$f":"IF(Data!$E98=30,Data!BM98,\"\")","v":""}]
[null,{"$f":"IF(Data!A99<>\"\",Data!A99,\"\")","v":""},{"$f":"IF(Data!$E99=30,Data!F99,\"\")","v":""},{"$f":"IF(Data!$E99=30,Data!G99,IF(Data!F99<>\"\",Data!F99,\"\"))","v":""},{"$f":"IF(Data!$E99=30,Data!H99,\"\")","v":""},{"$f":"IF(Data!$E99=30,Data!I99,\"\")","v":""},{"$f":"IF(Data!$E99=30,Data!J99,IF(Data!G99<>\"\",Data!G99,\"\"))","v":""},{"$f":"IF(Data!$E99=30,Data!K99,\"\")","v":""},{"$f":"IF(Data!$E99=30,Data!L99,\"\")","v":""},{"$f":"IF(Data!$E99=30,Data!M99,IF(Data!H99<>\"\",Data!H99,\"\"))","v":""},{"$f":"IF(Data!$E99=30,Data!N99,\"\")","v":""},{"$f":"IF(Data!$E99=30,Data!O99,\"\")","v":""},{"$f":"IF(Data!$E99=30,Data!P99,IF(Data!I99<>\"\",Data!I99,\"\"))","v":""},{"$f":"IF(Data!$E99=30,Data!Q99,\"\")","v":""},{"$f":"IF(Data!$E99=30,Data!R99,\"\")","v":""},{"$f":"IF(Data!$E99=30,Data!S99,IF(Data!J99<>\"\",Data!J99,\"\"))","v":""},{"$f":"IF(Data!$E99=30,Data!T99,\"\")","v":""},{"$f":"IF(Data!$E99=30,Data!U99,\"\")","v":""},{"$f":"IF(Data!$E99=30,Data!V99,IF(Data!K99<>\"\",Data!K99,\"\"))","v":""},{"$f":"IF(Data!$E99=30,Data!W99,\"\")","v":""},{"$f":"IF(Data!$E99=30,Data!X99,\"\")","v":""},{"$f":"IF(Data!$E99=30,Data!Y99,IF(Data!L99<>\"\",Data!L99,\"\"))","v":""},{"$f":"IF(Data!$E99=30,Data!Z99,\"\")","v":""},{"$f":"IF(Data!$E99=30,Data!AA99,\"\")","v":""},{"$f":"IF(Data!$E99=30,Data!AB99,IF(Data!M99<>\"\",Data!M99,\"\"))","v":""},{"$f":"IF(Data!$E99=30,Data!AC99,\"\")","v":""},{"$f":"IF(Data!$E99=30,Data!AD99,\"\")","v":""},{"$f":"IF(Data!$E99=30,Data!AE99,IF(Data!N99<>\"\",Data!N99,\"\"))","v":""},{"$f":"IF(Data!$E99=30,Data!AF99,\"\")","v":""},{"$f":"IF(Data!$E99=30,Data!AG99,\"\")","v":""},{"$f":"IF(Data!$E99=30,Data!AH99,IF(Data!O99<>\"\",Data!O99,\"\"))","v":""},{"$f":"IF(Data!$E99=30,Data!AI99,\"\")","v":""},null,null,null,{"$f":"IF(Data!$E99=30,Data!AJ99,\"\")","v":""},{"$f":"IF(Data!$E99=30,Data!AK99,IF(Data!P99<>\"\",Data!P99,\"\"))","v":""},{"$f":"IF(Data!$E99=30,Data!AL99,\"\")","v":""},{"$f":"IF(Data!$E99=30,Data!AM99,\"\")","v":""},{"$f":"IF(Data!$E99=30,Data!AN99,IF(Data!Q99<>\"\",Data!Q99,\"\"))","v":""},{"$f":"IF(Data!$E99=30,Data!AO99,\"\")","v":""},{"$f":"IF(Data!$E99=30,Data!AP99,\"\")","v":""},{"$f":"IF(Data!$E99=30,Data!AQ99,IF(Data!R99<>\"\",Data!R99,\"\"))","v":""},{"$f":"IF(Data!$E99=30,Data!AR99,\"\")","v":""},{"$f":"IF(Data!$E99=30,Data!AS99,\"\")","v":""},{"$f":"IF(Data!$E99=30,Data!AT99,IF(Data!S99<>\"\",Data!S99,\"\"))","v":""},{"$f":"IF(Data!$E99=30,Data!AU99,\"\")","v":""},{"$f":"IF(Data!$E99=30,Data!AV99,\"\")","v":""},{"$f":"IF(Data!$E99=30,Data!AW99,IF(Data!T99<>\"\",Data!T99,\"\"))","v":""},{"$f":"IF(Data!$E99=30,Data!AX99,\"\")","v":""},{"$f":"IF(Data!$E99=30,Data!AY99,\"\")","v":""},{"$f":"IF(Data!$E99=30,Data!AZ99,IF(Data!U99<>\"\",Data!U99,\"\"))","v":""},{"$f":"IF(Data!$E99=30,Data!BA99,\"\")","v":""},{"$f":"IF(Data!$E99=30,Data!BB99,\"\")","v":""},{"$f":"IF(Data!$E99=30,Data!BC99,IF(Data!V99<>\"\",Data!V99,\"\"))","v":""},{"$f":"IF(Data!$E99=30,Data!BD99,\"\")","v":""},{"$f":"IF(Data!$E99=30,Data!BE99,\"\")","v":""},{"$f":"IF(Data!$E99=30,Data!BF99,IF(Data!W99<>\"\",Data!W99,\"\"))","v":""},{"$f":"IF(Data!$E99=30,Data!BG99,\"\")","v":""},{"$f":"IF(Data!$E99=30,Data!BH99,\"\")","v":""},{"$f":"IF(Data!$E99=30,Data!BI99,IF(Data!X99<>\"\",Data!X99,\"\"))","v":""},{"$f":"IF(Data!$E99=30,Data!BJ99,\"\")","v":""},{"$f":"IF(Data!$E99=30,Data!BK99,\"\")","v":""},{"$f":"IF(Data!$E99=30,Data!BL99,IF(Data!Y99<>\"\",Data!Y99,\"\"))","v":""},{"$f":"IF(Data!$E99=30,Data!BM99,\"\")","v":""}]
[null,{"$f":"IF(Data!A100<>\"\",Data!A100,\"\")","v":""},{"$f":"IF(Data!$E100=30,Data!F100,\"\")","v":""},{"$f":"IF(Data!$E100=30,Data!G100,IF(Data!F100<>\"\",Data!F100,\"\"))","v":""},{"$f":"IF(Data!$E100=30,Data!H100,\"\")","v":""},{"$f":"IF(Data!$E100=30,Data!I100,\"\")","v":""},{"$f":"IF(Data!$E100=30,Data!J100,IF(Data!G100<>\"\",Data!G100,\"\"))","v":""},{"$f":"IF(Data!$E100=30,Data!K100,\"\")","v":""},{"$f":"IF(Data!$E100=30,Data!L100,\"\")","v":""},{"$f":"IF(Data!$E100=30,Data!M100,IF(Data!H100<>\"\",Data!H100,\"\"))","v":""},{"$f":"IF(Data!$E100=30,Data!N100,\"\")","v":""},{"$f":"IF(Data!$E100=30,Data!O100,\"\")","v":""},{"$f":"IF(Data!$E100=30,Data!P100,IF(Data!I100<>\"\",Data!I100,\"\"))","v":""},{"$f":"IF(Data!$E100=30,Data!Q100,\"\")","v":""},{"$f":"IF(Data!$E100=30,Data!R100,\"\")","v":""},{"$f":"IF(Data!$E100=30,Data!S100,IF(Data!J100<>\"\",Data!J100,\"\"))","v":""},{"$f":"IF(Data!$E100=30,Data!T100,\"\")","v":""},{"$f":"IF(Data!$E100=30,Data!U100,\"\")","v":""},{"$f":"IF(Data!$E100=30,Data!V100,IF(Data!K100<>\"\",Data!K100,\"\"))","v":""},{"$f":"IF(Data!$E100=30,Data!W100,\"\")","v":""},{"$f":"IF(Data!$E100=30,Data!X100,\"\")","v":""},{"$f":"IF(Data!$E100=30,Data!Y100,IF(Data!L100<>\"\",Data!L100,\"\"))","v":""},{"$f":"IF(Data!$E100=30,Data!Z100,\"\")","v":""},{"$f":"IF(Data!$E100=30,Data!AA100,\"\")","v":""},{"$f":"IF(Data!$E100=30,Data!AB100,IF(Data!M100<>\"\",Data!M100,\"\"))","v":""},{"$f":"IF(Data!$E100=30,Data!AC100,\"\")","v":""},{"$f":"IF(Data!$E100=30,Data!AD100,\"\")","v":""},{"$f":"IF(Data!$E100=30,Data!AE100,IF(Data!N100<>\"\",Data!N100,\"\"))","v":""},{"$f":"IF(Data!$E100=30,Data!AF100,\"\")","v":""},{"$f":"IF(Data!$E100=30,Data!AG100,\"\")","v":""},{"$f":"IF(Data!$E100=30,Data!AH100,IF(Data!O100<>\"\",Data!O100,\"\"))","v":""},{"$f":"IF(Data!$E100=30,Data!AI100,\"\")","v":""},null,null,null,{"$f":"IF(Data!$E100=30,Data!AJ100,\"\")","v":""},{"$f":"IF(Data!$E100=30,Data!AK100,IF(Data!P100<>\"\",Data!P100,\"\"))","v":""},{"$f":"IF(Data!$E100=30,Data!AL100,\"\")","v":""},{"$f":"IF(Data!$E100=30,Data!AM100,\"\")","v":""},{"$f":"IF(Data!$E100=30,Data!AN100,IF(Data!Q100<>\"\",Data!Q100,\"\"))","v":""},{"$f":"IF(Data!$E100=30,Data!AO100,\"\")","v":""},{"$f":"IF(Data!$E100=30,Data!AP100,\"\")","v":""},{"$f":"IF(Data!$E100=30,Data!AQ100,IF(Data!R100<>\"\",Data!R100,\"\"))","v":""},{"$f":"IF(Data!$E100=30,Data!AR100,\"\")","v":""},{"$f":"IF(Data!$E100=30,Data!AS100,\"\")","v":""},{"$f":"IF(Data!$E100=30,Data!AT100,IF(Data!S100<>\"\",Data!S100,\"\"))","v":""},{"$f":"IF(Data!$E100=30,Data!AU100,\"\")","v":""},{"$f":"IF(Data!$E100=30,Data!AV100,\"\")","v":""},{"$f":"IF(Data!$E100=30,Data!AW100,IF(Data!T100<>\"\",Data!T100,\"\"))","v":""},{"$f":"IF(Data!$E100=30,Data!AX100,\"\")","v":""},{"$f":"IF(Data!$E100=30,Data!AY100,\"\")","v":""},{"$f":"IF(Data!$E100=30,Data!AZ100,IF(Data!U100<>\"\",Data!U100,\"\"))","v":""},{"$f":"IF(Data!$E100=30,Data!BA100,\"\")","v":""},{"$f":"IF(Data!$E100=30,Data!BB100,\"\")","v":""},{"$f":"IF(Data!$E100=30,Data!BC100,IF(Data!V100<>\"\",Data!V100,\"\"))","v":""},{"$f":"IF(Data!$E100=30,Data!BD100,\"\")","v":""},{"$f":"IF(Data!$E100=30,Data!BE100,\"\")","v":""},{"$f":"IF(Data!$E100=30,Data!BF100,IF(Data!W100<>\"\",Data!W100,\"\"))","v":""},{"$f":"IF(Data!$E100=30,Data!BG100,\"\")","v":""},{"$f":"IF(Data!$E100=30,Data!BH100,\"\")","v":""},{"$f":"IF(Data!$E100=30,Data!BI100,IF(Data!X100<>\"\",Data!X100,\"\"))","v":""},{"$f":"IF(Data!$E100=30,Data!BJ100,\"\")","v":""},{"$f":"IF(Data!$E100=30,Data!BK100,\"\")","v":""},{"$f":"IF(Data!$E100=30,Data!BL100,IF(Data!Y100<>\"\",Data!Y100,\"\"))","v":""},{"$f":"IF(Data!$E100=30,Data!BM100,\"\")","v":""}]

{"sheet":"T20","index":3,"n_rows":100,"n_cols":65,"rows_kept":100,"cut":false,"hidden":false,"merged":[]}
[]
[null,"ID",25,31.5,40,50,63,80,100,125,160,200,250,315,400,500,630,800,1000,1250,1600,2000,2500,3150,4000,5000,6300,8000,10000,12500,16000,20000,null,null,null,25,31.5,40,50,63,80,100,125,160,200,250,315,400,500,630,800,1000,1250,1600,2000,2500,3150,4000,5000,6300,8000,10000,12500,16000,20000]
[null,{"$f":"IF(Data!A3<>\"\",Data!A3,\"\")","v":""},{"$f":"IF(Data!$E3=30,Data!BN3,\"\")","v":""},{"$f":"IF(Data!$E3=30,Data!BO3,IF(Data!Z3<>\"\",Data!Z3,\"\"))","v":""},{"$f":"IF(Data!$E3=30,Data!BP3,\"\")","v":""},{"$f":"IF(Data!$E3=30,Data!BQ3,\"\")","v":""},{"$f":"IF(Data!$E3=30,Data!BR3,IF(Data!AA3<>\"\",Data!AA3,\"\"))","v":""},{"$f":"IF(Data!$E3=30,Data!BS3,\"\")","v":""},{"$f":"IF(Data!$E3=30,Data!BT3,\"\")","v":""},{"$f":"IF(Data!$E3=30,Data!BU3,IF(Data!AB3<>\"\",Data!AB3,\"\"))","v":""},{"$f":"IF(Data!$E3=30,Data!BV3,\"\")","v":""},{"$f":"IF(Data!$E3=30,Data!BW3,\"\")","v":""},{"$f":"IF(Data!$E3=30,Data!BX3,IF(Data!AC3<>\"\",Data!AC3,\"\"))","v":""},{"$f":"IF(Data!$E3=30,Data!BY3,\"\")","v":""},{"$f":"IF(Data!$E3=30,Data!BZ3,\"\")","v":""},{"$f":"IF(Data!$E3=30,Data!CA3,IF(Data!AD3<>\"\",Data!AD3,\"\"))","v":""},{"$f":"IF(Data!$E3=30,Data!CB3,\"\")","v":""},{"$f":"IF(Data!$E3=30,Data!CC3,\"\")","v":""},{"$f":"IF(Data!$E3=30,Data!CD3,IF(Data!AE3<>\"\",Data!AE3,\"\"))","v":""},{"$f":"IF(Data!$E3=30,Data!CE3,\"\")","v":""},{"$f":"IF(Data!$E3=30,Data!CF3,\"\")","v":""},{"$f":"IF(Data!$E3=30,Data!CG3,IF(Data!AF3<>\"\",Data!AF3,\"\"))","v":""},{"$f":"IF(Data!$E3=30,Data!CH3,\"\")","v":""},{"$f":"IF(Data!$E3=30,Data!CI3,\"\")","v":""},{"$f":"IF(Data!$E3=30,Data!CJ3,IF(Data!AG3<>\"\",Data!AG3,\"\"))","v":""},{"$f":"IF(Data!$E3=30,Data!CK3,\"\")","v":""},{"$f":"IF(Data!$E3=30,Data!CL3,\"\")","v":""},{"$f":"IF(Data!$E3=30,Data!CM3,IF(Data!AH3<>\"\",Data!AH3,\"\"))","v":""},{"$f":"IF(Data!$E3=30,Data!CN3,\"\")","v":""},{"$f":"IF(Data!$E3=30,Data!CO3,\"\")","v":""},{"$f":"IF(Data!$E3=30,Data!CP3,IF(Data!AI3<>\"\",Data!AI3,\"\"))","v":""},{"$f":"IF(Data!$E3=30,Data!CQ3,\"\")","v":""},null,null,null,{"$f":"IF(Data!$E3=30,Data!CR3,\"\")","v":""},{"$f":"IF(Data!$E3=30,Data!CS3,IF(Data!AJ3<>\"\",Data!AJ3,\"\"))","v":""},{"$f":"IF(Data!$E3=30,Data!CT3,\"\")","v":""},{"$f":"IF(Data!$E3=30,Data!CU3,\"\")","v":""},{"$f":"IF(Data!$E3=30,Data!CV3,IF(Data!AK3<>\"\",Data!AK3,\"\"))","v":""},{"$f":"IF(Data!$E3=30,Data!CW3,\"\")","v":""},{"$f":"IF(Data!$E3=30,Data!CX3,\"\")","v":""},{"$f":"IF(Data!$E3=30,Data!CY3,IF(Data!AL3<>\"\",Data!AL3,\"\"))","v":""},{"$f":"IF(Data!$E3=30,Data!CZ3,\"\")","v":""},{"$f":"IF(Data!$E3=30,Data!DA3,\"\")","v":""},{"$f":"IF(Data!$E3=30,Data!DB3,IF(Data!AM3<>\"\",Data!AM3,\"\"))","v":""},{"$f":"IF(Data!$E3=30,Data!DC3,\"\")","v":""},{"$f":"IF(Data!$E3=30,Data!DD3,\"\")","v":""},{"$f":"IF(Data!$E3=30,Data!DE3,IF(Data!AN3<>\"\",Data!AN3,\"\"))","v":""},{"$f":"IF(Data!$E3=30,Data!DF3,\"\")","v":""},{"$f":"IF(Data!$E3=30,Data!DG3,\"\")","v":""},{"$f":"IF(Data!$E3=30,Data!DH3,IF(Data!AO3<>\"\",Data!AO3,\"\"))","v":""},{"$f":"IF(Data!$E3=30,Data!DI3,\"\")","v":""},{"$f":"IF(Data!$E3=30,Data!DJ3,\"\")","v":""},{"$f":"IF(Data!$E3=30,Data!DK3,IF(Data!AP3<>\"\",Data!AP3,\"\"))","v":""},{"$f":"IF(Data!$E3=30,Data!DL3,\"\")","v":""},{"$f":"IF(Data!$E3=30,Data!DM3,\"\")","v":""},{"$f":"IF(Data!$E3=30,Data!DN3,IF(Data!AQ3<>\"\",Data!AQ3,\"\"))","v":""},{"$f":"IF(Data!$E3=30,Data!DO3,\"\")","v":""},{"$f":"IF(Data!$E3=30,Data!DP3,\"\")","v":""},{"$f":"IF(Data!$E3=30,Data!DQ3,IF(Data!AR3<>\"\",Data!AR3,\"\"))","v":""},{"$f":"IF(Data!$E3=30,Data!DR3,\"\")","v":""},{"$f":"IF(Data!$E3=30,Data!DS3,\"\")","v":""},{"$f":"IF(Data!$E3=30,Data!DT3,IF(Data!AS3<>\"\",Data!AS3,\"\"))","v":""},{"$f":"IF(Data!$E3=30,Data!DU3,\"\")","v":""}]
[null,{"$f":"IF(Data!A4<>\"\",Data!A4,\"\")","v":""},{"$f":"IF(Data!$E4=30,Data!BN4,\"\")","v":""},{"$f":"IF(Data!$E4=30,Data!BO4,IF(Data!Z4<>\"\",Data!Z4,\"\"))","v":""},{"$f":"IF(Data!$E4=30,Data!BP4,\"\")","v":""},{"$f":"IF(Data!$E4=30,Data!BQ4,\"\")","v":""},{"$f":"IF(Data!$E4=30,Data!BR4,IF(Data!AA4<>\"\",Data!AA4,\"\"))","v":""},{"$f":"IF(Data!$E4=30,Data!BS4,\"\")","v":""},{"$f":"IF(Data!$E4=30,Data!BT4,\"\")","v":""},{"$f":"IF(Data!$E4=30,Data!BU4,IF(Data!AB4<>\"\",Data!AB4,\"\"))","v":""},{"$f":"IF(Data!$E4=30,Data!BV4,\"\")","v":""},{"$f":"IF(Data!$E4=30,Data!BW4,\"\")","v":""},{"$f":"IF(Data!$E4=30,Data!BX4,IF(Data!AC4<>\"\",Data!AC4,\"\"))","v":""},{"$f":"IF(Data!$E4=30,Data!BY4,\"\")","v":""},{"$f":"IF(Data!$E4=30,Data!BZ4,\"\")","v":""},{"$f":"IF(Data!$E4=30,Data!CA4,IF(Data!AD4<>\"\",Data!AD4,\"\"))","v":""},{"$f":"IF(Data!$E4=30,Data!CB4,\"\")","v":""},{"$f":"IF(Data!$E4=30,Data!CC4,\"\")","v":""},{"$f":"IF(Data!$E4=30,Data!CD4,IF(Data!AE4<>\"\",Data!AE4,\"\"))","v":""},{"$f":"IF(Data!$E4=30,Data!CE4,\"\")","v":""},{"$f":"IF(Data!$E4=30,Data!CF4,\"\")","v":""},{"$f":"IF(Data!$E4=30,Data!CG4,IF(Data!AF4<>\"\",Data!AF4,\"\"))","v":""},{"$f":"IF(Data!$E4=30,Data!CH4,\"\")","v":""},{"$f":"IF(Data!$E4=30,Data!CI4,\"\")","v":""},{"$f":"IF(Data!$E4=30,Data!CJ4,IF(Data!AG4<>\"\",Data!AG4,\"\"))","v":""},{"$f":"IF(Data!$E4=30,Data!CK4,\"\")","v":""},{"$f":"IF(Data!$E4=30,Data!CL4,\"\")","v":""},{"$f":"IF(Data!$E4=30,Data!CM4,IF(Data!AH4<>\"\",Data!AH4,\"\"))","v":""},{"$f":"IF(Data!$E4=30,Data!CN4,\"\")","v":""},{"$f":"IF(Data!$E4=30,Data!CO4,\"\")","v":""},{"$f":"IF(Data!$E4=30,Data!CP4,IF(Data!AI4<>\"\",Data!AI4,\"\"))","v":""},{"$f":"IF(Data!$E4=30,Data!CQ4,\"\")","v":""},null,null,null,{"$f":"IF(Data!$E4=30,Data!CR4,\"\")","v":""},{"$f":"IF(Data!$E4=30,Data!CS4,IF(Data!AJ4<>\"\",Data!AJ4,\"\"))","v":""},{"$f":"IF(Data!$E4=30,Data!CT4,\"\")","v":""},{"$f":"IF(Data!$E4=30,Data!CU4,\"\")","v":""},{"$f":"IF(Data!$E4=30,Data!CV4,IF(Data!AK4<>\"\",Data!AK4,\"\"))","v":""},{"$f":"IF(Data!$E4=30,Data!CW4,\"\")","v":""},{"$f":"IF(Data!$E4=30,Data!CX4,\"\")","v":""},{"$f":"IF(Data!$E4=30,Data!CY4,IF(Data!AL4<>\"\",Data!AL4,\"\"))","v":""},{"$f":"IF(Data!$E4=30,Data!CZ4,\"\")","v":""},{"$f":"IF(Data!$E4=30,Data!DA4,\"\")","v":""},{"$f":"IF(Data!$E4=30,Data!DB4,IF(Data!AM4<>\"\",Data!AM4,\"\"))","v":""},{"$f":"IF(Data!$E4=30,Data!DC4,\"\")","v":""},{"$f":"IF(Data!$E4=30,Data!DD4,\"\")","v":""},{"$f":"IF(Data!$E4=30,Data!DE4,IF(Data!AN4<>\"\",Data!AN4,\"\"))","v":""},{"$f":"IF(Data!$E4=30,Data!DF4,\"\")","v":""},{"$f":"IF(Data!$E4=30,Data!DG4,\"\")","v":""},{"$f":"IF(Data!$E4=30,Data!DH4,IF(Data!AO4<>\"\",Data!AO4,\"\"))","v":""},{"$f":"IF(Data!$E4=30,Data!DI4,\"\")","v":""},{"$f":"IF(Data!$E4=30,Data!DJ4,\"\")","v":""},{"$f":"IF(Data!$E4=30,Data!DK4,IF(Data!AP4<>\"\",Data!AP4,\"\"))","v":""},{"$f":"IF(Data!$E4=30,Data!DL4,\"\")","v":""},{"$f":"IF(Data!$E4=30,Data!DM4,\"\")","v":""},{"$f":"IF(Data!$E4=30,Data!DN4,IF(Data!AQ4<>\"\",Data!AQ4,\"\"))","v":""},{"$f":"IF(Data!$E4=30,Data!DO4,\"\")","v":""},{"$f":"IF(Data!$E4=30,Data!DP4,\"\")","v":""},{"$f":"IF(Data!$E4=30,Data!DQ4,IF(Data!AR4<>\"\",Data!AR4,\"\"))","v":""},{"$f":"IF(Data!$E4=30,Data!DR4,\"\")","v":""},{"$f":"IF(Data!$E4=30,Data!DS4,\"\")","v":""},{"$f":"IF(Data!$E4=30,Data!DT4,IF(Data!AS4<>\"\",Data!AS4,\"\"))","v":""},{"$f":"IF(Data!$E4=30,Data!DU4,\"\")","v":""}]
[null,{"$f":"IF(Data!A5<>\"\",Data!A5,\"\")","v":""},{"$f":"IF(Data!$E5=30,Data!BN5,\"\")","v":""},{"$f":"IF(Data!$E5=30,Data!BO5,IF(Data!Z5<>\"\",Data!Z5,\"\"))","v":""},{"$f":"IF(Data!$E5=30,Data!BP5,\"\")","v":""},{"$f":"IF(Data!$E5=30,Data!BQ5,\"\")","v":""},{"$f":"IF(Data!$E5=30,Data!BR5,IF(Data!AA5<>\"\",Data!AA5,\"\"))","v":""},{"$f":"IF(Data!$E5=30,Data!BS5,\"\")","v":""},{"$f":"IF(Data!$E5=30,Data!BT5,\"\")","v":""},{"$f":"IF(Data!$E5=30,Data!BU5,IF(Data!AB5<>\"\",Data!AB5,\"\"))","v":""},{"$f":"IF(Data!$E5=30,Data!BV5,\"\")","v":""},{"$f":"IF(Data!$E5=30,Data!BW5,\"\")","v":""},{"$f":"IF(Data!$E5=30,Data!BX5,IF(Data!AC5<>\"\",Data!AC5,\"\"))","v":""},{"$f":"IF(Data!$E5=30,Data!BY5,\"\")","v":""},{"$f":"IF(Data!$E5=30,Data!BZ5,\"\")","v":""},{"$f":"IF(Data!$E5=30,Data!CA5,IF(Data!AD5<>\"\",Data!AD5,\"\"))","v":""},{"$f":"IF(Data!$E5=30,Data!CB5,\"\")","v":""},{"$f":"IF(Data!$E5=30,Data!CC5,\"\")","v":""},{"$f":"IF(Data!$E5=30,Data!CD5,IF(Data!AE5<>\"\",Data!AE5,\"\"))","v":""},{"$f":"IF(Data!$E5=30,Data!CE5,\"\")","v":""},{"$f":"IF(Data!$E5=30,Data!CF5,\"\")","v":""},{"$f":"IF(Data!$E5=30,Data!CG5,IF(Data!AF5<>\"\",Data!AF5,\"\"))","v":""},{"$f":"IF(Data!$E5=30,Data!CH5,\"\")","v":""},{"$f":"IF(Data!$E5=30,Data!CI5,\"\")","v":""},{"$f":"IF(Data!$E5=30,Data!CJ5,IF(Data!AG5<>\"\",Data!AG5,\"\"))","v":""},{"$f":"IF(Data!$E5=30,Data!CK5,\"\")","v":""},{"$f":"IF(Data!$E5=30,Data!CL5,\"\")","v":""},{"$f":"IF(Data!$E5=30,Data!CM5,IF(Data!AH5<>\"\",Data!AH5,\"\"))","v":""},{"$f":"IF(Data!$E5=30,Data!CN5,\"\")","v":""},{"$f":"IF(Data!$E5=30,Data!CO5,\"\")","v":""},{"$f":"IF(Data!$E5=30,Data!CP5,IF(Data!AI5<>\"\",Data!AI5,\"\"))","v":""},{"$f":"IF(Data!$E5=30,Data!CQ5,\"\")","v":""},null,null,null,{"$f":"IF(Data!$E5=30,Data!CR5,\"\")","v":""},{"$f":"IF(Data!$E5=30,Data!CS5,IF(Data!AJ5<>\"\",Data!AJ5,\"\"))","v":""},{"$f":"IF(Data!$E5=30,Data!CT5,\"\")","v":""},{"$f":"IF(Data!$E5=30,Data!CU5,\"\")","v":""},{"$f":"IF(Data!$E5=30,Data!CV5,IF(Data!AK5<>\"\",Data!AK5,\"\"))","v":""},{"$f":"IF(Data!$E5=30,Data!CW5,\"\")","v":""},{"$f":"IF(Data!$E5=30,Data!CX5,\"\")","v":""},{"$f":"IF(Data!$E5=30,Data!CY5,IF(Data!AL5<>\"\",Data!AL5,\"\"))","v":""},{"$f":"IF(Data!$E5=30,Data!CZ5,\"\")","v":""},{"$f":"IF(Data!$E5=30,Data!DA5,\"\")","v":""},{"$f":"IF(Data!$E5=30,Data!DB5,IF(Data!AM5<>\"\",Data!AM5,\"\"))","v":""},{"$f":"IF(Data!$E5=30,Data!DC5,\"\")","v":""},{"$f":"IF(Data!$E5=30,Data!DD5,\"\")","v":""},{"$f":"IF(Data!$E5=30,Data!DE5,IF(Data!AN5<>\"\",Data!AN5,\"\"))","v":""},{"$f":"IF(Data!$E5=30,Data!DF5,\"\")","v":""},{"$f":"IF(Data!$E5=30,Data!DG5,\"\")","v":""},{"$f":"IF(Data!$E5=30,Data!DH5,IF(Data!AO5<>\"\",Data!AO5,\"\"))","v":""},{"$f":"IF(Data!$E5=30,Data!DI5,\"\")","v":""},{"$f":"IF(Data!$E5=30,Data!DJ5,\"\")","v":""},{"$f":"IF(Data!$E5=30,Data!DK5,IF(Data!AP5<>\"\",Data!AP5,\"\"))","v":""},{"$f":"IF(Data!$E5=30,Data!DL5,\"\")","v":""},{"$f":"IF(Data!$E5=30,Data!DM5,\"\")","v":""},{"$f":"IF(Data!$E5=30,Data!DN5,IF(Data!AQ5<>\"\",Data!AQ5,\"\"))","v":""},{"$f":"IF(Data!$E5=30,Data!DO5,\"\")","v":""},{"$f":"IF(Data!$E5=30,Data!DP5,\"\")","v":""},{"$f":"IF(Data!$E5=30,Data!DQ5,IF(Data!AR5<>\"\",Data!AR5,\"\"))","v":""},{"$f":"IF(Data!$E5=30,Data!DR5,\"\")","v":""},{"$f":"IF(Data!$E5=30,Data!DS5,\"\")","v":""},{"$f":"IF(Data!$E5=30,Data!DT5,IF(Data!AS5<>\"\",Data!AS5,\"\"))","v":""},{"$f":"IF(Data!$E5=30,Data!DU5,\"\")","v":""}]
[null,{"$f":"IF(Data!A6<>\"\",Data!A6,\"\")","v":""},{"$f":"IF(Data!$E6=30,Data!BN6,\"\")","v":""},{"$f":"IF(Data!$E6=30,Data!BO6,IF(Data!Z6<>\"\",Data!Z6,\"\"))","v":""},{"$f":"IF(Data!$E6=30,Data!BP6,\"\")","v":""},{"$f":"IF(Data!$E6=30,Data!BQ6,\"\")","v":""},{"$f":"IF(Data!$E6=30,Data!BR6,IF(Data!AA6<>\"\",Data!AA6,\"\"))","v":""},{"$f":"IF(Data!$E6=30,Data!BS6,\"\")","v":""},{"$f":"IF(Data!$E6=30,Data!BT6,\"\")","v":""},{"$f":"IF(Data!$E6=30,Data!BU6,IF(Data!AB6<>\"\",Data!AB6,\"\"))","v":""},{"$f":"IF(Data!$E6=30,Data!BV6,\"\")","v":""},{"$f":"IF(Data!$E6=30,Data!BW6,\"\")","v":""},{"$f":"IF(Data!$E6=30,Data!BX6,IF(Data!AC6<>\"\",Data!AC6,\"\"))","v":""},{"$f":"IF(Data!$E6=30,Data!BY6,\"\")","v":""},{"$f":"IF(Data!$E6=30,Data!BZ6,\"\")","v":""},{"$f":"IF(Data!$E6=30,Data!CA6,IF(Data!AD6<>\"\",Data!AD6,\"\"))","v":""},{"$f":"IF(Data!$E6=30,Data!CB6,\"\")","v":""},{"$f":"IF(Data!$E6=30,Data!CC6,\"\")","v":""},{"$f":"IF(Data!$E6=30,Data!CD6,IF(Data!AE6<>\"\",Data!AE6,\"\"))","v":""},{"$f":"IF(Data!$E6=30,Data!CE6,\"\")","v":""},{"$f":"IF(Data!$E6=30,Data!CF6,\"\")","v":""},{"$f":"IF(Data!$E6=30,Data!CG6,IF(Data!AF6<>\"\",Data!AF6,\"\"))","v":""},{"$f":"IF(Data!$E6=30,Data!CH6,\"\")","v":""},{"$f":"IF(Data!$E6=30,Data!CI6,\"\")","v":""},{"$f":"IF(Data!$E6=30,Data!CJ6,IF(Data!AG6<>\"\",Data!AG6,\"\"))","v":""},{"$f":"IF(Data!$E6=30,Data!CK6,\"\")","v":""},{"$f":"IF(Data!$E6=30,Data!CL6,\"\")","v":""},{"$f":"IF(Data!$E6=30,Data!CM6,IF(Data!AH6<>\"\",Data!AH6,\"\"))","v":""},{"$f":"IF(Data!$E6=30,Data!CN6,\"\")","v":""},{"$f":"IF(Data!$E6=30,Data!CO6,\"\")","v":""},{"$f":"IF(Data!$E6=30,Data!CP6,IF(Data!AI6<>\"\",Data!AI6,\"\"))","v":""},{"$f":"IF(Data!$E6=30,Data!CQ6,\"\")","v":""},null,null,null,{"$f":"IF(Data!$E6=30,Data!CR6,\"\")","v":""},{"$f":"IF(Data!$E6=30,Data!CS6,IF(Data!AJ6<>\"\",Data!AJ6,\"\"))","v":""},{"$f":"IF(Data!$E6=30,Data!CT6,\"\")","v":""},{"$f":"IF(Data!$E6=30,Data!CU6,\"\")","v":""},{"$f":"IF(Data!$E6=30,Data!CV6,IF(Data!AK6<>\"\",Data!AK6,\"\"))","v":""},{"$f":"IF(Data!$E6=30,Data!CW6,\"\")","v":""},{"$f":"IF(Data!$E6=30,Data!CX6,\"\")","v":""},{"$f":"IF(Data!$E6=30,Data!CY6,IF(Data!AL6<>\"\",Data!AL6,\"\"))","v":""},{"$f":"IF(Data!$E6=30,Data!CZ6,\"\")","v":""},{"$f":"IF(Data!$E6=30,Data!DA6,\"\")","v":""},{"$f":"IF(Data!$E6=30,Data!DB6,IF(Data!AM6<>\"\",Data!AM6,\"\"))","v":""},{"$f":"IF(Data!$E6=30,Data!DC6,\"\")","v":""},{"$f":"IF(Data!$E6=30,Data!DD6,\"\")","v":""},{"$f":"IF(Data!$E6=30,Data!DE6,IF(Data!AN6<>\"\",Data!AN6,\"\"))","v":""},{"$f":"IF(Data!$E6=30,Data!DF6,\"\")","v":""},{"$f":"IF(Data!$E6=30,Data!DG6,\"\")","v":""},{"$f":"IF(Data!$E6=30,Data!DH6,IF(Data!AO6<>\"\",Data!AO6,\"\"))","v":""},{"$f":"IF(Data!$E6=30,Data!DI6,\"\")","v":""},{"$f":"IF(Data!$E6=30,Data!DJ6,\"\")","v":""},{"$f":"IF(Data!$E6=30,Data!DK6,IF(Data!AP6<>\"\",Data!AP6,\"\"))","v":""},{"$f":"IF(Data!$E6=30,Data!DL6,\"\")","v":""},{"$f":"IF(Data!$E6=30,Data!DM6,\"\")","v":""},{"$f":"IF(Data!$E6=30,Data!DN6,IF(Data!AQ6<>\"\",Data!AQ6,\"\"))","v":""},{"$f":"IF(Data!$E6=30,Data!DO6,\"\")","v":""},{"$f":"IF(Data!$E6=30,Data!DP6,\"\")","v":""},{"$f":"IF(Data!$E6=30,Data!DQ6,IF(Data!AR6<>\"\",Data!AR6,\"\"))","v":""},{"$f":"IF(Data!$E6=30,Data!DR6,\"\")","v":""},{"$f":"IF(Data!$E6=30,Data!DS6,\"\")","v":""},{"$f":"IF(Data!$E6=30,Data!DT6,IF(Data!AS6<>\"\",Data!AS6,\"\"))","v":""},{"$f":"IF(Data!$E6=30,Data!DU6,\"\")","v":""}]
[null,{"$f":"IF(Data!A7<>\"\",Data!A7,\"\")","v":""},{"$f":"IF(Data!$E7=30,Data!BN7,\"\")","v":""},{"$f":"IF(Data!$E7=30,Data!BO7,IF(Data!Z7<>\"\",Data!Z7,\"\"))","v":""},{"$f":"IF(Data!$E7=30,Data!BP7,\"\")","v":""},{"$f":"IF(Data!$E7=30,Data!BQ7,\"\")","v":""},{"$f":"IF(Data!$E7=30,Data!BR7,IF(Data!AA7<>\"\",Data!AA7,\"\"))","v":""},{"$f":"IF(Data!$E7=30,Data!BS7,\"\")","v":""},{"$f":"IF(Data!$E7=30,Data!BT7,\"\")","v":""},{"$f":"IF(Data!$E7=30,Data!BU7,IF(Data!AB7<>\"\",Data!AB7,\"\"))","v":""},{"$f":"IF(Data!$E7=30,Data!BV7,\"\")","v":""},{"$f":"IF(Data!$E7=30,Data!BW7,\"\")","v":""},{"$f":"IF(Data!$E7=30,Data!BX7,IF(Data!AC7<>\"\",Data!AC7,\"\"))","v":""},{"$f":"IF(Data!$E7=30,Data!BY7,\"\")","v":""},{"$f":"IF(Data!$E7=30,Data!BZ7,\"\")","v":""},{"$f":"IF(Data!$E7=30,Data!CA7,IF(Data!AD7<>\"\",Data!AD7,\"\"))","v":""},{"$f":"IF(Data!$E7=30,Data!CB7,\"\")","v":""},{"$f":"IF(Data!$E7=30,Data!CC7,\"\")","v":""},{"$f":"IF(Data!$E7=30,Data!CD7,IF(Data!AE7<>\"\",Data!AE7,\"\"))","v":""},{"$f":"IF(Data!$E7=30,Data!CE7,\"\")","v":""},{"$f":"IF(Data!$E7=30,Data!CF7,\"\")","v":""},{"$f":"IF(Data!$E7=30,Data!CG7,IF(Data!AF7<>\"\",Data!AF7,\"\"))","v":""},{"$f":"IF(Data!$E7=30,Data!CH7,\"\")","v":""},{"$f":"IF(Data!$E7=30,Data!CI7,\"\")","v":""},{"$f":"IF(Data!$E7=30,Data!CJ7,IF(Data!AG7<>\"\",Data!AG7,\"\"))","v":""},{"$f":"IF(Data!$E7=30,Data!CK7,\"\")","v":""},{"$f":"IF(Data!$E7=30,Data!CL7,\"\")","v":""},{"$f":"IF(Data!$E7=30,Data!CM7,IF(Data!AH7<>\"\",Data!AH7,\"\"))","v":""},{"$f":"IF(Data!$E7=30,Data!CN7,\"\")","v":""},{"$f":"IF(Data!$E7=30,Data!CO7,\"\")","v":""},{"$f":"IF(Data!$E7=30,Data!CP7,IF(Data!AI7<>\"\",Data!AI7,\"\"))","v":""},{"$f":"IF(Data!$E7=30,Data!CQ7,\"\")","v":""},null,null,null,{"$f":"IF(Data!$E7=30,Data!CR7,\"\")","v":""},{"$f":"IF(Data!$E7=30,Data!CS7,IF(Data!AJ7<>\"\",Data!AJ7,\"\"))","v":""},{"$f":"IF(Data!$E7=30,Data!CT7,\"\")","v":""},{"$f":"IF(Data!$E7=30,Data!CU7,\"\")","v":""},{"$f":"IF(Data!$E7=30,Data!CV7,IF(Data!AK7<>\"\",Data!AK7,\"\"))","v":""},{"$f":"IF(Data!$E7=30,Data!CW7,\"\")","v":""},{"$f":"IF(Data!$E7=30,Data!CX7,\"\")","v":""},{"$f":"IF(Data!$E7=30,Data!CY7,IF(Data!AL7<>\"\",Data!AL7,\"\"))","v":""},{"$f":"IF(Data!$E7=30,Data!CZ7,\"\")","v":""},{"$f":"IF(Data!$E7=30,Data!DA7,\"\")","v":""},{"$f":"IF(Data!$E7=30,Data!DB7,IF(Data!AM7<>\"\",Data!AM7,\"\"))","v":""},{"$f":"IF(Data!$E7=30,Data!DC7,\"\")","v":""},{"$f":"IF(Data!$E7=30,Data!DD7,\"\")","v":""},{"$f":"IF(Data!$E7=30,Data!DE7,IF(Data!AN7<>\"\",Data!AN7,\"\"))","v":""},{"$f":"IF(Data!$E7=30,Data!DF7,\"\")","v":""},{"$f":"IF(Data!$E7=30,Data!DG7,\"\")","v":""},{"$f":"IF(Data!$E7=30,Data!DH7,IF(Data!AO7<>\"\",Data!AO7,\"\"))","v":""},{"$f":"IF(Data!$E7=30,Data!DI7,\"\")","v":""},{"$f":"IF(Data!$E7=30,Data!DJ7,\"\")","v":""},{"$f":"IF(Data!$E7=30,Data!DK7,IF(Data!AP7<>\"\",Data!AP7,\"\"))","v":""},{"$f":"IF(Data!$E7=30,Data!DL7,\"\")","v":""},{"$f":"IF(Data!$E7=30,Data!DM7,\"\")","v":""},{"$f":"IF(Data!$E7=30,Data!DN7,IF(Data!AQ7<>\"\",Data!AQ7,\"\"))","v":""},{"$f":"IF(Data!$E7=30,Data!DO7,\"\")","v":""},{"$f":"IF(Data!$E7=30,Data!DP7,\"\")","v":""},{"$f":"IF(Data!$E7=30,Data!DQ7,IF(Data!AR7<>\"\",Data!AR7,\"\"))","v":""},{"$f":"IF(Data!$E7=30,Data!DR7,\"\")","v":""},{"$f":"IF(Data!$E7=30,Data!DS7,\"\")","v":""},{"$f":"IF(Data!$E7=30,Data!DT7,IF(Data!AS7<>\"\",Data!AS7,\"\"))","v":""},{"$f":"IF(Data!$E7=30,Data!DU7,\"\")","v":""}]
[null,{"$f":"IF(Data!A8<>\"\",Data!A8,\"\")","v":""},{"$f":"IF(Data!$E8=30,Data!BN8,\"\")","v":""},{"$f":"IF(Data!$E8=30,Data!BO8,IF(Data!Z8<>\"\",Data!Z8,\"\"))","v":""},{"$f":"IF(Data!$E8=30,Data!BP8,\"\")","v":""},{"$f":"IF(Data!$E8=30,Data!BQ8,\"\")","v":""},{"$f":"IF(Data!$E8=30,Data!BR8,IF(Data!AA8<>\"\",Data!AA8,\"\"))","v":""},{"$f":"IF(Data!$E8=30,Data!BS8,\"\")","v":""},{"$f":"IF(Data!$E8=30,Data!BT8,\"\")","v":""},{"$f":"IF(Data!$E8=30,Data!BU8,IF(Data!AB8<>\"\",Data!AB8,\"\"))","v":""},{"$f":"IF(Data!$E8=30,Data!BV8,\"\")","v":""},{"$f":"IF(Data!$E8=30,Data!BW8,\"\")","v":""},{"$f":"IF(Data!$E8=30,Data!BX8,IF(Data!AC8<>\"\",Data!AC8,\"\"))","v":""},{"$f":"IF(Data!$E8=30,Data!BY8,\"\")","v":""},{"$f":"IF(Data!$E8=30,Data!BZ8,\"\")","v":""},{"$f":"IF(Data!$E8=30,Data!CA8,IF(Data!AD8<>\"\",Data!AD8,\"\"))","v":""},{"$f":"IF(Data!$E8=30,Data!CB8,\"\")","v":""},{"$f":"IF(Data!$E8=30,Data!CC8,\"\")","v":""},{"$f":"IF(Data!$E8=30,Data!CD8,IF(Data!AE8<>\"\",Data!AE8,\"\"))","v":""},{"$f":"IF(Data!$E8=30,Data!CE8,\"\")","v":""},{"$f":"IF(Data!$E8=30,Data!CF8,\"\")","v":""},{"$f":"IF(Data!$E8=30,Data!CG8,IF(Data!AF8<>\"\",Data!AF8,\"\"))","v":""},{"$f":"IF(Data!$E8=30,Data!CH8,\"\")","v":""},{"$f":"IF(Data!$E8=30,Data!CI8,\"\")","v":""},{"$f":"IF(Data!$E8=30,Data!CJ8,IF(Data!AG8<>\"\",Data!AG8,\"\"))","v":""},{"$f":"IF(Data!$E8=30,Data!CK8,\"\")","v":""},{"$f":"IF(Data!$E8=30,Data!CL8,\"\")","v":""},{"$f":"IF(Data!$E8=30,Data!CM8,IF(Data!AH8<>\"\",Data!AH8,\"\"))","v":""},{"$f":"IF(Data!$E8=30,Data!CN8,\"\")","v":""},{"$f":"IF(Data!$E8=30,Data!CO8,\"\")","v":""},{"$f":"IF(Data!$E8=30,Data!CP8,IF(Data!AI8<>\"\",Data!AI8,\"\"))","v":""},{"$f":"IF(Data!$E8=30,Data!CQ8,\"\")","v":""},null,null,null,{"$f":"IF(Data!$E8=30,Data!CR8,\"\")","v":""},{"$f":"IF(Data!$E8=30,Data!CS8,IF(Data!AJ8<>\"\",Data!AJ8,\"\"))","v":""},{"$f":"IF(Data!$E8=30,Data!CT8,\"\")","v":""},{"$f":"IF(Data!$E8=30,Data!CU8,\"\")","v":""},{"$f":"IF(Data!$E8=30,Data!CV8,IF(Data!AK8<>\"\",Data!AK8,\"\"))","v":""},{"$f":"IF(Data!$E8=30,Data!CW8,\"\")","v":""},{"$f":"IF(Data!$E8=30,Data!CX8,\"\")","v":""},{"$f":"IF(Data!$E8=30,Data!CY8,IF(Data!AL8<>\"\",Data!AL8,\"\"))","v":""},{"$f":"IF(Data!$E8=30,Data!CZ8,\"\")","v":""},{"$f":"IF(Data!$E8=30,Data!DA8,\"\")","v":""},{"$f":"IF(Data!$E8=30,Data!DB8,IF(Data!AM8<>\"\",Data!AM8,\"\"))","v":""},{"$f":"IF(Data!$E8=30,Data!DC8,\"\")","v":""},{"$f":"IF(Data!$E8=30,Data!DD8,\"\")","v":""},{"$f":"IF(Data!$E8=30,Data!DE8,IF(Data!AN8<>\"\",Data!AN8,\"\"))","v":""},{"$f":"IF(Data!$E8=30,Data!DF8,\"\")","v":""},{"$f":"IF(Data!$E8=30,Data!DG8,\"\")","v":""},{"$f":"IF(Data!$E8=30,Data!DH8,IF(Data!AO8<>\"\",Data!AO8,\"\"))","v":""},{"$f":"IF(Data!$E8=30,Data!DI8,\"\")","v":""},{"$f":"IF(Data!$E8=30,Data!DJ8,\"\")","v":""},{"$f":"IF(Data!$E8=30,Data!DK8,IF(Data!AP8<>\"\",Data!AP8,\"\"))","v":""},{"$f":"IF(Data!$E8=30,Data!DL8,\"\")","v":""},{"$f":"IF(Data!$E8=30,Data!DM8,\"\")","v":""},{"$f":"IF(Data!$E8=30,Data!DN8,IF(Data!AQ8<>\"\",Data!AQ8,\"\"))","v":""},{"$f":"IF(Data!$E8=30,Data!DO8,\"\")","v":""},{"$f":"IF(Data!$E8=30,Data!DP8,\"\")","v":""},{"$f":"IF(Data!$E8=30,Data!DQ8,IF(Data!AR8<>\"\",Data!AR8,\"\"))","v":""},{"$f":"IF(Data!$E8=30,Data!DR8,\"\")","v":""},{"$f":"IF(Data!$E8=30,Data!DS8,\"\")","v":""},{"$f":"IF(Data!$E8=30,Data!DT8,IF(Data!AS8<>\"\",Data!AS8,\"\"))","v":""},{"$f":"IF(Data!$E8=30,Data!DU8,\"\")","v":""}]
[null,{"$f":"IF(Data!A9<>\"\",Data!A9,\"\")","v":""},{"$f":"IF(Data!$E9=30,Data!BN9,\"\")","v":""},{"$f":"IF(Data!$E9=30,Data!BO9,IF(Data!Z9<>\"\",Data!Z9,\"\"))","v":""},{"$f":"IF(Data!$E9=30,Data!BP9,\"\")","v":""},{"$f":"IF(Data!$E9=30,Data!BQ9,\"\")","v":""},{"$f":"IF(Data!$E9=30,Data!BR9,IF(Data!AA9<>\"\",Data!AA9,\"\"))","v":""},{"$f":"IF(Data!$E9=30,Data!BS9,\"\")","v":""},{"$f":"IF(Data!$E9=30,Data!BT9,\"\")","v":""},{"$f":"IF(Data!$E9=30,Data!BU9,IF(Data!AB9<>\"\",Data!AB9,\"\"))","v":""},{"$f":"IF(Data!$E9=30,Data!BV9,\"\")","v":""},{"$f":"IF(Data!$E9=30,Data!BW9,\"\")","v":""},{"$f":"IF(Data!$E9=30,Data!BX9,IF(Data!AC9<>\"\",Data!AC9,\"\"))","v":""},{"$f":"IF(Data!$E9=30,Data!BY9,\"\")","v":""},{"$f":"IF(Data!$E9=30,Data!BZ9,\"\")","v":""},{"$f":"IF(Data!$E9=30,Data!CA9,IF(Data!AD9<>\"\",Data!AD9,\"\"))","v":""},{"$f":"IF(Data!$E9=30,Data!CB9,\"\")","v":""},{"$f":"IF(Data!$E9=30,Data!CC9,\"\")","v":""},{"$f":"IF(Data!$E9=30,Data!CD9,IF(Data!AE9<>\"\",Data!AE9,\"\"))","v":""},{"$f":"IF(Data!$E9=30,Data!CE9,\"\")","v":""},{"$f":"IF(Data!$E9=30,Data!CF9,\"\")","v":""},{"$f":"IF(Data!$E9=30,Data!CG9,IF(Data!AF9<>\"\",Data!AF9,\"\"))","v":""},{"$f":"IF(Data!$E9=30,Data!CH9,\"\")","v":""},{"$f":"IF(Data!$E9=30,Data!CI9,\"\")","v":""},{"$f":"IF(Data!$E9=30,Data!CJ9,IF(Data!AG9<>\"\",Data!AG9,\"\"))","v":""},{"$f":"IF(Data!$E9=30,Data!CK9,\"\")","v":""},{"$f":"IF(Data!$E9=30,Data!CL9,\"\")","v":""},{"$f":"IF(Data!$E9=30,Data!CM9,IF(Data!AH9<>\"\",Data!AH9,\"\"))","v":""},{"$f":"IF(Data!$E9=30,Data!CN9,\"\")","v":""},{"$f":"IF(Data!$E9=30,Data!CO9,\"\")","v":""},{"$f":"IF(Data!$E9=30,Data!CP9,IF(Data!AI9<>\"\",Data!AI9,\"\"))","v":""},{"$f":"IF(Data!$E9=30,Data!CQ9,\"\")","v":""},null,null,null,{"$f":"IF(Data!$E9=30,Data!CR9,\"\")","v":""},{"$f":"IF(Data!$E9=30,Data!CS9,IF(Data!AJ9<>\"\",Data!AJ9,\"\"))","v":""},{"$f":"IF(Data!$E9=30,Data!CT9,\"\")","v":""},{"$f":"IF(Data!$E9=30,Data!CU9,\"\")","v":""},{"$f":"IF(Data!$E9=30,Data!CV9,IF(Data!AK9<>\"\",Data!AK9,\"\"))","v":""},{"$f":"IF(Data!$E9=30,Data!CW9,\"\")","v":""},{"$f":"IF(Data!$E9=30,Data!CX9,\"\")","v":""},{"$f":"IF(Data!$E9=30,Data!CY9,IF(Data!AL9<>\"\",Data!AL9,\"\"))","v":""},{"$f":"IF(Data!$E9=30,Data!CZ9,\"\")","v":""},{"$f":"IF(Data!$E9=30,Data!DA9,\"\")","v":""},{"$f":"IF(Data!$E9=30,Data!DB9,IF(Data!AM9<>\"\",Data!AM9,\"\"))","v":""},{"$f":"IF(Data!$E9=30,Data!DC9,\"\")","v":""},{"$f":"IF(Data!$E9=30,Data!DD9,\"\")","v":""},{"$f":"IF(Data!$E9=30,Data!DE9,IF(Data!AN9<>\"\",Data!AN9,\"\"))","v":""},{"$f":"IF(Data!$E9=30,Data!DF9,\"\")","v":""},{"$f":"IF(Data!$E9=30,Data!DG9,\"\")","v":""},{"$f":"IF(Data!$E9=30,Data!DH9,IF(Data!AO9<>\"\",Data!AO9,\"\"))","v":""},{"$f":"IF(Data!$E9=30,Data!DI9,\"\")","v":""},{"$f":"IF(Data!$E9=30,Data!DJ9,\"\")","v":""},{"$f":"IF(Data!$E9=30,Data!DK9,IF(Data!AP9<>\"\",Data!AP9,\"\"))","v":""},{"$f":"IF(Data!$E9=30,Data!DL9,\"\")","v":""},{"$f":"IF(Data!$E9=30,Data!DM9,\"\")","v":""},{"$f":"IF(Data!$E9=30,Data!DN9,IF(Data!AQ9<>\"\",Data!AQ9,\"\"))","v":""},{"$f":"IF(Data!$E9=30,Data!DO9,\"\")","v":""},{"$f":"IF(Data!$E9=30,Data!DP9,\"\")","v":""},{"$f":"IF(Data!$E9=30,Data!DQ9,IF(Data!AR9<>\"\",Data!AR9,\"\"))","v":""},{"$f":"IF(Data!$E9=30,Data!DR9,\"\")","v":""},{"$f":"IF(Data!$E9=30,Data!DS9,\"\")","v":""},{"$f":"IF(Data!$E9=30,Data!DT9,IF(Data!AS9<>\"\",Data!AS9,\"\"))","v":""},{"$f":"IF(Data!$E9=30,Data!DU9,\"\")","v":""}]
[null,{"$f":"IF(Data!A10<>\"\",Data!A10,\"\")","v":""},{"$f":"IF(Data!$E10=30,Data!BN10,\"\")","v":""},{"$f":"IF(Data!$E10=30,Data!BO10,IF(Data!Z10<>\"\",Data!Z10,\"\"))","v":""},{"$f":"IF(Data!$E10=30,Data!BP10,\"\")","v":""},{"$f":"IF(Data!$E10=30,Data!BQ10,\"\")","v":""},{"$f":"IF(Data!$E10=30,Data!BR10,IF(Data!AA10<>\"\",Data!AA10,\"\"))","v":""},{"$f":"IF(Data!$E10=30,Data!BS10,\"\")","v":""},{"$f":"IF(Data!$E10=30,Data!BT10,\"\")","v":""},{"$f":"IF(Data!$E10=30,Data!BU10,IF(Data!AB10<>\"\",Data!AB10,\"\"))","v":""},{"$f":"IF(Data!$E10=30,Data!BV10,\"\")","v":""},{"$f":"IF(Data!$E10=30,Data!BW10,\"\")","v":""},{"$f":"IF(Data!$E10=30,Data!BX10,IF(Data!AC10<>\"\",Data!AC10,\"\"))","v":""},{"$f":"IF(Data!$E10=30,Data!BY10,\"\")","v":""},{"$f":"IF(Data!$E10=30,Data!BZ10,\"\")","v":""},{"$f":"IF(Data!$E10=30,Data!CA10,IF(Data!AD10<>\"\",Data!AD10,\"\"))","v":""},{"$f":"IF(Data!$E10=30,Data!CB10,\"\")","v":""},{"$f":"IF(Data!$E10=30,Data!CC10,\"\")","v":""},{"$f":"IF(Data!$E10=30,Data!CD10,IF(Data!AE10<>\"\",Data!AE10,\"\"))","v":""},{"$f":"IF(Data!$E10=30,Data!CE10,\"\")","v":""},{"$f":"IF(Data!$E10=30,Data!CF10,\"\")","v":""},{"$f":"IF(Data!$E10=30,Data!CG10,IF(Data!AF10<>\"\",Data!AF10,\"\"))","v":""},{"$f":"IF(Data!$E10=30,Data!CH10,\"\")","v":""},{"$f":"IF(Data!$E10=30,Data!CI10,\"\")","v":""},{"$f":"IF(Data!$E10=30,Data!CJ10,IF(Data!AG10<>\"\",Data!AG10,\"\"))","v":""},{"$f":"IF(Data!$E10=30,Data!CK10,\"\")","v":""},{"$f":"IF(Data!$E10=30,Data!CL10,\"\")","v":""},{"$f":"IF(Data!$E10=30,Data!CM10,IF(Data!AH10<>\"\",Data!AH10,\"\"))","v":""},{"$f":"IF(Data!$E10=30,Data!CN10,\"\")","v":""},{"$f":"IF(Data!$E10=30,Data!CO10,\"\")","v":""},{"$f":"IF(Data!$E10=30,Data!CP10,IF(Data!AI10<>\"\",Data!AI10,\"\"))","v":""},{"$f":"IF(Data!$E10=30,Data!CQ10,\"\")","v":""},null,null,null,{"$f":"IF(Data!$E10=30,Data!CR10,\"\")","v":""},{"$f":"IF(Data!$E10=30,Data!CS10,IF(Data!AJ10<>\"\",Data!AJ10,\"\"))","v":""},{"$f":"IF(Data!$E10=30,Data!CT10,\"\")","v":""},{"$f":"IF(Data!$E10=30,Data!CU10,\"\")","v":""},{"$f":"IF(Data!$E10=30,Data!CV10,IF(Data!AK10<>\"\",Data!AK10,\"\"))","v":""},{"$f":"IF(Data!$E10=30,Data!CW10,\"\")","v":""},{"$f":"IF(Data!$E10=30,Data!CX10,\"\")","v":""},{"$f":"IF(Data!$E10=30,Data!CY10,IF(Data!AL10<>\"\",Data!AL10,\"\"))","v":""},{"$f":"IF(Data!$E10=30,Data!CZ10,\"\")","v":""},{"$f":"IF(Data!$E10=30,Data!DA10,\"\")","v":""},{"$f":"IF(Data!$E10=30,Data!DB10,IF(Data!AM10<>\"\",Data!AM10,\"\"))","v":""},{"$f":"IF(Data!$E10=30,Data!DC10,\"\")","v":""},{"$f":"IF(Data!$E10=30,Data!DD10,\"\")","v":""},{"$f":"IF(Data!$E10=30,Data!DE10,IF(Data!AN10<>\"\",Data!AN10,\"\"))","v":""},{"$f":"IF(Data!$E10=30,Data!DF10,\"\")","v":""},{"$f":"IF(Data!$E10=30,Data!DG10,\"\")","v":""},{"$f":"IF(Data!$E10=30,Data!DH10,IF(Data!AO10<>\"\",Data!AO10,\"\"))","v":""},{"$f":"IF(Data!$E10=30,Data!DI10,\"\")","v":""},{"$f":"IF(Data!$E10=30,Data!DJ10,\"\")","v":""},{"$f":"IF(Data!$E10=30,Data!DK10,IF(Data!AP10<>\"\",Data!AP10,\"\"))","v":""},{"$f":"IF(Data!$E10=30,Data!DL10,\"\")","v":""},{"$f":"IF(Data!$E10=30,Data!DM10,\"\")","v":""},{"$f":"IF(Data!$E10=30,Data!DN10,IF(Data!AQ10<>\"\",Data!AQ10,\"\"))","v":""},{"$f":"IF(Data!$E10=30,Data!DO10,\"\")","v":""},{"$f":"IF(Data!$E10=30,Data!DP10,\"\")","v":""},{"$f":"IF(Data!$E10=30,Data!DQ10,IF(Data!AR10<>\"\",Data!AR10,\"\"))","v":""},{"$f":"IF(Data!$E10=30,Data!DR10,\"\")","v":""},{"$f":"IF(Data!$E10=30,Data!DS10,\"\")","v":""},{"$f":"IF(Data!$E10=30,Data!DT10,IF(Data!AS10<>\"\",Data!AS10,\"\"))","v":""},{"$f":"IF(Data!$E10=30,Data!DU10,\"\")","v":""}]
[null,{"$f":"IF(Data!A11<>\"\",Data!A11,\"\")","v":""},{"$f":"IF(Data!$E11=30,Data!BN11,\"\")","v":""},{"$f":"IF(Data!$E11=30,Data!BO11,IF(Data!Z11<>\"\",Data!Z11,\"\"))","v":""},{"$f":"IF(Data!$E11=30,Data!BP11,\"\")","v":""},{"$f":"IF(Data!$E11=30,Data!BQ11,\"\")","v":""},{"$f":"IF(Data!$E11=30,Data!BR11,IF(Data!AA11<>\"\",Data!AA11,\"\"))","v":""},{"$f":"IF(Data!$E11=30,Data!BS11,\"\")","v":""},{"$f":"IF(Data!$E11=30,Data!BT11,\"\")","v":""},{"$f":"IF(Data!$E11=30,Data!BU11,IF(Data!AB11<>\"\",Data!AB11,\"\"))","v":""},{"$f":"IF(Data!$E11=30,Data!BV11,\"\")","v":""},{"$f":"IF(Data!$E11=30,Data!BW11,\"\")","v":""},{"$f":"IF(Data!$E11=30,Data!BX11,IF(Data!AC11<>\"\",Data!AC11,\"\"))","v":""},{"$f":"IF(Data!$E11=30,Data!BY11,\"\")","v":""},{"$f":"IF(Data!$E11=30,Data!BZ11,\"\")","v":""},{"$f":"IF(Data!$E11=30,Data!CA11,IF(Data!AD11<>\"\",Data!AD11,\"\"))","v":""},{"$f":"IF(Data!$E11=30,Data!CB11,\"\")","v":""},{"$f":"IF(Data!$E11=30,Data!CC11,\"\")","v":""},{"$f":"IF(Data!$E11=30,Data!CD11,IF(Data!AE11<>\"\",Data!AE11,\"\"))","v":""},{"$f":"IF(Data!$E11=30,Data!CE11,\"\")","v":""},{"$f":"IF(Data!$E11=30,Data!CF11,\"\")","v":""},{"$f":"IF(Data!$E11=30,Data!CG11,IF(Data!AF11<>\"\",Data!AF11,\"\"))","v":""},{"$f":"IF(Data!$E11=30,Data!CH11,\"\")","v":""},{"$f":"IF(Data!$E11=30,Data!CI11,\"\")","v":""},{"$f":"IF(Data!$E11=30,Data!CJ11,IF(Data!AG11<>\"\",Data!AG11,\"\"))","v":""},{"$f":"IF(Data!$E11=30,Data!CK11,\"\")","v":""},{"$f":"IF(Data!$E11=30,Data!CL11,\"\")","v":""},{"$f":"IF(Data!$E11=30,Data!CM11,IF(Data!AH11<>\"\",Data!AH11,\"\"))","v":""},{"$f":"IF(Data!$E11=30,Data!CN11,\"\")","v":""},{"$f":"IF(Data!$E11=30,Data!CO11,\"\")","v":""},{"$f":"IF(Data!$E11=30,Data!CP11,IF(Data!AI11<>\"\",Data!AI11,\"\"))","v":""},{"$f":"IF(Data!$E11=30,Data!CQ11,\"\")","v":""},null,null,null,{"$f":"IF(Data!$E11=30,Data!CR11,\"\")","v":""},{"$f":"IF(Data!$E11=30,Data!CS11,IF(Data!AJ11<>\"\",Data!AJ11,\"\"))","v":""},{"$f":"IF(Data!$E11=30,Data!CT11,\"\")","v":""},{"$f":"IF(Data!$E11=30,Data!CU11,\"\")","v":""},{"$f":"IF(Data!$E11=30,Data!CV11,IF(Data!AK11<>\"\",Data!AK11,\"\"))","v":""},{"$f":"IF(Data!$E11=30,Data!CW11,\"\")","v":""},{"$f":"IF(Data!$E11=30,Data!CX11,\"\")","v":""},{"$f":"IF(Data!$E11=30,Data!CY11,IF(Data!AL11<>\"\",Data!AL11,\"\"))","v":""},{"$f":"IF(Data!$E11=30,Data!CZ11,\"\")","v":""},{"$f":"IF(Data!$E11=30,Data!DA11,\"\")","v":""},{"$f":"IF(Data!$E11=30,Data!DB11,IF(Data!AM11<>\"\",Data!AM11,\"\"))","v":""},{"$f":"IF(Data!$E11=30,Data!DC11,\"\")","v":""},{"$f":"IF(Data!$E11=30,Data!DD11,\"\")","v":""},{"$f":"IF(Data!$E11=30,Data!DE11,IF(Data!AN11<>\"\",Data!AN11,\"\"))","v":""},{"$f":"IF(Data!$E11=30,Data!DF11,\"\")","v":""},{"$f":"IF(Data!$E11=30,Data!DG11,\"\")","v":""},{"$f":"IF(Data!$E11=30,Data!DH11,IF(Data!AO11<>\"\",Data!AO11,\"\"))","v":""},{"$f":"IF(Data!$E11=30,Data!DI11,\"\")","v":""},{"$f":"IF(Data!$E11=30,Data!DJ11,\"\")","v":""},{"$f":"IF(Data!$E11=30,Data!DK11,IF(Data!AP11<>\"\",Data!AP11,\"\"))","v":""},{"$f":"IF(Data!$E11=30,Data!DL11,\"\")","v":""},{"$f":"IF(Data!$E11=30,Data!DM11,\"\")","v":""},{"$f":"IF(Data!$E11=30,Data!DN11,IF(Data!AQ11<>\"\",Data!AQ11,\"\"))","v":""},{"$f":"IF(Data!$E11=30,Data!DO11,\"\")","v":""},{"$f":"IF(Data!$E11=30,Data!DP11,\"\")","v":""},{"$f":"IF(Data!$E11=30,Data!DQ11,IF(Data!AR11<>\"\",Data!AR11,\"\"))","v":""},{"$f":"IF(Data!$E11=30,Data!DR11,\"\")","v":""},{"$f":"IF(Data!$E11=30,Data!DS11,\"\")","v":""},{"$f":"IF(Data!$E11=30,Data!DT11,IF(Data!AS11<>\"\",Data!AS11,\"\"))","v":""},{"$f":"IF(Data!$E11=30,Data!DU11,\"\")","v":""}]
[null,{"$f":"IF(Data!A12<>\"\",Data!A12,\"\")","v":""},{"$f":"IF(Data!$E12=30,Data!BN12,\"\")","v":""},{"$f":"IF(Data!$E12=30,Data!BO12,IF(Data!Z12<>\"\",Data!Z12,\"\"))","v":""},{"$f":"IF(Data!$E12=30,Data!BP12,\"\")","v":""},{"$f":"IF(Data!$E12=30,Data!BQ12,\"\")","v":""},{"$f":"IF(Data!$E12=30,Data!BR12,IF(Data!AA12<>\"\",Data!AA12,\"\"))","v":""},{"$f":"IF(Data!$E12=30,Data!BS12,\"\")","v":""},{"$f":"IF(Data!$E12=30,Data!BT12,\"\")","v":""},{"$f":"IF(Data!$E12=30,Data!BU12,IF(Data!AB12<>\"\",Data!AB12,\"\"))","v":""},{"$f":"IF(Data!$E12=30,Data!BV12,\"\")","v":""},{"$f":"IF(Data!$E12=30,Data!BW12,\"\")","v":""},{"$f":"IF(Data!$E12=30,Data!BX12,IF(Data!AC12<>\"\",Data!AC12,\"\"))","v":""},{"$f":"IF(Data!$E12=30,Data!BY12,\"\")","v":""},{"$f":"IF(Data!$E12=30,Data!BZ12,\"\")","v":""},{"$f":"IF(Data!$E12=30,Data!CA12,IF(Data!AD12<>\"\",Data!AD12,\"\"))","v":""},{"$f":"IF(Data!$E12=30,Data!CB12,\"\")","v":""},{"$f":"IF(Data!$E12=30,Data!CC12,\"\")","v":""},{"$f":"IF(Data!$E12=30,Data!CD12,IF(Data!AE12<>\"\",Data!AE12,\"\"))","v":""},{"$f":"IF(Data!$E12=30,Data!CE12,\"\")","v":""},{"$f":"IF(Data!$E12=30,Data!CF12,\"\")","v":""},{"$f":"IF(Data!$E12=30,Data!CG12,IF(Data!AF12<>\"\",Data!AF12,\"\"))","v":""},{"$f":"IF(Data!$E12=30,Data!CH12,\"\")","v":""},{"$f":"IF(Data!$E12=30,Data!CI12,\"\")","v":""},{"$f":"IF(Data!$E12=30,Data!CJ12,IF(Data!AG12<>\"\",Data!AG12,\"\"))","v":""},{"$f":"IF(Data!$E12=30,Data!CK12,\"\")","v":""},{"$f":"IF(Data!$E12=30,Data!CL12,\"\")","v":""},{"$f":"IF(Data!$E12=30,Data!CM12,IF(Data!AH12<>\"\",Data!AH12,\"\"))","v":""},{"$f":"IF(Data!$E12=30,Data!CN12,\"\")","v":""},{"$f":"IF(Data!$E12=30,Data!CO12,\"\")","v":""},{"$f":"IF(Data!$E12=30,Data!CP12,IF(Data!AI12<>\"\",Data!AI12,\"\"))","v":""},{"$f":"IF(Data!$E12=30,Data!CQ12,\"\")","v":""},null,null,null,{"$f":"IF(Data!$E12=30,Data!CR12,\"\")","v":""},{"$f":"IF(Data!$E12=30,Data!CS12,IF(Data!AJ12<>\"\",Data!AJ12,\"\"))","v":""},{"$f":"IF(Data!$E12=30,Data!CT12,\"\")","v":""},{"$f":"IF(Data!$E12=30,Data!CU12,\"\")","v":""},{"$f":"IF(Data!$E12=30,Data!CV12,IF(Data!AK12<>\"\",Data!AK12,\"\"))","v":""},{"$f":"IF(Data!$E12=30,Data!CW12,\"\")","v":""},{"$f":"IF(Data!$E12=30,Data!CX12,\"\")","v":""},{"$f":"IF(Data!$E12=30,Data!CY12,IF(Data!AL12<>\"\",Data!AL12,\"\"))","v":""},{"$f":"IF(Data!$E12=30,Data!CZ12,\"\")","v":""},{"$f":"IF(Data!$E12=30,Data!DA12,\"\")","v":""},{"$f":"IF(Data!$E12=30,Data!DB12,IF(Data!AM12<>\"\",Data!AM12,\"\"))","v":""},{"$f":"IF(Data!$E12=30,Data!DC12,\"\")","v":""},{"$f":"IF(Data!$E12=30,Data!DD12,\"\")","v":""},{"$f":"IF(Data!$E12=30,Data!DE12,IF(Data!AN12<>\"\",Data!AN12,\"\"))","v":""},{"$f":"IF(Data!$E12=30,Data!DF12,\"\")","v":""},{"$f":"IF(Data!$E12=30,Data!DG12,\"\")","v":""},{"$f":"IF(Data!$E12=30,Data!DH12,IF(Data!AO12<>\"\",Data!AO12,\"\"))","v":""},{"$f":"IF(Data!$E12=30,Data!DI12,\"\")","v":""},{"$f":"IF(Data!$E12=30,Data!DJ12,\"\")","v":""},{"$f":"IF(Data!$E12=30,Data!DK12,IF(Data!AP12<>\"\",Data!AP12,\"\"))","v":""},{"$f":"IF(Data!$E12=30,Data!DL12,\"\")","v":""},{"$f":"IF(Data!$E12=30,Data!DM12,\"\")","v":""},{"$f":"IF(Data!$E12=30,Data!DN12,IF(Data!AQ12<>\"\",Data!AQ12,\"\"))","v":""},{"$f":"IF(Data!$E12=30,Data!DO12,\"\")","v":""},{"$f":"IF(Data!$E12=30,Data!DP12,\"\")","v":""},{"$f":"IF(Data!$E12=30,Data!DQ12,IF(Data!AR12<>\"\",Data!AR12,\"\"))","v":""},{"$f":"IF(Data!$E12=30,Data!DR12,\"\")","v":""},{"$f":"IF(Data!$E12=30,Data!DS12,\"\")","v":""},{"$f":"IF(Data!$E12=30,Data!DT12,IF(Data!AS12<>\"\",Data!AS12,\"\"))","v":""},{"$f":"IF(Data!$E12=30,Data!DU12,\"\")","v":""}]
[null,{"$f":"IF(Data!A13<>\"\",Data!A13,\"\")","v":""},{"$f":"IF(Data!$E13=30,Data!BN13,\"\")","v":""},{"$f":"IF(Data!$E13=30,Data!BO13,IF(Data!Z13<>\"\",Data!Z13,\"\"))","v":""},{"$f":"IF(Data!$E13=30,Data!BP13,\"\")","v":""},{"$f":"IF(Data!$E13=30,Data!BQ13,\"\")","v":""},{"$f":"IF(Data!$E13=30,Data!BR13,IF(Data!AA13<>\"\",Data!AA13,\"\"))","v":""},{"$f":"IF(Data!$E13=30,Data!BS13,\"\")","v":""},{"$f":"IF(Data!$E13=30,Data!BT13,\"\")","v":""},{"$f":"IF(Data!$E13=30,Data!BU13,IF(Data!AB13<>\"\",Data!AB13,\"\"))","v":""},{"$f":"IF(Data!$E13=30,Data!BV13,\"\")","v":""},{"$f":"IF(Data!$E13=30,Data!BW13,\"\")","v":""},{"$f":"IF(Data!$E13=30,Data!BX13,IF(Data!AC13<>\"\",Data!AC13,\"\"))","v":""},{"$f":"IF(Data!$E13=30,Data!BY13,\"\")","v":""},{"$f":"IF(Data!$E13=30,Data!BZ13,\"\")","v":""},{"$f":"IF(Data!$E13=30,Data!CA13,IF(Data!AD13<>\"\",Data!AD13,\"\"))","v":""},{"$f":"IF(Data!$E13=30,Data!CB13,\"\")","v":""},{"$f":"IF(Data!$E13=30,Data!CC13,\"\")","v":""},{"$f":"IF(Data!$E13=30,Data!CD13,IF(Data!AE13<>\"\",Data!AE13,\"\"))","v":""},{"$f":"IF(Data!$E13=30,Data!CE13,\"\")","v":""},{"$f":"IF(Data!$E13=30,Data!CF13,\"\")","v":""},{"$f":"IF(Data!$E13=30,Data!CG13,IF(Data!AF13<>\"\",Data!AF13,\"\"))","v":""},{"$f":"IF(Data!$E13=30,Data!CH13,\"\")","v":""},{"$f":"IF(Data!$E13=30,Data!CI13,\"\")","v":""},{"$f":"IF(Data!$E13=30,Data!CJ13,IF(Data!AG13<>\"\",Data!AG13,\"\"))","v":""},{"$f":"IF(Data!$E13=30,Data!CK13,\"\")","v":""},{"$f":"IF(Data!$E13=30,Data!CL13,\"\")","v":""},{"$f":"IF(Data!$E13=30,Data!CM13,IF(Data!AH13<>\"\",Data!AH13,\"\"))","v":""},{"$f":"IF(Data!$E13=30,Data!CN13,\"\")","v":""},{"$f":"IF(Data!$E13=30,Data!CO13,\"\")","v":""},{"$f":"IF(Data!$E13=30,Data!CP13,IF(Data!AI13<>\"\",Data!AI13,\"\"))","v":""},{"$f":"IF(Data!$E13=30,Data!CQ13,\"\")","v":""},null,null,null,{"$f":"IF(Data!$E13=30,Data!CR13,\"\")","v":""},{"$f":"IF(Data!$E13=30,Data!CS13,IF(Data!AJ13<>\"\",Data!AJ13,\"\"))","v":""},{"$f":"IF(Data!$E13=30,Data!CT13,\"\")","v":""},{"$f":"IF(Data!$E13=30,Data!CU13,\"\")","v":""},{"$f":"IF(Data!$E13=30,Data!CV13,IF(Data!AK13<>\"\",Data!AK13,\"\"))","v":""},{"$f":"IF(Data!$E13=30,Data!CW13,\"\")","v":""},{"$f":"IF(Data!$E13=30,Data!CX13,\"\")","v":""},{"$f":"IF(Data!$E13=30,Data!CY13,IF(Data!AL13<>\"\",Data!AL13,\"\"))","v":""},{"$f":"IF(Data!$E13=30,Data!CZ13,\"\")","v":""},{"$f":"IF(Data!$E13=30,Data!DA13,\"\")","v":""},{"$f":"IF(Data!$E13=30,Data!DB13,IF(Data!AM13<>\"\",Data!AM13,\"\"))","v":""},{"$f":"IF(Data!$E13=30,Data!DC13,\"\")","v":""},{"$f":"IF(Data!$E13=30,Data!DD13,\"\")","v":""},{"$f":"IF(Data!$E13=30,Data!DE13,IF(Data!AN13<>\"\",Data!AN13,\"\"))","v":""},{"$f":"IF(Data!$E13=30,Data!DF13,\"\")","v":""},{"$f":"IF(Data!$E13=30,Data!DG13,\"\")","v":""},{"$f":"IF(Data!$E13=30,Data!DH13,IF(Data!AO13<>\"\",Data!AO13,\"\"))","v":""},{"$f":"IF(Data!$E13=30,Data!DI13,\"\")","v":""},{"$f":"IF(Data!$E13=30,Data!DJ13,\"\")","v":""},{"$f":"IF(Data!$E13=30,Data!DK13,IF(Data!AP13<>\"\",Data!AP13,\"\"))","v":""},{"$f":"IF(Data!$E13=30,Data!DL13,\"\")","v":""},{"$f":"IF(Data!$E13=30,Data!DM13,\"\")","v":""},{"$f":"IF(Data!$E13=30,Data!DN13,IF(Data!AQ13<>\"\",Data!AQ13,\"\"))","v":""},{"$f":"IF(Data!$E13=30,Data!DO13,\"\")","v":""},{"$f":"IF(Data!$E13=30,Data!DP13,\"\")","v":""},{"$f":"IF(Data!$E13=30,Data!DQ13,IF(Data!AR13<>\"\",Data!AR13,\"\"))","v":""},{"$f":"IF(Data!$E13=30,Data!DR13,\"\")","v":""},{"$f":"IF(Data!$E13=30,Data!DS13,\"\")","v":""},{"$f":"IF(Data!$E13=30,Data!DT13,IF(Data!AS13<>\"\",Data!AS13,\"\"))","v":""},{"$f":"IF(Data!$E13=30,Data!DU13,\"\")","v":""}]
[null,{"$f":"IF(Data!A14<>\"\",Data!A14,\"\")","v":""},{"$f":"IF(Data!$E14=30,Data!BN14,\"\")","v":""},{"$f":"IF(Data!$E14=30,Data!BO14,IF(Data!Z14<>\"\",Data!Z14,\"\"))","v":""},{"$f":"IF(Data!$E14=30,Data!BP14,\"\")","v":""},{"$f":"IF(Data!$E14=30,Data!BQ14,\"\")","v":""},{"$f":"IF(Data!$E14=30,Data!BR14,IF(Data!AA14<>\"\",Data!AA14,\"\"))","v":""},{"$f":"IF(Data!$E14=30,Data!BS14,\"\")","v":""},{"$f":"IF(Data!$E14=30,Data!BT14,\"\")","v":""},{"$f":"IF(Data!$E14=30,Data!BU14,IF(Data!AB14<>\"\",Data!AB14,\"\"))","v":""},{"$f":"IF(Data!$E14=30,Data!BV14,\"\")","v":""},{"$f":"IF(Data!$E14=30,Data!BW14,\"\")","v":""},{"$f":"IF(Data!$E14=30,Data!BX14,IF(Data!AC14<>\"\",Data!AC14,\"\"))","v":""},{"$f":"IF(Data!$E14=30,Data!BY14,\"\")","v":""},{"$f":"IF(Data!$E14=30,Data!BZ14,\"\")","v":""},{"$f":"IF(Data!$E14=30,Data!CA14,IF(Data!AD14<>\"\",Data!AD14,\"\"))","v":""},{"$f":"IF(Data!$E14=30,Data!CB14,\"\")","v":""},{"$f":"IF(Data!$E14=30,Data!CC14,\"\")","v":""},{"$f":"IF(Data!$E14=30,Data!CD14,IF(Data!AE14<>\"\",Data!AE14,\"\"))","v":""},{"$f":"IF(Data!$E14=30,Data!CE14,\"\")","v":""},{"$f":"IF(Data!$E14=30,Data!CF14,\"\")","v":""},{"$f":"IF(Data!$E14=30,Data!CG14,IF(Data!AF14<>\"\",Data!AF14,\"\"))","v":""},{"$f":"IF(Data!$E14=30,Data!CH14,\"\")","v":""},{"$f":"IF(Data!$E14=30,Data!CI14,\"\")","v":""},{"$f":"IF(Data!$E14=30,Data!CJ14,IF(Data!AG14<>\"\",Data!AG14,\"\"))","v":""},{"$f":"IF(Data!$E14=30,Data!CK14,\"\")","v":""},{"$f":"IF(Data!$E14=30,Data!CL14,\"\")","v":""},{"$f":"IF(Data!$E14=30,Data!CM14,IF(Data!AH14<>\"\",Data!AH14,\"\"))","v":""},{"$f":"IF(Data!$E14=30,Data!CN14,\"\")","v":""},{"$f":"IF(Data!$E14=30,Data!CO14,\"\")","v":""},{"$f":"IF(Data!$E14=30,Data!CP14,IF(Data!AI14<>\"\",Data!AI14,\"\"))","v":""},{"$f":"IF(Data!$E14=30,Data!CQ14,\"\")","v":""},null,null,null,{"$f":"IF(Data!$E14=30,Data!CR14,\"\")","v":""},{"$f":"IF(Data!$E14=30,Data!CS14,IF(Data!AJ14<>\"\",Data!AJ14,\"\"))","v":""},{"$f":"IF(Data!$E14=30,Data!CT14,\"\")","v":""},{"$f":"IF(Data!$E14=30,Data!CU14,\"\")","v":""},{"$f":"IF(Data!$E14=30,Data!CV14,IF(Data!AK14<>\"\",Data!AK14,\"\"))","v":""},{"$f":"IF(Data!$E14=30,Data!CW14,\"\")","v":""},{"$f":"IF(Data!$E14=30,Data!CX14,\"\")","v":""},{"$f":"IF(Data!$E14=30,Data!CY14,IF(Data!AL14<>\"\",Data!AL14,\"\"))","v":""},{"$f":"IF(Data!$E14=30,Data!CZ14,\"\")","v":""},{"$f":"IF(Data!$E14=30,Data!DA14,\"\")","v":""},{"$f":"IF(Data!$E14=30,Data!DB14,IF(Data!AM14<>\"\",Data!AM14,\"\"))","v":""},{"$f":"IF(Data!$E14=30,Data!DC14,\"\")","v":""},{"$f":"IF(Data!$E14=30,Data!DD14,\"\")","v":""},{"$f":"IF(Data!$E14=30,Data!DE14,IF(Data!AN14<>\"\",Data!AN14,\"\"))","v":""},{"$f":"IF(Data!$E14=30,Data!DF14,\"\")","v":""},{"$f":"IF(Data!$E14=30,Data!DG14,\"\")","v":""},{"$f":"IF(Data!$E14=30,Data!DH14,IF(Data!AO14<>\"\",Data!AO14,\"\"))","v":""},{"$f":"IF(Data!$E14=30,Data!DI14,\"\")","v":""},{"$f":"IF(Data!$E14=30,Data!DJ14,\"\")","v":""},{"$f":"IF(Data!$E14=30,Data!DK14,IF(Data!AP14<>\"\",Data!AP14,\"\"))","v":""},{"$f":"IF(Data!$E14=30,Data!DL14,\"\")","v":""},{"$f":"IF(Data!$E14=30,Data!DM14,\"\")","v":""},{"$f":"IF(Data!$E14=30,Data!DN14,IF(Data!AQ14<>\"\",Data!AQ14,\"\"))","v":""},{"$f":"IF(Data!$E14=30,Data!DO14,\"\")","v":""},{"$f":"IF(Data!$E14=30,Data!DP14,\"\")","v":""},{"$f":"IF(Data!$E14=30,Data!DQ14,IF(Data!AR14<>\"\",Data!AR14,\"\"))","v":""},{"$f":"IF(Data!$E14=30,Data!DR14,\"\")","v":""},{"$f":"IF(Data!$E14=30,Data!DS14,\"\")","v":""},{"$f":"IF(Data!$E14=30,Data!DT14,IF(Data!AS14<>\"\",Data!AS14,\"\"))","v":""},{"$f":"IF(Data!$E14=30,Data!DU14,\"\")","v":""}]
[null,{"$f":"IF(Data!A15<>\"\",Data!A15,\"\")","v":""},{"$f":"IF(Data!$E15=30,Data!BN15,\"\")","v":""},{"$f":"IF(Data!$E15=30,Data!BO15,IF(Data!Z15<>\"\",Data!Z15,\"\"))","v":""},{"$f":"IF(Data!$E15=30,Data!BP15,\"\")","v":""},{"$f":"IF(Data!$E15=30,Data!BQ15,\"\")","v":""},{"$f":"IF(Data!$E15=30,Data!BR15,IF(Data!AA15<>\"\",Data!AA15,\"\"))","v":""},{"$f":"IF(Data!$E15=30,Data!BS15,\"\")","v":""},{"$f":"IF(Data!$E15=30,Data!BT15,\"\")","v":""},{"$f":"IF(Data!$E15=30,Data!BU15,IF(Data!AB15<>\"\",Data!AB15,\"\"))","v":""},{"$f":"IF(Data!$E15=30,Data!BV15,\"\")","v":""},{"$f":"IF(Data!$E15=30,Data!BW15,\"\")","v":""},{"$f":"IF(Data!$E15=30,Data!BX15,IF(Data!AC15<>\"\",Data!AC15,\"\"))","v":""},{"$f":"IF(Data!$E15=30,Data!BY15,\"\")","v":""},{"$f":"IF(Data!$E15=30,Data!BZ15,\"\")","v":""},{"$f":"IF(Data!$E15=30,Data!CA15,IF(Data!AD15<>\"\",Data!AD15,\"\"))","v":""},{"$f":"IF(Data!$E15=30,Data!CB15,\"\")","v":""},{"$f":"IF(Data!$E15=30,Data!CC15,\"\")","v":""},{"$f":"IF(Data!$E15=30,Data!CD15,IF(Data!AE15<>\"\",Data!AE15,\"\"))","v":""},{"$f":"IF(Data!$E15=30,Data!CE15,\"\")","v":""},{"$f":"IF(Data!$E15=30,Data!CF15,\"\")","v":""},{"$f":"IF(Data!$E15=30,Data!CG15,IF(Data!AF15<>\"\",Data!AF15,\"\"))","v":""},{"$f":"IF(Data!$E15=30,Data!CH15,\"\")","v":""},{"$f":"IF(Data!$E15=30,Data!CI15,\"\")","v":""},{"$f":"IF(Data!$E15=30,Data!CJ15,IF(Data!AG15<>\"\",Data!AG15,\"\"))","v":""},{"$f":"IF(Data!$E15=30,Data!CK15,\"\")","v":""},{"$f":"IF(Data!$E15=30,Data!CL15,\"\")","v":""},{"$f":"IF(Data!$E15=30,Data!CM15,IF(Data!AH15<>\"\",Data!AH15,\"\"))","v":""},{"$f":"IF(Data!$E15=30,Data!CN15,\"\")","v":""},{"$f":"IF(Data!$E15=30,Data!CO15,\"\")","v":""},{"$f":"IF(Data!$E15=30,Data!CP15,IF(Data!AI15<>\"\",Data!AI15,\"\"))","v":""},{"$f":"IF(Data!$E15=30,Data!CQ15,\"\")","v":""},null,null,null,{"$f":"IF(Data!$E15=30,Data!CR15,\"\")","v":""},{"$f":"IF(Data!$E15=30,Data!CS15,IF(Data!AJ15<>\"\",Data!AJ15,\"\"))","v":""},{"$f":"IF(Data!$E15=30,Data!CT15,\"\")","v":""},{"$f":"IF(Data!$E15=30,Data!CU15,\"\")","v":""},{"$f":"IF(Data!$E15=30,Data!CV15,IF(Data!AK15<>\"\",Data!AK15,\"\"))","v":""},{"$f":"IF(Data!$E15=30,Data!CW15,\"\")","v":""},{"$f":"IF(Data!$E15=30,Data!CX15,\"\")","v":""},{"$f":"IF(Data!$E15=30,Data!CY15,IF(Data!AL15<>\"\",Data!AL15,\"\"))","v":""},{"$f":"IF(Data!$E15=30,Data!CZ15,\"\")","v":""},{"$f":"IF(Data!$E15=30,Data!DA15,\"\")","v":""},{"$f":"IF(Data!$E15=30,Data!DB15,IF(Data!AM15<>\"\",Data!AM15,\"\"))","v":""},{"$f":"IF(Data!$E15=30,Data!DC15,\"\")","v":""},{"$f":"IF(Data!$E15=30,Data!DD15,\"\")","v":""},{"$f":"IF(Data!$E15=30,Data!DE15,IF(Data!AN15<>\"\",Data!AN15,\"\"))","v":""},{"$f":"IF(Data!$E15=30,Data!DF15,\"\")","v":""},{"$f":"IF(Data!$E15=30,Data!DG15,\"\")","v":""},{"$f":"IF(Data!$E15=30,Data!DH15,IF(Data!AO15<>\"\",Data!AO15,\"\"))","v":""},{"$f":"IF(Data!$E15=30,Data!DI15,\"\")","v":""},{"$f":"IF(Data!$E15=30,Data!DJ15,\"\")","v":""},{"$f":"IF(Data!$E15=30,Data!DK15,IF(Data!AP15<>\"\",Data!AP15,\"\"))","v":""},{"$f":"IF(Data!$E15=30,Data!DL15,\"\")","v":""},{"$f":"IF(Data!$E15=30,Data!DM15,\"\")","v":""},{"$f":"IF(Data!$E15=30,Data!DN15,IF(Data!AQ15<>\"\",Data!AQ15,\"\"))","v":""},{"$f":"IF(Data!$E15=30,Data!DO15,\"\")","v":""},{"$f":"IF(Data!$E15=30,Data!DP15,\"\")","v":""},{"$f":"IF(Data!$E15=30,Data!DQ15,IF(Data!AR15<>\"\",Data!AR15,\"\"))","v":""},{"$f":"IF(Data!$E15=30,Data!DR15,\"\")","v":""},{"$f":"IF(Data!$E15=30,Data!DS15,\"\")","v":""},{"$f":"IF(Data!$E15=30,Data!DT15,IF(Data!AS15<>\"\",Data!AS15,\"\"))","v":""},{"$f":"IF(Data!$E15=30,Data!DU15,\"\")","v":""}]
[null,{"$f":"IF(Data!A16<>\"\",Data!A16,\"\")","v":""},{"$f":"IF(Data!$E16=30,Data!BN16,\"\")","v":""},{"$f":"IF(Data!$E16=30,Data!BO16,IF(Data!Z16<>\"\",Data!Z16,\"\"))","v":""},{"$f":"IF(Data!$E16=30,Data!BP16,\"\")","v":""},{"$f":"IF(Data!$E16=30,Data!BQ16,\"\")","v":""},{"$f":"IF(Data!$E16=30,Data!BR16,IF(Data!AA16<>\"\",Data!AA16,\"\"))","v":""},{"$f":"IF(Data!$E16=30,Data!BS16,\"\")","v":""},{"$f":"IF(Data!$E16=30,Data!BT16,\"\")","v":""},{"$f":"IF(Data!$E16=30,Data!BU16,IF(Data!AB16<>\"\",Data!AB16,\"\"))","v":""},{"$f":"IF(Data!$E16=30,Data!BV16,\"\")","v":""},{"$f":"IF(Data!$E16=30,Data!BW16,\"\")","v":""},{"$f":"IF(Data!$E16=30,Data!BX16,IF(Data!AC16<>\"\",Data!AC16,\"\"))","v":""},{"$f":"IF(Data!$E16=30,Data!BY16,\"\")","v":""},{"$f":"IF(Data!$E16=30,Data!BZ16,\"\")","v":""},{"$f":"IF(Data!$E16=30,Data!CA16,IF(Data!AD16<>\"\",Data!AD16,\"\"))","v":""},{"$f":"IF(Data!$E16=30,Data!CB16,\"\")","v":""},{"$f":"IF(Data!$E16=30,Data!CC16,\"\")","v":""},{"$f":"IF(Data!$E16=30,Data!CD16,IF(Data!AE16<>\"\",Data!AE16,\"\"))","v":""},{"$f":"IF(Data!$E16=30,Data!CE16,\"\")","v":""},{"$f":"IF(Data!$E16=30,Data!CF16,\"\")","v":""},{"$f":"IF(Data!$E16=30,Data!CG16,IF(Data!AF16<>\"\",Data!AF16,\"\"))","v":""},{"$f":"IF(Data!$E16=30,Data!CH16,\"\")","v":""},{"$f":"IF(Data!$E16=30,Data!CI16,\"\")","v":""},{"$f":"IF(Data!$E16=30,Data!CJ16,IF(Data!AG16<>\"\",Data!AG16,\"\"))","v":""},{"$f":"IF(Data!$E16=30,Data!CK16,\"\")","v":""},{"$f":"IF(Data!$E16=30,Data!CL16,\"\")","v":""},{"$f":"IF(Data!$E16=30,Data!CM16,IF(Data!AH16<>\"\",Data!AH16,\"\"))","v":""},{"$f":"IF(Data!$E16=30,Data!CN16,\"\")","v":""},{"$f":"IF(Data!$E16=30,Data!CO16,\"\")","v":""},{"$f":"IF(Data!$E16=30,Data!CP16,IF(Data!AI16<>\"\",Data!AI16,\"\"))","v":""},{"$f":"IF(Data!$E16=30,Data!CQ16,\"\")","v":""},null,null,null,{"$f":"IF(Data!$E16=30,Data!CR16,\"\")","v":""},{"$f":"IF(Data!$E16=30,Data!CS16,IF(Data!AJ16<>\"\",Data!AJ16,\"\"))","v":""},{"$f":"IF(Data!$E16=30,Data!CT16,\"\")","v":""},{"$f":"IF(Data!$E16=30,Data!CU16,\"\")","v":""},{"$f":"IF(Data!$E16=30,Data!CV16,IF(Data!AK16<>\"\",Data!AK16,\"\"))","v":""},{"$f":"IF(Data!$E16=30,Data!CW16,\"\")","v":""},{"$f":"IF(Data!$E16=30,Data!CX16,\"\")","v":""},{"$f":"IF(Data!$E16=30,Data!CY16,IF(Data!AL16<>\"\",Data!AL16,\"\"))","v":""},{"$f":"IF(Data!$E16=30,Data!CZ16,\"\")","v":""},{"$f":"IF(Data!$E16=30,Data!DA16,\"\")","v":""},{"$f":"IF(Data!$E16=30,Data!DB16,IF(Data!AM16<>\"\",Data!AM16,\"\"))","v":""},{"$f":"IF(Data!$E16=30,Data!DC16,\"\")","v":""},{"$f":"IF(Data!$E16=30,Data!DD16,\"\")","v":""},{"$f":"IF(Data!$E16=30,Data!DE16,IF(Data!AN16<>\"\",Data!AN16,\"\"))","v":""},{"$f":"IF(Data!$E16=30,Data!DF16,\"\")","v":""},{"$f":"IF(Data!$E16=30,Data!DG16,\"\")","v":""},{"$f":"IF(Data!$E16=30,Data!DH16,IF(Data!AO16<>\"\",Data!AO16,\"\"))","v":""},{"$f":"IF(Data!$E16=30,Data!DI16,\"\")","v":""},{"$f":"IF(Data!$E16=30,Data!DJ16,\"\")","v":""},{"$f":"IF(Data!$E16=30,Data!DK16,IF(Data!AP16<>\"\",Data!AP16,\"\"))","v":""},{"$f":"IF(Data!$E16=30,Data!DL16,\"\")","v":""},{"$f":"IF(Data!$E16=30,Data!DM16,\"\")","v":""},{"$f":"IF(Data!$E16=30,Data!DN16,IF(Data!AQ16<>\"\",Data!AQ16,\"\"))","v":""},{"$f":"IF(Data!$E16=30,Data!DO16,\"\")","v":""},{"$f":"IF(Data!$E16=30,Data!DP16,\"\")","v":""},{"$f":"IF(Data!$E16=30,Data!DQ16,IF(Data!AR16<>\"\",Data!AR16,\"\"))","v":""},{"$f":"IF(Data!$E16=30,Data!DR16,\"\")","v":""},{"$f":"IF(Data!$E16=30,Data!DS16,\"\")","v":""},{"$f":"IF(Data!$E16=30,Data!DT16,IF(Data!AS16<>\"\",Data!AS16,\"\"))","v":""},{"$f":"IF(Data!$E16=30,Data!DU16,\"\")","v":""}]
[null,{"$f":"IF(Data!A17<>\"\",Data!A17,\"\")","v":""},{"$f":"IF(Data!$E17=30,Data!BN17,\"\")","v":""},{"$f":"IF(Data!$E17=30,Data!BO17,IF(Data!Z17<>\"\",Data!Z17,\"\"))","v":""},{"$f":"IF(Data!$E17=30,Data!BP17,\"\")","v":""},{"$f":"IF(Data!$E17=30,Data!BQ17,\"\")","v":""},{"$f":"IF(Data!$E17=30,Data!BR17,IF(Data!AA17<>\"\",Data!AA17,\"\"))","v":""},{"$f":"IF(Data!$E17=30,Data!BS17,\"\")","v":""},{"$f":"IF(Data!$E17=30,Data!BT17,\"\")","v":""},{"$f":"IF(Data!$E17=30,Data!BU17,IF(Data!AB17<>\"\",Data!AB17,\"\"))","v":""},{"$f":"IF(Data!$E17=30,Data!BV17,\"\")","v":""},{"$f":"IF(Data!$E17=30,Data!BW17,\"\")","v":""},{"$f":"IF(Data!$E17=30,Data!BX17,IF(Data!AC17<>\"\",Data!AC17,\"\"))","v":""},{"$f":"IF(Data!$E17=30,Data!BY17,\"\")","v":""},{"$f":"IF(Data!$E17=30,Data!BZ17,\"\")","v":""},{"$f":"IF(Data!$E17=30,Data!CA17,IF(Data!AD17<>\"\",Data!AD17,\"\"))","v":""},{"$f":"IF(Data!$E17=30,Data!CB17,\"\")","v":""},{"$f":"IF(Data!$E17=30,Data!CC17,\"\")","v":""},{"$f":"IF(Data!$E17=30,Data!CD17,IF(Data!AE17<>\"\",Data!AE17,\"\"))","v":""},{"$f":"IF(Data!$E17=30,Data!CE17,\"\")","v":""},{"$f":"IF(Data!$E17=30,Data!CF17,\"\")","v":""},{"$f":"IF(Data!$E17=30,Data!CG17,IF(Data!AF17<>\"\",Data!AF17,\"\"))","v":""},{"$f":"IF(Data!$E17=30,Data!CH17,\"\")","v":""},{"$f":"IF(Data!$E17=30,Data!CI17,\"\")","v":""},{"$f":"IF(Data!$E17=30,Data!CJ17,IF(Data!AG17<>\"\",Data!AG17,\"\"))","v":""},{"$f":"IF(Data!$E17=30,Data!CK17,\"\")","v":""},{"$f":"IF(Data!$E17=30,Data!CL17,\"\")","v":""},{"$f":"IF(Data!$E17=30,Data!CM17,IF(Data!AH17<>\"\",Data!AH17,\"\"))","v":""},{"$f":"IF(Data!$E17=30,Data!CN17,\"\")","v":""},{"$f":"IF(Data!$E17=30,Data!CO17,\"\")","v":""},{"$f":"IF(Data!$E17=30,Data!CP17,IF(Data!AI17<>\"\",Data!AI17,\"\"))","v":""},{"$f":"IF(Data!$E17=30,Data!CQ17,\"\")","v":""},null,null,null,{"$f":"IF(Data!$E17=30,Data!CR17,\"\")","v":""},{"$f":"IF(Data!$E17=30,Data!CS17,IF(Data!AJ17<>\"\",Data!AJ17,\"\"))","v":""},{"$f":"IF(Data!$E17=30,Data!CT17,\"\")","v":""},{"$f":"IF(Data!$E17=30,Data!CU17,\"\")","v":""},{"$f":"IF(Data!$E17=30,Data!CV17,IF(Data!AK17<>\"\",Data!AK17,\"\"))","v":""},{"$f":"IF(Data!$E17=30,Data!CW17,\"\")","v":""},{"$f":"IF(Data!$E17=30,Data!CX17,\"\")","v":""},{"$f":"IF(Data!$E17=30,Data!CY17,IF(Data!AL17<>\"\",Data!AL17,\"\"))","v":""},{"$f":"IF(Data!$E17=30,Data!CZ17,\"\")","v":""},{"$f":"IF(Data!$E17=30,Data!DA17,\"\")","v":""},{"$f":"IF(Data!$E17=30,Data!DB17,IF(Data!AM17<>\"\",Data!AM17,\"\"))","v":""},{"$f":"IF(Data!$E17=30,Data!DC17,\"\")","v":""},{"$f":"IF(Data!$E17=30,Data!DD17,\"\")","v":""},{"$f":"IF(Data!$E17=30,Data!DE17,IF(Data!AN17<>\"\",Data!AN17,\"\"))","v":""},{"$f":"IF(Data!$E17=30,Data!DF17,\"\")","v":""},{"$f":"IF(Data!$E17=30,Data!DG17,\"\")","v":""},{"$f":"IF(Data!$E17=30,Data!DH17,IF(Data!AO17<>\"\",Data!AO17,\"\"))","v":""},{"$f":"IF(Data!$E17=30,Data!DI17,\"\")","v":""},{"$f":"IF(Data!$E17=30,Data!DJ17,\"\")","v":""},{"$f":"IF(Data!$E17=30,Data!DK17,IF(Data!AP17<>\"\",Data!AP17,\"\"))","v":""},{"$f":"IF(Data!$E17=30,Data!DL17,\"\")","v":""},{"$f":"IF(Data!$E17=30,Data!DM17,\"\")","v":""},{"$f":"IF(Data!$E17=30,Data!DN17,IF(Data!AQ17<>\"\",Data!AQ17,\"\"))","v":""},{"$f":"IF(Data!$E17=30,Data!DO17,\"\")","v":""},{"$f":"IF(Data!$E17=30,Data!DP17,\"\")","v":""},{"$f":"IF(Data!$E17=30,Data!DQ17,IF(Data!AR17<>\"\",Data!AR17,\"\"))","v":""},{"$f":"IF(Data!$E17=30,Data!DR17,\"\")","v":""},{"$f":"IF(Data!$E17=30,Data!DS17,\"\")","v":""},{"$f":"IF(Data!$E17=30,Data!DT17,IF(Data!AS17<>\"\",Data!AS17,\"\"))","v":""},{"$f":"IF(Data!$E17=30,Data!DU17,\"\")","v":""}]
[null,{"$f":"IF(Data!A18<>\"\",Data!A18,\"\")","v":""},{"$f":"IF(Data!$E18=30,Data!BN18,\"\")","v":""},{"$f":"IF(Data!$E18=30,Data!BO18,IF(Data!Z18<>\"\",Data!Z18,\"\"))","v":""},{"$f":"IF(Data!$E18=30,Data!BP18,\"\")","v":""},{"$f":"IF(Data!$E18=30,Data!BQ18,\"\")","v":""},{"$f":"IF(Data!$E18=30,Data!BR18,IF(Data!AA18<>\"\",Data!AA18,\"\"))","v":""},{"$f":"IF(Data!$E18=30,Data!BS18,\"\")","v":""},{"$f":"IF(Data!$E18=30,Data!BT18,\"\")","v":""},{"$f":"IF(Data!$E18=30,Data!BU18,IF(Data!AB18<>\"\",Data!AB18,\"\"))","v":""},{"$f":"IF(Data!$E18=30,Data!BV18,\"\")","v":""},{"$f":"IF(Data!$E18=30,Data!BW18,\"\")","v":""},{"$f":"IF(Data!$E18=30,Data!BX18,IF(Data!AC18<>\"\",Data!AC18,\"\"))","v":""},{"$f":"IF(Data!$E18=30,Data!BY18,\"\")","v":""},{"$f":"IF(Data!$E18=30,Data!BZ18,\"\")","v":""},{"$f":"IF(Data!$E18=30,Data!CA18,IF(Data!AD18<>\"\",Data!AD18,\"\"))","v":""},{"$f":"IF(Data!$E18=30,Data!CB18,\"\")","v":""},{"$f":"IF(Data!$E18=30,Data!CC18,\"\")","v":""},{"$f":"IF(Data!$E18=30,Data!CD18,IF(Data!AE18<>\"\",Data!AE18,\"\"))","v":""},{"$f":"IF(Data!$E18=30,Data!CE18,\"\")","v":""},{"$f":"IF(Data!$E18=30,Data!CF18,\"\")","v":""},{"$f":"IF(Data!$E18=30,Data!CG18,IF(Data!AF18<>\"\",Data!AF18,\"\"))","v":""},{"$f":"IF(Data!$E18=30,Data!CH18,\"\")","v":""},{"$f":"IF(Data!$E18=30,Data!CI18,\"\")","v":""},{"$f":"IF(Data!$E18=30,Data!CJ18,IF(Data!AG18<>\"\",Data!AG18,\"\"))","v":""},{"$f":"IF(Data!$E18=30,Data!CK18,\"\")","v":""},{"$f":"IF(Data!$E18=30,Data!CL18,\"\")","v":""},{"$f":"IF(Data!$E18=30,Data!CM18,IF(Data!AH18<>\"\",Data!AH18,\"\"))","v":""},{"$f":"IF(Data!$E18=30,Data!CN18,\"\")","v":""},{"$f":"IF(Data!$E18=30,Data!CO18,\"\")","v":""},{"$f":"IF(Data!$E18=30,Data!CP18,IF(Data!AI18<>\"\",Data!AI18,\"\"))","v":""},{"$f":"IF(Data!$E18=30,Data!CQ18,\"\")","v":""},null,null,null,{"$f":"IF(Data!$E18=30,Data!CR18,\"\")","v":""},{"$f":"IF(Data!$E18=30,Data!CS18,IF(Data!AJ18<>\"\",Data!AJ18,\"\"))","v":""},{"$f":"IF(Data!$E18=30,Data!CT18,\"\")","v":""},{"$f":"IF(Data!$E18=30,Data!CU18,\"\")","v":""},{"$f":"IF(Data!$E18=30,Data!CV18,IF(Data!AK18<>\"\",Data!AK18,\"\"))","v":""},{"$f":"IF(Data!$E18=30,Data!CW18,\"\")","v":""},{"$f":"IF(Data!$E18=30,Data!CX18,\"\")","v":""},{"$f":"IF(Data!$E18=30,Data!CY18,IF(Data!AL18<>\"\",Data!AL18,\"\"))","v":""},{"$f":"IF(Data!$E18=30,Data!CZ18,\"\")","v":""},{"$f":"IF(Data!$E18=30,Data!DA18,\"\")","v":""},{"$f":"IF(Data!$E18=30,Data!DB18,IF(Data!AM18<>\"\",Data!AM18,\"\"))","v":""},{"$f":"IF(Data!$E18=30,Data!DC18,\"\")","v":""},{"$f":"IF(Data!$E18=30,Data!DD18,\"\")","v":""},{"$f":"IF(Data!$E18=30,Data!DE18,IF(Data!AN18<>\"\",Data!AN18,\"\"))","v":""},{"$f":"IF(Data!$E18=30,Data!DF18,\"\")","v":""},{"$f":"IF(Data!$E18=30,Data!DG18,\"\")","v":""},{"$f":"IF(Data!$E18=30,Data!DH18,IF(Data!AO18<>\"\",Data!AO18,\"\"))","v":""},{"$f":"IF(Data!$E18=30,Data!DI18,\"\")","v":""},{"$f":"IF(Data!$E18=30,Data!DJ18,\"\")","v":""},{"$f":"IF(Data!$E18=30,Data!DK18,IF(Data!AP18<>\"\",Data!AP18,\"\"))","v":""},{"$f":"IF(Data!$E18=30,Data!DL18,\"\")","v":""},{"$f":"IF(Data!$E18=30,Data!DM18,\"\")","v":""},{"$f":"IF(Data!$E18=30,Data!DN18,IF(Data!AQ18<>\"\",Data!AQ18,\"\"))","v":""},{"$f":"IF(Data!$E18=30,Data!DO18,\"\")","v":""},{"$f":"IF(Data!$E18=30,Data!DP18,\"\")","v":""},{"$f":"IF(Data!$E18=30,Data!DQ18,IF(Data!AR18<>\"\",Data!AR18,\"\"))","v":""},{"$f":"IF(Data!$E18=30,Data!DR18,\"\")","v":""},{"$f":"IF(Data!$E18=30,Data!DS18,\"\")","v":""},{"$f":"IF(Data!$E18=30,Data!DT18,IF(Data!AS18<>\"\",Data!AS18,\"\"))","v":""},{"$f":"IF(Data!$E18=30,Data!DU18,\"\")","v":""}]
[null,{"$f":"IF(Data!A19<>\"\",Data!A19,\"\")","v":""},{"$f":"IF(Data!$E19=30,Data!BN19,\"\")","v":""},{"$f":"IF(Data!$E19=30,Data!BO19,IF(Data!Z19<>\"\",Data!Z19,\"\"))","v":""},{"$f":"IF(Data!$E19=30,Data!BP19,\"\")","v":""},{"$f":"IF(Data!$E19=30,Data!BQ19,\"\")","v":""},{"$f":"IF(Data!$E19=30,Data!BR19,IF(Data!AA19<>\"\",Data!AA19,\"\"))","v":""},{"$f":"IF(Data!$E19=30,Data!BS19,\"\")","v":""},{"$f":"IF(Data!$E19=30,Data!BT19,\"\")","v":""},{"$f":"IF(Data!$E19=30,Data!BU19,IF(Data!AB19<>\"\",Data!AB19,\"\"))","v":""},{"$f":"IF(Data!$E19=30,Data!BV19,\"\")","v":""},{"$f":"IF(Data!$E19=30,Data!BW19,\"\")","v":""},{"$f":"IF(Data!$E19=30,Data!BX19,IF(Data!AC19<>\"\",Data!AC19,\"\"))","v":""},{"$f":"IF(Data!$E19=30,Data!BY19,\"\")","v":""},{"$f":"IF(Data!$E19=30,Data!BZ19,\"\")","v":""},{"$f":"IF(Data!$E19=30,Data!CA19,IF(Data!AD19<>\"\",Data!AD19,\"\"))","v":""},{"$f":"IF(Data!$E19=30,Data!CB19,\"\")","v":""},{"$f":"IF(Data!$E19=30,Data!CC19,\"\")","v":""},{"$f":"IF(Data!$E19=30,Data!CD19,IF(Data!AE19<>\"\",Data!AE19,\"\"))","v":""},{"$f":"IF(Data!$E19=30,Data!CE19,\"\")","v":""},{"$f":"IF(Data!$E19=30,Data!CF19,\"\")","v":""},{"$f":"IF(Data!$E19=30,Data!CG19,IF(Data!AF19<>\"\",Data!AF19,\"\"))","v":""},{"$f":"IF(Data!$E19=30,Data!CH19,\"\")","v":""},{"$f":"IF(Data!$E19=30,Data!CI19,\"\")","v":""},{"$f":"IF(Data!$E19=30,Data!CJ19,IF(Data!AG19<>\"\",Data!AG19,\"\"))","v":""},{"$f":"IF(Data!$E19=30,Data!CK19,\"\")","v":""},{"$f":"IF(Data!$E19=30,Data!CL19,\"\")","v":""},{"$f":"IF(Data!$E19=30,Data!CM19,IF(Data!AH19<>\"\",Data!AH19,\"\"))","v":""},{"$f":"IF(Data!$E19=30,Data!CN19,\"\")","v":""},{"$f":"IF(Data!$E19=30,Data!CO19,\"\")","v":""},{"$f":"IF(Data!$E19=30,Data!CP19,IF(Data!AI19<>\"\",Data!AI19,\"\"))","v":""},{"$f":"IF(Data!$E19=30,Data!CQ19,\"\")","v":""},null,null,null,{"$f":"IF(Data!$E19=30,Data!CR19,\"\")","v":""},{"$f":"IF(Data!$E19=30,Data!CS19,IF(Data!AJ19<>\"\",Data!AJ19,\"\"))","v":""},{"$f":"IF(Data!$E19=30,Data!CT19,\"\")","v":""},{"$f":"IF(Data!$E19=30,Data!CU19,\"\")","v":""},{"$f":"IF(Data!$E19=30,Data!CV19,IF(Data!AK19<>\"\",Data!AK19,\"\"))","v":""},{"$f":"IF(Data!$E19=30,Data!CW19,\"\")","v":""},{"$f":"IF(Data!$E19=30,Data!CX19,\"\")","v":""},{"$f":"IF(Data!$E19=30,Data!CY19,IF(Data!AL19<>\"\",Data!AL19,\"\"))","v":""},{"$f":"IF(Data!$E19=30,Data!CZ19,\"\")","v":""},{"$f":"IF(Data!$E19=30,Data!DA19,\"\")","v":""},{"$f":"IF(Data!$E19=30,Data!DB19,IF(Data!AM19<>\"\",Data!AM19,\"\"))","v":""},{"$f":"IF(Data!$E19=30,Data!DC19,\"\")","v":""},{"$f":"IF(Data!$E19=30,Data!DD19,\"\")","v":""},{"$f":"IF(Data!$E19=30,Data!DE19,IF(Data!AN19<>\"\",Data!AN19,\"\"))","v":""},{"$f":"IF(Data!$E19=30,Data!DF19,\"\")","v":""},{"$f":"IF(Data!$E19=30,Data!DG19,\"\")","v":""},{"$f":"IF(Data!$E19=30,Data!DH19,IF(Data!AO19<>\"\",Data!AO19,\"\"))","v":""},{"$f":"IF(Data!$E19=30,Data!DI19,\"\")","v":""},{"$f":"IF(Data!$E19=30,Data!DJ19,\"\")","v":""},{"$f":"IF(Data!$E19=30,Data!DK19,IF(Data!AP19<>\"\",Data!AP19,\"\"))","v":""},{"$f":"IF(Data!$E19=30,Data!DL19,\"\")","v":""},{"$f":"IF(Data!$E19=30,Data!DM19,\"\")","v":""},{"$f":"IF(Data!$E19=30,Data!DN19,IF(Data!AQ19<>\"\",Data!AQ19,\"\"))","v":""},{"$f":"IF(Data!$E19=30,Data!DO19,\"\")","v":""},{"$f":"IF(Data!$E19=30,Data!DP19,\"\")","v":""},{"$f":"IF(Data!$E19=30,Data!DQ19,IF(Data!AR19<>\"\",Data!AR19,\"\"))","v":""},{"$f":"IF(Data!$E19=30,Data!DR19,\"\")","v":""},{"$f":"IF(Data!$E19=30,Data!DS19,\"\")","v":""},{"$f":"IF(Data!$E19=30,Data!DT19,IF(Data!AS19<>\"\",Data!AS19,\"\"))","v":""},{"$f":"IF(Data!$E19=30,Data!DU19,\"\")","v":""}]
[null,{"$f":"IF(Data!A20<>\"\",Data!A20,\"\")","v":""},{"$f":"IF(Data!$E20=30,Data!BN20,\"\")","v":""},{"$f":"IF(Data!$E20=30,Data!BO20,IF(Data!Z20<>\"\",Data!Z20,\"\"))","v":""},{"$f":"IF(Data!$E20=30,Data!BP20,\"\")","v":""},{"$f":"IF(Data!$E20=30,Data!BQ20,\"\")","v":""},{"$f":"IF(Data!$E20=30,Data!BR20,IF(Data!AA20<>\"\",Data!AA20,\"\"))","v":""},{"$f":"IF(Data!$E20=30,Data!BS20,\"\")","v":""},{"$f":"IF(Data!$E20=30,Data!BT20,\"\")","v":""},{"$f":"IF(Data!$E20=30,Data!BU20,IF(Data!AB20<>\"\",Data!AB20,\"\"))","v":""},{"$f":"IF(Data!$E20=30,Data!BV20,\"\")","v":""},{"$f":"IF(Data!$E20=30,Data!BW20,\"\")","v":""},{"$f":"IF(Data!$E20=30,Data!BX20,IF(Data!AC20<>\"\",Data!AC20,\"\"))","v":""},{"$f":"IF(Data!$E20=30,Data!BY20,\"\")","v":""},{"$f":"IF(Data!$E20=30,Data!BZ20,\"\")","v":""},{"$f":"IF(Data!$E20=30,Data!CA20,IF(Data!AD20<>\"\",Data!AD20,\"\"))","v":""},{"$f":"IF(Data!$E20=30,Data!CB20,\"\")","v":""},{"$f":"IF(Data!$E20=30,Data!CC20,\"\")","v":""},{"$f":"IF(Data!$E20=30,Data!CD20,IF(Data!AE20<>\"\",Data!AE20,\"\"))","v":""},{"$f":"IF(Data!$E20=30,Data!CE20,\"\")","v":""},{"$f":"IF(Data!$E20=30,Data!CF20,\"\")","v":""},{"$f":"IF(Data!$E20=30,Data!CG20,IF(Data!AF20<>\"\",Data!AF20,\"\"))","v":""},{"$f":"IF(Data!$E20=30,Data!CH20,\"\")","v":""},{"$f":"IF(Data!$E20=30,Data!CI20,\"\")","v":""},{"$f":"IF(Data!$E20=30,Data!CJ20,IF(Data!AG20<>\"\",Data!AG20,\"\"))","v":""},{"$f":"IF(Data!$E20=30,Data!CK20,\"\")","v":""},{"$f":"IF(Data!$E20=30,Data!CL20,\"\")","v":""},{"$f":"IF(Data!$E20=30,Data!CM20,IF(Data!AH20<>\"\",Data!AH20,\"\"))","v":""},{"$f":"IF(Data!$E20=30,Data!CN20,\"\")","v":""},{"$f":"IF(Data!$E20=30,Data!CO20,\"\")","v":""},{"$f":"IF(Data!$E20=30,Data!CP20,IF(Data!AI20<>\"\",Data!AI20,\"\"))","v":""},{"$f":"IF(Data!$E20=30,Data!CQ20,\"\")","v":""},null,null,null,{"$f":"IF(Data!$E20=30,Data!CR20,\"\")","v":""},{"$f":"IF(Data!$E20=30,Data!CS20,IF(Data!AJ20<>\"\",Data!AJ20,\"\"))","v":""},{"$f":"IF(Data!$E20=30,Data!CT20,\"\")","v":""},{"$f":"IF(Data!$E20=30,Data!CU20,\"\")","v":""},{"$f":"IF(Data!$E20=30,Data!CV20,IF(Data!AK20<>\"\",Data!AK20,\"\"))","v":""},{"$f":"IF(Data!$E20=30,Data!CW20,\"\")","v":""},{"$f":"IF(Data!$E20=30,Data!CX20,\"\")","v":""},{"$f":"IF(Data!$E20=30,Data!CY20,IF(Data!AL20<>\"\",Data!AL20,\"\"))","v":""},{"$f":"IF(Data!$E20=30,Data!CZ20,\"\")","v":""},{"$f":"IF(Data!$E20=30,Data!DA20,\"\")","v":""},{"$f":"IF(Data!$E20=30,Data!DB20,IF(Data!AM20<>\"\",Data!AM20,\"\"))","v":""},{"$f":"IF(Data!$E20=30,Data!DC20,\"\")","v":""},{"$f":"IF(Data!$E20=30,Data!DD20,\"\")","v":""},{"$f":"IF(Data!$E20=30,Data!DE20,IF(Data!AN20<>\"\",Data!AN20,\"\"))","v":""},{"$f":"IF(Data!$E20=30,Data!DF20,\"\")","v":""},{"$f":"IF(Data!$E20=30,Data!DG20,\"\")","v":""},{"$f":"IF(Data!$E20=30,Data!DH20,IF(Data!AO20<>\"\",Data!AO20,\"\"))","v":""},{"$f":"IF(Data!$E20=30,Data!DI20,\"\")","v":""},{"$f":"IF(Data!$E20=30,Data!DJ20,\"\")","v":""},{"$f":"IF(Data!$E20=30,Data!DK20,IF(Data!AP20<>\"\",Data!AP20,\"\"))","v":""},{"$f":"IF(Data!$E20=30,Data!DL20,\"\")","v":""},{"$f":"IF(Data!$E20=30,Data!DM20,\"\")","v":""},{"$f":"IF(Data!$E20=30,Data!DN20,IF(Data!AQ20<>\"\",Data!AQ20,\"\"))","v":""},{"$f":"IF(Data!$E20=30,Data!DO20,\"\")","v":""},{"$f":"IF(Data!$E20=30,Data!DP20,\"\")","v":""},{"$f":"IF(Data!$E20=30,Data!DQ20,IF(Data!AR20<>\"\",Data!AR20,\"\"))","v":""},{"$f":"IF(Data!$E20=30,Data!DR20,\"\")","v":""},{"$f":"IF(Data!$E20=30,Data!DS20,\"\")","v":""},{"$f":"IF(Data!$E20=30,Data!DT20,IF(Data!AS20<>\"\",Data!AS20,\"\"))","v":""},{"$f":"IF(Data!$E20=30,Data!DU20,\"\")","v":""}]
[null,{"$f":"IF(Data!A21<>\"\",Data!A21,\"\")","v":""},{"$f":"IF(Data!$E21=30,Data!BN21,\"\")","v":""},{"$f":"IF(Data!$E21=30,Data!BO21,IF(Data!Z21<>\"\",Data!Z21,\"\"))","v":""},{"$f":"IF(Data!$E21=30,Data!BP21,\"\")","v":""},{"$f":"IF(Data!$E21=30,Data!BQ21,\"\")","v":""},{"$f":"IF(Data!$E21=30,Data!BR21,IF(Data!AA21<>\"\",Data!AA21,\"\"))","v":""},{"$f":"IF(Data!$E21=30,Data!BS21,\"\")","v":""},{"$f":"IF(Data!$E21=30,Data!BT21,\"\")","v":""},{"$f":"IF(Data!$E21=30,Data!BU21,IF(Data!AB21<>\"\",Data!AB21,\"\"))","v":""},{"$f":"IF(Data!$E21=30,Data!BV21,\"\")","v":""},{"$f":"IF(Data!$E21=30,Data!BW21,\"\")","v":""},{"$f":"IF(Data!$E21=30,Data!BX21,IF(Data!AC21<>\"\",Data!AC21,\"\"))","v":""},{"$f":"IF(Data!$E21=30,Data!BY21,\"\")","v":""},{"$f":"IF(Data!$E21=30,Data!BZ21,\"\")","v":""},{"$f":"IF(Data!$E21=30,Data!CA21,IF(Data!AD21<>\"\",Data!AD21,\"\"))","v":""},{"$f":"IF(Data!$E21=30,Data!CB21,\"\")","v":""},{"$f":"IF(Data!$E21=30,Data!CC21,\"\")","v":""},{"$f":"IF(Data!$E21=30,Data!CD21,IF(Data!AE21<>\"\",Data!AE21,\"\"))","v":""},{"$f":"IF(Data!$E21=30,Data!CE21,\"\")","v":""},{"$f":"IF(Data!$E21=30,Data!CF21,\"\")","v":""},{"$f":"IF(Data!$E21=30,Data!CG21,IF(Data!AF21<>\"\",Data!AF21,\"\"))","v":""},{"$f":"IF(Data!$E21=30,Data!CH21,\"\")","v":""},{"$f":"IF(Data!$E21=30,Data!CI21,\"\")","v":""},{"$f":"IF(Data!$E21=30,Data!CJ21,IF(Data!AG21<>\"\",Data!AG21,\"\"))","v":""},{"$f":"IF(Data!$E21=30,Data!CK21,\"\")","v":""},{"$f":"IF(Data!$E21=30,Data!CL21,\"\")","v":""},{"$f":"IF(Data!$E21=30,Data!CM21,IF(Data!AH21<>\"\",Data!AH21,\"\"))","v":""},{"$f":"IF(Data!$E21=30,Data!CN21,\"\")","v":""},{"$f":"IF(Data!$E21=30,Data!CO21,\"\")","v":""},{"$f":"IF(Data!$E21=30,Data!CP21,IF(Data!AI21<>\"\",Data!AI21,\"\"))","v":""},{"$f":"IF(Data!$E21=30,Data!CQ21,\"\")","v":""},null,null,null,{"$f":"IF(Data!$E21=30,Data!CR21,\"\")","v":""},{"$f":"IF(Data!$E21=30,Data!CS21,IF(Data!AJ21<>\"\",Data!AJ21,\"\"))","v":""},{"$f":"IF(Data!$E21=30,Data!CT21,\"\")","v":""},{"$f":"IF(Data!$E21=30,Data!CU21,\"\")","v":""},{"$f":"IF(Data!$E21=30,Data!CV21,IF(Data!AK21<>\"\",Data!AK21,\"\"))","v":""},{"$f":"IF(Data!$E21=30,Data!CW21,\"\")","v":""},{"$f":"IF(Data!$E21=30,Data!CX21,\"\")","v":""},{"$f":"IF(Data!$E21=30,Data!CY21,IF(Data!AL21<>\"\",Data!AL21,\"\"))","v":""},{"$f":"IF(Data!$E21=30,Data!CZ21,\"\")","v":""},{"$f":"IF(Data!$E21=30,Data!DA21,\"\")","v":""},{"$f":"IF(Data!$E21=30,Data!DB21,IF(Data!AM21<>\"\",Data!AM21,\"\"))","v":""},{"$f":"IF(Data!$E21=30,Data!DC21,\"\")","v":""},{"$f":"IF(Data!$E21=30,Data!DD21,\"\")","v":""},{"$f":"IF(Data!$E21=30,Data!DE21,IF(Data!AN21<>\"\",Data!AN21,\"\"))","v":""},{"$f":"IF(Data!$E21=30,Data!DF21,\"\")","v":""},{"$f":"IF(Data!$E21=30,Data!DG21,\"\")","v":""},{"$f":"IF(Data!$E21=30,Data!DH21,IF(Data!AO21<>\"\",Data!AO21,\"\"))","v":""},{"$f":"IF(Data!$E21=30,Data!DI21,\"\")","v":""},{"$f":"IF(Data!$E21=30,Data!DJ21,\"\")","v":""},{"$f":"IF(Data!$E21=30,Data!DK21,IF(Data!AP21<>\"\",Data!AP21,\"\"))","v":""},{"$f":"IF(Data!$E21=30,Data!DL21,\"\")","v":""},{"$f":"IF(Data!$E21=30,Data!DM21,\"\")","v":""},{"$f":"IF(Data!$E21=30,Data!DN21,IF(Data!AQ21<>\"\",Data!AQ21,\"\"))","v":""},{"$f":"IF(Data!$E21=30,Data!DO21,\"\")","v":""},{"$f":"IF(Data!$E21=30,Data!DP21,\"\")","v":""},{"$f":"IF(Data!$E21=30,Data!DQ21,IF(Data!AR21<>\"\",Data!AR21,\"\"))","v":""},{"$f":"IF(Data!$E21=30,Data!DR21,\"\")","v":""},{"$f":"IF(Data!$E21=30,Data!DS21,\"\")","v":""},{"$f":"IF(Data!$E21=30,Data!DT21,IF(Data!AS21<>\"\",Data!AS21,\"\"))","v":""},{"$f":"IF(Data!$E21=30,Data!DU21,\"\")","v":""}]
[null,{"$f":"IF(Data!A22<>\"\",Data!A22,\"\")","v":""},{"$f":"IF(Data!$E22=30,Data!BN22,\"\")","v":""},{"$f":"IF(Data!$E22=30,Data!BO22,IF(Data!Z22<>\"\",Data!Z22,\"\"))","v":""},{"$f":"IF(Data!$E22=30,Data!BP22,\"\")","v":""},{"$f":"IF(Data!$E22=30,Data!BQ22,\"\")","v":""},{"$f":"IF(Data!$E22=30,Data!BR22,IF(Data!AA22<>\"\",Data!AA22,\"\"))","v":""},{"$f":"IF(Data!$E22=30,Data!BS22,\"\")","v":""},{"$f":"IF(Data!$E22=30,Data!BT22,\"\")","v":""},{"$f":"IF(Data!$E22=30,Data!BU22,IF(Data!AB22<>\"\",Data!AB22,\"\"))","v":""},{"$f":"IF(Data!$E22=30,Data!BV22,\"\")","v":""},{"$f":"IF(Data!$E22=30,Data!BW22,\"\")","v":""},{"$f":"IF(Data!$E22=30,Data!BX22,IF(Data!AC22<>\"\",Data!AC22,\"\"))","v":""},{"$f":"IF(Data!$E22=30,Data!BY22,\"\")","v":""},{"$f":"IF(Data!$E22=30,Data!BZ22,\"\")","v":""},{"$f":"IF(Data!$E22=30,Data!CA22,IF(Data!AD22<>\"\",Data!AD22,\"\"))","v":""},{"$f":"IF(Data!$E22=30,Data!CB22,\"\")","v":""},{"$f":"IF(Data!$E22=30,Data!CC22,\"\")","v":""},{"$f":"IF(Data!$E22=30,Data!CD22,IF(Data!AE22<>\"\",Data!AE22,\"\"))","v":""},{"$f":"IF(Data!$E22=30,Data!CE22,\"\")","v":""},{"$f":"IF(Data!$E22=30,Data!CF22,\"\")","v":""},{"$f":"IF(Data!$E22=30,Data!CG22,IF(Data!AF22<>\"\",Data!AF22,\"\"))","v":""},{"$f":"IF(Data!$E22=30,Data!CH22,\"\")","v":""},{"$f":"IF(Data!$E22=30,Data!CI22,\"\")","v":""},{"$f":"IF(Data!$E22=30,Data!CJ22,IF(Data!AG22<>\"\",Data!AG22,\"\"))","v":""},{"$f":"IF(Data!$E22=30,Data!CK22,\"\")","v":""},{"$f":"IF(Data!$E22=30,Data!CL22,\"\")","v":""},{"$f":"IF(Data!$E22=30,Data!CM22,IF(Data!AH22<>\"\",Data!AH22,\"\"))","v":""},{"$f":"IF(Data!$E22=30,Data!CN22,\"\")","v":""},{"$f":"IF(Data!$E22=30,Data!CO22,\"\")","v":""},{"$f":"IF(Data!$E22=30,Data!CP22,IF(Data!AI22<>\"\",Data!AI22,\"\"))","v":""},{"$f":"IF(Data!$E22=30,Data!CQ22,\"\")","v":""},null,null,null,{"$f":"IF(Data!$E22=30,Data!CR22,\"\")","v":""},{"$f":"IF(Data!$E22=30,Data!CS22,IF(Data!AJ22<>\"\",Data!AJ22,\"\"))","v":""},{"$f":"IF(Data!$E22=30,Data!CT22,\"\")","v":""},{"$f":"IF(Data!$E22=30,Data!CU22,\"\")","v":""},{"$f":"IF(Data!$E22=30,Data!CV22,IF(Data!AK22<>\"\",Data!AK22,\"\"))","v":""},{"$f":"IF(Data!$E22=30,Data!CW22,\"\")","v":""},{"$f":"IF(Data!$E22=30,Data!CX22,\"\")","v":""},{"$f":"IF(Data!$E22=30,Data!CY22,IF(Data!AL22<>\"\",Data!AL22,\"\"))","v":""},{"$f":"IF(Data!$E22=30,Data!CZ22,\"\")","v":""},{"$f":"IF(Data!$E22=30,Data!DA22,\"\")","v":""},{"$f":"IF(Data!$E22=30,Data!DB22,IF(Data!AM22<>\"\",Data!AM22,\"\"))","v":""},{"$f":"IF(Data!$E22=30,Data!DC22,\"\")","v":""},{"$f":"IF(Data!$E22=30,Data!DD22,\"\")","v":""},{"$f":"IF(Data!$E22=30,Data!DE22,IF(Data!AN22<>\"\",Data!AN22,\"\"))","v":""},{"$f":"IF(Data!$E22=30,Data!DF22,\"\")","v":""},{"$f":"IF(Data!$E22=30,Data!DG22,\"\")","v":""},{"$f":"IF(Data!$E22=30,Data!DH22,IF(Data!AO22<>\"\",Data!AO22,\"\"))","v":""},{"$f":"IF(Data!$E22=30,Data!DI22,\"\")","v":""},{"$f":"IF(Data!$E22=30,Data!DJ22,\"\")","v":""},{"$f":"IF(Data!$E22=30,Data!DK22,IF(Data!AP22<>\"\",Data!AP22,\"\"))","v":""},{"$f":"IF(Data!$E22=30,Data!DL22,\"\")","v":""},{"$f":"IF(Data!$E22=30,Data!DM22,\"\")","v":""},{"$f":"IF(Data!$E22=30,Data!DN22,IF(Data!AQ22<>\"\",Data!AQ22,\"\"))","v":""},{"$f":"IF(Data!$E22=30,Data!DO22,\"\")","v":""},{"$f":"IF(Data!$E22=30,Data!DP22,\"\")","v":""},{"$f":"IF(Data!$E22=30,Data!DQ22,IF(Data!AR22<>\"\",Data!AR22,\"\"))","v":""},{"$f":"IF(Data!$E22=30,Data!DR22,\"\")","v":""},{"$f":"IF(Data!$E22=30,Data!DS22,\"\")","v":""},{"$f":"IF(Data!$E22=30,Data!DT22,IF(Data!AS22<>\"\",Data!AS22,\"\"))","v":""},{"$f":"IF(Data!$E22=30,Data!DU22,\"\")","v":""}]
[null,{"$f":"IF(Data!A23<>\"\",Data!A23,\"\")","v":""},{"$f":"IF(Data!$E23=30,Data!BN23,\"\")","v":""},{"$f":"IF(Data!$E23=30,Data!BO23,IF(Data!Z23<>\"\",Data!Z23,\"\"))","v":""},{"$f":"IF(Data!$E23=30,Data!BP23,\"\")","v":""},{"$f":"IF(Data!$E23=30,Data!BQ23,\"\")","v":""},{"$f":"IF(Data!$E23=30,Data!BR23,IF(Data!AA23<>\"\",Data!AA23,\"\"))","v":""},{"$f":"IF(Data!$E23=30,Data!BS23,\"\")","v":""},{"$f":"IF(Data!$E23=30,Data!BT23,\"\")","v":""},{"$f":"IF(Data!$E23=30,Data!BU23,IF(Data!AB23<>\"\",Data!AB23,\"\"))","v":""},{"$f":"IF(Data!$E23=30,Data!BV23,\"\")","v":""},{"$f":"IF(Data!$E23=30,Data!BW23,\"\")","v":""},{"$f":"IF(Data!$E23=30,Data!BX23,IF(Data!AC23<>\"\",Data!AC23,\"\"))","v":""},{"$f":"IF(Data!$E23=30,Data!BY23,\"\")","v":""},{"$f":"IF(Data!$E23=30,Data!BZ23,\"\")","v":""},{"$f":"IF(Data!$E23=30,Data!CA23,IF(Data!AD23<>\"\",Data!AD23,\"\"))","v":""},{"$f":"IF(Data!$E23=30,Data!CB23,\"\")","v":""},{"$f":"IF(Data!$E23=30,Data!CC23,\"\")","v":""},{"$f":"IF(Data!$E23=30,Data!CD23,IF(Data!AE23<>\"\",Data!AE23,\"\"))","v":""},{"$f":"IF(Data!$E23=30,Data!CE23,\"\")","v":""},{"$f":"IF(Data!$E23=30,Data!CF23,\"\")","v":""},{"$f":"IF(Data!$E23=30,Data!CG23,IF(Data!AF23<>\"\",Data!AF23,\"\"))","v":""},{"$f":"IF(Data!$E23=30,Data!CH23,\"\")","v":""},{"$f":"IF(Data!$E23=30,Data!CI23,\"\")","v":""},{"$f":"IF(Data!$E23=30,Data!CJ23,IF(Data!AG23<>\"\",Data!AG23,\"\"))","v":""},{"$f":"IF(Data!$E23=30,Data!CK23,\"\")","v":""},{"$f":"IF(Data!$E23=30,Data!CL23,\"\")","v":""},{"$f":"IF(Data!$E23=30,Data!CM23,IF(Data!AH23<>\"\",Data!AH23,\"\"))","v":""},{"$f":"IF(Data!$E23=30,Data!CN23,\"\")","v":""},{"$f":"IF(Data!$E23=30,Data!CO23,\"\")","v":""},{"$f":"IF(Data!$E23=30,Data!CP23,IF(Data!AI23<>\"\",Data!AI23,\"\"))","v":""},{"$f":"IF(Data!$E23=30,Data!CQ23,\"\")","v":""},null,null,null,{"$f":"IF(Data!$E23=30,Data!CR23,\"\")","v":""},{"$f":"IF(Data!$E23=30,Data!CS23,IF(Data!AJ23<>\"\",Data!AJ23,\"\"))","v":""},{"$f":"IF(Data!$E23=30,Data!CT23,\"\")","v":""},{"$f":"IF(Data!$E23=30,Data!CU23,\"\")","v":""},{"$f":"IF(Data!$E23=30,Data!CV23,IF(Data!AK23<>\"\",Data!AK23,\"\"))","v":""},{"$f":"IF(Data!$E23=30,Data!CW23,\"\")","v":""},{"$f":"IF(Data!$E23=30,Data!CX23,\"\")","v":""},{"$f":"IF(Data!$E23=30,Data!CY23,IF(Data!AL23<>\"\",Data!AL23,\"\"))","v":""},{"$f":"IF(Data!$E23=30,Data!CZ23,\"\")","v":""},{"$f":"IF(Data!$E23=30,Data!DA23,\"\")","v":""},{"$f":"IF(Data!$E23=30,Data!DB23,IF(Data!AM23<>\"\",Data!AM23,\"\"))","v":""},{"$f":"IF(Data!$E23=30,Data!DC23,\"\")","v":""},{"$f":"IF(Data!$E23=30,Data!DD23,\"\")","v":""},{"$f":"IF(Data!$E23=30,Data!DE23,IF(Data!AN23<>\"\",Data!AN23,\"\"))","v":""},{"$f":"IF(Data!$E23=30,Data!DF23,\"\")","v":""},{"$f":"IF(Data!$E23=30,Data!DG23,\"\")","v":""},{"$f":"IF(Data!$E23=30,Data!DH23,IF(Data!AO23<>\"\",Data!AO23,\"\"))","v":""},{"$f":"IF(Data!$E23=30,Data!DI23,\"\")","v":""},{"$f":"IF(Data!$E23=30,Data!DJ23,\"\")","v":""},{"$f":"IF(Data!$E23=30,Data!DK23,IF(Data!AP23<>\"\",Data!AP23,\"\"))","v":""},{"$f":"IF(Data!$E23=30,Data!DL23,\"\")","v":""},{"$f":"IF(Data!$E23=30,Data!DM23,\"\")","v":""},{"$f":"IF(Data!$E23=30,Data!DN23,IF(Data!AQ23<>\"\",Data!AQ23,\"\"))","v":""},{"$f":"IF(Data!$E23=30,Data!DO23,\"\")","v":""},{"$f":"IF(Data!$E23=30,Data!DP23,\"\")","v":""},{"$f":"IF(Data!$E23=30,Data!DQ23,IF(Data!AR23<>\"\",Data!AR23,\"\"))","v":""},{"$f":"IF(Data!$E23=30,Data!DR23,\"\")","v":""},{"$f":"IF(Data!$E23=30,Data!DS23,\"\")","v":""},{"$f":"IF(Data!$E23=30,Data!DT23,IF(Data!AS23<>\"\",Data!AS23,\"\"))","v":""},{"$f":"IF(Data!$E23=30,Data!DU23,\"\")","v":""}]
[null,{"$f":"IF(Data!A24<>\"\",Data!A24,\"\")","v":""},{"$f":"IF(Data!$E24=30,Data!BN24,\"\")","v":""},{"$f":"IF(Data!$E24=30,Data!BO24,IF(Data!Z24<>\"\",Data!Z24,\"\"))","v":""},{"$f":"IF(Data!$E24=30,Data!BP24,\"\")","v":""},{"$f":"IF(Data!$E24=30,Data!BQ24,\"\")","v":""},{"$f":"IF(Data!$E24=30,Data!BR24,IF(Data!AA24<>\"\",Data!AA24,\"\"))","v":""},{"$f":"IF(Data!$E24=30,Data!BS24,\"\")","v":""},{"$f":"IF(Data!$E24=30,Data!BT24,\"\")","v":""},{"$f":"IF(Data!$E24=30,Data!BU24,IF(Data!AB24<>\"\",Data!AB24,\"\"))","v":""},{"$f":"IF(Data!$E24=30,Data!BV24,\"\")","v":""},{"$f":"IF(Data!$E24=30,Data!BW24,\"\")","v":""},{"$f":"IF(Data!$E24=30,Data!BX24,IF(Data!AC24<>\"\",Data!AC24,\"\"))","v":""},{"$f":"IF(Data!$E24=30,Data!BY24,\"\")","v":""},{"$f":"IF(Data!$E24=30,Data!BZ24,\"\")","v":""},{"$f":"IF(Data!$E24=30,Data!CA24,IF(Data!AD24<>\"\",Data!AD24,\"\"))","v":""},{"$f":"IF(Data!$E24=30,Data!CB24,\"\")","v":""},{"$f":"IF(Data!$E24=30,Data!CC24,\"\")","v":""},{"$f":"IF(Data!$E24=30,Data!CD24,IF(Data!AE24<>\"\",Data!AE24,\"\"))","v":""},{"$f":"IF(Data!$E24=30,Data!CE24,\"\")","v":""},{"$f":"IF(Data!$E24=30,Data!CF24,\"\")","v":""},{"$f":"IF(Data!$E24=30,Data!CG24,IF(Data!AF24<>\"\",Data!AF24,\"\"))","v":""},{"$f":"IF(Data!$E24=30,Data!CH24,\"\")","v":""},{"$f":"IF(Data!$E24=30,Data!CI24,\"\")","v":""},{"$f":"IF(Data!$E24=30,Data!CJ24,IF(Data!AG24<>\"\",Data!AG24,\"\"))","v":""},{"$f":"IF(Data!$E24=30,Data!CK24,\"\")","v":""},{"$f":"IF(Data!$E24=30,Data!CL24,\"\")","v":""},{"$f":"IF(Data!$E24=30,Data!CM24,IF(Data!AH24<>\"\",Data!AH24,\"\"))","v":""},{"$f":"IF(Data!$E24=30,Data!CN24,\"\")","v":""},{"$f":"IF(Data!$E24=30,Data!CO24,\"\")","v":""},{"$f":"IF(Data!$E24=30,Data!CP24,IF(Data!AI24<>\"\",Data!AI24,\"\"))","v":""},{"$f":"IF(Data!$E24=30,Data!CQ24,\"\")","v":""},null,null,null,{"$f":"IF(Data!$E24=30,Data!CR24,\"\")","v":""},{"$f":"IF(Data!$E24=30,Data!CS24,IF(Data!AJ24<>\"\",Data!AJ24,\"\"))","v":""},{"$f":"IF(Data!$E24=30,Data!CT24,\"\")","v":""},{"$f":"IF(Data!$E24=30,Data!CU24,\"\")","v":""},{"$f":"IF(Data!$E24=30,Data!CV24,IF(Data!AK24<>\"\",Data!AK24,\"\"))","v":""},{"$f":"IF(Data!$E24=30,Data!CW24,\"\")","v":""},{"$f":"IF(Data!$E24=30,Data!CX24,\"\")","v":""},{"$f":"IF(Data!$E24=30,Data!CY24,IF(Data!AL24<>\"\",Data!AL24,\"\"))","v":""},{"$f":"IF(Data!$E24=30,Data!CZ24,\"\")","v":""},{"$f":"IF(Data!$E24=30,Data!DA24,\"\")","v":""},{"$f":"IF(Data!$E24=30,Data!DB24,IF(Data!AM24<>\"\",Data!AM24,\"\"))","v":""},{"$f":"IF(Data!$E24=30,Data!DC24,\"\")","v":""},{"$f":"IF(Data!$E24=30,Data!DD24,\"\")","v":""},{"$f":"IF(Data!$E24=30,Data!DE24,IF(Data!AN24<>\"\",Data!AN24,\"\"))","v":""},{"$f":"IF(Data!$E24=30,Data!DF24,\"\")","v":""},{"$f":"IF(Data!$E24=30,Data!DG24,\"\")","v":""},{"$f":"IF(Data!$E24=30,Data!DH24,IF(Data!AO24<>\"\",Data!AO24,\"\"))","v":""},{"$f":"IF(Data!$E24=30,Data!DI24,\"\")","v":""},{"$f":"IF(Data!$E24=30,Data!DJ24,\"\")","v":""},{"$f":"IF(Data!$E24=30,Data!DK24,IF(Data!AP24<>\"\",Data!AP24,\"\"))","v":""},{"$f":"IF(Data!$E24=30,Data!DL24,\"\")","v":""},{"$f":"IF(Data!$E24=30,Data!DM24,\"\")","v":""},{"$f":"IF(Data!$E24=30,Data!DN24,IF(Data!AQ24<>\"\",Data!AQ24,\"\"))","v":""},{"$f":"IF(Data!$E24=30,Data!DO24,\"\")","v":""},{"$f":"IF(Data!$E24=30,Data!DP24,\"\")","v":""},{"$f":"IF(Data!$E24=30,Data!DQ24,IF(Data!AR24<>\"\",Data!AR24,\"\"))","v":""},{"$f":"IF(Data!$E24=30,Data!DR24,\"\")","v":""},{"$f":"IF(Data!$E24=30,Data!DS24,\"\")","v":""},{"$f":"IF(Data!$E24=30,Data!DT24,IF(Data!AS24<>\"\",Data!AS24,\"\"))","v":""},{"$f":"IF(Data!$E24=30,Data!DU24,\"\")","v":""}]
[null,{"$f":"IF(Data!A25<>\"\",Data!A25,\"\")","v":""},{"$f":"IF(Data!$E25=30,Data!BN25,\"\")","v":""},{"$f":"IF(Data!$E25=30,Data!BO25,IF(Data!Z25<>\"\",Data!Z25,\"\"))","v":""},{"$f":"IF(Data!$E25=30,Data!BP25,\"\")","v":""},{"$f":"IF(Data!$E25=30,Data!BQ25,\"\")","v":""},{"$f":"IF(Data!$E25=30,Data!BR25,IF(Data!AA25<>\"\",Data!AA25,\"\"))","v":""},{"$f":"IF(Data!$E25=30,Data!BS25,\"\")","v":""},{"$f":"IF(Data!$E25=30,Data!BT25,\"\")","v":""},{"$f":"IF(Data!$E25=30,Data!BU25,IF(Data!AB25<>\"\",Data!AB25,\"\"))","v":""},{"$f":"IF(Data!$E25=30,Data!BV25,\"\")","v":""},{"$f":"IF(Data!$E25=30,Data!BW25,\"\")","v":""},{"$f":"IF(Data!$E25=30,Data!BX25,IF(Data!AC25<>\"\",Data!AC25,\"\"))","v":""},{"$f":"IF(Data!$E25=30,Data!BY25,\"\")","v":""},{"$f":"IF(Data!$E25=30,Data!BZ25,\"\")","v":""},{"$f":"IF(Data!$E25=30,Data!CA25,IF(Data!AD25<>\"\",Data!AD25,\"\"))","v":""},{"$f":"IF(Data!$E25=30,Data!CB25,\"\")","v":""},{"$f":"IF(Data!$E25=30,Data!CC25,\"\")","v":""},{"$f":"IF(Data!$E25=30,Data!CD25,IF(Data!AE25<>\"\",Data!AE25,\"\"))","v":""},{"$f":"IF(Data!$E25=30,Data!CE25,\"\")","v":""},{"$f":"IF(Data!$E25=30,Data!CF25,\"\")","v":""},{"$f":"IF(Data!$E25=30,Data!CG25,IF(Data!AF25<>\"\",Data!AF25,\"\"))","v":""},{"$f":"IF(Data!$E25=30,Data!CH25,\"\")","v":""},{"$f":"IF(Data!$E25=30,Data!CI25,\"\")","v":""},{"$f":"IF(Data!$E25=30,Data!CJ25,IF(Data!AG25<>\"\",Data!AG25,\"\"))","v":""},{"$f":"IF(Data!$E25=30,Data!CK25,\"\")","v":""},{"$f":"IF(Data!$E25=30,Data!CL25,\"\")","v":""},{"$f":"IF(Data!$E25=30,Data!CM25,IF(Data!AH25<>\"\",Data!AH25,\"\"))","v":""},{"$f":"IF(Data!$E25=30,Data!CN25,\"\")","v":""},{"$f":"IF(Data!$E25=30,Data!CO25,\"\")","v":""},{"$f":"IF(Data!$E25=30,Data!CP25,IF(Data!AI25<>\"\",Data!AI25,\"\"))","v":""},{"$f":"IF(Data!$E25=30,Data!CQ25,\"\")","v":""},null,null,null,{"$f":"IF(Data!$E25=30,Data!CR25,\"\")","v":""},{"$f":"IF(Data!$E25=30,Data!CS25,IF(Data!AJ25<>\"\",Data!AJ25,\"\"))","v":""},{"$f":"IF(Data!$E25=30,Data!CT25,\"\")","v":""},{"$f":"IF(Data!$E25=30,Data!CU25,\"\")","v":""},{"$f":"IF(Data!$E25=30,Data!CV25,IF(Data!AK25<>\"\",Data!AK25,\"\"))","v":""},{"$f":"IF(Data!$E25=30,Data!CW25,\"\")","v":""},{"$f":"IF(Data!$E25=30,Data!CX25,\"\")","v":""},{"$f":"IF(Data!$E25=30,Data!CY25,IF(Data!AL25<>\"\",Data!AL25,\"\"))","v":""},{"$f":"IF(Data!$E25=30,Data!CZ25,\"\")","v":""},{"$f":"IF(Data!$E25=30,Data!DA25,\"\")","v":""},{"$f":"IF(Data!$E25=30,Data!DB25,IF(Data!AM25<>\"\",Data!AM25,\"\"))","v":""},{"$f":"IF(Data!$E25=30,Data!DC25,\"\")","v":""},{"$f":"IF(Data!$E25=30,Data!DD25,\"\")","v":""},{"$f":"IF(Data!$E25=30,Data!DE25,IF(Data!AN25<>\"\",Data!AN25,\"\"))","v":""},{"$f":"IF(Data!$E25=30,Data!DF25,\"\")","v":""},{"$f":"IF(Data!$E25=30,Data!DG25,\"\")","v":""},{"$f":"IF(Data!$E25=30,Data!DH25,IF(Data!AO25<>\"\",Data!AO25,\"\"))","v":""},{"$f":"IF(Data!$E25=30,Data!DI25,\"\")","v":""},{"$f":"IF(Data!$E25=30,Data!DJ25,\"\")","v":""},{"$f":"IF(Data!$E25=30,Data!DK25,IF(Data!AP25<>\"\",Data!AP25,\"\"))","v":""},{"$f":"IF(Data!$E25=30,Data!DL25,\"\")","v":""},{"$f":"IF(Data!$E25=30,Data!DM25,\"\")","v":""},{"$f":"IF(Data!$E25=30,Data!DN25,IF(Data!AQ25<>\"\",Data!AQ25,\"\"))","v":""},{"$f":"IF(Data!$E25=30,Data!DO25,\"\")","v":""},{"$f":"IF(Data!$E25=30,Data!DP25,\"\")","v":""},{"$f":"IF(Data!$E25=30,Data!DQ25,IF(Data!AR25<>\"\",Data!AR25,\"\"))","v":""},{"$f":"IF(Data!$E25=30,Data!DR25,\"\")","v":""},{"$f":"IF(Data!$E25=30,Data!DS25,\"\")","v":""},{"$f":"IF(Data!$E25=30,Data!DT25,IF(Data!AS25<>\"\",Data!AS25,\"\"))","v":""},{"$f":"IF(Data!$E25=30,Data!DU25,\"\")","v":""}]
[null,{"$f":"IF(Data!A26<>\"\",Data!A26,\"\")","v":""},{"$f":"IF(Data!$E26=30,Data!BN26,\"\")","v":""},{"$f":"IF(Data!$E26=30,Data!BO26,IF(Data!Z26<>\"\",Data!Z26,\"\"))","v":""},{"$f":"IF(Data!$E26=30,Data!BP26,\"\")","v":""},{"$f":"IF(Data!$E26=30,Data!BQ26,\"\")","v":""},{"$f":"IF(Data!$E26=30,Data!BR26,IF(Data!AA26<>\"\",Data!AA26,\"\"))","v":""},{"$f":"IF(Data!$E26=30,Data!BS26,\"\")","v":""},{"$f":"IF(Data!$E26=30,Data!BT26,\"\")","v":""},{"$f":"IF(Data!$E26=30,Data!BU26,IF(Data!AB26<>\"\",Data!AB26,\"\"))","v":""},{"$f":"IF(Data!$E26=30,Data!BV26,\"\")","v":""},{"$f":"IF(Data!$E26=30,Data!BW26,\"\")","v":""},{"$f":"IF(Data!$E26=30,Data!BX26,IF(Data!AC26<>\"\",Data!AC26,\"\"))","v":""},{"$f":"IF(Data!$E26=30,Data!BY26,\"\")","v":""},{"$f":"IF(Data!$E26=30,Data!BZ26,\"\")","v":""},{"$f":"IF(Data!$E26=30,Data!CA26,IF(Data!AD26<>\"\",Data!AD26,\"\"))","v":""},{"$f":"IF(Data!$E26=30,Data!CB26,\"\")","v":""},{"$f":"IF(Data!$E26=30,Data!CC26,\"\")","v":""},{"$f":"IF(Data!$E26=30,Data!CD26,IF(Data!AE26<>\"\",Data!AE26,\"\"))","v":""},{"$f":"IF(Data!$E26=30,Data!CE26,\"\")","v":""},{"$f":"IF(Data!$E26=30,Data!CF26,\"\")","v":""},{"$f":"IF(Data!$E26=30,Data!CG26,IF(Data!AF26<>\"\",Data!AF26,\"\"))","v":""},{"$f":"IF(Data!$E26=30,Data!CH26,\"\")","v":""},{"$f":"IF(Data!$E26=30,Data!CI26,\"\")","v":""},{"$f":"IF(Data!$E26=30,Data!CJ26,IF(Data!AG26<>\"\",Data!AG26,\"\"))","v":""},{"$f":"IF(Data!$E26=30,Data!CK26,\"\")","v":""},{"$f":"IF(Data!$E26=30,Data!CL26,\"\")","v":""},{"$f":"IF(Data!$E26=30,Data!CM26,IF(Data!AH26<>\"\",Data!AH26,\"\"))","v":""},{"$f":"IF(Data!$E26=30,Data!CN26,\"\")","v":""},{"$f":"IF(Data!$E26=30,Data!CO26,\"\")","v":""},{"$f":"IF(Data!$E26=30,Data!CP26,IF(Data!AI26<>\"\",Data!AI26,\"\"))","v":""},{"$f":"IF(Data!$E26=30,Data!CQ26,\"\")","v":""},null,null,null,{"$f":"IF(Data!$E26=30,Data!CR26,\"\")","v":""},{"$f":"IF(Data!$E26=30,Data!CS26,IF(Data!AJ26<>\"\",Data!AJ26,\"\"))","v":""},{"$f":"IF(Data!$E26=30,Data!CT26,\"\")","v":""},{"$f":"IF(Data!$E26=30,Data!CU26,\"\")","v":""},{"$f":"IF(Data!$E26=30,Data!CV26,IF(Data!AK26<>\"\",Data!AK26,\"\"))","v":""},{"$f":"IF(Data!$E26=30,Data!CW26,\"\")","v":""},{"$f":"IF(Data!$E26=30,Data!CX26,\"\")","v":""},{"$f":"IF(Data!$E26=30,Data!CY26,IF(Data!AL26<>\"\",Data!AL26,\"\"))","v":""},{"$f":"IF(Data!$E26=30,Data!CZ26,\"\")","v":""},{"$f":"IF(Data!$E26=30,Data!DA26,\"\")","v":""},{"$f":"IF(Data!$E26=30,Data!DB26,IF(Data!AM26<>\"\",Data!AM26,\"\"))","v":""},{"$f":"IF(Data!$E26=30,Data!DC26,\"\")","v":""},{"$f":"IF(Data!$E26=30,Data!DD26,\"\")","v":""},{"$f":"IF(Data!$E26=30,Data!DE26,IF(Data!AN26<>\"\",Data!AN26,\"\"))","v":""},{"$f":"IF(Data!$E26=30,Data!DF26,\"\")","v":""},{"$f":"IF(Data!$E26=30,Data!DG26,\"\")","v":""},{"$f":"IF(Data!$E26=30,Data!DH26,IF(Data!AO26<>\"\",Data!AO26,\"\"))","v":""},{"$f":"IF(Data!$E26=30,Data!DI26,\"\")","v":""},{"$f":"IF(Data!$E26=30,Data!DJ26,\"\")","v":""},{"$f":"IF(Data!$E26=30,Data!DK26,IF(Data!AP26<>\"\",Data!AP26,\"\"))","v":""},{"$f":"IF(Data!$E26=30,Data!DL26,\"\")","v":""},{"$f":"IF(Data!$E26=30,Data!DM26,\"\")","v":""},{"$f":"IF(Data!$E26=30,Data!DN26,IF(Data!AQ26<>\"\",Data!AQ26,\"\"))","v":""},{"$f":"IF(Data!$E26=30,Data!DO26,\"\")","v":""},{"$f":"IF(Data!$E26=30,Data!DP26,\"\")","v":""},{"$f":"IF(Data!$E26=30,Data!DQ26,IF(Data!AR26<>\"\",Data!AR26,\"\"))","v":""},{"$f":"IF(Data!$E26=30,Data!DR26,\"\")","v":""},{"$f":"IF(Data!$E26=30,Data!DS26,\"\")","v":""},{"$f":"IF(Data!$E26=30,Data!DT26,IF(Data!AS26<>\"\",Data!AS26,\"\"))","v":""},{"$f":"IF(Data!$E26=30,Data!DU26,\"\")","v":""}]
[null,{"$f":"IF(Data!A27<>\"\",Data!A27,\"\")","v":""},{"$f":"IF(Data!$E27=30,Data!BN27,\"\")","v":""},{"$f":"IF(Data!$E27=30,Data!BO27,IF(Data!Z27<>\"\",Data!Z27,\"\"))","v":""},{"$f":"IF(Data!$E27=30,Data!BP27,\"\")","v":""},{"$f":"IF(Data!$E27=30,Data!BQ27,\"\")","v":""},{"$f":"IF(Data!$E27=30,Data!BR27,IF(Data!AA27<>\"\",Data!AA27,\"\"))","v":""},{"$f":"IF(Data!$E27=30,Data!BS27,\"\")","v":""},{"$f":"IF(Data!$E27=30,Data!BT27,\"\")","v":""},{"$f":"IF(Data!$E27=30,Data!BU27,IF(Data!AB27<>\"\",Data!AB27,\"\"))","v":""},{"$f":"IF(Data!$E27=30,Data!BV27,\"\")","v":""},{"$f":"IF(Data!$E27=30,Data!BW27,\"\")","v":""},{"$f":"IF(Data!$E27=30,Data!BX27,IF(Data!AC27<>\"\",Data!AC27,\"\"))","v":""},{"$f":"IF(Data!$E27=30,Data!BY27,\"\")","v":""},{"$f":"IF(Data!$E27=30,Data!BZ27,\"\")","v":""},{"$f":"IF(Data!$E27=30,Data!CA27,IF(Data!AD27<>\"\",Data!AD27,\"\"))","v":""},{"$f":"IF(Data!$E27=30,Data!CB27,\"\")","v":""},{"$f":"IF(Data!$E27=30,Data!CC27,\"\")","v":""},{"$f":"IF(Data!$E27=30,Data!CD27,IF(Data!AE27<>\"\",Data!AE27,\"\"))","v":""},{"$f":"IF(Data!$E27=30,Data!CE27,\"\")","v":""},{"$f":"IF(Data!$E27=30,Data!CF27,\"\")","v":""},{"$f":"IF(Data!$E27=30,Data!CG27,IF(Data!AF27<>\"\",Data!AF27,\"\"))","v":""},{"$f":"IF(Data!$E27=30,Data!CH27,\"\")","v":""},{"$f":"IF(Data!$E27=30,Data!CI27,\"\")","v":""},{"$f":"IF(Data!$E27=30,Data!CJ27,IF(Data!AG27<>\"\",Data!AG27,\"\"))","v":""},{"$f":"IF(Data!$E27=30,Data!CK27,\"\")","v":""},{"$f":"IF(Data!$E27=30,Data!CL27,\"\")","v":""},{"$f":"IF(Data!$E27=30,Data!CM27,IF(Data!AH27<>\"\",Data!AH27,\"\"))","v":""},{"$f":"IF(Data!$E27=30,Data!CN27,\"\")","v":""},{"$f":"IF(Data!$E27=30,Data!CO27,\"\")","v":""},{"$f":"IF(Data!$E27=30,Data!CP27,IF(Data!AI27<>\"\",Data!AI27,\"\"))","v":""},{"$f":"IF(Data!$E27=30,Data!CQ27,\"\")","v":""},null,null,null,{"$f":"IF(Data!$E27=30,Data!CR27,\"\")","v":""},{"$f":"IF(Data!$E27=30,Data!CS27,IF(Data!AJ27<>\"\",Data!AJ27,\"\"))","v":""},{"$f":"IF(Data!$E27=30,Data!CT27,\"\")","v":""},{"$f":"IF(Data!$E27=30,Data!CU27,\"\")","v":""},{"$f":"IF(Data!$E27=30,Data!CV27,IF(Data!AK27<>\"\",Data!AK27,\"\"))","v":""},{"$f":"IF(Data!$E27=30,Data!CW27,\"\")","v":""},{"$f":"IF(Data!$E27=30,Data!CX27,\"\")","v":""},{"$f":"IF(Data!$E27=30,Data!CY27,IF(Data!AL27<>\"\",Data!AL27,\"\"))","v":""},{"$f":"IF(Data!$E27=30,Data!CZ27,\"\")","v":""},{"$f":"IF(Data!$E27=30,Data!DA27,\"\")","v":""},{"$f":"IF(Data!$E27=30,Data!DB27,IF(Data!AM27<>\"\",Data!AM27,\"\"))","v":""},{"$f":"IF(Data!$E27=30,Data!DC27,\"\")","v":""},{"$f":"IF(Data!$E27=30,Data!DD27,\"\")","v":""},{"$f":"IF(Data!$E27=30,Data!DE27,IF(Data!AN27<>\"\",Data!AN27,\"\"))","v":""},{"$f":"IF(Data!$E27=30,Data!DF27,\"\")","v":""},{"$f":"IF(Data!$E27=30,Data!DG27,\"\")","v":""},{"$f":"IF(Data!$E27=30,Data!DH27,IF(Data!AO27<>\"\",Data!AO27,\"\"))","v":""},{"$f":"IF(Data!$E27=30,Data!DI27,\"\")","v":""},{"$f":"IF(Data!$E27=30,Data!DJ27,\"\")","v":""},{"$f":"IF(Data!$E27=30,Data!DK27,IF(Data!AP27<>\"\",Data!AP27,\"\"))","v":""},{"$f":"IF(Data!$E27=30,Data!DL27,\"\")","v":""},{"$f":"IF(Data!$E27=30,Data!DM27,\"\")","v":""},{"$f":"IF(Data!$E27=30,Data!DN27,IF(Data!AQ27<>\"\",Data!AQ27,\"\"))","v":""},{"$f":"IF(Data!$E27=30,Data!DO27,\"\")","v":""},{"$f":"IF(Data!$E27=30,Data!DP27,\"\")","v":""},{"$f":"IF(Data!$E27=30,Data!DQ27,IF(Data!AR27<>\"\",Data!AR27,\"\"))","v":""},{"$f":"IF(Data!$E27=30,Data!DR27,\"\")","v":""},{"$f":"IF(Data!$E27=30,Data!DS27,\"\")","v":""},{"$f":"IF(Data!$E27=30,Data!DT27,IF(Data!AS27<>\"\",Data!AS27,\"\"))","v":""},{"$f":"IF(Data!$E27=30,Data!DU27,\"\")","v":""}]
[null,{"$f":"IF(Data!A28<>\"\",Data!A28,\"\")","v":""},{"$f":"IF(Data!$E28=30,Data!BN28,\"\")","v":""},{"$f":"IF(Data!$E28=30,Data!BO28,IF(Data!Z28<>\"\",Data!Z28,\"\"))","v":""},{"$f":"IF(Data!$E28=30,Data!BP28,\"\")","v":""},{"$f":"IF(Data!$E28=30,Data!BQ28,\"\")","v":""},{"$f":"IF(Data!$E28=30,Data!BR28,IF(Data!AA28<>\"\",Data!AA28,\"\"))","v":""},{"$f":"IF(Data!$E28=30,Data!BS28,\"\")","v":""},{"$f":"IF(Data!$E28=30,Data!BT28,\"\")","v":""},{"$f":"IF(Data!$E28=30,Data!BU28,IF(Data!AB28<>\"\",Data!AB28,\"\"))","v":""},{"$f":"IF(Data!$E28=30,Data!BV28,\"\")","v":""},{"$f":"IF(Data!$E28=30,Data!BW28,\"\")","v":""},{"$f":"IF(Data!$E28=30,Data!BX28,IF(Data!AC28<>\"\",Data!AC28,\"\"))","v":""},{"$f":"IF(Data!$E28=30,Data!BY28,\"\")","v":""},{"$f":"IF(Data!$E28=30,Data!BZ28,\"\")","v":""},{"$f":"IF(Data!$E28=30,Data!CA28,IF(Data!AD28<>\"\",Data!AD28,\"\"))","v":""},{"$f":"IF(Data!$E28=30,Data!CB28,\"\")","v":""},{"$f":"IF(Data!$E28=30,Data!CC28,\"\")","v":""},{"$f":"IF(Data!$E28=30,Data!CD28,IF(Data!AE28<>\"\",Data!AE28,\"\"))","v":""},{"$f":"IF(Data!$E28=30,Data!CE28,\"\")","v":""},{"$f":"IF(Data!$E28=30,Data!CF28,\"\")","v":""},{"$f":"IF(Data!$E28=30,Data!CG28,IF(Data!AF28<>\"\",Data!AF28,\"\"))","v":""},{"$f":"IF(Data!$E28=30,Data!CH28,\"\")","v":""},{"$f":"IF(Data!$E28=30,Data!CI28,\"\")","v":""},{"$f":"IF(Data!$E28=30,Data!CJ28,IF(Data!AG28<>\"\",Data!AG28,\"\"))","v":""},{"$f":"IF(Data!$E28=30,Data!CK28,\"\")","v":""},{"$f":"IF(Data!$E28=30,Data!CL28,\"\")","v":""},{"$f":"IF(Data!$E28=30,Data!CM28,IF(Data!AH28<>\"\",Data!AH28,\"\"))","v":""},{"$f":"IF(Data!$E28=30,Data!CN28,\"\")","v":""},{"$f":"IF(Data!$E28=30,Data!CO28,\"\")","v":""},{"$f":"IF(Data!$E28=30,Data!CP28,IF(Data!AI28<>\"\",Data!AI28,\"\"))","v":""},{"$f":"IF(Data!$E28=30,Data!CQ28,\"\")","v":""},null,null,null,{"$f":"IF(Data!$E28=30,Data!CR28,\"\")","v":""},{"$f":"IF(Data!$E28=30,Data!CS28,IF(Data!AJ28<>\"\",Data!AJ28,\"\"))","v":""},{"$f":"IF(Data!$E28=30,Data!CT28,\"\")","v":""},{"$f":"IF(Data!$E28=30,Data!CU28,\"\")","v":""},{"$f":"IF(Data!$E28=30,Data!CV28,IF(Data!AK28<>\"\",Data!AK28,\"\"))","v":""},{"$f":"IF(Data!$E28=30,Data!CW28,\"\")","v":""},{"$f":"IF(Data!$E28=30,Data!CX28,\"\")","v":""},{"$f":"IF(Data!$E28=30,Data!CY28,IF(Data!AL28<>\"\",Data!AL28,\"\"))","v":""},{"$f":"IF(Data!$E28=30,Data!CZ28,\"\")","v":""},{"$f":"IF(Data!$E28=30,Data!DA28,\"\")","v":""},{"$f":"IF(Data!$E28=30,Data!DB28,IF(Data!AM28<>\"\",Data!AM28,\"\"))","v":""},{"$f":"IF(Data!$E28=30,Data!DC28,\"\")","v":""},{"$f":"IF(Data!$E28=30,Data!DD28,\"\")","v":""},{"$f":"IF(Data!$E28=30,Data!DE28,IF(Data!AN28<>\"\",Data!AN28,\"\"))","v":""},{"$f":"IF(Data!$E28=30,Data!DF28,\"\")","v":""},{"$f":"IF(Data!$E28=30,Data!DG28,\"\")","v":""},{"$f":"IF(Data!$E28=30,Data!DH28,IF(Data!AO28<>\"\",Data!AO28,\"\"))","v":""},{"$f":"IF(Data!$E28=30,Data!DI28,\"\")","v":""},{"$f":"IF(Data!$E28=30,Data!DJ28,\"\")","v":""},{"$f":"IF(Data!$E28=30,Data!DK28,IF(Data!AP28<>\"\",Data!AP28,\"\"))","v":""},{"$f":"IF(Data!$E28=30,Data!DL28,\"\")","v":""},{"$f":"IF(Data!$E28=30,Data!DM28,\"\")","v":""},{"$f":"IF(Data!$E28=30,Data!DN28,IF(Data!AQ28<>\"\",Data!AQ28,\"\"))","v":""},{"$f":"IF(Data!$E28=30,Data!DO28,\"\")","v":""},{"$f":"IF(Data!$E28=30,Data!DP28,\"\")","v":""},{"$f":"IF(Data!$E28=30,Data!DQ28,IF(Data!AR28<>\"\",Data!AR28,\"\"))","v":""},{"$f":"IF(Data!$E28=30,Data!DR28,\"\")","v":""},{"$f":"IF(Data!$E28=30,Data!DS28,\"\")","v":""},{"$f":"IF(Data!$E28=30,Data!DT28,IF(Data!AS28<>\"\",Data!AS28,\"\"))","v":""},{"$f":"IF(Data!$E28=30,Data!DU28,\"\")","v":""}]
[null,{"$f":"IF(Data!A29<>\"\",Data!A29,\"\")","v":""},{"$f":"IF(Data!$E29=30,Data!BN29,\"\")","v":""},{"$f":"IF(Data!$E29=30,Data!BO29,IF(Data!Z29<>\"\",Data!Z29,\"\"))","v":""},{"$f":"IF(Data!$E29=30,Data!BP29,\"\")","v":""},{"$f":"IF(Data!$E29=30,Data!BQ29,\"\")","v":""},{"$f":"IF(Data!$E29=30,Data!BR29,IF(Data!AA29<>\"\",Data!AA29,\"\"))","v":""},{"$f":"IF(Data!$E29=30,Data!BS29,\"\")","v":""},{"$f":"IF(Data!$E29=30,Data!BT29,\"\")","v":""},{"$f":"IF(Data!$E29=30,Data!BU29,IF(Data!AB29<>\"\",Data!AB29,\"\"))","v":""},{"$f":"IF(Data!$E29=30,Data!BV29,\"\")","v":""},{"$f":"IF(Data!$E29=30,Data!BW29,\"\")","v":""},{"$f":"IF(Data!$E29=30,Data!BX29,IF(Data!AC29<>\"\",Data!AC29,\"\"))","v":""},{"$f":"IF(Data!$E29=30,Data!BY29,\"\")","v":""},{"$f":"IF(Data!$E29=30,Data!BZ29,\"\")","v":""},{"$f":"IF(Data!$E29=30,Data!CA29,IF(Data!AD29<>\"\",Data!AD29,\"\"))","v":""},{"$f":"IF(Data!$E29=30,Data!CB29,\"\")","v":""},{"$f":"IF(Data!$E29=30,Data!CC29,\"\")","v":""},{"$f":"IF(Data!$E29=30,Data!CD29,IF(Data!AE29<>\"\",Data!AE29,\"\"))","v":""},{"$f":"IF(Data!$E29=30,Data!CE29,\"\")","v":""},{"$f":"IF(Data!$E29=30,Data!CF29,\"\")","v":""},{"$f":"IF(Data!$E29=30,Data!CG29,IF(Data!AF29<>\"\",Data!AF29,\"\"))","v":""},{"$f":"IF(Data!$E29=30,Data!CH29,\"\")","v":""},{"$f":"IF(Data!$E29=30,Data!CI29,\"\")","v":""},{"$f":"IF(Data!$E29=30,Data!CJ29,IF(Data!AG29<>\"\",Data!AG29,\"\"))","v":""},{"$f":"IF(Data!$E29=30,Data!CK29,\"\")","v":""},{"$f":"IF(Data!$E29=30,Data!CL29,\"\")","v":""},{"$f":"IF(Data!$E29=30,Data!CM29,IF(Data!AH29<>\"\",Data!AH29,\"\"))","v":""},{"$f":"IF(Data!$E29=30,Data!CN29,\"\")","v":""},{"$f":"IF(Data!$E29=30,Data!CO29,\"\")","v":""},{"$f":"IF(Data!$E29=30,Data!CP29,IF(Data!AI29<>\"\",Data!AI29,\"\"))","v":""},{"$f":"IF(Data!$E29=30,Data!CQ29,\"\")","v":""},null,null,null,{"$f":"IF(Data!$E29=30,Data!CR29,\"\")","v":""},{"$f":"IF(Data!$E29=30,Data!CS29,IF(Data!AJ29<>\"\",Data!AJ29,\"\"))","v":""},{"$f":"IF(Data!$E29=30,Data!CT29,\"\")","v":""},{"$f":"IF(Data!$E29=30,Data!CU29,\"\")","v":""},{"$f":"IF(Data!$E29=30,Data!CV29,IF(Data!AK29<>\"\",Data!AK29,\"\"))","v":""},{"$f":"IF(Data!$E29=30,Data!CW29,\"\")","v":""},{"$f":"IF(Data!$E29=30,Data!CX29,\"\")","v":""},{"$f":"IF(Data!$E29=30,Data!CY29,IF(Data!AL29<>\"\",Data!AL29,\"\"))","v":""},{"$f":"IF(Data!$E29=30,Data!CZ29,\"\")","v":""},{"$f":"IF(Data!$E29=30,Data!DA29,\"\")","v":""},{"$f":"IF(Data!$E29=30,Data!DB29,IF(Data!AM29<>\"\",Data!AM29,\"\"))","v":""},{"$f":"IF(Data!$E29=30,Data!DC29,\"\")","v":""},{"$f":"IF(Data!$E29=30,Data!DD29,\"\")","v":""},{"$f":"IF(Data!$E29=30,Data!DE29,IF(Data!AN29<>\"\",Data!AN29,\"\"))","v":""},{"$f":"IF(Data!$E29=30,Data!DF29,\"\")","v":""},{"$f":"IF(Data!$E29=30,Data!DG29,\"\")","v":""},{"$f":"IF(Data!$E29=30,Data!DH29,IF(Data!AO29<>\"\",Data!AO29,\"\"))","v":""},{"$f":"IF(Data!$E29=30,Data!DI29,\"\")","v":""},{"$f":"IF(Data!$E29=30,Data!DJ29,\"\")","v":""},{"$f":"IF(Data!$E29=30,Data!DK29,IF(Data!AP29<>\"\",Data!AP29,\"\"))","v":""},{"$f":"IF(Data!$E29=30,Data!DL29,\"\")","v":""},{"$f":"IF(Data!$E29=30,Data!DM29,\"\")","v":""},{"$f":"IF(Data!$E29=30,Data!DN29,IF(Data!AQ29<>\"\",Data!AQ29,\"\"))","v":""},{"$f":"IF(Data!$E29=30,Data!DO29,\"\")","v":""},{"$f":"IF(Data!$E29=30,Data!DP29,\"\")","v":""},{"$f":"IF(Data!$E29=30,Data!DQ29,IF(Data!AR29<>\"\",Data!AR29,\"\"))","v":""},{"$f":"IF(Data!$E29=30,Data!DR29,\"\")","v":""},{"$f":"IF(Data!$E29=30,Data!DS29,\"\")","v":""},{"$f":"IF(Data!$E29=30,Data!DT29,IF(Data!AS29<>\"\",Data!AS29,\"\"))","v":""},{"$f":"IF(Data!$E29=30,Data!DU29,\"\")","v":""}]
[null,{"$f":"IF(Data!A30<>\"\",Data!A30,\"\")","v":""},{"$f":"IF(Data!$E30=30,Data!BN30,\"\")","v":""},{"$f":"IF(Data!$E30=30,Data!BO30,IF(Data!Z30<>\"\",Data!Z30,\"\"))","v":""},{"$f":"IF(Data!$E30=30,Data!BP30,\"\")","v":""},{"$f":"IF(Data!$E30=30,Data!BQ30,\"\")","v":""},{"$f":"IF(Data!$E30=30,Data!BR30,IF(Data!AA30<>\"\",Data!AA30,\"\"))","v":""},{"$f":"IF(Data!$E30=30,Data!BS30,\"\")","v":""},{"$f":"IF(Data!$E30=30,Data!BT30,\"\")","v":""},{"$f":"IF(Data!$E30=30,Data!BU30,IF(Data!AB30<>\"\",Data!AB30,\"\"))","v":""},{"$f":"IF(Data!$E30=30,Data!BV30,\"\")","v":""},{"$f":"IF(Data!$E30=30,Data!BW30,\"\")","v":""},{"$f":"IF(Data!$E30=30,Data!BX30,IF(Data!AC30<>\"\",Data!AC30,\"\"))","v":""},{"$f":"IF(Data!$E30=30,Data!BY30,\"\")","v":""},{"$f":"IF(Data!$E30=30,Data!BZ30,\"\")","v":""},{"$f":"IF(Data!$E30=30,Data!CA30,IF(Data!AD30<>\"\",Data!AD30,\"\"))","v":""},{"$f":"IF(Data!$E30=30,Data!CB30,\"\")","v":""},{"$f":"IF(Data!$E30=30,Data!CC30,\"\")","v":""},{"$f":"IF(Data!$E30=30,Data!CD30,IF(Data!AE30<>\"\",Data!AE30,\"\"))","v":""},{"$f":"IF(Data!$E30=30,Data!CE30,\"\")","v":""},{"$f":"IF(Data!$E30=30,Data!CF30,\"\")","v":""},{"$f":"IF(Data!$E30=30,Data!CG30,IF(Data!AF30<>\"\",Data!AF30,\"\"))","v":""},{"$f":"IF(Data!$E30=30,Data!CH30,\"\")","v":""},{"$f":"IF(Data!$E30=30,Data!CI30,\"\")","v":""},{"$f":"IF(Data!$E30=30,Data!CJ30,IF(Data!AG30<>\"\",Data!AG30,\"\"))","v":""},{"$f":"IF(Data!$E30=30,Data!CK30,\"\")","v":""},{"$f":"IF(Data!$E30=30,Data!CL30,\"\")","v":""},{"$f":"IF(Data!$E30=30,Data!CM30,IF(Data!AH30<>\"\",Data!AH30,\"\"))","v":""},{"$f":"IF(Data!$E30=30,Data!CN30,\"\")","v":""},{"$f":"IF(Data!$E30=30,Data!CO30,\"\")","v":""},{"$f":"IF(Data!$E30=30,Data!CP30,IF(Data!AI30<>\"\",Data!AI30,\"\"))","v":""},{"$f":"IF(Data!$E30=30,Data!CQ30,\"\")","v":""},null,null,null,{"$f":"IF(Data!$E30=30,Data!CR30,\"\")","v":""},{"$f":"IF(Data!$E30=30,Data!CS30,IF(Data!AJ30<>\"\",Data!AJ30,\"\"))","v":""},{"$f":"IF(Data!$E30=30,Data!CT30,\"\")","v":""},{"$f":"IF(Data!$E30=30,Data!CU30,\"\")","v":""},{"$f":"IF(Data!$E30=30,Data!CV30,IF(Data!AK30<>\"\",Data!AK30,\"\"))","v":""},{"$f":"IF(Data!$E30=30,Data!CW30,\"\")","v":""},{"$f":"IF(Data!$E30=30,Data!CX30,\"\")","v":""},{"$f":"IF(Data!$E30=30,Data!CY30,IF(Data!AL30<>\"\",Data!AL30,\"\"))","v":""},{"$f":"IF(Data!$E30=30,Data!CZ30,\"\")","v":""},{"$f":"IF(Data!$E30=30,Data!DA30,\"\")","v":""},{"$f":"IF(Data!$E30=30,Data!DB30,IF(Data!AM30<>\"\",Data!AM30,\"\"))","v":""},{"$f":"IF(Data!$E30=30,Data!DC30,\"\")","v":""},{"$f":"IF(Data!$E30=30,Data!DD30,\"\")","v":""},{"$f":"IF(Data!$E30=30,Data!DE30,IF(Data!AN30<>\"\",Data!AN30,\"\"))","v":""},{"$f":"IF(Data!$E30=30,Data!DF30,\"\")","v":""},{"$f":"IF(Data!$E30=30,Data!DG30,\"\")","v":""},{"$f":"IF(Data!$E30=30,Data!DH30,IF(Data!AO30<>\"\",Data!AO30,\"\"))","v":""},{"$f":"IF(Data!$E30=30,Data!DI30,\"\")","v":""},{"$f":"IF(Data!$E30=30,Data!DJ30,\"\")","v":""},{"$f":"IF(Data!$E30=30,Data!DK30,IF(Data!AP30<>\"\",Data!AP30,\"\"))","v":""},{"$f":"IF(Data!$E30=30,Data!DL30,\"\")","v":""},{"$f":"IF(Data!$E30=30,Data!DM30,\"\")","v":""},{"$f":"IF(Data!$E30=30,Data!DN30,IF(Data!AQ30<>\"\",Data!AQ30,\"\"))","v":""},{"$f":"IF(Data!$E30=30,Data!DO30,\"\")","v":""},{"$f":"IF(Data!$E30=30,Data!DP30,\"\")","v":""},{"$f":"IF(Data!$E30=30,Data!DQ30,IF(Data!AR30<>\"\",Data!AR30,\"\"))","v":""},{"$f":"IF(Data!$E30=30,Data!DR30,\"\")","v":""},{"$f":"IF(Data!$E30=30,Data!DS30,\"\")","v":""},{"$f":"IF(Data!$E30=30,Data!DT30,IF(Data!AS30<>\"\",Data!AS30,\"\"))","v":""},{"$f":"IF(Data!$E30=30,Data!DU30,\"\")","v":""}]
[null,{"$f":"IF(Data!A31<>\"\",Data!A31,\"\")","v":""},{"$f":"IF(Data!$E31=30,Data!BN31,\"\")","v":""},{"$f":"IF(Data!$E31=30,Data!BO31,IF(Data!Z31<>\"\",Data!Z31,\"\"))","v":""},{"$f":"IF(Data!$E31=30,Data!BP31,\"\")","v":""},{"$f":"IF(Data!$E31=30,Data!BQ31,\"\")","v":""},{"$f":"IF(Data!$E31=30,Data!BR31,IF(Data!AA31<>\"\",Data!AA31,\"\"))","v":""},{"$f":"IF(Data!$E31=30,Data!BS31,\"\")","v":""},{"$f":"IF(Data!$E31=30,Data!BT31,\"\")","v":""},{"$f":"IF(Data!$E31=30,Data!BU31,IF(Data!AB31<>\"\",Data!AB31,\"\"))","v":""},{"$f":"IF(Data!$E31=30,Data!BV31,\"\")","v":""},{"$f":"IF(Data!$E31=30,Data!BW31,\"\")","v":""},{"$f":"IF(Data!$E31=30,Data!BX31,IF(Data!AC31<>\"\",Data!AC31,\"\"))","v":""},{"$f":"IF(Data!$E31=30,Data!BY31,\"\")","v":""},{"$f":"IF(Data!$E31=30,Data!BZ31,\"\")","v":""},{"$f":"IF(Data!$E31=30,Data!CA31,IF(Data!AD31<>\"\",Data!AD31,\"\"))","v":""},{"$f":"IF(Data!$E31=30,Data!CB31,\"\")","v":""},{"$f":"IF(Data!$E31=30,Data!CC31,\"\")","v":""},{"$f":"IF(Data!$E31=30,Data!CD31,IF(Data!AE31<>\"\",Data!AE31,\"\"))","v":""},{"$f":"IF(Data!$E31=30,Data!CE31,\"\")","v":""},{"$f":"IF(Data!$E31=30,Data!CF31,\"\")","v":""},{"$f":"IF(Data!$E31=30,Data!CG31,IF(Data!AF31<>\"\",Data!AF31,\"\"))","v":""},{"$f":"IF(Data!$E31=30,Data!CH31,\"\")","v":""},{"$f":"IF(Data!$E31=30,Data!CI31,\"\")","v":""},{"$f":"IF(Data!$E31=30,Data!CJ31,IF(Data!AG31<>\"\",Data!AG31,\"\"))","v":""},{"$f":"IF(Data!$E31=30,Data!CK31,\"\")","v":""},{"$f":"IF(Data!$E31=30,Data!CL31,\"\")","v":""},{"$f":"IF(Data!$E31=30,Data!CM31,IF(Data!AH31<>\"\",Data!AH31,\"\"))","v":""},{"$f":"IF(Data!$E31=30,Data!CN31,\"\")","v":""},{"$f":"IF(Data!$E31=30,Data!CO31,\"\")","v":""},{"$f":"IF(Data!$E31=30,Data!CP31,IF(Data!AI31<>\"\",Data!AI31,\"\"))","v":""},{"$f":"IF(Data!$E31=30,Data!CQ31,\"\")","v":""},null,null,null,{"$f":"IF(Data!$E31=30,Data!CR31,\"\")","v":""},{"$f":"IF(Data!$E31=30,Data!CS31,IF(Data!AJ31<>\"\",Data!AJ31,\"\"))","v":""},{"$f":"IF(Data!$E31=30,Data!CT31,\"\")","v":""},{"$f":"IF(Data!$E31=30,Data!CU31,\"\")","v":""},{"$f":"IF(Data!$E31=30,Data!CV31,IF(Data!AK31<>\"\",Data!AK31,\"\"))","v":""},{"$f":"IF(Data!$E31=30,Data!CW31,\"\")","v":""},{"$f":"IF(Data!$E31=30,Data!CX31,\"\")","v":""},{"$f":"IF(Data!$E31=30,Data!CY31,IF(Data!AL31<>\"\",Data!AL31,\"\"))","v":""},{"$f":"IF(Data!$E31=30,Data!CZ31,\"\")","v":""},{"$f":"IF(Data!$E31=30,Data!DA31,\"\")","v":""},{"$f":"IF(Data!$E31=30,Data!DB31,IF(Data!AM31<>\"\",Data!AM31,\"\"))","v":""},{"$f":"IF(Data!$E31=30,Data!DC31,\"\")","v":""},{"$f":"IF(Data!$E31=30,Data!DD31,\"\")","v":""},{"$f":"IF(Data!$E31=30,Data!DE31,IF(Data!AN31<>\"\",Data!AN31,\"\"))","v":""},{"$f":"IF(Data!$E31=30,Data!DF31,\"\")","v":""},{"$f":"IF(Data!$E31=30,Data!DG31,\"\")","v":""},{"$f":"IF(Data!$E31=30,Data!DH31,IF(Data!AO31<>\"\",Data!AO31,\"\"))","v":""},{"$f":"IF(Data!$E31=30,Data!DI31,\"\")","v":""},{"$f":"IF(Data!$E31=30,Data!DJ31,\"\")","v":""},{"$f":"IF(Data!$E31=30,Data!DK31,IF(Data!AP31<>\"\",Data!AP31,\"\"))","v":""},{"$f":"IF(Data!$E31=30,Data!DL31,\"\")","v":""},{"$f":"IF(Data!$E31=30,Data!DM31,\"\")","v":""},{"$f":"IF(Data!$E31=30,Data!DN31,IF(Data!AQ31<>\"\",Data!AQ31,\"\"))","v":""},{"$f":"IF(Data!$E31=30,Data!DO31,\"\")","v":""},{"$f":"IF(Data!$E31=30,Data!DP31,\"\")","v":""},{"$f":"IF(Data!$E31=30,Data!DQ31,IF(Data!AR31<>\"\",Data!AR31,\"\"))","v":""},{"$f":"IF(Data!$E31=30,Data!DR31,\"\")","v":""},{"$f":"IF(Data!$E31=30,Data!DS31,\"\")","v":""},{"$f":"IF(Data!$E31=30,Data!DT31,IF(Data!AS31<>\"\",Data!AS31,\"\"))","v":""},{"$f":"IF(Data!$E31=30,Data!DU31,\"\")","v":""}]
[null,{"$f":"IF(Data!A32<>\"\",Data!A32,\"\")","v":""},{"$f":"IF(Data!$E32=30,Data!BN32,\"\")","v":""},{"$f":"IF(Data!$E32=30,Data!BO32,IF(Data!Z32<>\"\",Data!Z32,\"\"))","v":""},{"$f":"IF(Data!$E32=30,Data!BP32,\"\")","v":""},{"$f":"IF(Data!$E32=30,Data!BQ32,\"\")","v":""},{"$f":"IF(Data!$E32=30,Data!BR32,IF(Data!AA32<>\"\",Data!AA32,\"\"))","v":""},{"$f":"IF(Data!$E32=30,Data!BS32,\"\")","v":""},{"$f":"IF(Data!$E32=30,Data!BT32,\"\")","v":""},{"$f":"IF(Data!$E32=30,Data!BU32,IF(Data!AB32<>\"\",Data!AB32,\"\"))","v":""},{"$f":"IF(Data!$E32=30,Data!BV32,\"\")","v":""},{"$f":"IF(Data!$E32=30,Data!BW32,\"\")","v":""},{"$f":"IF(Data!$E32=30,Data!BX32,IF(Data!AC32<>\"\",Data!AC32,\"\"))","v":""},{"$f":"IF(Data!$E32=30,Data!BY32,\"\")","v":""},{"$f":"IF(Data!$E32=30,Data!BZ32,\"\")","v":""},{"$f":"IF(Data!$E32=30,Data!CA32,IF(Data!AD32<>\"\",Data!AD32,\"\"))","v":""},{"$f":"IF(Data!$E32=30,Data!CB32,\"\")","v":""},{"$f":"IF(Data!$E32=30,Data!CC32,\"\")","v":""},{"$f":"IF(Data!$E32=30,Data!CD32,IF(Data!AE32<>\"\",Data!AE32,\"\"))","v":""},{"$f":"IF(Data!$E32=30,Data!CE32,\"\")","v":""},{"$f":"IF(Data!$E32=30,Data!CF32,\"\")","v":""},{"$f":"IF(Data!$E32=30,Data!CG32,IF(Data!AF32<>\"\",Data!AF32,\"\"))","v":""},{"$f":"IF(Data!$E32=30,Data!CH32,\"\")","v":""},{"$f":"IF(Data!$E32=30,Data!CI32,\"\")","v":""},{"$f":"IF(Data!$E32=30,Data!CJ32,IF(Data!AG32<>\"\",Data!AG32,\"\"))","v":""},{"$f":"IF(Data!$E32=30,Data!CK32,\"\")","v":""},{"$f":"IF(Data!$E32=30,Data!CL32,\"\")","v":""},{"$f":"IF(Data!$E32=30,Data!CM32,IF(Data!AH32<>\"\",Data!AH32,\"\"))","v":""},{"$f":"IF(Data!$E32=30,Data!CN32,\"\")","v":""},{"$f":"IF(Data!$E32=30,Data!CO32,\"\")","v":""},{"$f":"IF(Data!$E32=30,Data!CP32,IF(Data!AI32<>\"\",Data!AI32,\"\"))","v":""},{"$f":"IF(Data!$E32=30,Data!CQ32,\"\")","v":""},null,null,null,{"$f":"IF(Data!$E32=30,Data!CR32,\"\")","v":""},{"$f":"IF(Data!$E32=30,Data!CS32,IF(Data!AJ32<>\"\",Data!AJ32,\"\"))","v":""},{"$f":"IF(Data!$E32=30,Data!CT32,\"\")","v":""},{"$f":"IF(Data!$E32=30,Data!CU32,\"\")","v":""},{"$f":"IF(Data!$E32=30,Data!CV32,IF(Data!AK32<>\"\",Data!AK32,\"\"))","v":""},{"$f":"IF(Data!$E32=30,Data!CW32,\"\")","v":""},{"$f":"IF(Data!$E32=30,Data!CX32,\"\")","v":""},{"$f":"IF(Data!$E32=30,Data!CY32,IF(Data!AL32<>\"\",Data!AL32,\"\"))","v":""},{"$f":"IF(Data!$E32=30,Data!CZ32,\"\")","v":""},{"$f":"IF(Data!$E32=30,Data!DA32,\"\")","v":""},{"$f":"IF(Data!$E32=30,Data!DB32,IF(Data!AM32<>\"\",Data!AM32,\"\"))","v":""},{"$f":"IF(Data!$E32=30,Data!DC32,\"\")","v":""},{"$f":"IF(Data!$E32=30,Data!DD32,\"\")","v":""},{"$f":"IF(Data!$E32=30,Data!DE32,IF(Data!AN32<>\"\",Data!AN32,\"\"))","v":""},{"$f":"IF(Data!$E32=30,Data!DF32,\"\")","v":""},{"$f":"IF(Data!$E32=30,Data!DG32,\"\")","v":""},{"$f":"IF(Data!$E32=30,Data!DH32,IF(Data!AO32<>\"\",Data!AO32,\"\"))","v":""},{"$f":"IF(Data!$E32=30,Data!DI32,\"\")","v":""},{"$f":"IF(Data!$E32=30,Data!DJ32,\"\")","v":""},{"$f":"IF(Data!$E32=30,Data!DK32,IF(Data!AP32<>\"\",Data!AP32,\"\"))","v":""},{"$f":"IF(Data!$E32=30,Data!DL32,\"\")","v":""},{"$f":"IF(Data!$E32=30,Data!DM32,\"\")","v":""},{"$f":"IF(Data!$E32=30,Data!DN32,IF(Data!AQ32<>\"\",Data!AQ32,\"\"))","v":""},{"$f":"IF(Data!$E32=30,Data!DO32,\"\")","v":""},{"$f":"IF(Data!$E32=30,Data!DP32,\"\")","v":""},{"$f":"IF(Data!$E32=30,Data!DQ32,IF(Data!AR32<>\"\",Data!AR32,\"\"))","v":""},{"$f":"IF(Data!$E32=30,Data!DR32,\"\")","v":""},{"$f":"IF(Data!$E32=30,Data!DS32,\"\")","v":""},{"$f":"IF(Data!$E32=30,Data!DT32,IF(Data!AS32<>\"\",Data!AS32,\"\"))","v":""},{"$f":"IF(Data!$E32=30,Data!DU32,\"\")","v":""}]
[null,{"$f":"IF(Data!A33<>\"\",Data!A33,\"\")","v":""},{"$f":"IF(Data!$E33=30,Data!BN33,\"\")","v":""},{"$f":"IF(Data!$E33=30,Data!BO33,IF(Data!Z33<>\"\",Data!Z33,\"\"))","v":""},{"$f":"IF(Data!$E33=30,Data!BP33,\"\")","v":""},{"$f":"IF(Data!$E33=30,Data!BQ33,\"\")","v":""},{"$f":"IF(Data!$E33=30,Data!BR33,IF(Data!AA33<>\"\",Data!AA33,\"\"))","v":""},{"$f":"IF(Data!$E33=30,Data!BS33,\"\")","v":""},{"$f":"IF(Data!$E33=30,Data!BT33,\"\")","v":""},{"$f":"IF(Data!$E33=30,Data!BU33,IF(Data!AB33<>\"\",Data!AB33,\"\"))","v":""},{"$f":"IF(Data!$E33=30,Data!BV33,\"\")","v":""},{"$f":"IF(Data!$E33=30,Data!BW33,\"\")","v":""},{"$f":"IF(Data!$E33=30,Data!BX33,IF(Data!AC33<>\"\",Data!AC33,\"\"))","v":""},{"$f":"IF(Data!$E33=30,Data!BY33,\"\")","v":""},{"$f":"IF(Data!$E33=30,Data!BZ33,\"\")","v":""},{"$f":"IF(Data!$E33=30,Data!CA33,IF(Data!AD33<>\"\",Data!AD33,\"\"))","v":""},{"$f":"IF(Data!$E33=30,Data!CB33,\"\")","v":""},{"$f":"IF(Data!$E33=30,Data!CC33,\"\")","v":""},{"$f":"IF(Data!$E33=30,Data!CD33,IF(Data!AE33<>\"\",Data!AE33,\"\"))","v":""},{"$f":"IF(Data!$E33=30,Data!CE33,\"\")","v":""},{"$f":"IF(Data!$E33=30,Data!CF33,\"\")","v":""},{"$f":"IF(Data!$E33=30,Data!CG33,IF(Data!AF33<>\"\",Data!AF33,\"\"))","v":""},{"$f":"IF(Data!$E33=30,Data!CH33,\"\")","v":""},{"$f":"IF(Data!$E33=30,Data!CI33,\"\")","v":""},{"$f":"IF(Data!$E33=30,Data!CJ33,IF(Data!AG33<>\"\",Data!AG33,\"\"))","v":""},{"$f":"IF(Data!$E33=30,Data!CK33,\"\")","v":""},{"$f":"IF(Data!$E33=30,Data!CL33,\"\")","v":""},{"$f":"IF(Data!$E33=30,Data!CM33,IF(Data!AH33<>\"\",Data!AH33,\"\"))","v":""},{"$f":"IF(Data!$E33=30,Data!CN33,\"\")","v":""},{"$f":"IF(Data!$E33=30,Data!CO33,\"\")","v":""},{"$f":"IF(Data!$E33=30,Data!CP33,IF(Data!AI33<>\"\",Data!AI33,\"\"))","v":""},{"$f":"IF(Data!$E33=30,Data!CQ33,\"\")","v":""},null,null,null,{"$f":"IF(Data!$E33=30,Data!CR33,\"\")","v":""},{"$f":"IF(Data!$E33=30,Data!CS33,IF(Data!AJ33<>\"\",Data!AJ33,\"\"))","v":""},{"$f":"IF(Data!$E33=30,Data!CT33,\"\")","v":""},{"$f":"IF(Data!$E33=30,Data!CU33,\"\")","v":""},{"$f":"IF(Data!$E33=30,Data!CV33,IF(Data!AK33<>\"\",Data!AK33,\"\"))","v":""},{"$f":"IF(Data!$E33=30,Data!CW33,\"\")","v":""},{"$f":"IF(Data!$E33=30,Data!CX33,\"\")","v":""},{"$f":"IF(Data!$E33=30,Data!CY33,IF(Data!AL33<>\"\",Data!AL33,\"\"))","v":""},{"$f":"IF(Data!$E33=30,Data!CZ33,\"\")","v":""},{"$f":"IF(Data!$E33=30,Data!DA33,\"\")","v":""},{"$f":"IF(Data!$E33=30,Data!DB33,IF(Data!AM33<>\"\",Data!AM33,\"\"))","v":""},{"$f":"IF(Data!$E33=30,Data!DC33,\"\")","v":""},{"$f":"IF(Data!$E33=30,Data!DD33,\"\")","v":""},{"$f":"IF(Data!$E33=30,Data!DE33,IF(Data!AN33<>\"\",Data!AN33,\"\"))","v":""},{"$f":"IF(Data!$E33=30,Data!DF33,\"\")","v":""},{"$f":"IF(Data!$E33=30,Data!DG33,\"\")","v":""},{"$f":"IF(Data!$E33=30,Data!DH33,IF(Data!AO33<>\"\",Data!AO33,\"\"))","v":""},{"$f":"IF(Data!$E33=30,Data!DI33,\"\")","v":""},{"$f":"IF(Data!$E33=30,Data!DJ33,\"\")","v":""},{"$f":"IF(Data!$E33=30,Data!DK33,IF(Data!AP33<>\"\",Data!AP33,\"\"))","v":""},{"$f":"IF(Data!$E33=30,Data!DL33,\"\")","v":""},{"$f":"IF(Data!$E33=30,Data!DM33,\"\")","v":""},{"$f":"IF(Data!$E33=30,Data!DN33,IF(Data!AQ33<>\"\",Data!AQ33,\"\"))","v":""},{"$f":"IF(Data!$E33=30,Data!DO33,\"\")","v":""},{"$f":"IF(Data!$E33=30,Data!DP33,\"\")","v":""},{"$f":"IF(Data!$E33=30,Data!DQ33,IF(Data!AR33<>\"\",Data!AR33,\"\"))","v":""},{"$f":"IF(Data!$E33=30,Data!DR33,\"\")","v":""},{"$f":"IF(Data!$E33=30,Data!DS33,\"\")","v":""},{"$f":"IF(Data!$E33=30,Data!DT33,IF(Data!AS33<>\"\",Data!AS33,\"\"))","v":""},{"$f":"IF(Data!$E33=30,Data!DU33,\"\")","v":""}]
[null,{"$f":"IF(Data!A34<>\"\",Data!A34,\"\")","v":""},{"$f":"IF(Data!$E34=30,Data!BN34,\"\")","v":""},{"$f":"IF(Data!$E34=30,Data!BO34,IF(Data!Z34<>\"\",Data!Z34,\"\"))","v":""},{"$f":"IF(Data!$E34=30,Data!BP34,\"\")","v":""},{"$f":"IF(Data!$E34=30,Data!BQ34,\"\")","v":""},{"$f":"IF(Data!$E34=30,Data!BR34,IF(Data!AA34<>\"\",Data!AA34,\"\"))","v":""},{"$f":"IF(Data!$E34=30,Data!BS34,\"\")","v":""},{"$f":"IF(Data!$E34=30,Data!BT34,\"\")","v":""},{"$f":"IF(Data!$E34=30,Data!BU34,IF(Data!AB34<>\"\",Data!AB34,\"\"))","v":""},{"$f":"IF(Data!$E34=30,Data!BV34,\"\")","v":""},{"$f":"IF(Data!$E34=30,Data!BW34,\"\")","v":""},{"$f":"IF(Data!$E34=30,Data!BX34,IF(Data!AC34<>\"\",Data!AC34,\"\"))","v":""},{"$f":"IF(Data!$E34=30,Data!BY34,\"\")","v":""},{"$f":"IF(Data!$E34=30,Data!BZ34,\"\")","v":""},{"$f":"IF(Data!$E34=30,Data!CA34,IF(Data!AD34<>\"\",Data!AD34,\"\"))","v":""},{"$f":"IF(Data!$E34=30,Data!CB34,\"\")","v":""},{"$f":"IF(Data!$E34=30,Data!CC34,\"\")","v":""},{"$f":"IF(Data!$E34=30,Data!CD34,IF(Data!AE34<>\"\",Data!AE34,\"\"))","v":""},{"$f":"IF(Data!$E34=30,Data!CE34,\"\")","v":""},{"$f":"IF(Data!$E34=30,Data!CF34,\"\")","v":""},{"$f":"IF(Data!$E34=30,Data!CG34,IF(Data!AF34<>\"\",Data!AF34,\"\"))","v":""},{"$f":"IF(Data!$E34=30,Data!CH34,\"\")","v":""},{"$f":"IF(Data!$E34=30,Data!CI34,\"\")","v":""},{"$f":"IF(Data!$E34=30,Data!CJ34,IF(Data!AG34<>\"\",Data!AG34,\"\"))","v":""},{"$f":"IF(Data!$E34=30,Data!CK34,\"\")","v":""},{"$f":"IF(Data!$E34=30,Data!CL34,\"\")","v":""},{"$f":"IF(Data!$E34=30,Data!CM34,IF(Data!AH34<>\"\",Data!AH34,\"\"))","v":""},{"$f":"IF(Data!$E34=30,Data!CN34,\"\")","v":""},{"$f":"IF(Data!$E34=30,Data!CO34,\"\")","v":""},{"$f":"IF(Data!$E34=30,Data!CP34,IF(Data!AI34<>\"\",Data!AI34,\"\"))","v":""},{"$f":"IF(Data!$E34=30,Data!CQ34,\"\")","v":""},null,null,null,{"$f":"IF(Data!$E34=30,Data!CR34,\"\")","v":""},{"$f":"IF(Data!$E34=30,Data!CS34,IF(Data!AJ34<>\"\",Data!AJ34,\"\"))","v":""},{"$f":"IF(Data!$E34=30,Data!CT34,\"\")","v":""},{"$f":"IF(Data!$E34=30,Data!CU34,\"\")","v":""},{"$f":"IF(Data!$E34=30,Data!CV34,IF(Data!AK34<>\"\",Data!AK34,\"\"))","v":""},{"$f":"IF(Data!$E34=30,Data!CW34,\"\")","v":""},{"$f":"IF(Data!$E34=30,Data!CX34,\"\")","v":""},{"$f":"IF(Data!$E34=30,Data!CY34,IF(Data!AL34<>\"\",Data!AL34,\"\"))","v":""},{"$f":"IF(Data!$E34=30,Data!CZ34,\"\")","v":""},{"$f":"IF(Data!$E34=30,Data!DA34,\"\")","v":""},{"$f":"IF(Data!$E34=30,Data!DB34,IF(Data!AM34<>\"\",Data!AM34,\"\"))","v":""},{"$f":"IF(Data!$E34=30,Data!DC34,\"\")","v":""},{"$f":"IF(Data!$E34=30,Data!DD34,\"\")","v":""},{"$f":"IF(Data!$E34=30,Data!DE34,IF(Data!AN34<>\"\",Data!AN34,\"\"))","v":""},{"$f":"IF(Data!$E34=30,Data!DF34,\"\")","v":""},{"$f":"IF(Data!$E34=30,Data!DG34,\"\")","v":""},{"$f":"IF(Data!$E34=30,Data!DH34,IF(Data!AO34<>\"\",Data!AO34,\"\"))","v":""},{"$f":"IF(Data!$E34=30,Data!DI34,\"\")","v":""},{"$f":"IF(Data!$E34=30,Data!DJ34,\"\")","v":""},{"$f":"IF(Data!$E34=30,Data!DK34,IF(Data!AP34<>\"\",Data!AP34,\"\"))","v":""},{"$f":"IF(Data!$E34=30,Data!DL34,\"\")","v":""},{"$f":"IF(Data!$E34=30,Data!DM34,\"\")","v":""},{"$f":"IF(Data!$E34=30,Data!DN34,IF(Data!AQ34<>\"\",Data!AQ34,\"\"))","v":""},{"$f":"IF(Data!$E34=30,Data!DO34,\"\")","v":""},{"$f":"IF(Data!$E34=30,Data!DP34,\"\")","v":""},{"$f":"IF(Data!$E34=30,Data!DQ34,IF(Data!AR34<>\"\",Data!AR34,\"\"))","v":""},{"$f":"IF(Data!$E34=30,Data!DR34,\"\")","v":""},{"$f":"IF(Data!$E34=30,Data!DS34,\"\")","v":""},{"$f":"IF(Data!$E34=30,Data!DT34,IF(Data!AS34<>\"\",Data!AS34,\"\"))","v":""},{"$f":"IF(Data!$E34=30,Data!DU34,\"\")","v":""}]
[null,{"$f":"IF(Data!A35<>\"\",Data!A35,\"\")","v":""},{"$f":"IF(Data!$E35=30,Data!BN35,\"\")","v":""},{"$f":"IF(Data!$E35=30,Data!BO35,IF(Data!Z35<>\"\",Data!Z35,\"\"))","v":""},{"$f":"IF(Data!$E35=30,Data!BP35,\"\")","v":""},{"$f":"IF(Data!$E35=30,Data!BQ35,\"\")","v":""},{"$f":"IF(Data!$E35=30,Data!BR35,IF(Data!AA35<>\"\",Data!AA35,\"\"))","v":""},{"$f":"IF(Data!$E35=30,Data!BS35,\"\")","v":""},{"$f":"IF(Data!$E35=30,Data!BT35,\"\")","v":""},{"$f":"IF(Data!$E35=30,Data!BU35,IF(Data!AB35<>\"\",Data!AB35,\"\"))","v":""},{"$f":"IF(Data!$E35=30,Data!BV35,\"\")","v":""},{"$f":"IF(Data!$E35=30,Data!BW35,\"\")","v":""},{"$f":"IF(Data!$E35=30,Data!BX35,IF(Data!AC35<>\"\",Data!AC35,\"\"))","v":""},{"$f":"IF(Data!$E35=30,Data!BY35,\"\")","v":""},{"$f":"IF(Data!$E35=30,Data!BZ35,\"\")","v":""},{"$f":"IF(Data!$E35=30,Data!CA35,IF(Data!AD35<>\"\",Data!AD35,\"\"))","v":""},{"$f":"IF(Data!$E35=30,Data!CB35,\"\")","v":""},{"$f":"IF(Data!$E35=30,Data!CC35,\"\")","v":""},{"$f":"IF(Data!$E35=30,Data!CD35,IF(Data!AE35<>\"\",Data!AE35,\"\"))","v":""},{"$f":"IF(Data!$E35=30,Data!CE35,\"\")","v":""},{"$f":"IF(Data!$E35=30,Data!CF35,\"\")","v":""},{"$f":"IF(Data!$E35=30,Data!CG35,IF(Data!AF35<>\"\",Data!AF35,\"\"))","v":""},{"$f":"IF(Data!$E35=30,Data!CH35,\"\")","v":""},{"$f":"IF(Data!$E35=30,Data!CI35,\"\")","v":""},{"$f":"IF(Data!$E35=30,Data!CJ35,IF(Data!AG35<>\"\",Data!AG35,\"\"))","v":""},{"$f":"IF(Data!$E35=30,Data!CK35,\"\")","v":""},{"$f":"IF(Data!$E35=30,Data!CL35,\"\")","v":""},{"$f":"IF(Data!$E35=30,Data!CM35,IF(Data!AH35<>\"\",Data!AH35,\"\"))","v":""},{"$f":"IF(Data!$E35=30,Data!CN35,\"\")","v":""},{"$f":"IF(Data!$E35=30,Data!CO35,\"\")","v":""},{"$f":"IF(Data!$E35=30,Data!CP35,IF(Data!AI35<>\"\",Data!AI35,\"\"))","v":""},{"$f":"IF(Data!$E35=30,Data!CQ35,\"\")","v":""},null,null,null,{"$f":"IF(Data!$E35=30,Data!CR35,\"\")","v":""},{"$f":"IF(Data!$E35=30,Data!CS35,IF(Data!AJ35<>\"\",Data!AJ35,\"\"))","v":""},{"$f":"IF(Data!$E35=30,Data!CT35,\"\")","v":""},{"$f":"IF(Data!$E35=30,Data!CU35,\"\")","v":""},{"$f":"IF(Data!$E35=30,Data!CV35,IF(Data!AK35<>\"\",Data!AK35,\"\"))","v":""},{"$f":"IF(Data!$E35=30,Data!CW35,\"\")","v":""},{"$f":"IF(Data!$E35=30,Data!CX35,\"\")","v":""},{"$f":"IF(Data!$E35=30,Data!CY35,IF(Data!AL35<>\"\",Data!AL35,\"\"))","v":""},{"$f":"IF(Data!$E35=30,Data!CZ35,\"\")","v":""},{"$f":"IF(Data!$E35=30,Data!DA35,\"\")","v":""},{"$f":"IF(Data!$E35=30,Data!DB35,IF(Data!AM35<>\"\",Data!AM35,\"\"))","v":""},{"$f":"IF(Data!$E35=30,Data!DC35,\"\")","v":""},{"$f":"IF(Data!$E35=30,Data!DD35,\"\")","v":""},{"$f":"IF(Data!$E35=30,Data!DE35,IF(Data!AN35<>\"\",Data!AN35,\"\"))","v":""},{"$f":"IF(Data!$E35=30,Data!DF35,\"\")","v":""},{"$f":"IF(Data!$E35=30,Data!DG35,\"\")","v":""},{"$f":"IF(Data!$E35=30,Data!DH35,IF(Data!AO35<>\"\",Data!AO35,\"\"))","v":""},{"$f":"IF(Data!$E35=30,Data!DI35,\"\")","v":""},{"$f":"IF(Data!$E35=30,Data!DJ35,\"\")","v":""},{"$f":"IF(Data!$E35=30,Data!DK35,IF(Data!AP35<>\"\",Data!AP35,\"\"))","v":""},{"$f":"IF(Data!$E35=30,Data!DL35,\"\")","v":""},{"$f":"IF(Data!$E35=30,Data!DM35,\"\")","v":""},{"$f":"IF(Data!$E35=30,Data!DN35,IF(Data!AQ35<>\"\",Data!AQ35,\"\"))","v":""},{"$f":"IF(Data!$E35=30,Data!DO35,\"\")","v":""},{"$f":"IF(Data!$E35=30,Data!DP35,\"\")","v":""},{"$f":"IF(Data!$E35=30,Data!DQ35,IF(Data!AR35<>\"\",Data!AR35,\"\"))","v":""},{"$f":"IF(Data!$E35=30,Data!DR35,\"\")","v":""},{"$f":"IF(Data!$E35=30,Data!DS35,\"\")","v":""},{"$f":"IF(Data!$E35=30,Data!DT35,IF(Data!AS35<>\"\",Data!AS35,\"\"))","v":""},{"$f":"IF(Data!$E35=30,Data!DU35,\"\")","v":""}]
[null,{"$f":"IF(Data!A36<>\"\",Data!A36,\"\")","v":""},{"$f":"IF(Data!$E36=30,Data!BN36,\"\")","v":""},{"$f":"IF(Data!$E36=30,Data!BO36,IF(Data!Z36<>\"\",Data!Z36,\"\"))","v":""},{"$f":"IF(Data!$E36=30,Data!BP36,\"\")","v":""},{"$f":"IF(Data!$E36=30,Data!BQ36,\"\")","v":""},{"$f":"IF(Data!$E36=30,Data!BR36,IF(Data!AA36<>\"\",Data!AA36,\"\"))","v":""},{"$f":"IF(Data!$E36=30,Data!BS36,\"\")","v":""},{"$f":"IF(Data!$E36=30,Data!BT36,\"\")","v":""},{"$f":"IF(Data!$E36=30,Data!BU36,IF(Data!AB36<>\"\",Data!AB36,\"\"))","v":""},{"$f":"IF(Data!$E36=30,Data!BV36,\"\")","v":""},{"$f":"IF(Data!$E36=30,Data!BW36,\"\")","v":""},{"$f":"IF(Data!$E36=30,Data!BX36,IF(Data!AC36<>\"\",Data!AC36,\"\"))","v":""},{"$f":"IF(Data!$E36=30,Data!BY36,\"\")","v":""},{"$f":"IF(Data!$E36=30,Data!BZ36,\"\")","v":""},{"$f":"IF(Data!$E36=30,Data!CA36,IF(Data!AD36<>\"\",Data!AD36,\"\"))","v":""},{"$f":"IF(Data!$E36=30,Data!CB36,\"\")","v":""},{"$f":"IF(Data!$E36=30,Data!CC36,\"\")","v":""},{"$f":"IF(Data!$E36=30,Data!CD36,IF(Data!AE36<>\"\",Data!AE36,\"\"))","v":""},{"$f":"IF(Data!$E36=30,Data!CE36,\"\")","v":""},{"$f":"IF(Data!$E36=30,Data!CF36,\"\")","v":""},{"$f":"IF(Data!$E36=30,Data!CG36,IF(Data!AF36<>\"\",Data!AF36,\"\"))","v":""},{"$f":"IF(Data!$E36=30,Data!CH36,\"\")","v":""},{"$f":"IF(Data!$E36=30,Data!CI36,\"\")","v":""},{"$f":"IF(Data!$E36=30,Data!CJ36,IF(Data!AG36<>\"\",Data!AG36,\"\"))","v":""},{"$f":"IF(Data!$E36=30,Data!CK36,\"\")","v":""},{"$f":"IF(Data!$E36=30,Data!CL36,\"\")","v":""},{"$f":"IF(Data!$E36=30,Data!CM36,IF(Data!AH36<>\"\",Data!AH36,\"\"))","v":""},{"$f":"IF(Data!$E36=30,Data!CN36,\"\")","v":""},{"$f":"IF(Data!$E36=30,Data!CO36,\"\")","v":""},{"$f":"IF(Data!$E36=30,Data!CP36,IF(Data!AI36<>\"\",Data!AI36,\"\"))","v":""},{"$f":"IF(Data!$E36=30,Data!CQ36,\"\")","v":""},null,null,null,{"$f":"IF(Data!$E36=30,Data!CR36,\"\")","v":""},{"$f":"IF(Data!$E36=30,Data!CS36,IF(Data!AJ36<>\"\",Data!AJ36,\"\"))","v":""},{"$f":"IF(Data!$E36=30,Data!CT36,\"\")","v":""},{"$f":"IF(Data!$E36=30,Data!CU36,\"\")","v":""},{"$f":"IF(Data!$E36=30,Data!CV36,IF(Data!AK36<>\"\",Data!AK36,\"\"))","v":""},{"$f":"IF(Data!$E36=30,Data!CW36,\"\")","v":""},{"$f":"IF(Data!$E36=30,Data!CX36,\"\")","v":""},{"$f":"IF(Data!$E36=30,Data!CY36,IF(Data!AL36<>\"\",Data!AL36,\"\"))","v":""},{"$f":"IF(Data!$E36=30,Data!CZ36,\"\")","v":""},{"$f":"IF(Data!$E36=30,Data!DA36,\"\")","v":""},{"$f":"IF(Data!$E36=30,Data!DB36,IF(Data!AM36<>\"\",Data!AM36,\"\"))","v":""},{"$f":"IF(Data!$E36=30,Data!DC36,\"\")","v":""},{"$f":"IF(Data!$E36=30,Data!DD36,\"\")","v":""},{"$f":"IF(Data!$E36=30,Data!DE36,IF(Data!AN36<>\"\",Data!AN36,\"\"))","v":""},{"$f":"IF(Data!$E36=30,Data!DF36,\"\")","v":""},{"$f":"IF(Data!$E36=30,Data!DG36,\"\")","v":""},{"$f":"IF(Data!$E36=30,Data!DH36,IF(Data!AO36<>\"\",Data!AO36,\"\"))","v":""},{"$f":"IF(Data!$E36=30,Data!DI36,\"\")","v":""},{"$f":"IF(Data!$E36=30,Data!DJ36,\"\")","v":""},{"$f":"IF(Data!$E36=30,Data!DK36,IF(Data!AP36<>\"\",Data!AP36,\"\"))","v":""},{"$f":"IF(Data!$E36=30,Data!DL36,\"\")","v":""},{"$f":"IF(Data!$E36=30,Data!DM36,\"\")","v":""},{"$f":"IF(Data!$E36=30,Data!DN36,IF(Data!AQ36<>\"\",Data!AQ36,\"\"))","v":""},{"$f":"IF(Data!$E36=30,Data!DO36,\"\")","v":""},{"$f":"IF(Data!$E36=30,Data!DP36,\"\")","v":""},{"$f":"IF(Data!$E36=30,Data!DQ36,IF(Data!AR36<>\"\",Data!AR36,\"\"))","v":""},{"$f":"IF(Data!$E36=30,Data!DR36,\"\")","v":""},{"$f":"IF(Data!$E36=30,Data!DS36,\"\")","v":""},{"$f":"IF(Data!$E36=30,Data!DT36,IF(Data!AS36<>\"\",Data!AS36,\"\"))","v":""},{"$f":"IF(Data!$E36=30,Data!DU36,\"\")","v":""}]
[null,{"$f":"IF(Data!A37<>\"\",Data!A37,\"\")","v":""},{"$f":"IF(Data!$E37=30,Data!BN37,\"\")","v":""},{"$f":"IF(Data!$E37=30,Data!BO37,IF(Data!Z37<>\"\",Data!Z37,\"\"))","v":""},{"$f":"IF(Data!$E37=30,Data!BP37,\"\")","v":""},{"$f":"IF(Data!$E37=30,Data!BQ37,\"\")","v":""},{"$f":"IF(Data!$E37=30,Data!BR37,IF(Data!AA37<>\"\",Data!AA37,\"\"))","v":""},{"$f":"IF(Data!$E37=30,Data!BS37,\"\")","v":""},{"$f":"IF(Data!$E37=30,Data!BT37,\"\")","v":""},{"$f":"IF(Data!$E37=30,Data!BU37,IF(Data!AB37<>\"\",Data!AB37,\"\"))","v":""},{"$f":"IF(Data!$E37=30,Data!BV37,\"\")","v":""},{"$f":"IF(Data!$E37=30,Data!BW37,\"\")","v":""},{"$f":"IF(Data!$E37=30,Data!BX37,IF(Data!AC37<>\"\",Data!AC37,\"\"))","v":""},{"$f":"IF(Data!$E37=30,Data!BY37,\"\")","v":""},{"$f":"IF(Data!$E37=30,Data!BZ37,\"\")","v":""},{"$f":"IF(Data!$E37=30,Data!CA37,IF(Data!AD37<>\"\",Data!AD37,\"\"))","v":""},{"$f":"IF(Data!$E37=30,Data!CB37,\"\")","v":""},{"$f":"IF(Data!$E37=30,Data!CC37,\"\")","v":""},{"$f":"IF(Data!$E37=30,Data!CD37,IF(Data!AE37<>\"\",Data!AE37,\"\"))","v":""},{"$f":"IF(Data!$E37=30,Data!CE37,\"\")","v":""},{"$f":"IF(Data!$E37=30,Data!CF37,\"\")","v":""},{"$f":"IF(Data!$E37=30,Data!CG37,IF(Data!AF37<>\"\",Data!AF37,\"\"))","v":""},{"$f":"IF(Data!$E37=30,Data!CH37,\"\")","v":""},{"$f":"IF(Data!$E37=30,Data!CI37,\"\")","v":""},{"$f":"IF(Data!$E37=30,Data!CJ37,IF(Data!AG37<>\"\",Data!AG37,\"\"))","v":""},{"$f":"IF(Data!$E37=30,Data!CK37,\"\")","v":""},{"$f":"IF(Data!$E37=30,Data!CL37,\"\")","v":""},{"$f":"IF(Data!$E37=30,Data!CM37,IF(Data!AH37<>\"\",Data!AH37,\"\"))","v":""},{"$f":"IF(Data!$E37=30,Data!CN37,\"\")","v":""},{"$f":"IF(Data!$E37=30,Data!CO37,\"\")","v":""},{"$f":"IF(Data!$E37=30,Data!CP37,IF(Data!AI37<>\"\",Data!AI37,\"\"))","v":""},{"$f":"IF(Data!$E37=30,Data!CQ37,\"\")","v":""},null,null,null,{"$f":"IF(Data!$E37=30,Data!CR37,\"\")","v":""},{"$f":"IF(Data!$E37=30,Data!CS37,IF(Data!AJ37<>\"\",Data!AJ37,\"\"))","v":""},{"$f":"IF(Data!$E37=30,Data!CT37,\"\")","v":""},{"$f":"IF(Data!$E37=30,Data!CU37,\"\")","v":""},{"$f":"IF(Data!$E37=30,Data!CV37,IF(Data!AK37<>\"\",Data!AK37,\"\"))","v":""},{"$f":"IF(Data!$E37=30,Data!CW37,\"\")","v":""},{"$f":"IF(Data!$E37=30,Data!CX37,\"\")","v":""},{"$f":"IF(Data!$E37=30,Data!CY37,IF(Data!AL37<>\"\",Data!AL37,\"\"))","v":""},{"$f":"IF(Data!$E37=30,Data!CZ37,\"\")","v":""},{"$f":"IF(Data!$E37=30,Data!DA37,\"\")","v":""},{"$f":"IF(Data!$E37=30,Data!DB37,IF(Data!AM37<>\"\",Data!AM37,\"\"))","v":""},{"$f":"IF(Data!$E37=30,Data!DC37,\"\")","v":""},{"$f":"IF(Data!$E37=30,Data!DD37,\"\")","v":""},{"$f":"IF(Data!$E37=30,Data!DE37,IF(Data!AN37<>\"\",Data!AN37,\"\"))","v":""},{"$f":"IF(Data!$E37=30,Data!DF37,\"\")","v":""},{"$f":"IF(Data!$E37=30,Data!DG37,\"\")","v":""},{"$f":"IF(Data!$E37=30,Data!DH37,IF(Data!AO37<>\"\",Data!AO37,\"\"))","v":""},{"$f":"IF(Data!$E37=30,Data!DI37,\"\")","v":""},{"$f":"IF(Data!$E37=30,Data!DJ37,\"\")","v":""},{"$f":"IF(Data!$E37=30,Data!DK37,IF(Data!AP37<>\"\",Data!AP37,\"\"))","v":""},{"$f":"IF(Data!$E37=30,Data!DL37,\"\")","v":""},{"$f":"IF(Data!$E37=30,Data!DM37,\"\")","v":""},{"$f":"IF(Data!$E37=30,Data!DN37,IF(Data!AQ37<>\"\",Data!AQ37,\"\"))","v":""},{"$f":"IF(Data!$E37=30,Data!DO37,\"\")","v":""},{"$f":"IF(Data!$E37=30,Data!DP37,\"\")","v":""},{"$f":"IF(Data!$E37=30,Data!DQ37,IF(Data!AR37<>\"\",Data!AR37,\"\"))","v":""},{"$f":"IF(Data!$E37=30,Data!DR37,\"\")","v":""},{"$f":"IF(Data!$E37=30,Data!DS37,\"\")","v":""},{"$f":"IF(Data!$E37=30,Data!DT37,IF(Data!AS37<>\"\",Data!AS37,\"\"))","v":""},{"$f":"IF(Data!$E37=30,Data!DU37,\"\")","v":""}]
[null,{"$f":"IF(Data!A38<>\"\",Data!A38,\"\")","v":""},{"$f":"IF(Data!$E38=30,Data!BN38,\"\")","v":""},{"$f":"IF(Data!$E38=30,Data!BO38,IF(Data!Z38<>\"\",Data!Z38,\"\"))","v":""},{"$f":"IF(Data!$E38=30,Data!BP38,\"\")","v":""},{"$f":"IF(Data!$E38=30,Data!BQ38,\"\")","v":""},{"$f":"IF(Data!$E38=30,Data!BR38,IF(Data!AA38<>\"\",Data!AA38,\"\"))","v":""},{"$f":"IF(Data!$E38=30,Data!BS38,\"\")","v":""},{"$f":"IF(Data!$E38=30,Data!BT38,\"\")","v":""},{"$f":"IF(Data!$E38=30,Data!BU38,IF(Data!AB38<>\"\",Data!AB38,\"\"))","v":""},{"$f":"IF(Data!$E38=30,Data!BV38,\"\")","v":""},{"$f":"IF(Data!$E38=30,Data!BW38,\"\")","v":""},{"$f":"IF(Data!$E38=30,Data!BX38,IF(Data!AC38<>\"\",Data!AC38,\"\"))","v":""},{"$f":"IF(Data!$E38=30,Data!BY38,\"\")","v":""},{"$f":"IF(Data!$E38=30,Data!BZ38,\"\")","v":""},{"$f":"IF(Data!$E38=30,Data!CA38,IF(Data!AD38<>\"\",Data!AD38,\"\"))","v":""},{"$f":"IF(Data!$E38=30,Data!CB38,\"\")","v":""},{"$f":"IF(Data!$E38=30,Data!CC38,\"\")","v":""},{"$f":"IF(Data!$E38=30,Data!CD38,IF(Data!AE38<>\"\",Data!AE38,\"\"))","v":""},{"$f":"IF(Data!$E38=30,Data!CE38,\"\")","v":""},{"$f":"IF(Data!$E38=30,Data!CF38,\"\")","v":""},{"$f":"IF(Data!$E38=30,Data!CG38,IF(Data!AF38<>\"\",Data!AF38,\"\"))","v":""},{"$f":"IF(Data!$E38=30,Data!CH38,\"\")","v":""},{"$f":"IF(Data!$E38=30,Data!CI38,\"\")","v":""},{"$f":"IF(Data!$E38=30,Data!CJ38,IF(Data!AG38<>\"\",Data!AG38,\"\"))","v":""},{"$f":"IF(Data!$E38=30,Data!CK38,\"\")","v":""},{"$f":"IF(Data!$E38=30,Data!CL38,\"\")","v":""},{"$f":"IF(Data!$E38=30,Data!CM38,IF(Data!AH38<>\"\",Data!AH38,\"\"))","v":""},{"$f":"IF(Data!$E38=30,Data!CN38,\"\")","v":""},{"$f":"IF(Data!$E38=30,Data!CO38,\"\")","v":""},{"$f":"IF(Data!$E38=30,Data!CP38,IF(Data!AI38<>\"\",Data!AI38,\"\"))","v":""},{"$f":"IF(Data!$E38=30,Data!CQ38,\"\")","v":""},null,null,null,{"$f":"IF(Data!$E38=30,Data!CR38,\"\")","v":""},{"$f":"IF(Data!$E38=30,Data!CS38,IF(Data!AJ38<>\"\",Data!AJ38,\"\"))","v":""},{"$f":"IF(Data!$E38=30,Data!CT38,\"\")","v":""},{"$f":"IF(Data!$E38=30,Data!CU38,\"\")","v":""},{"$f":"IF(Data!$E38=30,Data!CV38,IF(Data!AK38<>\"\",Data!AK38,\"\"))","v":""},{"$f":"IF(Data!$E38=30,Data!CW38,\"\")","v":""},{"$f":"IF(Data!$E38=30,Data!CX38,\"\")","v":""},{"$f":"IF(Data!$E38=30,Data!CY38,IF(Data!AL38<>\"\",Data!AL38,\"\"))","v":""},{"$f":"IF(Data!$E38=30,Data!CZ38,\"\")","v":""},{"$f":"IF(Data!$E38=30,Data!DA38,\"\")","v":""},{"$f":"IF(Data!$E38=30,Data!DB38,IF(Data!AM38<>\"\",Data!AM38,\"\"))","v":""},{"$f":"IF(Data!$E38=30,Data!DC38,\"\")","v":""},{"$f":"IF(Data!$E38=30,Data!DD38,\"\")","v":""},{"$f":"IF(Data!$E38=30,Data!DE38,IF(Data!AN38<>\"\",Data!AN38,\"\"))","v":""},{"$f":"IF(Data!$E38=30,Data!DF38,\"\")","v":""},{"$f":"IF(Data!$E38=30,Data!DG38,\"\")","v":""},{"$f":"IF(Data!$E38=30,Data!DH38,IF(Data!AO38<>\"\",Data!AO38,\"\"))","v":""},{"$f":"IF(Data!$E38=30,Data!DI38,\"\")","v":""},{"$f":"IF(Data!$E38=30,Data!DJ38,\"\")","v":""},{"$f":"IF(Data!$E38=30,Data!DK38,IF(Data!AP38<>\"\",Data!AP38,\"\"))","v":""},{"$f":"IF(Data!$E38=30,Data!DL38,\"\")","v":""},{"$f":"IF(Data!$E38=30,Data!DM38,\"\")","v":""},{"$f":"IF(Data!$E38=30,Data!DN38,IF(Data!AQ38<>\"\",Data!AQ38,\"\"))","v":""},{"$f":"IF(Data!$E38=30,Data!DO38,\"\")","v":""},{"$f":"IF(Data!$E38=30,Data!DP38,\"\")","v":""},{"$f":"IF(Data!$E38=30,Data!DQ38,IF(Data!AR38<>\"\",Data!AR38,\"\"))","v":""},{"$f":"IF(Data!$E38=30,Data!DR38,\"\")","v":""},{"$f":"IF(Data!$E38=30,Data!DS38,\"\")","v":""},{"$f":"IF(Data!$E38=30,Data!DT38,IF(Data!AS38<>\"\",Data!AS38,\"\"))","v":""},{"$f":"IF(Data!$E38=30,Data!DU38,\"\")","v":""}]
[null,{"$f":"IF(Data!A39<>\"\",Data!A39,\"\")","v":""},{"$f":"IF(Data!$E39=30,Data!BN39,\"\")","v":""},{"$f":"IF(Data!$E39=30,Data!BO39,IF(Data!Z39<>\"\",Data!Z39,\"\"))","v":""},{"$f":"IF(Data!$E39=30,Data!BP39,\"\")","v":""},{"$f":"IF(Data!$E39=30,Data!BQ39,\"\")","v":""},{"$f":"IF(Data!$E39=30,Data!BR39,IF(Data!AA39<>\"\",Data!AA39,\"\"))","v":""},{"$f":"IF(Data!$E39=30,Data!BS39,\"\")","v":""},{"$f":"IF(Data!$E39=30,Data!BT39,\"\")","v":""},{"$f":"IF(Data!$E39=30,Data!BU39,IF(Data!AB39<>\"\",Data!AB39,\"\"))","v":""},{"$f":"IF(Data!$E39=30,Data!BV39,\"\")","v":""},{"$f":"IF(Data!$E39=30,Data!BW39,\"\")","v":""},{"$f":"IF(Data!$E39=30,Data!BX39,IF(Data!AC39<>\"\",Data!AC39,\"\"))","v":""},{"$f":"IF(Data!$E39=30,Data!BY39,\"\")","v":""},{"$f":"IF(Data!$E39=30,Data!BZ39,\"\")","v":""},{"$f":"IF(Data!$E39=30,Data!CA39,IF(Data!AD39<>\"\",Data!AD39,\"\"))","v":""},{"$f":"IF(Data!$E39=30,Data!CB39,\"\")","v":""},{"$f":"IF(Data!$E39=30,Data!CC39,\"\")","v":""},{"$f":"IF(Data!$E39=30,Data!CD39,IF(Data!AE39<>\"\",Data!AE39,\"\"))","v":""},{"$f":"IF(Data!$E39=30,Data!CE39,\"\")","v":""},{"$f":"IF(Data!$E39=30,Data!CF39,\"\")","v":""},{"$f":"IF(Data!$E39=30,Data!CG39,IF(Data!AF39<>\"\",Data!AF39,\"\"))","v":""},{"$f":"IF(Data!$E39=30,Data!CH39,\"\")","v":""},{"$f":"IF(Data!$E39=30,Data!CI39,\"\")","v":""},{"$f":"IF(Data!$E39=30,Data!CJ39,IF(Data!AG39<>\"\",Data!AG39,\"\"))","v":""},{"$f":"IF(Data!$E39=30,Data!CK39,\"\")","v":""},{"$f":"IF(Data!$E39=30,Data!CL39,\"\")","v":""},{"$f":"IF(Data!$E39=30,Data!CM39,IF(Data!AH39<>\"\",Data!AH39,\"\"))","v":""},{"$f":"IF(Data!$E39=30,Data!CN39,\"\")","v":""},{"$f":"IF(Data!$E39=30,Data!CO39,\"\")","v":""},{"$f":"IF(Data!$E39=30,Data!CP39,IF(Data!AI39<>\"\",Data!AI39,\"\"))","v":""},{"$f":"IF(Data!$E39=30,Data!CQ39,\"\")","v":""},null,null,null,{"$f":"IF(Data!$E39=30,Data!CR39,\"\")","v":""},{"$f":"IF(Data!$E39=30,Data!CS39,IF(Data!AJ39<>\"\",Data!AJ39,\"\"))","v":""},{"$f":"IF(Data!$E39=30,Data!CT39,\"\")","v":""},{"$f":"IF(Data!$E39=30,Data!CU39,\"\")","v":""},{"$f":"IF(Data!$E39=30,Data!CV39,IF(Data!AK39<>\"\",Data!AK39,\"\"))","v":""},{"$f":"IF(Data!$E39=30,Data!CW39,\"\")","v":""},{"$f":"IF(Data!$E39=30,Data!CX39,\"\")","v":""},{"$f":"IF(Data!$E39=30,Data!CY39,IF(Data!AL39<>\"\",Data!AL39,\"\"))","v":""},{"$f":"IF(Data!$E39=30,Data!CZ39,\"\")","v":""},{"$f":"IF(Data!$E39=30,Data!DA39,\"\")","v":""},{"$f":"IF(Data!$E39=30,Data!DB39,IF(Data!AM39<>\"\",Data!AM39,\"\"))","v":""},{"$f":"IF(Data!$E39=30,Data!DC39,\"\")","v":""},{"$f":"IF(Data!$E39=30,Data!DD39,\"\")","v":""},{"$f":"IF(Data!$E39=30,Data!DE39,IF(Data!AN39<>\"\",Data!AN39,\"\"))","v":""},{"$f":"IF(Data!$E39=30,Data!DF39,\"\")","v":""},{"$f":"IF(Data!$E39=30,Data!DG39,\"\")","v":""},{"$f":"IF(Data!$E39=30,Data!DH39,IF(Data!AO39<>\"\",Data!AO39,\"\"))","v":""},{"$f":"IF(Data!$E39=30,Data!DI39,\"\")","v":""},{"$f":"IF(Data!$E39=30,Data!DJ39,\"\")","v":""},{"$f":"IF(Data!$E39=30,Data!DK39,IF(Data!AP39<>\"\",Data!AP39,\"\"))","v":""},{"$f":"IF(Data!$E39=30,Data!DL39,\"\")","v":""},{"$f":"IF(Data!$E39=30,Data!DM39,\"\")","v":""},{"$f":"IF(Data!$E39=30,Data!DN39,IF(Data!AQ39<>\"\",Data!AQ39,\"\"))","v":""},{"$f":"IF(Data!$E39=30,Data!DO39,\"\")","v":""},{"$f":"IF(Data!$E39=30,Data!DP39,\"\")","v":""},{"$f":"IF(Data!$E39=30,Data!DQ39,IF(Data!AR39<>\"\",Data!AR39,\"\"))","v":""},{"$f":"IF(Data!$E39=30,Data!DR39,\"\")","v":""},{"$f":"IF(Data!$E39=30,Data!DS39,\"\")","v":""},{"$f":"IF(Data!$E39=30,Data!DT39,IF(Data!AS39<>\"\",Data!AS39,\"\"))","v":""},{"$f":"IF(Data!$E39=30,Data!DU39,\"\")","v":""}]
[null,{"$f":"IF(Data!A40<>\"\",Data!A40,\"\")","v":""},{"$f":"IF(Data!$E40=30,Data!BN40,\"\")","v":""},{"$f":"IF(Data!$E40=30,Data!BO40,IF(Data!Z40<>\"\",Data!Z40,\"\"))","v":""},{"$f":"IF(Data!$E40=30,Data!BP40,\"\")","v":""},{"$f":"IF(Data!$E40=30,Data!BQ40,\"\")","v":""},{"$f":"IF(Data!$E40=30,Data!BR40,IF(Data!AA40<>\"\",Data!AA40,\"\"))","v":""},{"$f":"IF(Data!$E40=30,Data!BS40,\"\")","v":""},{"$f":"IF(Data!$E40=30,Data!BT40,\"\")","v":""},{"$f":"IF(Data!$E40=30,Data!BU40,IF(Data!AB40<>\"\",Data!AB40,\"\"))","v":""},{"$f":"IF(Data!$E40=30,Data!BV40,\"\")","v":""},{"$f":"IF(Data!$E40=30,Data!BW40,\"\")","v":""},{"$f":"IF(Data!$E40=30,Data!BX40,IF(Data!AC40<>\"\",Data!AC40,\"\"))","v":""},{"$f":"IF(Data!$E40=30,Data!BY40,\"\")","v":""},{"$f":"IF(Data!$E40=30,Data!BZ40,\"\")","v":""},{"$f":"IF(Data!$E40=30,Data!CA40,IF(Data!AD40<>\"\",Data!AD40,\"\"))","v":""},{"$f":"IF(Data!$E40=30,Data!CB40,\"\")","v":""},{"$f":"IF(Data!$E40=30,Data!CC40,\"\")","v":""},{"$f":"IF(Data!$E40=30,Data!CD40,IF(Data!AE40<>\"\",Data!AE40,\"\"))","v":""},{"$f":"IF(Data!$E40=30,Data!CE40,\"\")","v":""},{"$f":"IF(Data!$E40=30,Data!CF40,\"\")","v":""},{"$f":"IF(Data!$E40=30,Data!CG40,IF(Data!AF40<>\"\",Data!AF40,\"\"))","v":""},{"$f":"IF(Data!$E40=30,Data!CH40,\"\")","v":""},{"$f":"IF(Data!$E40=30,Data!CI40,\"\")","v":""},{"$f":"IF(Data!$E40=30,Data!CJ40,IF(Data!AG40<>\"\",Data!AG40,\"\"))","v":""},{"$f":"IF(Data!$E40=30,Data!CK40,\"\")","v":""},{"$f":"IF(Data!$E40=30,Data!CL40,\"\")","v":""},{"$f":"IF(Data!$E40=30,Data!CM40,IF(Data!AH40<>\"\",Data!AH40,\"\"))","v":""},{"$f":"IF(Data!$E40=30,Data!CN40,\"\")","v":""},{"$f":"IF(Data!$E40=30,Data!CO40,\"\")","v":""},{"$f":"IF(Data!$E40=30,Data!CP40,IF(Data!AI40<>\"\",Data!AI40,\"\"))","v":""},{"$f":"IF(Data!$E40=30,Data!CQ40,\"\")","v":""},null,null,null,{"$f":"IF(Data!$E40=30,Data!CR40,\"\")","v":""},{"$f":"IF(Data!$E40=30,Data!CS40,IF(Data!AJ40<>\"\",Data!AJ40,\"\"))","v":""},{"$f":"IF(Data!$E40=30,Data!CT40,\"\")","v":""},{"$f":"IF(Data!$E40=30,Data!CU40,\"\")","v":""},{"$f":"IF(Data!$E40=30,Data!CV40,IF(Data!AK40<>\"\",Data!AK40,\"\"))","v":""},{"$f":"IF(Data!$E40=30,Data!CW40,\"\")","v":""},{"$f":"IF(Data!$E40=30,Data!CX40,\"\")","v":""},{"$f":"IF(Data!$E40=30,Data!CY40,IF(Data!AL40<>\"\",Data!AL40,\"\"))","v":""},{"$f":"IF(Data!$E40=30,Data!CZ40,\"\")","v":""},{"$f":"IF(Data!$E40=30,Data!DA40,\"\")","v":""},{"$f":"IF(Data!$E40=30,Data!DB40,IF(Data!AM40<>\"\",Data!AM40,\"\"))","v":""},{"$f":"IF(Data!$E40=30,Data!DC40,\"\")","v":""},{"$f":"IF(Data!$E40=30,Data!DD40,\"\")","v":""},{"$f":"IF(Data!$E40=30,Data!DE40,IF(Data!AN40<>\"\",Data!AN40,\"\"))","v":""},{"$f":"IF(Data!$E40=30,Data!DF40,\"\")","v":""},{"$f":"IF(Data!$E40=30,Data!DG40,\"\")","v":""},{"$f":"IF(Data!$E40=30,Data!DH40,IF(Data!AO40<>\"\",Data!AO40,\"\"))","v":""},{"$f":"IF(Data!$E40=30,Data!DI40,\"\")","v":""},{"$f":"IF(Data!$E40=30,Data!DJ40,\"\")","v":""},{"$f":"IF(Data!$E40=30,Data!DK40,IF(Data!AP40<>\"\",Data!AP40,\"\"))","v":""},{"$f":"IF(Data!$E40=30,Data!DL40,\"\")","v":""},{"$f":"IF(Data!$E40=30,Data!DM40,\"\")","v":""},{"$f":"IF(Data!$E40=30,Data!DN40,IF(Data!AQ40<>\"\",Data!AQ40,\"\"))","v":""},{"$f":"IF(Data!$E40=30,Data!DO40,\"\")","v":""},{"$f":"IF(Data!$E40=30,Data!DP40,\"\")","v":""},{"$f":"IF(Data!$E40=30,Data!DQ40,IF(Data!AR40<>\"\",Data!AR40,\"\"))","v":""},{"$f":"IF(Data!$E40=30,Data!DR40,\"\")","v":""},{"$f":"IF(Data!$E40=30,Data!DS40,\"\")","v":""},{"$f":"IF(Data!$E40=30,Data!DT40,IF(Data!AS40<>\"\",Data!AS40,\"\"))","v":""},{"$f":"IF(Data!$E40=30,Data!DU40,\"\")","v":""}]
[null,{"$f":"IF(Data!A41<>\"\",Data!A41,\"\")","v":""},{"$f":"IF(Data!$E41=30,Data!BN41,\"\")","v":""},{"$f":"IF(Data!$E41=30,Data!BO41,IF(Data!Z41<>\"\",Data!Z41,\"\"))","v":""},{"$f":"IF(Data!$E41=30,Data!BP41,\"\")","v":""},{"$f":"IF(Data!$E41=30,Data!BQ41,\"\")","v":""},{"$f":"IF(Data!$E41=30,Data!BR41,IF(Data!AA41<>\"\",Data!AA41,\"\"))","v":""},{"$f":"IF(Data!$E41=30,Data!BS41,\"\")","v":""},{"$f":"IF(Data!$E41=30,Data!BT41,\"\")","v":""},{"$f":"IF(Data!$E41=30,Data!BU41,IF(Data!AB41<>\"\",Data!AB41,\"\"))","v":""},{"$f":"IF(Data!$E41=30,Data!BV41,\"\")","v":""},{"$f":"IF(Data!$E41=30,Data!BW41,\"\")","v":""},{"$f":"IF(Data!$E41=30,Data!BX41,IF(Data!AC41<>\"\",Data!AC41,\"\"))","v":""},{"$f":"IF(Data!$E41=30,Data!BY41,\"\")","v":""},{"$f":"IF(Data!$E41=30,Data!BZ41,\"\")","v":""},{"$f":"IF(Data!$E41=30,Data!CA41,IF(Data!AD41<>\"\",Data!AD41,\"\"))","v":""},{"$f":"IF(Data!$E41=30,Data!CB41,\"\")","v":""},{"$f":"IF(Data!$E41=30,Data!CC41,\"\")","v":""},{"$f":"IF(Data!$E41=30,Data!CD41,IF(Data!AE41<>\"\",Data!AE41,\"\"))","v":""},{"$f":"IF(Data!$E41=30,Data!CE41,\"\")","v":""},{"$f":"IF(Data!$E41=30,Data!CF41,\"\")","v":""},{"$f":"IF(Data!$E41=30,Data!CG41,IF(Data!AF41<>\"\",Data!AF41,\"\"))","v":""},{"$f":"IF(Data!$E41=30,Data!CH41,\"\")","v":""},{"$f":"IF(Data!$E41=30,Data!CI41,\"\")","v":""},{"$f":"IF(Data!$E41=30,Data!CJ41,IF(Data!AG41<>\"\",Data!AG41,\"\"))","v":""},{"$f":"IF(Data!$E41=30,Data!CK41,\"\")","v":""},{"$f":"IF(Data!$E41=30,Data!CL41,\"\")","v":""},{"$f":"IF(Data!$E41=30,Data!CM41,IF(Data!AH41<>\"\",Data!AH41,\"\"))","v":""},{"$f":"IF(Data!$E41=30,Data!CN41,\"\")","v":""},{"$f":"IF(Data!$E41=30,Data!CO41,\"\")","v":""},{"$f":"IF(Data!$E41=30,Data!CP41,IF(Data!AI41<>\"\",Data!AI41,\"\"))","v":""},{"$f":"IF(Data!$E41=30,Data!CQ41,\"\")","v":""},null,null,null,{"$f":"IF(Data!$E41=30,Data!CR41,\"\")","v":""},{"$f":"IF(Data!$E41=30,Data!CS41,IF(Data!AJ41<>\"\",Data!AJ41,\"\"))","v":""},{"$f":"IF(Data!$E41=30,Data!CT41,\"\")","v":""},{"$f":"IF(Data!$E41=30,Data!CU41,\"\")","v":""},{"$f":"IF(Data!$E41=30,Data!CV41,IF(Data!AK41<>\"\",Data!AK41,\"\"))","v":""},{"$f":"IF(Data!$E41=30,Data!CW41,\"\")","v":""},{"$f":"IF(Data!$E41=30,Data!CX41,\"\")","v":""},{"$f":"IF(Data!$E41=30,Data!CY41,IF(Data!AL41<>\"\",Data!AL41,\"\"))","v":""},{"$f":"IF(Data!$E41=30,Data!CZ41,\"\")","v":""},{"$f":"IF(Data!$E41=30,Data!DA41,\"\")","v":""},{"$f":"IF(Data!$E41=30,Data!DB41,IF(Data!AM41<>\"\",Data!AM41,\"\"))","v":""},{"$f":"IF(Data!$E41=30,Data!DC41,\"\")","v":""},{"$f":"IF(Data!$E41=30,Data!DD41,\"\")","v":""},{"$f":"IF(Data!$E41=30,Data!DE41,IF(Data!AN41<>\"\",Data!AN41,\"\"))","v":""},{"$f":"IF(Data!$E41=30,Data!DF41,\"\")","v":""},{"$f":"IF(Data!$E41=30,Data!DG41,\"\")","v":""},{"$f":"IF(Data!$E41=30,Data!DH41,IF(Data!AO41<>\"\",Data!AO41,\"\"))","v":""},{"$f":"IF(Data!$E41=30,Data!DI41,\"\")","v":""},{"$f":"IF(Data!$E41=30,Data!DJ41,\"\")","v":""},{"$f":"IF(Data!$E41=30,Data!DK41,IF(Data!AP41<>\"\",Data!AP41,\"\"))","v":""},{"$f":"IF(Data!$E41=30,Data!DL41,\"\")","v":""},{"$f":"IF(Data!$E41=30,Data!DM41,\"\")","v":""},{"$f":"IF(Data!$E41=30,Data!DN41,IF(Data!AQ41<>\"\",Data!AQ41,\"\"))","v":""},{"$f":"IF(Data!$E41=30,Data!DO41,\"\")","v":""},{"$f":"IF(Data!$E41=30,Data!DP41,\"\")","v":""},{"$f":"IF(Data!$E41=30,Data!DQ41,IF(Data!AR41<>\"\",Data!AR41,\"\"))","v":""},{"$f":"IF(Data!$E41=30,Data!DR41,\"\")","v":""},{"$f":"IF(Data!$E41=30,Data!DS41,\"\")","v":""},{"$f":"IF(Data!$E41=30,Data!DT41,IF(Data!AS41<>\"\",Data!AS41,\"\"))","v":""},{"$f":"IF(Data!$E41=30,Data!DU41,\"\")","v":""}]
[null,{"$f":"IF(Data!A42<>\"\",Data!A42,\"\")","v":""},{"$f":"IF(Data!$E42=30,Data!BN42,\"\")","v":""},{"$f":"IF(Data!$E42=30,Data!BO42,IF(Data!Z42<>\"\",Data!Z42,\"\"))","v":""},{"$f":"IF(Data!$E42=30,Data!BP42,\"\")","v":""},{"$f":"IF(Data!$E42=30,Data!BQ42,\"\")","v":""},{"$f":"IF(Data!$E42=30,Data!BR42,IF(Data!AA42<>\"\",Data!AA42,\"\"))","v":""},{"$f":"IF(Data!$E42=30,Data!BS42,\"\")","v":""},{"$f":"IF(Data!$E42=30,Data!BT42,\"\")","v":""},{"$f":"IF(Data!$E42=30,Data!BU42,IF(Data!AB42<>\"\",Data!AB42,\"\"))","v":""},{"$f":"IF(Data!$E42=30,Data!BV42,\"\")","v":""},{"$f":"IF(Data!$E42=30,Data!BW42,\"\")","v":""},{"$f":"IF(Data!$E42=30,Data!BX42,IF(Data!AC42<>\"\",Data!AC42,\"\"))","v":""},{"$f":"IF(Data!$E42=30,Data!BY42,\"\")","v":""},{"$f":"IF(Data!$E42=30,Data!BZ42,\"\")","v":""},{"$f":"IF(Data!$E42=30,Data!CA42,IF(Data!AD42<>\"\",Data!AD42,\"\"))","v":""},{"$f":"IF(Data!$E42=30,Data!CB42,\"\")","v":""},{"$f":"IF(Data!$E42=30,Data!CC42,\"\")","v":""},{"$f":"IF(Data!$E42=30,Data!CD42,IF(Data!AE42<>\"\",Data!AE42,\"\"))","v":""},{"$f":"IF(Data!$E42=30,Data!CE42,\"\")","v":""},{"$f":"IF(Data!$E42=30,Data!CF42,\"\")","v":""},{"$f":"IF(Data!$E42=30,Data!CG42,IF(Data!AF42<>\"\",Data!AF42,\"\"))","v":""},{"$f":"IF(Data!$E42=30,Data!CH42,\"\")","v":""},{"$f":"IF(Data!$E42=30,Data!CI42,\"\")","v":""},{"$f":"IF(Data!$E42=30,Data!CJ42,IF(Data!AG42<>\"\",Data!AG42,\"\"))","v":""},{"$f":"IF(Data!$E42=30,Data!CK42,\"\")","v":""},{"$f":"IF(Data!$E42=30,Data!CL42,\"\")","v":""},{"$f":"IF(Data!$E42=30,Data!CM42,IF(Data!AH42<>\"\",Data!AH42,\"\"))","v":""},{"$f":"IF(Data!$E42=30,Data!CN42,\"\")","v":""},{"$f":"IF(Data!$E42=30,Data!CO42,\"\")","v":""},{"$f":"IF(Data!$E42=30,Data!CP42,IF(Data!AI42<>\"\",Data!AI42,\"\"))","v":""},{"$f":"IF(Data!$E42=30,Data!CQ42,\"\")","v":""},null,null,null,{"$f":"IF(Data!$E42=30,Data!CR42,\"\")","v":""},{"$f":"IF(Data!$E42=30,Data!CS42,IF(Data!AJ42<>\"\",Data!AJ42,\"\"))","v":""},{"$f":"IF(Data!$E42=30,Data!CT42,\"\")","v":""},{"$f":"IF(Data!$E42=30,Data!CU42,\"\")","v":""},{"$f":"IF(Data!$E42=30,Data!CV42,IF(Data!AK42<>\"\",Data!AK42,\"\"))","v":""},{"$f":"IF(Data!$E42=30,Data!CW42,\"\")","v":""},{"$f":"IF(Data!$E42=30,Data!CX42,\"\")","v":""},{"$f":"IF(Data!$E42=30,Data!CY42,IF(Data!AL42<>\"\",Data!AL42,\"\"))","v":""},{"$f":"IF(Data!$E42=30,Data!CZ42,\"\")","v":""},{"$f":"IF(Data!$E42=30,Data!DA42,\"\")","v":""},{"$f":"IF(Data!$E42=30,Data!DB42,IF(Data!AM42<>\"\",Data!AM42,\"\"))","v":""},{"$f":"IF(Data!$E42=30,Data!DC42,\"\")","v":""},{"$f":"IF(Data!$E42=30,Data!DD42,\"\")","v":""},{"$f":"IF(Data!$E42=30,Data!DE42,IF(Data!AN42<>\"\",Data!AN42,\"\"))","v":""},{"$f":"IF(Data!$E42=30,Data!DF42,\"\")","v":""},{"$f":"IF(Data!$E42=30,Data!DG42,\"\")","v":""},{"$f":"IF(Data!$E42=30,Data!DH42,IF(Data!AO42<>\"\",Data!AO42,\"\"))","v":""},{"$f":"IF(Data!$E42=30,Data!DI42,\"\")","v":""},{"$f":"IF(Data!$E42=30,Data!DJ42,\"\")","v":""},{"$f":"IF(Data!$E42=30,Data!DK42,IF(Data!AP42<>\"\",Data!AP42,\"\"))","v":""},{"$f":"IF(Data!$E42=30,Data!DL42,\"\")","v":""},{"$f":"IF(Data!$E42=30,Data!DM42,\"\")","v":""},{"$f":"IF(Data!$E42=30,Data!DN42,IF(Data!AQ42<>\"\",Data!AQ42,\"\"))","v":""},{"$f":"IF(Data!$E42=30,Data!DO42,\"\")","v":""},{"$f":"IF(Data!$E42=30,Data!DP42,\"\")","v":""},{"$f":"IF(Data!$E42=30,Data!DQ42,IF(Data!AR42<>\"\",Data!AR42,\"\"))","v":""},{"$f":"IF(Data!$E42=30,Data!DR42,\"\")","v":""},{"$f":"IF(Data!$E42=30,Data!DS42,\"\")","v":""},{"$f":"IF(Data!$E42=30,Data!DT42,IF(Data!AS42<>\"\",Data!AS42,\"\"))","v":""},{"$f":"IF(Data!$E42=30,Data!DU42,\"\")","v":""}]
[null,{"$f":"IF(Data!A43<>\"\",Data!A43,\"\")","v":""},{"$f":"IF(Data!$E43=30,Data!BN43,\"\")","v":""},{"$f":"IF(Data!$E43=30,Data!BO43,IF(Data!Z43<>\"\",Data!Z43,\"\"))","v":""},{"$f":"IF(Data!$E43=30,Data!BP43,\"\")","v":""},{"$f":"IF(Data!$E43=30,Data!BQ43,\"\")","v":""},{"$f":"IF(Data!$E43=30,Data!BR43,IF(Data!AA43<>\"\",Data!AA43,\"\"))","v":""},{"$f":"IF(Data!$E43=30,Data!BS43,\"\")","v":""},{"$f":"IF(Data!$E43=30,Data!BT43,\"\")","v":""},{"$f":"IF(Data!$E43=30,Data!BU43,IF(Data!AB43<>\"\",Data!AB43,\"\"))","v":""},{"$f":"IF(Data!$E43=30,Data!BV43,\"\")","v":""},{"$f":"IF(Data!$E43=30,Data!BW43,\"\")","v":""},{"$f":"IF(Data!$E43=30,Data!BX43,IF(Data!AC43<>\"\",Data!AC43,\"\"))","v":""},{"$f":"IF(Data!$E43=30,Data!BY43,\"\")","v":""},{"$f":"IF(Data!$E43=30,Data!BZ43,\"\")","v":""},{"$f":"IF(Data!$E43=30,Data!CA43,IF(Data!AD43<>\"\",Data!AD43,\"\"))","v":""},{"$f":"IF(Data!$E43=30,Data!CB43,\"\")","v":""},{"$f":"IF(Data!$E43=30,Data!CC43,\"\")","v":""},{"$f":"IF(Data!$E43=30,Data!CD43,IF(Data!AE43<>\"\",Data!AE43,\"\"))","v":""},{"$f":"IF(Data!$E43=30,Data!CE43,\"\")","v":""},{"$f":"IF(Data!$E43=30,Data!CF43,\"\")","v":""},{"$f":"IF(Data!$E43=30,Data!CG43,IF(Data!AF43<>\"\",Data!AF43,\"\"))","v":""},{"$f":"IF(Data!$E43=30,Data!CH43,\"\")","v":""},{"$f":"IF(Data!$E43=30,Data!CI43,\"\")","v":""},{"$f":"IF(Data!$E43=30,Data!CJ43,IF(Data!AG43<>\"\",Data!AG43,\"\"))","v":""},{"$f":"IF(Data!$E43=30,Data!CK43,\"\")","v":""},{"$f":"IF(Data!$E43=30,Data!CL43,\"\")","v":""},{"$f":"IF(Data!$E43=30,Data!CM43,IF(Data!AH43<>\"\",Data!AH43,\"\"))","v":""},{"$f":"IF(Data!$E43=30,Data!CN43,\"\")","v":""},{"$f":"IF(Data!$E43=30,Data!CO43,\"\")","v":""},{"$f":"IF(Data!$E43=30,Data!CP43,IF(Data!AI43<>\"\",Data!AI43,\"\"))","v":""},{"$f":"IF(Data!$E43=30,Data!CQ43,\"\")","v":""},null,null,null,{"$f":"IF(Data!$E43=30,Data!CR43,\"\")","v":""},{"$f":"IF(Data!$E43=30,Data!CS43,IF(Data!AJ43<>\"\",Data!AJ43,\"\"))","v":""},{"$f":"IF(Data!$E43=30,Data!CT43,\"\")","v":""},{"$f":"IF(Data!$E43=30,Data!CU43,\"\")","v":""},{"$f":"IF(Data!$E43=30,Data!CV43,IF(Data!AK43<>\"\",Data!AK43,\"\"))","v":""},{"$f":"IF(Data!$E43=30,Data!CW43,\"\")","v":""},{"$f":"IF(Data!$E43=30,Data!CX43,\"\")","v":""},{"$f":"IF(Data!$E43=30,Data!CY43,IF(Data!AL43<>\"\",Data!AL43,\"\"))","v":""},{"$f":"IF(Data!$E43=30,Data!CZ43,\"\")","v":""},{"$f":"IF(Data!$E43=30,Data!DA43,\"\")","v":""},{"$f":"IF(Data!$E43=30,Data!DB43,IF(Data!AM43<>\"\",Data!AM43,\"\"))","v":""},{"$f":"IF(Data!$E43=30,Data!DC43,\"\")","v":""},{"$f":"IF(Data!$E43=30,Data!DD43,\"\")","v":""},{"$f":"IF(Data!$E43=30,Data!DE43,IF(Data!AN43<>\"\",Data!AN43,\"\"))","v":""},{"$f":"IF(Data!$E43=30,Data!DF43,\"\")","v":""},{"$f":"IF(Data!$E43=30,Data!DG43,\"\")","v":""},{"$f":"IF(Data!$E43=30,Data!DH43,IF(Data!AO43<>\"\",Data!AO43,\"\"))","v":""},{"$f":"IF(Data!$E43=30,Data!DI43,\"\")","v":""},{"$f":"IF(Data!$E43=30,Data!DJ43,\"\")","v":""},{"$f":"IF(Data!$E43=30,Data!DK43,IF(Data!AP43<>\"\",Data!AP43,\"\"))","v":""},{"$f":"IF(Data!$E43=30,Data!DL43,\"\")","v":""},{"$f":"IF(Data!$E43=30,Data!DM43,\"\")","v":""},{"$f":"IF(Data!$E43=30,Data!DN43,IF(Data!AQ43<>\"\",Data!AQ43,\"\"))","v":""},{"$f":"IF(Data!$E43=30,Data!DO43,\"\")","v":""},{"$f":"IF(Data!$E43=30,Data!DP43,\"\")","v":""},{"$f":"IF(Data!$E43=30,Data!DQ43,IF(Data!AR43<>\"\",Data!AR43,\"\"))","v":""},{"$f":"IF(Data!$E43=30,Data!DR43,\"\")","v":""},{"$f":"IF(Data!$E43=30,Data!DS43,\"\")","v":""},{"$f":"IF(Data!$E43=30,Data!DT43,IF(Data!AS43<>\"\",Data!AS43,\"\"))","v":""},{"$f":"IF(Data!$E43=30,Data!DU43,\"\")","v":""}]
[null,{"$f":"IF(Data!A44<>\"\",Data!A44,\"\")","v":""},{"$f":"IF(Data!$E44=30,Data!BN44,\"\")","v":""},{"$f":"IF(Data!$E44=30,Data!BO44,IF(Data!Z44<>\"\",Data!Z44,\"\"))","v":""},{"$f":"IF(Data!$E44=30,Data!BP44,\"\")","v":""},{"$f":"IF(Data!$E44=30,Data!BQ44,\"\")","v":""},{"$f":"IF(Data!$E44=30,Data!BR44,IF(Data!AA44<>\"\",Data!AA44,\"\"))","v":""},{"$f":"IF(Data!$E44=30,Data!BS44,\"\")","v":""},{"$f":"IF(Data!$E44=30,Data!BT44,\"\")","v":""},{"$f":"IF(Data!$E44=30,Data!BU44,IF(Data!AB44<>\"\",Data!AB44,\"\"))","v":""},{"$f":"IF(Data!$E44=30,Data!BV44,\"\")","v":""},{"$f":"IF(Data!$E44=30,Data!BW44,\"\")","v":""},{"$f":"IF(Data!$E44=30,Data!BX44,IF(Data!AC44<>\"\",Data!AC44,\"\"))","v":""},{"$f":"IF(Data!$E44=30,Data!BY44,\"\")","v":""},{"$f":"IF(Data!$E44=30,Data!BZ44,\"\")","v":""},{"$f":"IF(Data!$E44=30,Data!CA44,IF(Data!AD44<>\"\",Data!AD44,\"\"))","v":""},{"$f":"IF(Data!$E44=30,Data!CB44,\"\")","v":""},{"$f":"IF(Data!$E44=30,Data!CC44,\"\")","v":""},{"$f":"IF(Data!$E44=30,Data!CD44,IF(Data!AE44<>\"\",Data!AE44,\"\"))","v":""},{"$f":"IF(Data!$E44=30,Data!CE44,\"\")","v":""},{"$f":"IF(Data!$E44=30,Data!CF44,\"\")","v":""},{"$f":"IF(Data!$E44=30,Data!CG44,IF(Data!AF44<>\"\",Data!AF44,\"\"))","v":""},{"$f":"IF(Data!$E44=30,Data!CH44,\"\")","v":""},{"$f":"IF(Data!$E44=30,Data!CI44,\"\")","v":""},{"$f":"IF(Data!$E44=30,Data!CJ44,IF(Data!AG44<>\"\",Data!AG44,\"\"))","v":""},{"$f":"IF(Data!$E44=30,Data!CK44,\"\")","v":""},{"$f":"IF(Data!$E44=30,Data!CL44,\"\")","v":""},{"$f":"IF(Data!$E44=30,Data!CM44,IF(Data!AH44<>\"\",Data!AH44,\"\"))","v":""},{"$f":"IF(Data!$E44=30,Data!CN44,\"\")","v":""},{"$f":"IF(Data!$E44=30,Data!CO44,\"\")","v":""},{"$f":"IF(Data!$E44=30,Data!CP44,IF(Data!AI44<>\"\",Data!AI44,\"\"))","v":""},{"$f":"IF(Data!$E44=30,Data!CQ44,\"\")","v":""},null,null,null,{"$f":"IF(Data!$E44=30,Data!CR44,\"\")","v":""},{"$f":"IF(Data!$E44=30,Data!CS44,IF(Data!AJ44<>\"\",Data!AJ44,\"\"))","v":""},{"$f":"IF(Data!$E44=30,Data!CT44,\"\")","v":""},{"$f":"IF(Data!$E44=30,Data!CU44,\"\")","v":""},{"$f":"IF(Data!$E44=30,Data!CV44,IF(Data!AK44<>\"\",Data!AK44,\"\"))","v":""},{"$f":"IF(Data!$E44=30,Data!CW44,\"\")","v":""},{"$f":"IF(Data!$E44=30,Data!CX44,\"\")","v":""},{"$f":"IF(Data!$E44=30,Data!CY44,IF(Data!AL44<>\"\",Data!AL44,\"\"))","v":""},{"$f":"IF(Data!$E44=30,Data!CZ44,\"\")","v":""},{"$f":"IF(Data!$E44=30,Data!DA44,\"\")","v":""},{"$f":"IF(Data!$E44=30,Data!DB44,IF(Data!AM44<>\"\",Data!AM44,\"\"))","v":""},{"$f":"IF(Data!$E44=30,Data!DC44,\"\")","v":""},{"$f":"IF(Data!$E44=30,Data!DD44,\"\")","v":""},{"$f":"IF(Data!$E44=30,Data!DE44,IF(Data!AN44<>\"\",Data!AN44,\"\"))","v":""},{"$f":"IF(Data!$E44=30,Data!DF44,\"\")","v":""},{"$f":"IF(Data!$E44=30,Data!DG44,\"\")","v":""},{"$f":"IF(Data!$E44=30,Data!DH44,IF(Data!AO44<>\"\",Data!AO44,\"\"))","v":""},{"$f":"IF(Data!$E44=30,Data!DI44,\"\")","v":""},{"$f":"IF(Data!$E44=30,Data!DJ44,\"\")","v":""},{"$f":"IF(Data!$E44=30,Data!DK44,IF(Data!AP44<>\"\",Data!AP44,\"\"))","v":""},{"$f":"IF(Data!$E44=30,Data!DL44,\"\")","v":""},{"$f":"IF(Data!$E44=30,Data!DM44,\"\")","v":""},{"$f":"IF(Data!$E44=30,Data!DN44,IF(Data!AQ44<>\"\",Data!AQ44,\"\"))","v":""},{"$f":"IF(Data!$E44=30,Data!DO44,\"\")","v":""},{"$f":"IF(Data!$E44=30,Data!DP44,\"\")","v":""},{"$f":"IF(Data!$E44=30,Data!DQ44,IF(Data!AR44<>\"\",Data!AR44,\"\"))","v":""},{"$f":"IF(Data!$E44=30,Data!DR44,\"\")","v":""},{"$f":"IF(Data!$E44=30,Data!DS44,\"\")","v":""},{"$f":"IF(Data!$E44=30,Data!DT44,IF(Data!AS44<>\"\",Data!AS44,\"\"))","v":""},{"$f":"IF(Data!$E44=30,Data!DU44,\"\")","v":""}]
[null,{"$f":"IF(Data!A45<>\"\",Data!A45,\"\")","v":""},{"$f":"IF(Data!$E45=30,Data!BN45,\"\")","v":""},{"$f":"IF(Data!$E45=30,Data!BO45,IF(Data!Z45<>\"\",Data!Z45,\"\"))","v":""},{"$f":"IF(Data!$E45=30,Data!BP45,\"\")","v":""},{"$f":"IF(Data!$E45=30,Data!BQ45,\"\")","v":""},{"$f":"IF(Data!$E45=30,Data!BR45,IF(Data!AA45<>\"\",Data!AA45,\"\"))","v":""},{"$f":"IF(Data!$E45=30,Data!BS45,\"\")","v":""},{"$f":"IF(Data!$E45=30,Data!BT45,\"\")","v":""},{"$f":"IF(Data!$E45=30,Data!BU45,IF(Data!AB45<>\"\",Data!AB45,\"\"))","v":""},{"$f":"IF(Data!$E45=30,Data!BV45,\"\")","v":""},{"$f":"IF(Data!$E45=30,Data!BW45,\"\")","v":""},{"$f":"IF(Data!$E45=30,Data!BX45,IF(Data!AC45<>\"\",Data!AC45,\"\"))","v":""},{"$f":"IF(Data!$E45=30,Data!BY45,\"\")","v":""},{"$f":"IF(Data!$E45=30,Data!BZ45,\"\")","v":""},{"$f":"IF(Data!$E45=30,Data!CA45,IF(Data!AD45<>\"\",Data!AD45,\"\"))","v":""},{"$f":"IF(Data!$E45=30,Data!CB45,\"\")","v":""},{"$f":"IF(Data!$E45=30,Data!CC45,\"\")","v":""},{"$f":"IF(Data!$E45=30,Data!CD45,IF(Data!AE45<>\"\",Data!AE45,\"\"))","v":""},{"$f":"IF(Data!$E45=30,Data!CE45,\"\")","v":""},{"$f":"IF(Data!$E45=30,Data!CF45,\"\")","v":""},{"$f":"IF(Data!$E45=30,Data!CG45,IF(Data!AF45<>\"\",Data!AF45,\"\"))","v":""},{"$f":"IF(Data!$E45=30,Data!CH45,\"\")","v":""},{"$f":"IF(Data!$E45=30,Data!CI45,\"\")","v":""},{"$f":"IF(Data!$E45=30,Data!CJ45,IF(Data!AG45<>\"\",Data!AG45,\"\"))","v":""},{"$f":"IF(Data!$E45=30,Data!CK45,\"\")","v":""},{"$f":"IF(Data!$E45=30,Data!CL45,\"\")","v":""},{"$f":"IF(Data!$E45=30,Data!CM45,IF(Data!AH45<>\"\",Data!AH45,\"\"))","v":""},{"$f":"IF(Data!$E45=30,Data!CN45,\"\")","v":""},{"$f":"IF(Data!$E45=30,Data!CO45,\"\")","v":""},{"$f":"IF(Data!$E45=30,Data!CP45,IF(Data!AI45<>\"\",Data!AI45,\"\"))","v":""},{"$f":"IF(Data!$E45=30,Data!CQ45,\"\")","v":""},null,null,null,{"$f":"IF(Data!$E45=30,Data!CR45,\"\")","v":""},{"$f":"IF(Data!$E45=30,Data!CS45,IF(Data!AJ45<>\"\",Data!AJ45,\"\"))","v":""},{"$f":"IF(Data!$E45=30,Data!CT45,\"\")","v":""},{"$f":"IF(Data!$E45=30,Data!CU45,\"\")","v":""},{"$f":"IF(Data!$E45=30,Data!CV45,IF(Data!AK45<>\"\",Data!AK45,\"\"))","v":""},{"$f":"IF(Data!$E45=30,Data!CW45,\"\")","v":""},{"$f":"IF(Data!$E45=30,Data!CX45,\"\")","v":""},{"$f":"IF(Data!$E45=30,Data!CY45,IF(Data!AL45<>\"\",Data!AL45,\"\"))","v":""},{"$f":"IF(Data!$E45=30,Data!CZ45,\"\")","v":""},{"$f":"IF(Data!$E45=30,Data!DA45,\"\")","v":""},{"$f":"IF(Data!$E45=30,Data!DB45,IF(Data!AM45<>\"\",Data!AM45,\"\"))","v":""},{"$f":"IF(Data!$E45=30,Data!DC45,\"\")","v":""},{"$f":"IF(Data!$E45=30,Data!DD45,\"\")","v":""},{"$f":"IF(Data!$E45=30,Data!DE45,IF(Data!AN45<>\"\",Data!AN45,\"\"))","v":""},{"$f":"IF(Data!$E45=30,Data!DF45,\"\")","v":""},{"$f":"IF(Data!$E45=30,Data!DG45,\"\")","v":""},{"$f":"IF(Data!$E45=30,Data!DH45,IF(Data!AO45<>\"\",Data!AO45,\"\"))","v":""},{"$f":"IF(Data!$E45=30,Data!DI45,\"\")","v":""},{"$f":"IF(Data!$E45=30,Data!DJ45,\"\")","v":""},{"$f":"IF(Data!$E45=30,Data!DK45,IF(Data!AP45<>\"\",Data!AP45,\"\"))","v":""},{"$f":"IF(Data!$E45=30,Data!DL45,\"\")","v":""},{"$f":"IF(Data!$E45=30,Data!DM45,\"\")","v":""},{"$f":"IF(Data!$E45=30,Data!DN45,IF(Data!AQ45<>\"\",Data!AQ45,\"\"))","v":""},{"$f":"IF(Data!$E45=30,Data!DO45,\"\")","v":""},{"$f":"IF(Data!$E45=30,Data!DP45,\"\")","v":""},{"$f":"IF(Data!$E45=30,Data!DQ45,IF(Data!AR45<>\"\",Data!AR45,\"\"))","v":""},{"$f":"IF(Data!$E45=30,Data!DR45,\"\")","v":""},{"$f":"IF(Data!$E45=30,Data!DS45,\"\")","v":""},{"$f":"IF(Data!$E45=30,Data!DT45,IF(Data!AS45<>\"\",Data!AS45,\"\"))","v":""},{"$f":"IF(Data!$E45=30,Data!DU45,\"\")","v":""}]
[null,{"$f":"IF(Data!A46<>\"\",Data!A46,\"\")","v":""},{"$f":"IF(Data!$E46=30,Data!BN46,\"\")","v":""},{"$f":"IF(Data!$E46=30,Data!BO46,IF(Data!Z46<>\"\",Data!Z46,\"\"))","v":""},{"$f":"IF(Data!$E46=30,Data!BP46,\"\")","v":""},{"$f":"IF(Data!$E46=30,Data!BQ46,\"\")","v":""},{"$f":"IF(Data!$E46=30,Data!BR46,IF(Data!AA46<>\"\",Data!AA46,\"\"))","v":""},{"$f":"IF(Data!$E46=30,Data!BS46,\"\")","v":""},{"$f":"IF(Data!$E46=30,Data!BT46,\"\")","v":""},{"$f":"IF(Data!$E46=30,Data!BU46,IF(Data!AB46<>\"\",Data!AB46,\"\"))","v":""},{"$f":"IF(Data!$E46=30,Data!BV46,\"\")","v":""},{"$f":"IF(Data!$E46=30,Data!BW46,\"\")","v":""},{"$f":"IF(Data!$E46=30,Data!BX46,IF(Data!AC46<>\"\",Data!AC46,\"\"))","v":""},{"$f":"IF(Data!$E46=30,Data!BY46,\"\")","v":""},{"$f":"IF(Data!$E46=30,Data!BZ46,\"\")","v":""},{"$f":"IF(Data!$E46=30,Data!CA46,IF(Data!AD46<>\"\",Data!AD46,\"\"))","v":""},{"$f":"IF(Data!$E46=30,Data!CB46,\"\")","v":""},{"$f":"IF(Data!$E46=30,Data!CC46,\"\")","v":""},{"$f":"IF(Data!$E46=30,Data!CD46,IF(Data!AE46<>\"\",Data!AE46,\"\"))","v":""},{"$f":"IF(Data!$E46=30,Data!CE46,\"\")","v":""},{"$f":"IF(Data!$E46=30,Data!CF46,\"\")","v":""},{"$f":"IF(Data!$E46=30,Data!CG46,IF(Data!AF46<>\"\",Data!AF46,\"\"))","v":""},{"$f":"IF(Data!$E46=30,Data!CH46,\"\")","v":""},{"$f":"IF(Data!$E46=30,Data!CI46,\"\")","v":""},{"$f":"IF(Data!$E46=30,Data!CJ46,IF(Data!AG46<>\"\",Data!AG46,\"\"))","v":""},{"$f":"IF(Data!$E46=30,Data!CK46,\"\")","v":""},{"$f":"IF(Data!$E46=30,Data!CL46,\"\")","v":""},{"$f":"IF(Data!$E46=30,Data!CM46,IF(Data!AH46<>\"\",Data!AH46,\"\"))","v":""},{"$f":"IF(Data!$E46=30,Data!CN46,\"\")","v":""},{"$f":"IF(Data!$E46=30,Data!CO46,\"\")","v":""},{"$f":"IF(Data!$E46=30,Data!CP46,IF(Data!AI46<>\"\",Data!AI46,\"\"))","v":""},{"$f":"IF(Data!$E46=30,Data!CQ46,\"\")","v":""},null,null,null,{"$f":"IF(Data!$E46=30,Data!CR46,\"\")","v":""},{"$f":"IF(Data!$E46=30,Data!CS46,IF(Data!AJ46<>\"\",Data!AJ46,\"\"))","v":""},{"$f":"IF(Data!$E46=30,Data!CT46,\"\")","v":""},{"$f":"IF(Data!$E46=30,Data!CU46,\"\")","v":""},{"$f":"IF(Data!$E46=30,Data!CV46,IF(Data!AK46<>\"\",Data!AK46,\"\"))","v":""},{"$f":"IF(Data!$E46=30,Data!CW46,\"\")","v":""},{"$f":"IF(Data!$E46=30,Data!CX46,\"\")","v":""},{"$f":"IF(Data!$E46=30,Data!CY46,IF(Data!AL46<>\"\",Data!AL46,\"\"))","v":""},{"$f":"IF(Data!$E46=30,Data!CZ46,\"\")","v":""},{"$f":"IF(Data!$E46=30,Data!DA46,\"\")","v":""},{"$f":"IF(Data!$E46=30,Data!DB46,IF(Data!AM46<>\"\",Data!AM46,\"\"))","v":""},{"$f":"IF(Data!$E46=30,Data!DC46,\"\")","v":""},{"$f":"IF(Data!$E46=30,Data!DD46,\"\")","v":""},{"$f":"IF(Data!$E46=30,Data!DE46,IF(Data!AN46<>\"\",Data!AN46,\"\"))","v":""},{"$f":"IF(Data!$E46=30,Data!DF46,\"\")","v":""},{"$f":"IF(Data!$E46=30,Data!DG46,\"\")","v":""},{"$f":"IF(Data!$E46=30,Data!DH46,IF(Data!AO46<>\"\",Data!AO46,\"\"))","v":""},{"$f":"IF(Data!$E46=30,Data!DI46,\"\")","v":""},{"$f":"IF(Data!$E46=30,Data!DJ46,\"\")","v":""},{"$f":"IF(Data!$E46=30,Data!DK46,IF(Data!AP46<>\"\",Data!AP46,\"\"))","v":""},{"$f":"IF(Data!$E46=30,Data!DL46,\"\")","v":""},{"$f":"IF(Data!$E46=30,Data!DM46,\"\")","v":""},{"$f":"IF(Data!$E46=30,Data!DN46,IF(Data!AQ46<>\"\",Data!AQ46,\"\"))","v":""},{"$f":"IF(Data!$E46=30,Data!DO46,\"\")","v":""},{"$f":"IF(Data!$E46=30,Data!DP46,\"\")","v":""},{"$f":"IF(Data!$E46=30,Data!DQ46,IF(Data!AR46<>\"\",Data!AR46,\"\"))","v":""},{"$f":"IF(Data!$E46=30,Data!DR46,\"\")","v":""},{"$f":"IF(Data!$E46=30,Data!DS46,\"\")","v":""},{"$f":"IF(Data!$E46=30,Data!DT46,IF(Data!AS46<>\"\",Data!AS46,\"\"))","v":""},{"$f":"IF(Data!$E46=30,Data!DU46,\"\")","v":""}]
[null,{"$f":"IF(Data!A47<>\"\",Data!A47,\"\")","v":""},{"$f":"IF(Data!$E47=30,Data!BN47,\"\")","v":""},{"$f":"IF(Data!$E47=30,Data!BO47,IF(Data!Z47<>\"\",Data!Z47,\"\"))","v":""},{"$f":"IF(Data!$E47=30,Data!BP47,\"\")","v":""},{"$f":"IF(Data!$E47=30,Data!BQ47,\"\")","v":""},{"$f":"IF(Data!$E47=30,Data!BR47,IF(Data!AA47<>\"\",Data!AA47,\"\"))","v":""},{"$f":"IF(Data!$E47=30,Data!BS47,\"\")","v":""},{"$f":"IF(Data!$E47=30,Data!BT47,\"\")","v":""},{"$f":"IF(Data!$E47=30,Data!BU47,IF(Data!AB47<>\"\",Data!AB47,\"\"))","v":""},{"$f":"IF(Data!$E47=30,Data!BV47,\"\")","v":""},{"$f":"IF(Data!$E47=30,Data!BW47,\"\")","v":""},{"$f":"IF(Data!$E47=30,Data!BX47,IF(Data!AC47<>\"\",Data!AC47,\"\"))","v":""},{"$f":"IF(Data!$E47=30,Data!BY47,\"\")","v":""},{"$f":"IF(Data!$E47=30,Data!BZ47,\"\")","v":""},{"$f":"IF(Data!$E47=30,Data!CA47,IF(Data!AD47<>\"\",Data!AD47,\"\"))","v":""},{"$f":"IF(Data!$E47=30,Data!CB47,\"\")","v":""},{"$f":"IF(Data!$E47=30,Data!CC47,\"\")","v":""},{"$f":"IF(Data!$E47=30,Data!CD47,IF(Data!AE47<>\"\",Data!AE47,\"\"))","v":""},{"$f":"IF(Data!$E47=30,Data!CE47,\"\")","v":""},{"$f":"IF(Data!$E47=30,Data!CF47,\"\")","v":""},{"$f":"IF(Data!$E47=30,Data!CG47,IF(Data!AF47<>\"\",Data!AF47,\"\"))","v":""},{"$f":"IF(Data!$E47=30,Data!CH47,\"\")","v":""},{"$f":"IF(Data!$E47=30,Data!CI47,\"\")","v":""},{"$f":"IF(Data!$E47=30,Data!CJ47,IF(Data!AG47<>\"\",Data!AG47,\"\"))","v":""},{"$f":"IF(Data!$E47=30,Data!CK47,\"\")","v":""},{"$f":"IF(Data!$E47=30,Data!CL47,\"\")","v":""},{"$f":"IF(Data!$E47=30,Data!CM47,IF(Data!AH47<>\"\",Data!AH47,\"\"))","v":""},{"$f":"IF(Data!$E47=30,Data!CN47,\"\")","v":""},{"$f":"IF(Data!$E47=30,Data!CO47,\"\")","v":""},{"$f":"IF(Data!$E47=30,Data!CP47,IF(Data!AI47<>\"\",Data!AI47,\"\"))","v":""},{"$f":"IF(Data!$E47=30,Data!CQ47,\"\")","v":""},null,null,null,{"$f":"IF(Data!$E47=30,Data!CR47,\"\")","v":""},{"$f":"IF(Data!$E47=30,Data!CS47,IF(Data!AJ47<>\"\",Data!AJ47,\"\"))","v":""},{"$f":"IF(Data!$E47=30,Data!CT47,\"\")","v":""},{"$f":"IF(Data!$E47=30,Data!CU47,\"\")","v":""},{"$f":"IF(Data!$E47=30,Data!CV47,IF(Data!AK47<>\"\",Data!AK47,\"\"))","v":""},{"$f":"IF(Data!$E47=30,Data!CW47,\"\")","v":""},{"$f":"IF(Data!$E47=30,Data!CX47,\"\")","v":""},{"$f":"IF(Data!$E47=30,Data!CY47,IF(Data!AL47<>\"\",Data!AL47,\"\"))","v":""},{"$f":"IF(Data!$E47=30,Data!CZ47,\"\")","v":""},{"$f":"IF(Data!$E47=30,Data!DA47,\"\")","v":""},{"$f":"IF(Data!$E47=30,Data!DB47,IF(Data!AM47<>\"\",Data!AM47,\"\"))","v":""},{"$f":"IF(Data!$E47=30,Data!DC47,\"\")","v":""},{"$f":"IF(Data!$E47=30,Data!DD47,\"\")","v":""},{"$f":"IF(Data!$E47=30,Data!DE47,IF(Data!AN47<>\"\",Data!AN47,\"\"))","v":""},{"$f":"IF(Data!$E47=30,Data!DF47,\"\")","v":""},{"$f":"IF(Data!$E47=30,Data!DG47,\"\")","v":""},{"$f":"IF(Data!$E47=30,Data!DH47,IF(Data!AO47<>\"\",Data!AO47,\"\"))","v":""},{"$f":"IF(Data!$E47=30,Data!DI47,\"\")","v":""},{"$f":"IF(Data!$E47=30,Data!DJ47,\"\")","v":""},{"$f":"IF(Data!$E47=30,Data!DK47,IF(Data!AP47<>\"\",Data!AP47,\"\"))","v":""},{"$f":"IF(Data!$E47=30,Data!DL47,\"\")","v":""},{"$f":"IF(Data!$E47=30,Data!DM47,\"\")","v":""},{"$f":"IF(Data!$E47=30,Data!DN47,IF(Data!AQ47<>\"\",Data!AQ47,\"\"))","v":""},{"$f":"IF(Data!$E47=30,Data!DO47,\"\")","v":""},{"$f":"IF(Data!$E47=30,Data!DP47,\"\")","v":""},{"$f":"IF(Data!$E47=30,Data!DQ47,IF(Data!AR47<>\"\",Data!AR47,\"\"))","v":""},{"$f":"IF(Data!$E47=30,Data!DR47,\"\")","v":""},{"$f":"IF(Data!$E47=30,Data!DS47,\"\")","v":""},{"$f":"IF(Data!$E47=30,Data!DT47,IF(Data!AS47<>\"\",Data!AS47,\"\"))","v":""},{"$f":"IF(Data!$E47=30,Data!DU47,\"\")","v":""}]
[null,{"$f":"IF(Data!A48<>\"\",Data!A48,\"\")","v":""},{"$f":"IF(Data!$E48=30,Data!BN48,\"\")","v":""},{"$f":"IF(Data!$E48=30,Data!BO48,IF(Data!Z48<>\"\",Data!Z48,\"\"))","v":""},{"$f":"IF(Data!$E48=30,Data!BP48,\"\")","v":""},{"$f":"IF(Data!$E48=30,Data!BQ48,\"\")","v":""},{"$f":"IF(Data!$E48=30,Data!BR48,IF(Data!AA48<>\"\",Data!AA48,\"\"))","v":""},{"$f":"IF(Data!$E48=30,Data!BS48,\"\")","v":""},{"$f":"IF(Data!$E48=30,Data!BT48,\"\")","v":""},{"$f":"IF(Data!$E48=30,Data!BU48,IF(Data!AB48<>\"\",Data!AB48,\"\"))","v":""},{"$f":"IF(Data!$E48=30,Data!BV48,\"\")","v":""},{"$f":"IF(Data!$E48=30,Data!BW48,\"\")","v":""},{"$f":"IF(Data!$E48=30,Data!BX48,IF(Data!AC48<>\"\",Data!AC48,\"\"))","v":""},{"$f":"IF(Data!$E48=30,Data!BY48,\"\")","v":""},{"$f":"IF(Data!$E48=30,Data!BZ48,\"\")","v":""},{"$f":"IF(Data!$E48=30,Data!CA48,IF(Data!AD48<>\"\",Data!AD48,\"\"))","v":""},{"$f":"IF(Data!$E48=30,Data!CB48,\"\")","v":""},{"$f":"IF(Data!$E48=30,Data!CC48,\"\")","v":""},{"$f":"IF(Data!$E48=30,Data!CD48,IF(Data!AE48<>\"\",Data!AE48,\"\"))","v":""},{"$f":"IF(Data!$E48=30,Data!CE48,\"\")","v":""},{"$f":"IF(Data!$E48=30,Data!CF48,\"\")","v":""},{"$f":"IF(Data!$E48=30,Data!CG48,IF(Data!AF48<>\"\",Data!AF48,\"\"))","v":""},{"$f":"IF(Data!$E48=30,Data!CH48,\"\")","v":""},{"$f":"IF(Data!$E48=30,Data!CI48,\"\")","v":""},{"$f":"IF(Data!$E48=30,Data!CJ48,IF(Data!AG48<>\"\",Data!AG48,\"\"))","v":""},{"$f":"IF(Data!$E48=30,Data!CK48,\"\")","v":""},{"$f":"IF(Data!$E48=30,Data!CL48,\"\")","v":""},{"$f":"IF(Data!$E48=30,Data!CM48,IF(Data!AH48<>\"\",Data!AH48,\"\"))","v":""},{"$f":"IF(Data!$E48=30,Data!CN48,\"\")","v":""},{"$f":"IF(Data!$E48=30,Data!CO48,\"\")","v":""},{"$f":"IF(Data!$E48=30,Data!CP48,IF(Data!AI48<>\"\",Data!AI48,\"\"))","v":""},{"$f":"IF(Data!$E48=30,Data!CQ48,\"\")","v":""},null,null,null,{"$f":"IF(Data!$E48=30,Data!CR48,\"\")","v":""},{"$f":"IF(Data!$E48=30,Data!CS48,IF(Data!AJ48<>\"\",Data!AJ48,\"\"))","v":""},{"$f":"IF(Data!$E48=30,Data!CT48,\"\")","v":""},{"$f":"IF(Data!$E48=30,Data!CU48,\"\")","v":""},{"$f":"IF(Data!$E48=30,Data!CV48,IF(Data!AK48<>\"\",Data!AK48,\"\"))","v":""},{"$f":"IF(Data!$E48=30,Data!CW48,\"\")","v":""},{"$f":"IF(Data!$E48=30,Data!CX48,\"\")","v":""},{"$f":"IF(Data!$E48=30,Data!CY48,IF(Data!AL48<>\"\",Data!AL48,\"\"))","v":""},{"$f":"IF(Data!$E48=30,Data!CZ48,\"\")","v":""},{"$f":"IF(Data!$E48=30,Data!DA48,\"\")","v":""},{"$f":"IF(Data!$E48=30,Data!DB48,IF(Data!AM48<>\"\",Data!AM48,\"\"))","v":""},{"$f":"IF(Data!$E48=30,Data!DC48,\"\")","v":""},{"$f":"IF(Data!$E48=30,Data!DD48,\"\")","v":""},{"$f":"IF(Data!$E48=30,Data!DE48,IF(Data!AN48<>\"\",Data!AN48,\"\"))","v":""},{"$f":"IF(Data!$E48=30,Data!DF48,\"\")","v":""},{"$f":"IF(Data!$E48=30,Data!DG48,\"\")","v":""},{"$f":"IF(Data!$E48=30,Data!DH48,IF(Data!AO48<>\"\",Data!AO48,\"\"))","v":""},{"$f":"IF(Data!$E48=30,Data!DI48,\"\")","v":""},{"$f":"IF(Data!$E48=30,Data!DJ48,\"\")","v":""},{"$f":"IF(Data!$E48=30,Data!DK48,IF(Data!AP48<>\"\",Data!AP48,\"\"))","v":""},{"$f":"IF(Data!$E48=30,Data!DL48,\"\")","v":""},{"$f":"IF(Data!$E48=30,Data!DM48,\"\")","v":""},{"$f":"IF(Data!$E48=30,Data!DN48,IF(Data!AQ48<>\"\",Data!AQ48,\"\"))","v":""},{"$f":"IF(Data!$E48=30,Data!DO48,\"\")","v":""},{"$f":"IF(Data!$E48=30,Data!DP48,\"\")","v":""},{"$f":"IF(Data!$E48=30,Data!DQ48,IF(Data!AR48<>\"\",Data!AR48,\"\"))","v":""},{"$f":"IF(Data!$E48=30,Data!DR48,\"\")","v":""},{"$f":"IF(Data!$E48=30,Data!DS48,\"\")","v":""},{"$f":"IF(Data!$E48=30,Data!DT48,IF(Data!AS48<>\"\",Data!AS48,\"\"))","v":""},{"$f":"IF(Data!$E48=30,Data!DU48,\"\")","v":""}]
[null,{"$f":"IF(Data!A49<>\"\",Data!A49,\"\")","v":""},{"$f":"IF(Data!$E49=30,Data!BN49,\"\")","v":""},{"$f":"IF(Data!$E49=30,Data!BO49,IF(Data!Z49<>\"\",Data!Z49,\"\"))","v":""},{"$f":"IF(Data!$E49=30,Data!BP49,\"\")","v":""},{"$f":"IF(Data!$E49=30,Data!BQ49,\"\")","v":""},{"$f":"IF(Data!$E49=30,Data!BR49,IF(Data!AA49<>\"\",Data!AA49,\"\"))","v":""},{"$f":"IF(Data!$E49=30,Data!BS49,\"\")","v":""},{"$f":"IF(Data!$E49=30,Data!BT49,\"\")","v":""},{"$f":"IF(Data!$E49=30,Data!BU49,IF(Data!AB49<>\"\",Data!AB49,\"\"))","v":""},{"$f":"IF(Data!$E49=30,Data!BV49,\"\")","v":""},{"$f":"IF(Data!$E49=30,Data!BW49,\"\")","v":""},{"$f":"IF(Data!$E49=30,Data!BX49,IF(Data!AC49<>\"\",Data!AC49,\"\"))","v":""},{"$f":"IF(Data!$E49=30,Data!BY49,\"\")","v":""},{"$f":"IF(Data!$E49=30,Data!BZ49,\"\")","v":""},{"$f":"IF(Data!$E49=30,Data!CA49,IF(Data!AD49<>\"\",Data!AD49,\"\"))","v":""},{"$f":"IF(Data!$E49=30,Data!CB49,\"\")","v":""},{"$f":"IF(Data!$E49=30,Data!CC49,\"\")","v":""},{"$f":"IF(Data!$E49=30,Data!CD49,IF(Data!AE49<>\"\",Data!AE49,\"\"))","v":""},{"$f":"IF(Data!$E49=30,Data!CE49,\"\")","v":""},{"$f":"IF(Data!$E49=30,Data!CF49,\"\")","v":""},{"$f":"IF(Data!$E49=30,Data!CG49,IF(Data!AF49<>\"\",Data!AF49,\"\"))","v":""},{"$f":"IF(Data!$E49=30,Data!CH49,\"\")","v":""},{"$f":"IF(Data!$E49=30,Data!CI49,\"\")","v":""},{"$f":"IF(Data!$E49=30,Data!CJ49,IF(Data!AG49<>\"\",Data!AG49,\"\"))","v":""},{"$f":"IF(Data!$E49=30,Data!CK49,\"\")","v":""},{"$f":"IF(Data!$E49=30,Data!CL49,\"\")","v":""},{"$f":"IF(Data!$E49=30,Data!CM49,IF(Data!AH49<>\"\",Data!AH49,\"\"))","v":""},{"$f":"IF(Data!$E49=30,Data!CN49,\"\")","v":""},{"$f":"IF(Data!$E49=30,Data!CO49,\"\")","v":""},{"$f":"IF(Data!$E49=30,Data!CP49,IF(Data!AI49<>\"\",Data!AI49,\"\"))","v":""},{"$f":"IF(Data!$E49=30,Data!CQ49,\"\")","v":""},null,null,null,{"$f":"IF(Data!$E49=30,Data!CR49,\"\")","v":""},{"$f":"IF(Data!$E49=30,Data!CS49,IF(Data!AJ49<>\"\",Data!AJ49,\"\"))","v":""},{"$f":"IF(Data!$E49=30,Data!CT49,\"\")","v":""},{"$f":"IF(Data!$E49=30,Data!CU49,\"\")","v":""},{"$f":"IF(Data!$E49=30,Data!CV49,IF(Data!AK49<>\"\",Data!AK49,\"\"))","v":""},{"$f":"IF(Data!$E49=30,Data!CW49,\"\")","v":""},{"$f":"IF(Data!$E49=30,Data!CX49,\"\")","v":""},{"$f":"IF(Data!$E49=30,Data!CY49,IF(Data!AL49<>\"\",Data!AL49,\"\"))","v":""},{"$f":"IF(Data!$E49=30,Data!CZ49,\"\")","v":""},{"$f":"IF(Data!$E49=30,Data!DA49,\"\")","v":""},{"$f":"IF(Data!$E49=30,Data!DB49,IF(Data!AM49<>\"\",Data!AM49,\"\"))","v":""},{"$f":"IF(Data!$E49=30,Data!DC49,\"\")","v":""},{"$f":"IF(Data!$E49=30,Data!DD49,\"\")","v":""},{"$f":"IF(Data!$E49=30,Data!DE49,IF(Data!AN49<>\"\",Data!AN49,\"\"))","v":""},{"$f":"IF(Data!$E49=30,Data!DF49,\"\")","v":""},{"$f":"IF(Data!$E49=30,Data!DG49,\"\")","v":""},{"$f":"IF(Data!$E49=30,Data!DH49,IF(Data!AO49<>\"\",Data!AO49,\"\"))","v":""},{"$f":"IF(Data!$E49=30,Data!DI49,\"\")","v":""},{"$f":"IF(Data!$E49=30,Data!DJ49,\"\")","v":""},{"$f":"IF(Data!$E49=30,Data!DK49,IF(Data!AP49<>\"\",Data!AP49,\"\"))","v":""},{"$f":"IF(Data!$E49=30,Data!DL49,\"\")","v":""},{"$f":"IF(Data!$E49=30,Data!DM49,\"\")","v":""},{"$f":"IF(Data!$E49=30,Data!DN49,IF(Data!AQ49<>\"\",Data!AQ49,\"\"))","v":""},{"$f":"IF(Data!$E49=30,Data!DO49,\"\")","v":""},{"$f":"IF(Data!$E49=30,Data!DP49,\"\")","v":""},{"$f":"IF(Data!$E49=30,Data!DQ49,IF(Data!AR49<>\"\",Data!AR49,\"\"))","v":""},{"$f":"IF(Data!$E49=30,Data!DR49,\"\")","v":""},{"$f":"IF(Data!$E49=30,Data!DS49,\"\")","v":""},{"$f":"IF(Data!$E49=30,Data!DT49,IF(Data!AS49<>\"\",Data!AS49,\"\"))","v":""},{"$f":"IF(Data!$E49=30,Data!DU49,\"\")","v":""}]
[null,{"$f":"IF(Data!A50<>\"\",Data!A50,\"\")","v":""},{"$f":"IF(Data!$E50=30,Data!BN50,\"\")","v":""},{"$f":"IF(Data!$E50=30,Data!BO50,IF(Data!Z50<>\"\",Data!Z50,\"\"))","v":""},{"$f":"IF(Data!$E50=30,Data!BP50,\"\")","v":""},{"$f":"IF(Data!$E50=30,Data!BQ50,\"\")","v":""},{"$f":"IF(Data!$E50=30,Data!BR50,IF(Data!AA50<>\"\",Data!AA50,\"\"))","v":""},{"$f":"IF(Data!$E50=30,Data!BS50,\"\")","v":""},{"$f":"IF(Data!$E50=30,Data!BT50,\"\")","v":""},{"$f":"IF(Data!$E50=30,Data!BU50,IF(Data!AB50<>\"\",Data!AB50,\"\"))","v":""},{"$f":"IF(Data!$E50=30,Data!BV50,\"\")","v":""},{"$f":"IF(Data!$E50=30,Data!BW50,\"\")","v":""},{"$f":"IF(Data!$E50=30,Data!BX50,IF(Data!AC50<>\"\",Data!AC50,\"\"))","v":""},{"$f":"IF(Data!$E50=30,Data!BY50,\"\")","v":""},{"$f":"IF(Data!$E50=30,Data!BZ50,\"\")","v":""},{"$f":"IF(Data!$E50=30,Data!CA50,IF(Data!AD50<>\"\",Data!AD50,\"\"))","v":""},{"$f":"IF(Data!$E50=30,Data!CB50,\"\")","v":""},{"$f":"IF(Data!$E50=30,Data!CC50,\"\")","v":""},{"$f":"IF(Data!$E50=30,Data!CD50,IF(Data!AE50<>\"\",Data!AE50,\"\"))","v":""},{"$f":"IF(Data!$E50=30,Data!CE50,\"\")","v":""},{"$f":"IF(Data!$E50=30,Data!CF50,\"\")","v":""},{"$f":"IF(Data!$E50=30,Data!CG50,IF(Data!AF50<>\"\",Data!AF50,\"\"))","v":""},{"$f":"IF(Data!$E50=30,Data!CH50,\"\")","v":""},{"$f":"IF(Data!$E50=30,Data!CI50,\"\")","v":""},{"$f":"IF(Data!$E50=30,Data!CJ50,IF(Data!AG50<>\"\",Data!AG50,\"\"))","v":""},{"$f":"IF(Data!$E50=30,Data!CK50,\"\")","v":""},{"$f":"IF(Data!$E50=30,Data!CL50,\"\")","v":""},{"$f":"IF(Data!$E50=30,Data!CM50,IF(Data!AH50<>\"\",Data!AH50,\"\"))","v":""},{"$f":"IF(Data!$E50=30,Data!CN50,\"\")","v":""},{"$f":"IF(Data!$E50=30,Data!CO50,\"\")","v":""},{"$f":"IF(Data!$E50=30,Data!CP50,IF(Data!AI50<>\"\",Data!AI50,\"\"))","v":""},{"$f":"IF(Data!$E50=30,Data!CQ50,\"\")","v":""},null,null,null,{"$f":"IF(Data!$E50=30,Data!CR50,\"\")","v":""},{"$f":"IF(Data!$E50=30,Data!CS50,IF(Data!AJ50<>\"\",Data!AJ50,\"\"))","v":""},{"$f":"IF(Data!$E50=30,Data!CT50,\"\")","v":""},{"$f":"IF(Data!$E50=30,Data!CU50,\"\")","v":""},{"$f":"IF(Data!$E50=30,Data!CV50,IF(Data!AK50<>\"\",Data!AK50,\"\"))","v":""},{"$f":"IF(Data!$E50=30,Data!CW50,\"\")","v":""},{"$f":"IF(Data!$E50=30,Data!CX50,\"\")","v":""},{"$f":"IF(Data!$E50=30,Data!CY50,IF(Data!AL50<>\"\",Data!AL50,\"\"))","v":""},{"$f":"IF(Data!$E50=30,Data!CZ50,\"\")","v":""},{"$f":"IF(Data!$E50=30,Data!DA50,\"\")","v":""},{"$f":"IF(Data!$E50=30,Data!DB50,IF(Data!AM50<>\"\",Data!AM50,\"\"))","v":""},{"$f":"IF(Data!$E50=30,Data!DC50,\"\")","v":""},{"$f":"IF(Data!$E50=30,Data!DD50,\"\")","v":""},{"$f":"IF(Data!$E50=30,Data!DE50,IF(Data!AN50<>\"\",Data!AN50,\"\"))","v":""},{"$f":"IF(Data!$E50=30,Data!DF50,\"\")","v":""},{"$f":"IF(Data!$E50=30,Data!DG50,\"\")","v":""},{"$f":"IF(Data!$E50=30,Data!DH50,IF(Data!AO50<>\"\",Data!AO50,\"\"))","v":""},{"$f":"IF(Data!$E50=30,Data!DI50,\"\")","v":""},{"$f":"IF(Data!$E50=30,Data!DJ50,\"\")","v":""},{"$f":"IF(Data!$E50=30,Data!DK50,IF(Data!AP50<>\"\",Data!AP50,\"\"))","v":""},{"$f":"IF(Data!$E50=30,Data!DL50,\"\")","v":""},{"$f":"IF(Data!$E50=30,Data!DM50,\"\")","v":""},{"$f":"IF(Data!$E50=30,Data!DN50,IF(Data!AQ50<>\"\",Data!AQ50,\"\"))","v":""},{"$f":"IF(Data!$E50=30,Data!DO50,\"\")","v":""},{"$f":"IF(Data!$E50=30,Data!DP50,\"\")","v":""},{"$f":"IF(Data!$E50=30,Data!DQ50,IF(Data!AR50<>\"\",Data!AR50,\"\"))","v":""},{"$f":"IF(Data!$E50=30,Data!DR50,\"\")","v":""},{"$f":"IF(Data!$E50=30,Data!DS50,\"\")","v":""},{"$f":"IF(Data!$E50=30,Data!DT50,IF(Data!AS50<>\"\",Data!AS50,\"\"))","v":""},{"$f":"IF(Data!$E50=30,Data!DU50,\"\")","v":""}]
[null,{"$f":"IF(Data!A51<>\"\",Data!A51,\"\")","v":""},{"$f":"IF(Data!$E51=30,Data!BN51,\"\")","v":""},{"$f":"IF(Data!$E51=30,Data!BO51,IF(Data!Z51<>\"\",Data!Z51,\"\"))","v":""},{"$f":"IF(Data!$E51=30,Data!BP51,\"\")","v":""},{"$f":"IF(Data!$E51=30,Data!BQ51,\"\")","v":""},{"$f":"IF(Data!$E51=30,Data!BR51,IF(Data!AA51<>\"\",Data!AA51,\"\"))","v":""},{"$f":"IF(Data!$E51=30,Data!BS51,\"\")","v":""},{"$f":"IF(Data!$E51=30,Data!BT51,\"\")","v":""},{"$f":"IF(Data!$E51=30,Data!BU51,IF(Data!AB51<>\"\",Data!AB51,\"\"))","v":""},{"$f":"IF(Data!$E51=30,Data!BV51,\"\")","v":""},{"$f":"IF(Data!$E51=30,Data!BW51,\"\")","v":""},{"$f":"IF(Data!$E51=30,Data!BX51,IF(Data!AC51<>\"\",Data!AC51,\"\"))","v":""},{"$f":"IF(Data!$E51=30,Data!BY51,\"\")","v":""},{"$f":"IF(Data!$E51=30,Data!BZ51,\"\")","v":""},{"$f":"IF(Data!$E51=30,Data!CA51,IF(Data!AD51<>\"\",Data!AD51,\"\"))","v":""},{"$f":"IF(Data!$E51=30,Data!CB51,\"\")","v":""},{"$f":"IF(Data!$E51=30,Data!CC51,\"\")","v":""},{"$f":"IF(Data!$E51=30,Data!CD51,IF(Data!AE51<>\"\",Data!AE51,\"\"))","v":""},{"$f":"IF(Data!$E51=30,Data!CE51,\"\")","v":""},{"$f":"IF(Data!$E51=30,Data!CF51,\"\")","v":""},{"$f":"IF(Data!$E51=30,Data!CG51,IF(Data!AF51<>\"\",Data!AF51,\"\"))","v":""},{"$f":"IF(Data!$E51=30,Data!CH51,\"\")","v":""},{"$f":"IF(Data!$E51=30,Data!CI51,\"\")","v":""},{"$f":"IF(Data!$E51=30,Data!CJ51,IF(Data!AG51<>\"\",Data!AG51,\"\"))","v":""},{"$f":"IF(Data!$E51=30,Data!CK51,\"\")","v":""},{"$f":"IF(Data!$E51=30,Data!CL51,\"\")","v":""},{"$f":"IF(Data!$E51=30,Data!CM51,IF(Data!AH51<>\"\",Data!AH51,\"\"))","v":""},{"$f":"IF(Data!$E51=30,Data!CN51,\"\")","v":""},{"$f":"IF(Data!$E51=30,Data!CO51,\"\")","v":""},{"$f":"IF(Data!$E51=30,Data!CP51,IF(Data!AI51<>\"\",Data!AI51,\"\"))","v":""},{"$f":"IF(Data!$E51=30,Data!CQ51,\"\")","v":""},null,null,null,{"$f":"IF(Data!$E51=30,Data!CR51,\"\")","v":""},{"$f":"IF(Data!$E51=30,Data!CS51,IF(Data!AJ51<>\"\",Data!AJ51,\"\"))","v":""},{"$f":"IF(Data!$E51=30,Data!CT51,\"\")","v":""},{"$f":"IF(Data!$E51=30,Data!CU51,\"\")","v":""},{"$f":"IF(Data!$E51=30,Data!CV51,IF(Data!AK51<>\"\",Data!AK51,\"\"))","v":""},{"$f":"IF(Data!$E51=30,Data!CW51,\"\")","v":""},{"$f":"IF(Data!$E51=30,Data!CX51,\"\")","v":""},{"$f":"IF(Data!$E51=30,Data!CY51,IF(Data!AL51<>\"\",Data!AL51,\"\"))","v":""},{"$f":"IF(Data!$E51=30,Data!CZ51,\"\")","v":""},{"$f":"IF(Data!$E51=30,Data!DA51,\"\")","v":""},{"$f":"IF(Data!$E51=30,Data!DB51,IF(Data!AM51<>\"\",Data!AM51,\"\"))","v":""},{"$f":"IF(Data!$E51=30,Data!DC51,\"\")","v":""},{"$f":"IF(Data!$E51=30,Data!DD51,\"\")","v":""},{"$f":"IF(Data!$E51=30,Data!DE51,IF(Data!AN51<>\"\",Data!AN51,\"\"))","v":""},{"$f":"IF(Data!$E51=30,Data!DF51,\"\")","v":""},{"$f":"IF(Data!$E51=30,Data!DG51,\"\")","v":""},{"$f":"IF(Data!$E51=30,Data!DH51,IF(Data!AO51<>\"\",Data!AO51,\"\"))","v":""},{"$f":"IF(Data!$E51=30,Data!DI51,\"\")","v":""},{"$f":"IF(Data!$E51=30,Data!DJ51,\"\")","v":""},{"$f":"IF(Data!$E51=30,Data!DK51,IF(Data!AP51<>\"\",Data!AP51,\"\"))","v":""},{"$f":"IF(Data!$E51=30,Data!DL51,\"\")","v":""},{"$f":"IF(Data!$E51=30,Data!DM51,\"\")","v":""},{"$f":"IF(Data!$E51=30,Data!DN51,IF(Data!AQ51<>\"\",Data!AQ51,\"\"))","v":""},{"$f":"IF(Data!$E51=30,Data!DO51,\"\")","v":""},{"$f":"IF(Data!$E51=30,Data!DP51,\"\")","v":""},{"$f":"IF(Data!$E51=30,Data!DQ51,IF(Data!AR51<>\"\",Data!AR51,\"\"))","v":""},{"$f":"IF(Data!$E51=30,Data!DR51,\"\")","v":""},{"$f":"IF(Data!$E51=30,Data!DS51,\"\")","v":""},{"$f":"IF(Data!$E51=30,Data!DT51,IF(Data!AS51<>\"\",Data!AS51,\"\"))","v":""},{"$f":"IF(Data!$E51=30,Data!DU51,\"\")","v":""}]
[null,{"$f":"IF(Data!A52<>\"\",Data!A52,\"\")","v":""},{"$f":"IF(Data!$E52=30,Data!BN52,\"\")","v":""},{"$f":"IF(Data!$E52=30,Data!BO52,IF(Data!Z52<>\"\",Data!Z52,\"\"))","v":""},{"$f":"IF(Data!$E52=30,Data!BP52,\"\")","v":""},{"$f":"IF(Data!$E52=30,Data!BQ52,\"\")","v":""},{"$f":"IF(Data!$E52=30,Data!BR52,IF(Data!AA52<>\"\",Data!AA52,\"\"))","v":""},{"$f":"IF(Data!$E52=30,Data!BS52,\"\")","v":""},{"$f":"IF(Data!$E52=30,Data!BT52,\"\")","v":""},{"$f":"IF(Data!$E52=30,Data!BU52,IF(Data!AB52<>\"\",Data!AB52,\"\"))","v":""},{"$f":"IF(Data!$E52=30,Data!BV52,\"\")","v":""},{"$f":"IF(Data!$E52=30,Data!BW52,\"\")","v":""},{"$f":"IF(Data!$E52=30,Data!BX52,IF(Data!AC52<>\"\",Data!AC52,\"\"))","v":""},{"$f":"IF(Data!$E52=30,Data!BY52,\"\")","v":""},{"$f":"IF(Data!$E52=30,Data!BZ52,\"\")","v":""},{"$f":"IF(Data!$E52=30,Data!CA52,IF(Data!AD52<>\"\",Data!AD52,\"\"))","v":""},{"$f":"IF(Data!$E52=30,Data!CB52,\"\")","v":""},{"$f":"IF(Data!$E52=30,Data!CC52,\"\")","v":""},{"$f":"IF(Data!$E52=30,Data!CD52,IF(Data!AE52<>\"\",Data!AE52,\"\"))","v":""},{"$f":"IF(Data!$E52=30,Data!CE52,\"\")","v":""},{"$f":"IF(Data!$E52=30,Data!CF52,\"\")","v":""},{"$f":"IF(Data!$E52=30,Data!CG52,IF(Data!AF52<>\"\",Data!AF52,\"\"))","v":""},{"$f":"IF(Data!$E52=30,Data!CH52,\"\")","v":""},{"$f":"IF(Data!$E52=30,Data!CI52,\"\")","v":""},{"$f":"IF(Data!$E52=30,Data!CJ52,IF(Data!AG52<>\"\",Data!AG52,\"\"))","v":""},{"$f":"IF(Data!$E52=30,Data!CK52,\"\")","v":""},{"$f":"IF(Data!$E52=30,Data!CL52,\"\")","v":""},{"$f":"IF(Data!$E52=30,Data!CM52,IF(Data!AH52<>\"\",Data!AH52,\"\"))","v":""},{"$f":"IF(Data!$E52=30,Data!CN52,\"\")","v":""},{"$f":"IF(Data!$E52=30,Data!CO52,\"\")","v":""},{"$f":"IF(Data!$E52=30,Data!CP52,IF(Data!AI52<>\"\",Data!AI52,\"\"))","v":""},{"$f":"IF(Data!$E52=30,Data!CQ52,\"\")","v":""},null,null,null,{"$f":"IF(Data!$E52=30,Data!CR52,\"\")","v":""},{"$f":"IF(Data!$E52=30,Data!CS52,IF(Data!AJ52<>\"\",Data!AJ52,\"\"))","v":""},{"$f":"IF(Data!$E52=30,Data!CT52,\"\")","v":""},{"$f":"IF(Data!$E52=30,Data!CU52,\"\")","v":""},{"$f":"IF(Data!$E52=30,Data!CV52,IF(Data!AK52<>\"\",Data!AK52,\"\"))","v":""},{"$f":"IF(Data!$E52=30,Data!CW52,\"\")","v":""},{"$f":"IF(Data!$E52=30,Data!CX52,\"\")","v":""},{"$f":"IF(Data!$E52=30,Data!CY52,IF(Data!AL52<>\"\",Data!AL52,\"\"))","v":""},{"$f":"IF(Data!$E52=30,Data!CZ52,\"\")","v":""},{"$f":"IF(Data!$E52=30,Data!DA52,\"\")","v":""},{"$f":"IF(Data!$E52=30,Data!DB52,IF(Data!AM52<>\"\",Data!AM52,\"\"))","v":""},{"$f":"IF(Data!$E52=30,Data!DC52,\"\")","v":""},{"$f":"IF(Data!$E52=30,Data!DD52,\"\")","v":""},{"$f":"IF(Data!$E52=30,Data!DE52,IF(Data!AN52<>\"\",Data!AN52,\"\"))","v":""},{"$f":"IF(Data!$E52=30,Data!DF52,\"\")","v":""},{"$f":"IF(Data!$E52=30,Data!DG52,\"\")","v":""},{"$f":"IF(Data!$E52=30,Data!DH52,IF(Data!AO52<>\"\",Data!AO52,\"\"))","v":""},{"$f":"IF(Data!$E52=30,Data!DI52,\"\")","v":""},{"$f":"IF(Data!$E52=30,Data!DJ52,\"\")","v":""},{"$f":"IF(Data!$E52=30,Data!DK52,IF(Data!AP52<>\"\",Data!AP52,\"\"))","v":""},{"$f":"IF(Data!$E52=30,Data!DL52,\"\")","v":""},{"$f":"IF(Data!$E52=30,Data!DM52,\"\")","v":""},{"$f":"IF(Data!$E52=30,Data!DN52,IF(Data!AQ52<>\"\",Data!AQ52,\"\"))","v":""},{"$f":"IF(Data!$E52=30,Data!DO52,\"\")","v":""},{"$f":"IF(Data!$E52=30,Data!DP52,\"\")","v":""},{"$f":"IF(Data!$E52=30,Data!DQ52,IF(Data!AR52<>\"\",Data!AR52,\"\"))","v":""},{"$f":"IF(Data!$E52=30,Data!DR52,\"\")","v":""},{"$f":"IF(Data!$E52=30,Data!DS52,\"\")","v":""},{"$f":"IF(Data!$E52=30,Data!DT52,IF(Data!AS52<>\"\",Data!AS52,\"\"))","v":""},{"$f":"IF(Data!$E52=30,Data!DU52,\"\")","v":""}]
[null,{"$f":"IF(Data!A53<>\"\",Data!A53,\"\")","v":""},{"$f":"IF(Data!$E53=30,Data!BN53,\"\")","v":""},{"$f":"IF(Data!$E53=30,Data!BO53,IF(Data!Z53<>\"\",Data!Z53,\"\"))","v":""},{"$f":"IF(Data!$E53=30,Data!BP53,\"\")","v":""},{"$f":"IF(Data!$E53=30,Data!BQ53,\"\")","v":""},{"$f":"IF(Data!$E53=30,Data!BR53,IF(Data!AA53<>\"\",Data!AA53,\"\"))","v":""},{"$f":"IF(Data!$E53=30,Data!BS53,\"\")","v":""},{"$f":"IF(Data!$E53=30,Data!BT53,\"\")","v":""},{"$f":"IF(Data!$E53=30,Data!BU53,IF(Data!AB53<>\"\",Data!AB53,\"\"))","v":""},{"$f":"IF(Data!$E53=30,Data!BV53,\"\")","v":""},{"$f":"IF(Data!$E53=30,Data!BW53,\"\")","v":""},{"$f":"IF(Data!$E53=30,Data!BX53,IF(Data!AC53<>\"\",Data!AC53,\"\"))","v":""},{"$f":"IF(Data!$E53=30,Data!BY53,\"\")","v":""},{"$f":"IF(Data!$E53=30,Data!BZ53,\"\")","v":""},{"$f":"IF(Data!$E53=30,Data!CA53,IF(Data!AD53<>\"\",Data!AD53,\"\"))","v":""},{"$f":"IF(Data!$E53=30,Data!CB53,\"\")","v":""},{"$f":"IF(Data!$E53=30,Data!CC53,\"\")","v":""},{"$f":"IF(Data!$E53=30,Data!CD53,IF(Data!AE53<>\"\",Data!AE53,\"\"))","v":""},{"$f":"IF(Data!$E53=30,Data!CE53,\"\")","v":""},{"$f":"IF(Data!$E53=30,Data!CF53,\"\")","v":""},{"$f":"IF(Data!$E53=30,Data!CG53,IF(Data!AF53<>\"\",Data!AF53,\"\"))","v":""},{"$f":"IF(Data!$E53=30,Data!CH53,\"\")","v":""},{"$f":"IF(Data!$E53=30,Data!CI53,\"\")","v":""},{"$f":"IF(Data!$E53=30,Data!CJ53,IF(Data!AG53<>\"\",Data!AG53,\"\"))","v":""},{"$f":"IF(Data!$E53=30,Data!CK53,\"\")","v":""},{"$f":"IF(Data!$E53=30,Data!CL53,\"\")","v":""},{"$f":"IF(Data!$E53=30,Data!CM53,IF(Data!AH53<>\"\",Data!AH53,\"\"))","v":""},{"$f":"IF(Data!$E53=30,Data!CN53,\"\")","v":""},{"$f":"IF(Data!$E53=30,Data!CO53,\"\")","v":""},{"$f":"IF(Data!$E53=30,Data!CP53,IF(Data!AI53<>\"\",Data!AI53,\"\"))","v":""},{"$f":"IF(Data!$E53=30,Data!CQ53,\"\")","v":""},null,null,null,{"$f":"IF(Data!$E53=30,Data!CR53,\"\")","v":""},{"$f":"IF(Data!$E53=30,Data!CS53,IF(Data!AJ53<>\"\",Data!AJ53,\"\"))","v":""},{"$f":"IF(Data!$E53=30,Data!CT53,\"\")","v":""},{"$f":"IF(Data!$E53=30,Data!CU53,\"\")","v":""},{"$f":"IF(Data!$E53=30,Data!CV53,IF(Data!AK53<>\"\",Data!AK53,\"\"))","v":""},{"$f":"IF(Data!$E53=30,Data!CW53,\"\")","v":""},{"$f":"IF(Data!$E53=30,Data!CX53,\"\")","v":""},{"$f":"IF(Data!$E53=30,Data!CY53,IF(Data!AL53<>\"\",Data!AL53,\"\"))","v":""},{"$f":"IF(Data!$E53=30,Data!CZ53,\"\")","v":""},{"$f":"IF(Data!$E53=30,Data!DA53,\"\")","v":""},{"$f":"IF(Data!$E53=30,Data!DB53,IF(Data!AM53<>\"\",Data!AM53,\"\"))","v":""},{"$f":"IF(Data!$E53=30,Data!DC53,\"\")","v":""},{"$f":"IF(Data!$E53=30,Data!DD53,\"\")","v":""},{"$f":"IF(Data!$E53=30,Data!DE53,IF(Data!AN53<>\"\",Data!AN53,\"\"))","v":""},{"$f":"IF(Data!$E53=30,Data!DF53,\"\")","v":""},{"$f":"IF(Data!$E53=30,Data!DG53,\"\")","v":""},{"$f":"IF(Data!$E53=30,Data!DH53,IF(Data!AO53<>\"\",Data!AO53,\"\"))","v":""},{"$f":"IF(Data!$E53=30,Data!DI53,\"\")","v":""},{"$f":"IF(Data!$E53=30,Data!DJ53,\"\")","v":""},{"$f":"IF(Data!$E53=30,Data!DK53,IF(Data!AP53<>\"\",Data!AP53,\"\"))","v":""},{"$f":"IF(Data!$E53=30,Data!DL53,\"\")","v":""},{"$f":"IF(Data!$E53=30,Data!DM53,\"\")","v":""},{"$f":"IF(Data!$E53=30,Data!DN53,IF(Data!AQ53<>\"\",Data!AQ53,\"\"))","v":""},{"$f":"IF(Data!$E53=30,Data!DO53,\"\")","v":""},{"$f":"IF(Data!$E53=30,Data!DP53,\"\")","v":""},{"$f":"IF(Data!$E53=30,Data!DQ53,IF(Data!AR53<>\"\",Data!AR53,\"\"))","v":""},{"$f":"IF(Data!$E53=30,Data!DR53,\"\")","v":""},{"$f":"IF(Data!$E53=30,Data!DS53,\"\")","v":""},{"$f":"IF(Data!$E53=30,Data!DT53,IF(Data!AS53<>\"\",Data!AS53,\"\"))","v":""},{"$f":"IF(Data!$E53=30,Data!DU53,\"\")","v":""}]
[null,{"$f":"IF(Data!A54<>\"\",Data!A54,\"\")","v":""},{"$f":"IF(Data!$E54=30,Data!BN54,\"\")","v":""},{"$f":"IF(Data!$E54=30,Data!BO54,IF(Data!Z54<>\"\",Data!Z54,\"\"))","v":""},{"$f":"IF(Data!$E54=30,Data!BP54,\"\")","v":""},{"$f":"IF(Data!$E54=30,Data!BQ54,\"\")","v":""},{"$f":"IF(Data!$E54=30,Data!BR54,IF(Data!AA54<>\"\",Data!AA54,\"\"))","v":""},{"$f":"IF(Data!$E54=30,Data!BS54,\"\")","v":""},{"$f":"IF(Data!$E54=30,Data!BT54,\"\")","v":""},{"$f":"IF(Data!$E54=30,Data!BU54,IF(Data!AB54<>\"\",Data!AB54,\"\"))","v":""},{"$f":"IF(Data!$E54=30,Data!BV54,\"\")","v":""},{"$f":"IF(Data!$E54=30,Data!BW54,\"\")","v":""},{"$f":"IF(Data!$E54=30,Data!BX54,IF(Data!AC54<>\"\",Data!AC54,\"\"))","v":""},{"$f":"IF(Data!$E54=30,Data!BY54,\"\")","v":""},{"$f":"IF(Data!$E54=30,Data!BZ54,\"\")","v":""},{"$f":"IF(Data!$E54=30,Data!CA54,IF(Data!AD54<>\"\",Data!AD54,\"\"))","v":""},{"$f":"IF(Data!$E54=30,Data!CB54,\"\")","v":""},{"$f":"IF(Data!$E54=30,Data!CC54,\"\")","v":""},{"$f":"IF(Data!$E54=30,Data!CD54,IF(Data!AE54<>\"\",Data!AE54,\"\"))","v":""},{"$f":"IF(Data!$E54=30,Data!CE54,\"\")","v":""},{"$f":"IF(Data!$E54=30,Data!CF54,\"\")","v":""},{"$f":"IF(Data!$E54=30,Data!CG54,IF(Data!AF54<>\"\",Data!AF54,\"\"))","v":""},{"$f":"IF(Data!$E54=30,Data!CH54,\"\")","v":""},{"$f":"IF(Data!$E54=30,Data!CI54,\"\")","v":""},{"$f":"IF(Data!$E54=30,Data!CJ54,IF(Data!AG54<>\"\",Data!AG54,\"\"))","v":""},{"$f":"IF(Data!$E54=30,Data!CK54,\"\")","v":""},{"$f":"IF(Data!$E54=30,Data!CL54,\"\")","v":""},{"$f":"IF(Data!$E54=30,Data!CM54,IF(Data!AH54<>\"\",Data!AH54,\"\"))","v":""},{"$f":"IF(Data!$E54=30,Data!CN54,\"\")","v":""},{"$f":"IF(Data!$E54=30,Data!CO54,\"\")","v":""},{"$f":"IF(Data!$E54=30,Data!CP54,IF(Data!AI54<>\"\",Data!AI54,\"\"))","v":""},{"$f":"IF(Data!$E54=30,Data!CQ54,\"\")","v":""},null,null,null,{"$f":"IF(Data!$E54=30,Data!CR54,\"\")","v":""},{"$f":"IF(Data!$E54=30,Data!CS54,IF(Data!AJ54<>\"\",Data!AJ54,\"\"))","v":""},{"$f":"IF(Data!$E54=30,Data!CT54,\"\")","v":""},{"$f":"IF(Data!$E54=30,Data!CU54,\"\")","v":""},{"$f":"IF(Data!$E54=30,Data!CV54,IF(Data!AK54<>\"\",Data!AK54,\"\"))","v":""},{"$f":"IF(Data!$E54=30,Data!CW54,\"\")","v":""},{"$f":"IF(Data!$E54=30,Data!CX54,\"\")","v":""},{"$f":"IF(Data!$E54=30,Data!CY54,IF(Data!AL54<>\"\",Data!AL54,\"\"))","v":""},{"$f":"IF(Data!$E54=30,Data!CZ54,\"\")","v":""},{"$f":"IF(Data!$E54=30,Data!DA54,\"\")","v":""},{"$f":"IF(Data!$E54=30,Data!DB54,IF(Data!AM54<>\"\",Data!AM54,\"\"))","v":""},{"$f":"IF(Data!$E54=30,Data!DC54,\"\")","v":""},{"$f":"IF(Data!$E54=30,Data!DD54,\"\")","v":""},{"$f":"IF(Data!$E54=30,Data!DE54,IF(Data!AN54<>\"\",Data!AN54,\"\"))","v":""},{"$f":"IF(Data!$E54=30,Data!DF54,\"\")","v":""},{"$f":"IF(Data!$E54=30,Data!DG54,\"\")","v":""},{"$f":"IF(Data!$E54=30,Data!DH54,IF(Data!AO54<>\"\",Data!AO54,\"\"))","v":""},{"$f":"IF(Data!$E54=30,Data!DI54,\"\")","v":""},{"$f":"IF(Data!$E54=30,Data!DJ54,\"\")","v":""},{"$f":"IF(Data!$E54=30,Data!DK54,IF(Data!AP54<>\"\",Data!AP54,\"\"))","v":""},{"$f":"IF(Data!$E54=30,Data!DL54,\"\")","v":""},{"$f":"IF(Data!$E54=30,Data!DM54,\"\")","v":""},{"$f":"IF(Data!$E54=30,Data!DN54,IF(Data!AQ54<>\"\",Data!AQ54,\"\"))","v":""},{"$f":"IF(Data!$E54=30,Data!DO54,\"\")","v":""},{"$f":"IF(Data!$E54=30,Data!DP54,\"\")","v":""},{"$f":"IF(Data!$E54=30,Data!DQ54,IF(Data!AR54<>\"\",Data!AR54,\"\"))","v":""},{"$f":"IF(Data!$E54=30,Data!DR54,\"\")","v":""},{"$f":"IF(Data!$E54=30,Data!DS54,\"\")","v":""},{"$f":"IF(Data!$E54=30,Data!DT54,IF(Data!AS54<>\"\",Data!AS54,\"\"))","v":""},{"$f":"IF(Data!$E54=30,Data!DU54,\"\")","v":""}]
[null,{"$f":"IF(Data!A55<>\"\",Data!A55,\"\")","v":""},{"$f":"IF(Data!$E55=30,Data!BN55,\"\")","v":""},{"$f":"IF(Data!$E55=30,Data!BO55,IF(Data!Z55<>\"\",Data!Z55,\"\"))","v":""},{"$f":"IF(Data!$E55=30,Data!BP55,\"\")","v":""},{"$f":"IF(Data!$E55=30,Data!BQ55,\"\")","v":""},{"$f":"IF(Data!$E55=30,Data!BR55,IF(Data!AA55<>\"\",Data!AA55,\"\"))","v":""},{"$f":"IF(Data!$E55=30,Data!BS55,\"\")","v":""},{"$f":"IF(Data!$E55=30,Data!BT55,\"\")","v":""},{"$f":"IF(Data!$E55=30,Data!BU55,IF(Data!AB55<>\"\",Data!AB55,\"\"))","v":""},{"$f":"IF(Data!$E55=30,Data!BV55,\"\")","v":""},{"$f":"IF(Data!$E55=30,Data!BW55,\"\")","v":""},{"$f":"IF(Data!$E55=30,Data!BX55,IF(Data!AC55<>\"\",Data!AC55,\"\"))","v":""},{"$f":"IF(Data!$E55=30,Data!BY55,\"\")","v":""},{"$f":"IF(Data!$E55=30,Data!BZ55,\"\")","v":""},{"$f":"IF(Data!$E55=30,Data!CA55,IF(Data!AD55<>\"\",Data!AD55,\"\"))","v":""},{"$f":"IF(Data!$E55=30,Data!CB55,\"\")","v":""},{"$f":"IF(Data!$E55=30,Data!CC55,\"\")","v":""},{"$f":"IF(Data!$E55=30,Data!CD55,IF(Data!AE55<>\"\",Data!AE55,\"\"))","v":""},{"$f":"IF(Data!$E55=30,Data!CE55,\"\")","v":""},{"$f":"IF(Data!$E55=30,Data!CF55,\"\")","v":""},{"$f":"IF(Data!$E55=30,Data!CG55,IF(Data!AF55<>\"\",Data!AF55,\"\"))","v":""},{"$f":"IF(Data!$E55=30,Data!CH55,\"\")","v":""},{"$f":"IF(Data!$E55=30,Data!CI55,\"\")","v":""},{"$f":"IF(Data!$E55=30,Data!CJ55,IF(Data!AG55<>\"\",Data!AG55,\"\"))","v":""},{"$f":"IF(Data!$E55=30,Data!CK55,\"\")","v":""},{"$f":"IF(Data!$E55=30,Data!CL55,\"\")","v":""},{"$f":"IF(Data!$E55=30,Data!CM55,IF(Data!AH55<>\"\",Data!AH55,\"\"))","v":""},{"$f":"IF(Data!$E55=30,Data!CN55,\"\")","v":""},{"$f":"IF(Data!$E55=30,Data!CO55,\"\")","v":""},{"$f":"IF(Data!$E55=30,Data!CP55,IF(Data!AI55<>\"\",Data!AI55,\"\"))","v":""},{"$f":"IF(Data!$E55=30,Data!CQ55,\"\")","v":""},null,null,null,{"$f":"IF(Data!$E55=30,Data!CR55,\"\")","v":""},{"$f":"IF(Data!$E55=30,Data!CS55,IF(Data!AJ55<>\"\",Data!AJ55,\"\"))","v":""},{"$f":"IF(Data!$E55=30,Data!CT55,\"\")","v":""},{"$f":"IF(Data!$E55=30,Data!CU55,\"\")","v":""},{"$f":"IF(Data!$E55=30,Data!CV55,IF(Data!AK55<>\"\",Data!AK55,\"\"))","v":""},{"$f":"IF(Data!$E55=30,Data!CW55,\"\")","v":""},{"$f":"IF(Data!$E55=30,Data!CX55,\"\")","v":""},{"$f":"IF(Data!$E55=30,Data!CY55,IF(Data!AL55<>\"\",Data!AL55,\"\"))","v":""},{"$f":"IF(Data!$E55=30,Data!CZ55,\"\")","v":""},{"$f":"IF(Data!$E55=30,Data!DA55,\"\")","v":""},{"$f":"IF(Data!$E55=30,Data!DB55,IF(Data!AM55<>\"\",Data!AM55,\"\"))","v":""},{"$f":"IF(Data!$E55=30,Data!DC55,\"\")","v":""},{"$f":"IF(Data!$E55=30,Data!DD55,\"\")","v":""},{"$f":"IF(Data!$E55=30,Data!DE55,IF(Data!AN55<>\"\",Data!AN55,\"\"))","v":""},{"$f":"IF(Data!$E55=30,Data!DF55,\"\")","v":""},{"$f":"IF(Data!$E55=30,Data!DG55,\"\")","v":""},{"$f":"IF(Data!$E55=30,Data!DH55,IF(Data!AO55<>\"\",Data!AO55,\"\"))","v":""},{"$f":"IF(Data!$E55=30,Data!DI55,\"\")","v":""},{"$f":"IF(Data!$E55=30,Data!DJ55,\"\")","v":""},{"$f":"IF(Data!$E55=30,Data!DK55,IF(Data!AP55<>\"\",Data!AP55,\"\"))","v":""},{"$f":"IF(Data!$E55=30,Data!DL55,\"\")","v":""},{"$f":"IF(Data!$E55=30,Data!DM55,\"\")","v":""},{"$f":"IF(Data!$E55=30,Data!DN55,IF(Data!AQ55<>\"\",Data!AQ55,\"\"))","v":""},{"$f":"IF(Data!$E55=30,Data!DO55,\"\")","v":""},{"$f":"IF(Data!$E55=30,Data!DP55,\"\")","v":""},{"$f":"IF(Data!$E55=30,Data!DQ55,IF(Data!AR55<>\"\",Data!AR55,\"\"))","v":""},{"$f":"IF(Data!$E55=30,Data!DR55,\"\")","v":""},{"$f":"IF(Data!$E55=30,Data!DS55,\"\")","v":""},{"$f":"IF(Data!$E55=30,Data!DT55,IF(Data!AS55<>\"\",Data!AS55,\"\"))","v":""},{"$f":"IF(Data!$E55=30,Data!DU55,\"\")","v":""}]
[null,{"$f":"IF(Data!A56<>\"\",Data!A56,\"\")","v":""},{"$f":"IF(Data!$E56=30,Data!BN56,\"\")","v":""},{"$f":"IF(Data!$E56=30,Data!BO56,IF(Data!Z56<>\"\",Data!Z56,\"\"))","v":""},{"$f":"IF(Data!$E56=30,Data!BP56,\"\")","v":""},{"$f":"IF(Data!$E56=30,Data!BQ56,\"\")","v":""},{"$f":"IF(Data!$E56=30,Data!BR56,IF(Data!AA56<>\"\",Data!AA56,\"\"))","v":""},{"$f":"IF(Data!$E56=30,Data!BS56,\"\")","v":""},{"$f":"IF(Data!$E56=30,Data!BT56,\"\")","v":""},{"$f":"IF(Data!$E56=30,Data!BU56,IF(Data!AB56<>\"\",Data!AB56,\"\"))","v":""},{"$f":"IF(Data!$E56=30,Data!BV56,\"\")","v":""},{"$f":"IF(Data!$E56=30,Data!BW56,\"\")","v":""},{"$f":"IF(Data!$E56=30,Data!BX56,IF(Data!AC56<>\"\",Data!AC56,\"\"))","v":""},{"$f":"IF(Data!$E56=30,Data!BY56,\"\")","v":""},{"$f":"IF(Data!$E56=30,Data!BZ56,\"\")","v":""},{"$f":"IF(Data!$E56=30,Data!CA56,IF(Data!AD56<>\"\",Data!AD56,\"\"))","v":""},{"$f":"IF(Data!$E56=30,Data!CB56,\"\")","v":""},{"$f":"IF(Data!$E56=30,Data!CC56,\"\")","v":""},{"$f":"IF(Data!$E56=30,Data!CD56,IF(Data!AE56<>\"\",Data!AE56,\"\"))","v":""},{"$f":"IF(Data!$E56=30,Data!CE56,\"\")","v":""},{"$f":"IF(Data!$E56=30,Data!CF56,\"\")","v":""},{"$f":"IF(Data!$E56=30,Data!CG56,IF(Data!AF56<>\"\",Data!AF56,\"\"))","v":""},{"$f":"IF(Data!$E56=30,Data!CH56,\"\")","v":""},{"$f":"IF(Data!$E56=30,Data!CI56,\"\")","v":""},{"$f":"IF(Data!$E56=30,Data!CJ56,IF(Data!AG56<>\"\",Data!AG56,\"\"))","v":""},{"$f":"IF(Data!$E56=30,Data!CK56,\"\")","v":""},{"$f":"IF(Data!$E56=30,Data!CL56,\"\")","v":""},{"$f":"IF(Data!$E56=30,Data!CM56,IF(Data!AH56<>\"\",Data!AH56,\"\"))","v":""},{"$f":"IF(Data!$E56=30,Data!CN56,\"\")","v":""},{"$f":"IF(Data!$E56=30,Data!CO56,\"\")","v":""},{"$f":"IF(Data!$E56=30,Data!CP56,IF(Data!AI56<>\"\",Data!AI56,\"\"))","v":""},{"$f":"IF(Data!$E56=30,Data!CQ56,\"\")","v":""},null,null,null,{"$f":"IF(Data!$E56=30,Data!CR56,\"\")","v":""},{"$f":"IF(Data!$E56=30,Data!CS56,IF(Data!AJ56<>\"\",Data!AJ56,\"\"))","v":""},{"$f":"IF(Data!$E56=30,Data!CT56,\"\")","v":""},{"$f":"IF(Data!$E56=30,Data!CU56,\"\")","v":""},{"$f":"IF(Data!$E56=30,Data!CV56,IF(Data!AK56<>\"\",Data!AK56,\"\"))","v":""},{"$f":"IF(Data!$E56=30,Data!CW56,\"\")","v":""},{"$f":"IF(Data!$E56=30,Data!CX56,\"\")","v":""},{"$f":"IF(Data!$E56=30,Data!CY56,IF(Data!AL56<>\"\",Data!AL56,\"\"))","v":""},{"$f":"IF(Data!$E56=30,Data!CZ56,\"\")","v":""},{"$f":"IF(Data!$E56=30,Data!DA56,\"\")","v":""},{"$f":"IF(Data!$E56=30,Data!DB56,IF(Data!AM56<>\"\",Data!AM56,\"\"))","v":""},{"$f":"IF(Data!$E56=30,Data!DC56,\"\")","v":""},{"$f":"IF(Data!$E56=30,Data!DD56,\"\")","v":""},{"$f":"IF(Data!$E56=30,Data!DE56,IF(Data!AN56<>\"\",Data!AN56,\"\"))","v":""},{"$f":"IF(Data!$E56=30,Data!DF56,\"\")","v":""},{"$f":"IF(Data!$E56=30,Data!DG56,\"\")","v":""},{"$f":"IF(Data!$E56=30,Data!DH56,IF(Data!AO56<>\"\",Data!AO56,\"\"))","v":""},{"$f":"IF(Data!$E56=30,Data!DI56,\"\")","v":""},{"$f":"IF(Data!$E56=30,Data!DJ56,\"\")","v":""},{"$f":"IF(Data!$E56=30,Data!DK56,IF(Data!AP56<>\"\",Data!AP56,\"\"))","v":""},{"$f":"IF(Data!$E56=30,Data!DL56,\"\")","v":""},{"$f":"IF(Data!$E56=30,Data!DM56,\"\")","v":""},{"$f":"IF(Data!$E56=30,Data!DN56,IF(Data!AQ56<>\"\",Data!AQ56,\"\"))","v":""},{"$f":"IF(Data!$E56=30,Data!DO56,\"\")","v":""},{"$f":"IF(Data!$E56=30,Data!DP56,\"\")","v":""},{"$f":"IF(Data!$E56=30,Data!DQ56,IF(Data!AR56<>\"\",Data!AR56,\"\"))","v":""},{"$f":"IF(Data!$E56=30,Data!DR56,\"\")","v":""},{"$f":"IF(Data!$E56=30,Data!DS56,\"\")","v":""},{"$f":"IF(Data!$E56=30,Data!DT56,IF(Data!AS56<>\"\",Data!AS56,\"\"))","v":""},{"$f":"IF(Data!$E56=30,Data!DU56,\"\")","v":""}]
[null,{"$f":"IF(Data!A57<>\"\",Data!A57,\"\")","v":""},{"$f":"IF(Data!$E57=30,Data!BN57,\"\")","v":""},{"$f":"IF(Data!$E57=30,Data!BO57,IF(Data!Z57<>\"\",Data!Z57,\"\"))","v":""},{"$f":"IF(Data!$E57=30,Data!BP57,\"\")","v":""},{"$f":"IF(Data!$E57=30,Data!BQ57,\"\")","v":""},{"$f":"IF(Data!$E57=30,Data!BR57,IF(Data!AA57<>\"\",Data!AA57,\"\"))","v":""},{"$f":"IF(Data!$E57=30,Data!BS57,\"\")","v":""},{"$f":"IF(Data!$E57=30,Data!BT57,\"\")","v":""},{"$f":"IF(Data!$E57=30,Data!BU57,IF(Data!AB57<>\"\",Data!AB57,\"\"))","v":""},{"$f":"IF(Data!$E57=30,Data!BV57,\"\")","v":""},{"$f":"IF(Data!$E57=30,Data!BW57,\"\")","v":""},{"$f":"IF(Data!$E57=30,Data!BX57,IF(Data!AC57<>\"\",Data!AC57,\"\"))","v":""},{"$f":"IF(Data!$E57=30,Data!BY57,\"\")","v":""},{"$f":"IF(Data!$E57=30,Data!BZ57,\"\")","v":""},{"$f":"IF(Data!$E57=30,Data!CA57,IF(Data!AD57<>\"\",Data!AD57,\"\"))","v":""},{"$f":"IF(Data!$E57=30,Data!CB57,\"\")","v":""},{"$f":"IF(Data!$E57=30,Data!CC57,\"\")","v":""},{"$f":"IF(Data!$E57=30,Data!CD57,IF(Data!AE57<>\"\",Data!AE57,\"\"))","v":""},{"$f":"IF(Data!$E57=30,Data!CE57,\"\")","v":""},{"$f":"IF(Data!$E57=30,Data!CF57,\"\")","v":""},{"$f":"IF(Data!$E57=30,Data!CG57,IF(Data!AF57<>\"\",Data!AF57,\"\"))","v":""},{"$f":"IF(Data!$E57=30,Data!CH57,\"\")","v":""},{"$f":"IF(Data!$E57=30,Data!CI57,\"\")","v":""},{"$f":"IF(Data!$E57=30,Data!CJ57,IF(Data!AG57<>\"\",Data!AG57,\"\"))","v":""},{"$f":"IF(Data!$E57=30,Data!CK57,\"\")","v":""},{"$f":"IF(Data!$E57=30,Data!CL57,\"\")","v":""},{"$f":"IF(Data!$E57=30,Data!CM57,IF(Data!AH57<>\"\",Data!AH57,\"\"))","v":""},{"$f":"IF(Data!$E57=30,Data!CN57,\"\")","v":""},{"$f":"IF(Data!$E57=30,Data!CO57,\"\")","v":""},{"$f":"IF(Data!$E57=30,Data!CP57,IF(Data!AI57<>\"\",Data!AI57,\"\"))","v":""},{"$f":"IF(Data!$E57=30,Data!CQ57,\"\")","v":""},null,null,null,{"$f":"IF(Data!$E57=30,Data!CR57,\"\")","v":""},{"$f":"IF(Data!$E57=30,Data!CS57,IF(Data!AJ57<>\"\",Data!AJ57,\"\"))","v":""},{"$f":"IF(Data!$E57=30,Data!CT57,\"\")","v":""},{"$f":"IF(Data!$E57=30,Data!CU57,\"\")","v":""},{"$f":"IF(Data!$E57=30,Data!CV57,IF(Data!AK57<>\"\",Data!AK57,\"\"))","v":""},{"$f":"IF(Data!$E57=30,Data!CW57,\"\")","v":""},{"$f":"IF(Data!$E57=30,Data!CX57,\"\")","v":""},{"$f":"IF(Data!$E57=30,Data!CY57,IF(Data!AL57<>\"\",Data!AL57,\"\"))","v":""},{"$f":"IF(Data!$E57=30,Data!CZ57,\"\")","v":""},{"$f":"IF(Data!$E57=30,Data!DA57,\"\")","v":""},{"$f":"IF(Data!$E57=30,Data!DB57,IF(Data!AM57<>\"\",Data!AM57,\"\"))","v":""},{"$f":"IF(Data!$E57=30,Data!DC57,\"\")","v":""},{"$f":"IF(Data!$E57=30,Data!DD57,\"\")","v":""},{"$f":"IF(Data!$E57=30,Data!DE57,IF(Data!AN57<>\"\",Data!AN57,\"\"))","v":""},{"$f":"IF(Data!$E57=30,Data!DF57,\"\")","v":""},{"$f":"IF(Data!$E57=30,Data!DG57,\"\")","v":""},{"$f":"IF(Data!$E57=30,Data!DH57,IF(Data!AO57<>\"\",Data!AO57,\"\"))","v":""},{"$f":"IF(Data!$E57=30,Data!DI57,\"\")","v":""},{"$f":"IF(Data!$E57=30,Data!DJ57,\"\")","v":""},{"$f":"IF(Data!$E57=30,Data!DK57,IF(Data!AP57<>\"\",Data!AP57,\"\"))","v":""},{"$f":"IF(Data!$E57=30,Data!DL57,\"\")","v":""},{"$f":"IF(Data!$E57=30,Data!DM57,\"\")","v":""},{"$f":"IF(Data!$E57=30,Data!DN57,IF(Data!AQ57<>\"\",Data!AQ57,\"\"))","v":""},{"$f":"IF(Data!$E57=30,Data!DO57,\"\")","v":""},{"$f":"IF(Data!$E57=30,Data!DP57,\"\")","v":""},{"$f":"IF(Data!$E57=30,Data!DQ57,IF(Data!AR57<>\"\",Data!AR57,\"\"))","v":""},{"$f":"IF(Data!$E57=30,Data!DR57,\"\")","v":""},{"$f":"IF(Data!$E57=30,Data!DS57,\"\")","v":""},{"$f":"IF(Data!$E57=30,Data!DT57,IF(Data!AS57<>\"\",Data!AS57,\"\"))","v":""},{"$f":"IF(Data!$E57=30,Data!DU57,\"\")","v":""}]
[null,{"$f":"IF(Data!A58<>\"\",Data!A58,\"\")","v":""},{"$f":"IF(Data!$E58=30,Data!BN58,\"\")","v":""},{"$f":"IF(Data!$E58=30,Data!BO58,IF(Data!Z58<>\"\",Data!Z58,\"\"))","v":""},{"$f":"IF(Data!$E58=30,Data!BP58,\"\")","v":""},{"$f":"IF(Data!$E58=30,Data!BQ58,\"\")","v":""},{"$f":"IF(Data!$E58=30,Data!BR58,IF(Data!AA58<>\"\",Data!AA58,\"\"))","v":""},{"$f":"IF(Data!$E58=30,Data!BS58,\"\")","v":""},{"$f":"IF(Data!$E58=30,Data!BT58,\"\")","v":""},{"$f":"IF(Data!$E58=30,Data!BU58,IF(Data!AB58<>\"\",Data!AB58,\"\"))","v":""},{"$f":"IF(Data!$E58=30,Data!BV58,\"\")","v":""},{"$f":"IF(Data!$E58=30,Data!BW58,\"\")","v":""},{"$f":"IF(Data!$E58=30,Data!BX58,IF(Data!AC58<>\"\",Data!AC58,\"\"))","v":""},{"$f":"IF(Data!$E58=30,Data!BY58,\"\")","v":""},{"$f":"IF(Data!$E58=30,Data!BZ58,\"\")","v":""},{"$f":"IF(Data!$E58=30,Data!CA58,IF(Data!AD58<>\"\",Data!AD58,\"\"))","v":""},{"$f":"IF(Data!$E58=30,Data!CB58,\"\")","v":""},{"$f":"IF(Data!$E58=30,Data!CC58,\"\")","v":""},{"$f":"IF(Data!$E58=30,Data!CD58,IF(Data!AE58<>\"\",Data!AE58,\"\"))","v":""},{"$f":"IF(Data!$E58=30,Data!CE58,\"\")","v":""},{"$f":"IF(Data!$E58=30,Data!CF58,\"\")","v":""},{"$f":"IF(Data!$E58=30,Data!CG58,IF(Data!AF58<>\"\",Data!AF58,\"\"))","v":""},{"$f":"IF(Data!$E58=30,Data!CH58,\"\")","v":""},{"$f":"IF(Data!$E58=30,Data!CI58,\"\")","v":""},{"$f":"IF(Data!$E58=30,Data!CJ58,IF(Data!AG58<>\"\",Data!AG58,\"\"))","v":""},{"$f":"IF(Data!$E58=30,Data!CK58,\"\")","v":""},{"$f":"IF(Data!$E58=30,Data!CL58,\"\")","v":""},{"$f":"IF(Data!$E58=30,Data!CM58,IF(Data!AH58<>\"\",Data!AH58,\"\"))","v":""},{"$f":"IF(Data!$E58=30,Data!CN58,\"\")","v":""},{"$f":"IF(Data!$E58=30,Data!CO58,\"\")","v":""},{"$f":"IF(Data!$E58=30,Data!CP58,IF(Data!AI58<>\"\",Data!AI58,\"\"))","v":""},{"$f":"IF(Data!$E58=30,Data!CQ58,\"\")","v":""},null,null,null,{"$f":"IF(Data!$E58=30,Data!CR58,\"\")","v":""},{"$f":"IF(Data!$E58=30,Data!CS58,IF(Data!AJ58<>\"\",Data!AJ58,\"\"))","v":""},{"$f":"IF(Data!$E58=30,Data!CT58,\"\")","v":""},{"$f":"IF(Data!$E58=30,Data!CU58,\"\")","v":""},{"$f":"IF(Data!$E58=30,Data!CV58,IF(Data!AK58<>\"\",Data!AK58,\"\"))","v":""},{"$f":"IF(Data!$E58=30,Data!CW58,\"\")","v":""},{"$f":"IF(Data!$E58=30,Data!CX58,\"\")","v":""},{"$f":"IF(Data!$E58=30,Data!CY58,IF(Data!AL58<>\"\",Data!AL58,\"\"))","v":""},{"$f":"IF(Data!$E58=30,Data!CZ58,\"\")","v":""},{"$f":"IF(Data!$E58=30,Data!DA58,\"\")","v":""},{"$f":"IF(Data!$E58=30,Data!DB58,IF(Data!AM58<>\"\",Data!AM58,\"\"))","v":""},{"$f":"IF(Data!$E58=30,Data!DC58,\"\")","v":""},{"$f":"IF(Data!$E58=30,Data!DD58,\"\")","v":""},{"$f":"IF(Data!$E58=30,Data!DE58,IF(Data!AN58<>\"\",Data!AN58,\"\"))","v":""},{"$f":"IF(Data!$E58=30,Data!DF58,\"\")","v":""},{"$f":"IF(Data!$E58=30,Data!DG58,\"\")","v":""},{"$f":"IF(Data!$E58=30,Data!DH58,IF(Data!AO58<>\"\",Data!AO58,\"\"))","v":""},{"$f":"IF(Data!$E58=30,Data!DI58,\"\")","v":""},{"$f":"IF(Data!$E58=30,Data!DJ58,\"\")","v":""},{"$f":"IF(Data!$E58=30,Data!DK58,IF(Data!AP58<>\"\",Data!AP58,\"\"))","v":""},{"$f":"IF(Data!$E58=30,Data!DL58,\"\")","v":""},{"$f":"IF(Data!$E58=30,Data!DM58,\"\")","v":""},{"$f":"IF(Data!$E58=30,Data!DN58,IF(Data!AQ58<>\"\",Data!AQ58,\"\"))","v":""},{"$f":"IF(Data!$E58=30,Data!DO58,\"\")","v":""},{"$f":"IF(Data!$E58=30,Data!DP58,\"\")","v":""},{"$f":"IF(Data!$E58=30,Data!DQ58,IF(Data!AR58<>\"\",Data!AR58,\"\"))","v":""},{"$f":"IF(Data!$E58=30,Data!DR58,\"\")","v":""},{"$f":"IF(Data!$E58=30,Data!DS58,\"\")","v":""},{"$f":"IF(Data!$E58=30,Data!DT58,IF(Data!AS58<>\"\",Data!AS58,\"\"))","v":""},{"$f":"IF(Data!$E58=30,Data!DU58,\"\")","v":""}]
[null,{"$f":"IF(Data!A59<>\"\",Data!A59,\"\")","v":""},{"$f":"IF(Data!$E59=30,Data!BN59,\"\")","v":""},{"$f":"IF(Data!$E59=30,Data!BO59,IF(Data!Z59<>\"\",Data!Z59,\"\"))","v":""},{"$f":"IF(Data!$E59=30,Data!BP59,\"\")","v":""},{"$f":"IF(Data!$E59=30,Data!BQ59,\"\")","v":""},{"$f":"IF(Data!$E59=30,Data!BR59,IF(Data!AA59<>\"\",Data!AA59,\"\"))","v":""},{"$f":"IF(Data!$E59=30,Data!BS59,\"\")","v":""},{"$f":"IF(Data!$E59=30,Data!BT59,\"\")","v":""},{"$f":"IF(Data!$E59=30,Data!BU59,IF(Data!AB59<>\"\",Data!AB59,\"\"))","v":""},{"$f":"IF(Data!$E59=30,Data!BV59,\"\")","v":""},{"$f":"IF(Data!$E59=30,Data!BW59,\"\")","v":""},{"$f":"IF(Data!$E59=30,Data!BX59,IF(Data!AC59<>\"\",Data!AC59,\"\"))","v":""},{"$f":"IF(Data!$E59=30,Data!BY59,\"\")","v":""},{"$f":"IF(Data!$E59=30,Data!BZ59,\"\")","v":""},{"$f":"IF(Data!$E59=30,Data!CA59,IF(Data!AD59<>\"\",Data!AD59,\"\"))","v":""},{"$f":"IF(Data!$E59=30,Data!CB59,\"\")","v":""},{"$f":"IF(Data!$E59=30,Data!CC59,\"\")","v":""},{"$f":"IF(Data!$E59=30,Data!CD59,IF(Data!AE59<>\"\",Data!AE59,\"\"))","v":""},{"$f":"IF(Data!$E59=30,Data!CE59,\"\")","v":""},{"$f":"IF(Data!$E59=30,Data!CF59,\"\")","v":""},{"$f":"IF(Data!$E59=30,Data!CG59,IF(Data!AF59<>\"\",Data!AF59,\"\"))","v":""},{"$f":"IF(Data!$E59=30,Data!CH59,\"\")","v":""},{"$f":"IF(Data!$E59=30,Data!CI59,\"\")","v":""},{"$f":"IF(Data!$E59=30,Data!CJ59,IF(Data!AG59<>\"\",Data!AG59,\"\"))","v":""},{"$f":"IF(Data!$E59=30,Data!CK59,\"\")","v":""},{"$f":"IF(Data!$E59=30,Data!CL59,\"\")","v":""},{"$f":"IF(Data!$E59=30,Data!CM59,IF(Data!AH59<>\"\",Data!AH59,\"\"))","v":""},{"$f":"IF(Data!$E59=30,Data!CN59,\"\")","v":""},{"$f":"IF(Data!$E59=30,Data!CO59,\"\")","v":""},{"$f":"IF(Data!$E59=30,Data!CP59,IF(Data!AI59<>\"\",Data!AI59,\"\"))","v":""},{"$f":"IF(Data!$E59=30,Data!CQ59,\"\")","v":""},null,null,null,{"$f":"IF(Data!$E59=30,Data!CR59,\"\")","v":""},{"$f":"IF(Data!$E59=30,Data!CS59,IF(Data!AJ59<>\"\",Data!AJ59,\"\"))","v":""},{"$f":"IF(Data!$E59=30,Data!CT59,\"\")","v":""},{"$f":"IF(Data!$E59=30,Data!CU59,\"\")","v":""},{"$f":"IF(Data!$E59=30,Data!CV59,IF(Data!AK59<>\"\",Data!AK59,\"\"))","v":""},{"$f":"IF(Data!$E59=30,Data!CW59,\"\")","v":""},{"$f":"IF(Data!$E59=30,Data!CX59,\"\")","v":""},{"$f":"IF(Data!$E59=30,Data!CY59,IF(Data!AL59<>\"\",Data!AL59,\"\"))","v":""},{"$f":"IF(Data!$E59=30,Data!CZ59,\"\")","v":""},{"$f":"IF(Data!$E59=30,Data!DA59,\"\")","v":""},{"$f":"IF(Data!$E59=30,Data!DB59,IF(Data!AM59<>\"\",Data!AM59,\"\"))","v":""},{"$f":"IF(Data!$E59=30,Data!DC59,\"\")","v":""},{"$f":"IF(Data!$E59=30,Data!DD59,\"\")","v":""},{"$f":"IF(Data!$E59=30,Data!DE59,IF(Data!AN59<>\"\",Data!AN59,\"\"))","v":""},{"$f":"IF(Data!$E59=30,Data!DF59,\"\")","v":""},{"$f":"IF(Data!$E59=30,Data!DG59,\"\")","v":""},{"$f":"IF(Data!$E59=30,Data!DH59,IF(Data!AO59<>\"\",Data!AO59,\"\"))","v":""},{"$f":"IF(Data!$E59=30,Data!DI59,\"\")","v":""},{"$f":"IF(Data!$E59=30,Data!DJ59,\"\")","v":""},{"$f":"IF(Data!$E59=30,Data!DK59,IF(Data!AP59<>\"\",Data!AP59,\"\"))","v":""},{"$f":"IF(Data!$E59=30,Data!DL59,\"\")","v":""},{"$f":"IF(Data!$E59=30,Data!DM59,\"\")","v":""},{"$f":"IF(Data!$E59=30,Data!DN59,IF(Data!AQ59<>\"\",Data!AQ59,\"\"))","v":""},{"$f":"IF(Data!$E59=30,Data!DO59,\"\")","v":""},{"$f":"IF(Data!$E59=30,Data!DP59,\"\")","v":""},{"$f":"IF(Data!$E59=30,Data!DQ59,IF(Data!AR59<>\"\",Data!AR59,\"\"))","v":""},{"$f":"IF(Data!$E59=30,Data!DR59,\"\")","v":""},{"$f":"IF(Data!$E59=30,Data!DS59,\"\")","v":""},{"$f":"IF(Data!$E59=30,Data!DT59,IF(Data!AS59<>\"\",Data!AS59,\"\"))","v":""},{"$f":"IF(Data!$E59=30,Data!DU59,\"\")","v":""}]
[null,{"$f":"IF(Data!A60<>\"\",Data!A60,\"\")","v":""},{"$f":"IF(Data!$E60=30,Data!BN60,\"\")","v":""},{"$f":"IF(Data!$E60=30,Data!BO60,IF(Data!Z60<>\"\",Data!Z60,\"\"))","v":""},{"$f":"IF(Data!$E60=30,Data!BP60,\"\")","v":""},{"$f":"IF(Data!$E60=30,Data!BQ60,\"\")","v":""},{"$f":"IF(Data!$E60=30,Data!BR60,IF(Data!AA60<>\"\",Data!AA60,\"\"))","v":""},{"$f":"IF(Data!$E60=30,Data!BS60,\"\")","v":""},{"$f":"IF(Data!$E60=30,Data!BT60,\"\")","v":""},{"$f":"IF(Data!$E60=30,Data!BU60,IF(Data!AB60<>\"\",Data!AB60,\"\"))","v":""},{"$f":"IF(Data!$E60=30,Data!BV60,\"\")","v":""},{"$f":"IF(Data!$E60=30,Data!BW60,\"\")","v":""},{"$f":"IF(Data!$E60=30,Data!BX60,IF(Data!AC60<>\"\",Data!AC60,\"\"))","v":""},{"$f":"IF(Data!$E60=30,Data!BY60,\"\")","v":""},{"$f":"IF(Data!$E60=30,Data!BZ60,\"\")","v":""},{"$f":"IF(Data!$E60=30,Data!CA60,IF(Data!AD60<>\"\",Data!AD60,\"\"))","v":""},{"$f":"IF(Data!$E60=30,Data!CB60,\"\")","v":""},{"$f":"IF(Data!$E60=30,Data!CC60,\"\")","v":""},{"$f":"IF(Data!$E60=30,Data!CD60,IF(Data!AE60<>\"\",Data!AE60,\"\"))","v":""},{"$f":"IF(Data!$E60=30,Data!CE60,\"\")","v":""},{"$f":"IF(Data!$E60=30,Data!CF60,\"\")","v":""},{"$f":"IF(Data!$E60=30,Data!CG60,IF(Data!AF60<>\"\",Data!AF60,\"\"))","v":""},{"$f":"IF(Data!$E60=30,Data!CH60,\"\")","v":""},{"$f":"IF(Data!$E60=30,Data!CI60,\"\")","v":""},{"$f":"IF(Data!$E60=30,Data!CJ60,IF(Data!AG60<>\"\",Data!AG60,\"\"))","v":""},{"$f":"IF(Data!$E60=30,Data!CK60,\"\")","v":""},{"$f":"IF(Data!$E60=30,Data!CL60,\"\")","v":""},{"$f":"IF(Data!$E60=30,Data!CM60,IF(Data!AH60<>\"\",Data!AH60,\"\"))","v":""},{"$f":"IF(Data!$E60=30,Data!CN60,\"\")","v":""},{"$f":"IF(Data!$E60=30,Data!CO60,\"\")","v":""},{"$f":"IF(Data!$E60=30,Data!CP60,IF(Data!AI60<>\"\",Data!AI60,\"\"))","v":""},{"$f":"IF(Data!$E60=30,Data!CQ60,\"\")","v":""},null,null,null,{"$f":"IF(Data!$E60=30,Data!CR60,\"\")","v":""},{"$f":"IF(Data!$E60=30,Data!CS60,IF(Data!AJ60<>\"\",Data!AJ60,\"\"))","v":""},{"$f":"IF(Data!$E60=30,Data!CT60,\"\")","v":""},{"$f":"IF(Data!$E60=30,Data!CU60,\"\")","v":""},{"$f":"IF(Data!$E60=30,Data!CV60,IF(Data!AK60<>\"\",Data!AK60,\"\"))","v":""},{"$f":"IF(Data!$E60=30,Data!CW60,\"\")","v":""},{"$f":"IF(Data!$E60=30,Data!CX60,\"\")","v":""},{"$f":"IF(Data!$E60=30,Data!CY60,IF(Data!AL60<>\"\",Data!AL60,\"\"))","v":""},{"$f":"IF(Data!$E60=30,Data!CZ60,\"\")","v":""},{"$f":"IF(Data!$E60=30,Data!DA60,\"\")","v":""},{"$f":"IF(Data!$E60=30,Data!DB60,IF(Data!AM60<>\"\",Data!AM60,\"\"))","v":""},{"$f":"IF(Data!$E60=30,Data!DC60,\"\")","v":""},{"$f":"IF(Data!$E60=30,Data!DD60,\"\")","v":""},{"$f":"IF(Data!$E60=30,Data!DE60,IF(Data!AN60<>\"\",Data!AN60,\"\"))","v":""},{"$f":"IF(Data!$E60=30,Data!DF60,\"\")","v":""},{"$f":"IF(Data!$E60=30,Data!DG60,\"\")","v":""},{"$f":"IF(Data!$E60=30,Data!DH60,IF(Data!AO60<>\"\",Data!AO60,\"\"))","v":""},{"$f":"IF(Data!$E60=30,Data!DI60,\"\")","v":""},{"$f":"IF(Data!$E60=30,Data!DJ60,\"\")","v":""},{"$f":"IF(Data!$E60=30,Data!DK60,IF(Data!AP60<>\"\",Data!AP60,\"\"))","v":""},{"$f":"IF(Data!$E60=30,Data!DL60,\"\")","v":""},{"$f":"IF(Data!$E60=30,Data!DM60,\"\")","v":""},{"$f":"IF(Data!$E60=30,Data!DN60,IF(Data!AQ60<>\"\",Data!AQ60,\"\"))","v":""},{"$f":"IF(Data!$E60=30,Data!DO60,\"\")","v":""},{"$f":"IF(Data!$E60=30,Data!DP60,\"\")","v":""},{"$f":"IF(Data!$E60=30,Data!DQ60,IF(Data!AR60<>\"\",Data!AR60,\"\"))","v":""},{"$f":"IF(Data!$E60=30,Data!DR60,\"\")","v":""},{"$f":"IF(Data!$E60=30,Data!DS60,\"\")","v":""},{"$f":"IF(Data!$E60=30,Data!DT60,IF(Data!AS60<>\"\",Data!AS60,\"\"))","v":""},{"$f":"IF(Data!$E60=30,Data!DU60,\"\")","v":""}]
[null,{"$f":"IF(Data!A61<>\"\",Data!A61,\"\")","v":""},{"$f":"IF(Data!$E61=30,Data!BN61,\"\")","v":""},{"$f":"IF(Data!$E61=30,Data!BO61,IF(Data!Z61<>\"\",Data!Z61,\"\"))","v":""},{"$f":"IF(Data!$E61=30,Data!BP61,\"\")","v":""},{"$f":"IF(Data!$E61=30,Data!BQ61,\"\")","v":""},{"$f":"IF(Data!$E61=30,Data!BR61,IF(Data!AA61<>\"\",Data!AA61,\"\"))","v":""},{"$f":"IF(Data!$E61=30,Data!BS61,\"\")","v":""},{"$f":"IF(Data!$E61=30,Data!BT61,\"\")","v":""},{"$f":"IF(Data!$E61=30,Data!BU61,IF(Data!AB61<>\"\",Data!AB61,\"\"))","v":""},{"$f":"IF(Data!$E61=30,Data!BV61,\"\")","v":""},{"$f":"IF(Data!$E61=30,Data!BW61,\"\")","v":""},{"$f":"IF(Data!$E61=30,Data!BX61,IF(Data!AC61<>\"\",Data!AC61,\"\"))","v":""},{"$f":"IF(Data!$E61=30,Data!BY61,\"\")","v":""},{"$f":"IF(Data!$E61=30,Data!BZ61,\"\")","v":""},{"$f":"IF(Data!$E61=30,Data!CA61,IF(Data!AD61<>\"\",Data!AD61,\"\"))","v":""},{"$f":"IF(Data!$E61=30,Data!CB61,\"\")","v":""},{"$f":"IF(Data!$E61=30,Data!CC61,\"\")","v":""},{"$f":"IF(Data!$E61=30,Data!CD61,IF(Data!AE61<>\"\",Data!AE61,\"\"))","v":""},{"$f":"IF(Data!$E61=30,Data!CE61,\"\")","v":""},{"$f":"IF(Data!$E61=30,Data!CF61,\"\")","v":""},{"$f":"IF(Data!$E61=30,Data!CG61,IF(Data!AF61<>\"\",Data!AF61,\"\"))","v":""},{"$f":"IF(Data!$E61=30,Data!CH61,\"\")","v":""},{"$f":"IF(Data!$E61=30,Data!CI61,\"\")","v":""},{"$f":"IF(Data!$E61=30,Data!CJ61,IF(Data!AG61<>\"\",Data!AG61,\"\"))","v":""},{"$f":"IF(Data!$E61=30,Data!CK61,\"\")","v":""},{"$f":"IF(Data!$E61=30,Data!CL61,\"\")","v":""},{"$f":"IF(Data!$E61=30,Data!CM61,IF(Data!AH61<>\"\",Data!AH61,\"\"))","v":""},{"$f":"IF(Data!$E61=30,Data!CN61,\"\")","v":""},{"$f":"IF(Data!$E61=30,Data!CO61,\"\")","v":""},{"$f":"IF(Data!$E61=30,Data!CP61,IF(Data!AI61<>\"\",Data!AI61,\"\"))","v":""},{"$f":"IF(Data!$E61=30,Data!CQ61,\"\")","v":""},null,null,null,{"$f":"IF(Data!$E61=30,Data!CR61,\"\")","v":""},{"$f":"IF(Data!$E61=30,Data!CS61,IF(Data!AJ61<>\"\",Data!AJ61,\"\"))","v":""},{"$f":"IF(Data!$E61=30,Data!CT61,\"\")","v":""},{"$f":"IF(Data!$E61=30,Data!CU61,\"\")","v":""},{"$f":"IF(Data!$E61=30,Data!CV61,IF(Data!AK61<>\"\",Data!AK61,\"\"))","v":""},{"$f":"IF(Data!$E61=30,Data!CW61,\"\")","v":""},{"$f":"IF(Data!$E61=30,Data!CX61,\"\")","v":""},{"$f":"IF(Data!$E61=30,Data!CY61,IF(Data!AL61<>\"\",Data!AL61,\"\"))","v":""},{"$f":"IF(Data!$E61=30,Data!CZ61,\"\")","v":""},{"$f":"IF(Data!$E61=30,Data!DA61,\"\")","v":""},{"$f":"IF(Data!$E61=30,Data!DB61,IF(Data!AM61<>\"\",Data!AM61,\"\"))","v":""},{"$f":"IF(Data!$E61=30,Data!DC61,\"\")","v":""},{"$f":"IF(Data!$E61=30,Data!DD61,\"\")","v":""},{"$f":"IF(Data!$E61=30,Data!DE61,IF(Data!AN61<>\"\",Data!AN61,\"\"))","v":""},{"$f":"IF(Data!$E61=30,Data!DF61,\"\")","v":""},{"$f":"IF(Data!$E61=30,Data!DG61,\"\")","v":""},{"$f":"IF(Data!$E61=30,Data!DH61,IF(Data!AO61<>\"\",Data!AO61,\"\"))","v":""},{"$f":"IF(Data!$E61=30,Data!DI61,\"\")","v":""},{"$f":"IF(Data!$E61=30,Data!DJ61,\"\")","v":""},{"$f":"IF(Data!$E61=30,Data!DK61,IF(Data!AP61<>\"\",Data!AP61,\"\"))","v":""},{"$f":"IF(Data!$E61=30,Data!DL61,\"\")","v":""},{"$f":"IF(Data!$E61=30,Data!DM61,\"\")","v":""},{"$f":"IF(Data!$E61=30,Data!DN61,IF(Data!AQ61<>\"\",Data!AQ61,\"\"))","v":""},{"$f":"IF(Data!$E61=30,Data!DO61,\"\")","v":""},{"$f":"IF(Data!$E61=30,Data!DP61,\"\")","v":""},{"$f":"IF(Data!$E61=30,Data!DQ61,IF(Data!AR61<>\"\",Data!AR61,\"\"))","v":""},{"$f":"IF(Data!$E61=30,Data!DR61,\"\")","v":""},{"$f":"IF(Data!$E61=30,Data!DS61,\"\")","v":""},{"$f":"IF(Data!$E61=30,Data!DT61,IF(Data!AS61<>\"\",Data!AS61,\"\"))","v":""},{"$f":"IF(Data!$E61=30,Data!DU61,\"\")","v":""}]
[null,{"$f":"IF(Data!A62<>\"\",Data!A62,\"\")","v":""},{"$f":"IF(Data!$E62=30,Data!BN62,\"\")","v":""},{"$f":"IF(Data!$E62=30,Data!BO62,IF(Data!Z62<>\"\",Data!Z62,\"\"))","v":""},{"$f":"IF(Data!$E62=30,Data!BP62,\"\")","v":""},{"$f":"IF(Data!$E62=30,Data!BQ62,\"\")","v":""},{"$f":"IF(Data!$E62=30,Data!BR62,IF(Data!AA62<>\"\",Data!AA62,\"\"))","v":""},{"$f":"IF(Data!$E62=30,Data!BS62,\"\")","v":""},{"$f":"IF(Data!$E62=30,Data!BT62,\"\")","v":""},{"$f":"IF(Data!$E62=30,Data!BU62,IF(Data!AB62<>\"\",Data!AB62,\"\"))","v":""},{"$f":"IF(Data!$E62=30,Data!BV62,\"\")","v":""},{"$f":"IF(Data!$E62=30,Data!BW62,\"\")","v":""},{"$f":"IF(Data!$E62=30,Data!BX62,IF(Data!AC62<>\"\",Data!AC62,\"\"))","v":""},{"$f":"IF(Data!$E62=30,Data!BY62,\"\")","v":""},{"$f":"IF(Data!$E62=30,Data!BZ62,\"\")","v":""},{"$f":"IF(Data!$E62=30,Data!CA62,IF(Data!AD62<>\"\",Data!AD62,\"\"))","v":""},{"$f":"IF(Data!$E62=30,Data!CB62,\"\")","v":""},{"$f":"IF(Data!$E62=30,Data!CC62,\"\")","v":""},{"$f":"IF(Data!$E62=30,Data!CD62,IF(Data!AE62<>\"\",Data!AE62,\"\"))","v":""},{"$f":"IF(Data!$E62=30,Data!CE62,\"\")","v":""},{"$f":"IF(Data!$E62=30,Data!CF62,\"\")","v":""},{"$f":"IF(Data!$E62=30,Data!CG62,IF(Data!AF62<>\"\",Data!AF62,\"\"))","v":""},{"$f":"IF(Data!$E62=30,Data!CH62,\"\")","v":""},{"$f":"IF(Data!$E62=30,Data!CI62,\"\")","v":""},{"$f":"IF(Data!$E62=30,Data!CJ62,IF(Data!AG62<>\"\",Data!AG62,\"\"))","v":""},{"$f":"IF(Data!$E62=30,Data!CK62,\"\")","v":""},{"$f":"IF(Data!$E62=30,Data!CL62,\"\")","v":""},{"$f":"IF(Data!$E62=30,Data!CM62,IF(Data!AH62<>\"\",Data!AH62,\"\"))","v":""},{"$f":"IF(Data!$E62=30,Data!CN62,\"\")","v":""},{"$f":"IF(Data!$E62=30,Data!CO62,\"\")","v":""},{"$f":"IF(Data!$E62=30,Data!CP62,IF(Data!AI62<>\"\",Data!AI62,\"\"))","v":""},{"$f":"IF(Data!$E62=30,Data!CQ62,\"\")","v":""},null,null,null,{"$f":"IF(Data!$E62=30,Data!CR62,\"\")","v":""},{"$f":"IF(Data!$E62=30,Data!CS62,IF(Data!AJ62<>\"\",Data!AJ62,\"\"))","v":""},{"$f":"IF(Data!$E62=30,Data!CT62,\"\")","v":""},{"$f":"IF(Data!$E62=30,Data!CU62,\"\")","v":""},{"$f":"IF(Data!$E62=30,Data!CV62,IF(Data!AK62<>\"\",Data!AK62,\"\"))","v":""},{"$f":"IF(Data!$E62=30,Data!CW62,\"\")","v":""},{"$f":"IF(Data!$E62=30,Data!CX62,\"\")","v":""},{"$f":"IF(Data!$E62=30,Data!CY62,IF(Data!AL62<>\"\",Data!AL62,\"\"))","v":""},{"$f":"IF(Data!$E62=30,Data!CZ62,\"\")","v":""},{"$f":"IF(Data!$E62=30,Data!DA62,\"\")","v":""},{"$f":"IF(Data!$E62=30,Data!DB62,IF(Data!AM62<>\"\",Data!AM62,\"\"))","v":""},{"$f":"IF(Data!$E62=30,Data!DC62,\"\")","v":""},{"$f":"IF(Data!$E62=30,Data!DD62,\"\")","v":""},{"$f":"IF(Data!$E62=30,Data!DE62,IF(Data!AN62<>\"\",Data!AN62,\"\"))","v":""},{"$f":"IF(Data!$E62=30,Data!DF62,\"\")","v":""},{"$f":"IF(Data!$E62=30,Data!DG62,\"\")","v":""},{"$f":"IF(Data!$E62=30,Data!DH62,IF(Data!AO62<>\"\",Data!AO62,\"\"))","v":""},{"$f":"IF(Data!$E62=30,Data!DI62,\"\")","v":""},{"$f":"IF(Data!$E62=30,Data!DJ62,\"\")","v":""},{"$f":"IF(Data!$E62=30,Data!DK62,IF(Data!AP62<>\"\",Data!AP62,\"\"))","v":""},{"$f":"IF(Data!$E62=30,Data!DL62,\"\")","v":""},{"$f":"IF(Data!$E62=30,Data!DM62,\"\")","v":""},{"$f":"IF(Data!$E62=30,Data!DN62,IF(Data!AQ62<>\"\",Data!AQ62,\"\"))","v":""},{"$f":"IF(Data!$E62=30,Data!DO62,\"\")","v":""},{"$f":"IF(Data!$E62=30,Data!DP62,\"\")","v":""},{"$f":"IF(Data!$E62=30,Data!DQ62,IF(Data!AR62<>\"\",Data!AR62,\"\"))","v":""},{"$f":"IF(Data!$E62=30,Data!DR62,\"\")","v":""},{"$f":"IF(Data!$E62=30,Data!DS62,\"\")","v":""},{"$f":"IF(Data!$E62=30,Data!DT62,IF(Data!AS62<>\"\",Data!AS62,\"\"))","v":""},{"$f":"IF(Data!$E62=30,Data!DU62,\"\")","v":""}]
[null,{"$f":"IF(Data!A63<>\"\",Data!A63,\"\")","v":""},{"$f":"IF(Data!$E63=30,Data!BN63,\"\")","v":""},{"$f":"IF(Data!$E63=30,Data!BO63,IF(Data!Z63<>\"\",Data!Z63,\"\"))","v":""},{"$f":"IF(Data!$E63=30,Data!BP63,\"\")","v":""},{"$f":"IF(Data!$E63=30,Data!BQ63,\"\")","v":""},{"$f":"IF(Data!$E63=30,Data!BR63,IF(Data!AA63<>\"\",Data!AA63,\"\"))","v":""},{"$f":"IF(Data!$E63=30,Data!BS63,\"\")","v":""},{"$f":"IF(Data!$E63=30,Data!BT63,\"\")","v":""},{"$f":"IF(Data!$E63=30,Data!BU63,IF(Data!AB63<>\"\",Data!AB63,\"\"))","v":""},{"$f":"IF(Data!$E63=30,Data!BV63,\"\")","v":""},{"$f":"IF(Data!$E63=30,Data!BW63,\"\")","v":""},{"$f":"IF(Data!$E63=30,Data!BX63,IF(Data!AC63<>\"\",Data!AC63,\"\"))","v":""},{"$f":"IF(Data!$E63=30,Data!BY63,\"\")","v":""},{"$f":"IF(Data!$E63=30,Data!BZ63,\"\")","v":""},{"$f":"IF(Data!$E63=30,Data!CA63,IF(Data!AD63<>\"\",Data!AD63,\"\"))","v":""},{"$f":"IF(Data!$E63=30,Data!CB63,\"\")","v":""},{"$f":"IF(Data!$E63=30,Data!CC63,\"\")","v":""},{"$f":"IF(Data!$E63=30,Data!CD63,IF(Data!AE63<>\"\",Data!AE63,\"\"))","v":""},{"$f":"IF(Data!$E63=30,Data!CE63,\"\")","v":""},{"$f":"IF(Data!$E63=30,Data!CF63,\"\")","v":""},{"$f":"IF(Data!$E63=30,Data!CG63,IF(Data!AF63<>\"\",Data!AF63,\"\"))","v":""},{"$f":"IF(Data!$E63=30,Data!CH63,\"\")","v":""},{"$f":"IF(Data!$E63=30,Data!CI63,\"\")","v":""},{"$f":"IF(Data!$E63=30,Data!CJ63,IF(Data!AG63<>\"\",Data!AG63,\"\"))","v":""},{"$f":"IF(Data!$E63=30,Data!CK63,\"\")","v":""},{"$f":"IF(Data!$E63=30,Data!CL63,\"\")","v":""},{"$f":"IF(Data!$E63=30,Data!CM63,IF(Data!AH63<>\"\",Data!AH63,\"\"))","v":""},{"$f":"IF(Data!$E63=30,Data!CN63,\"\")","v":""},{"$f":"IF(Data!$E63=30,Data!CO63,\"\")","v":""},{"$f":"IF(Data!$E63=30,Data!CP63,IF(Data!AI63<>\"\",Data!AI63,\"\"))","v":""},{"$f":"IF(Data!$E63=30,Data!CQ63,\"\")","v":""},null,null,null,{"$f":"IF(Data!$E63=30,Data!CR63,\"\")","v":""},{"$f":"IF(Data!$E63=30,Data!CS63,IF(Data!AJ63<>\"\",Data!AJ63,\"\"))","v":""},{"$f":"IF(Data!$E63=30,Data!CT63,\"\")","v":""},{"$f":"IF(Data!$E63=30,Data!CU63,\"\")","v":""},{"$f":"IF(Data!$E63=30,Data!CV63,IF(Data!AK63<>\"\",Data!AK63,\"\"))","v":""},{"$f":"IF(Data!$E63=30,Data!CW63,\"\")","v":""},{"$f":"IF(Data!$E63=30,Data!CX63,\"\")","v":""},{"$f":"IF(Data!$E63=30,Data!CY63,IF(Data!AL63<>\"\",Data!AL63,\"\"))","v":""},{"$f":"IF(Data!$E63=30,Data!CZ63,\"\")","v":""},{"$f":"IF(Data!$E63=30,Data!DA63,\"\")","v":""},{"$f":"IF(Data!$E63=30,Data!DB63,IF(Data!AM63<>\"\",Data!AM63,\"\"))","v":""},{"$f":"IF(Data!$E63=30,Data!DC63,\"\")","v":""},{"$f":"IF(Data!$E63=30,Data!DD63,\"\")","v":""},{"$f":"IF(Data!$E63=30,Data!DE63,IF(Data!AN63<>\"\",Data!AN63,\"\"))","v":""},{"$f":"IF(Data!$E63=30,Data!DF63,\"\")","v":""},{"$f":"IF(Data!$E63=30,Data!DG63,\"\")","v":""},{"$f":"IF(Data!$E63=30,Data!DH63,IF(Data!AO63<>\"\",Data!AO63,\"\"))","v":""},{"$f":"IF(Data!$E63=30,Data!DI63,\"\")","v":""},{"$f":"IF(Data!$E63=30,Data!DJ63,\"\")","v":""},{"$f":"IF(Data!$E63=30,Data!DK63,IF(Data!AP63<>\"\",Data!AP63,\"\"))","v":""},{"$f":"IF(Data!$E63=30,Data!DL63,\"\")","v":""},{"$f":"IF(Data!$E63=30,Data!DM63,\"\")","v":""},{"$f":"IF(Data!$E63=30,Data!DN63,IF(Data!AQ63<>\"\",Data!AQ63,\"\"))","v":""},{"$f":"IF(Data!$E63=30,Data!DO63,\"\")","v":""},{"$f":"IF(Data!$E63=30,Data!DP63,\"\")","v":""},{"$f":"IF(Data!$E63=30,Data!DQ63,IF(Data!AR63<>\"\",Data!AR63,\"\"))","v":""},{"$f":"IF(Data!$E63=30,Data!DR63,\"\")","v":""},{"$f":"IF(Data!$E63=30,Data!DS63,\"\")","v":""},{"$f":"IF(Data!$E63=30,Data!DT63,IF(Data!AS63<>\"\",Data!AS63,\"\"))","v":""},{"$f":"IF(Data!$E63=30,Data!DU63,\"\")","v":""}]
[null,{"$f":"IF(Data!A64<>\"\",Data!A64,\"\")","v":""},{"$f":"IF(Data!$E64=30,Data!BN64,\"\")","v":""},{"$f":"IF(Data!$E64=30,Data!BO64,IF(Data!Z64<>\"\",Data!Z64,\"\"))","v":""},{"$f":"IF(Data!$E64=30,Data!BP64,\"\")","v":""},{"$f":"IF(Data!$E64=30,Data!BQ64,\"\")","v":""},{"$f":"IF(Data!$E64=30,Data!BR64,IF(Data!AA64<>\"\",Data!AA64,\"\"))","v":""},{"$f":"IF(Data!$E64=30,Data!BS64,\"\")","v":""},{"$f":"IF(Data!$E64=30,Data!BT64,\"\")","v":""},{"$f":"IF(Data!$E64=30,Data!BU64,IF(Data!AB64<>\"\",Data!AB64,\"\"))","v":""},{"$f":"IF(Data!$E64=30,Data!BV64,\"\")","v":""},{"$f":"IF(Data!$E64=30,Data!BW64,\"\")","v":""},{"$f":"IF(Data!$E64=30,Data!BX64,IF(Data!AC64<>\"\",Data!AC64,\"\"))","v":""},{"$f":"IF(Data!$E64=30,Data!BY64,\"\")","v":""},{"$f":"IF(Data!$E64=30,Data!BZ64,\"\")","v":""},{"$f":"IF(Data!$E64=30,Data!CA64,IF(Data!AD64<>\"\",Data!AD64,\"\"))","v":""},{"$f":"IF(Data!$E64=30,Data!CB64,\"\")","v":""},{"$f":"IF(Data!$E64=30,Data!CC64,\"\")","v":""},{"$f":"IF(Data!$E64=30,Data!CD64,IF(Data!AE64<>\"\",Data!AE64,\"\"))","v":""},{"$f":"IF(Data!$E64=30,Data!CE64,\"\")","v":""},{"$f":"IF(Data!$E64=30,Data!CF64,\"\")","v":""},{"$f":"IF(Data!$E64=30,Data!CG64,IF(Data!AF64<>\"\",Data!AF64,\"\"))","v":""},{"$f":"IF(Data!$E64=30,Data!CH64,\"\")","v":""},{"$f":"IF(Data!$E64=30,Data!CI64,\"\")","v":""},{"$f":"IF(Data!$E64=30,Data!CJ64,IF(Data!AG64<>\"\",Data!AG64,\"\"))","v":""},{"$f":"IF(Data!$E64=30,Data!CK64,\"\")","v":""},{"$f":"IF(Data!$E64=30,Data!CL64,\"\")","v":""},{"$f":"IF(Data!$E64=30,Data!CM64,IF(Data!AH64<>\"\",Data!AH64,\"\"))","v":""},{"$f":"IF(Data!$E64=30,Data!CN64,\"\")","v":""},{"$f":"IF(Data!$E64=30,Data!CO64,\"\")","v":""},{"$f":"IF(Data!$E64=30,Data!CP64,IF(Data!AI64<>\"\",Data!AI64,\"\"))","v":""},{"$f":"IF(Data!$E64=30,Data!CQ64,\"\")","v":""},null,null,null,{"$f":"IF(Data!$E64=30,Data!CR64,\"\")","v":""},{"$f":"IF(Data!$E64=30,Data!CS64,IF(Data!AJ64<>\"\",Data!AJ64,\"\"))","v":""},{"$f":"IF(Data!$E64=30,Data!CT64,\"\")","v":""},{"$f":"IF(Data!$E64=30,Data!CU64,\"\")","v":""},{"$f":"IF(Data!$E64=30,Data!CV64,IF(Data!AK64<>\"\",Data!AK64,\"\"))","v":""},{"$f":"IF(Data!$E64=30,Data!CW64,\"\")","v":""},{"$f":"IF(Data!$E64=30,Data!CX64,\"\")","v":""},{"$f":"IF(Data!$E64=30,Data!CY64,IF(Data!AL64<>\"\",Data!AL64,\"\"))","v":""},{"$f":"IF(Data!$E64=30,Data!CZ64,\"\")","v":""},{"$f":"IF(Data!$E64=30,Data!DA64,\"\")","v":""},{"$f":"IF(Data!$E64=30,Data!DB64,IF(Data!AM64<>\"\",Data!AM64,\"\"))","v":""},{"$f":"IF(Data!$E64=30,Data!DC64,\"\")","v":""},{"$f":"IF(Data!$E64=30,Data!DD64,\"\")","v":""},{"$f":"IF(Data!$E64=30,Data!DE64,IF(Data!AN64<>\"\",Data!AN64,\"\"))","v":""},{"$f":"IF(Data!$E64=30,Data!DF64,\"\")","v":""},{"$f":"IF(Data!$E64=30,Data!DG64,\"\")","v":""},{"$f":"IF(Data!$E64=30,Data!DH64,IF(Data!AO64<>\"\",Data!AO64,\"\"))","v":""},{"$f":"IF(Data!$E64=30,Data!DI64,\"\")","v":""},{"$f":"IF(Data!$E64=30,Data!DJ64,\"\")","v":""},{"$f":"IF(Data!$E64=30,Data!DK64,IF(Data!AP64<>\"\",Data!AP64,\"\"))","v":""},{"$f":"IF(Data!$E64=30,Data!DL64,\"\")","v":""},{"$f":"IF(Data!$E64=30,Data!DM64,\"\")","v":""},{"$f":"IF(Data!$E64=30,Data!DN64,IF(Data!AQ64<>\"\",Data!AQ64,\"\"))","v":""},{"$f":"IF(Data!$E64=30,Data!DO64,\"\")","v":""},{"$f":"IF(Data!$E64=30,Data!DP64,\"\")","v":""},{"$f":"IF(Data!$E64=30,Data!DQ64,IF(Data!AR64<>\"\",Data!AR64,\"\"))","v":""},{"$f":"IF(Data!$E64=30,Data!DR64,\"\")","v":""},{"$f":"IF(Data!$E64=30,Data!DS64,\"\")","v":""},{"$f":"IF(Data!$E64=30,Data!DT64,IF(Data!AS64<>\"\",Data!AS64,\"\"))","v":""},{"$f":"IF(Data!$E64=30,Data!DU64,\"\")","v":""}]
[null,{"$f":"IF(Data!A65<>\"\",Data!A65,\"\")","v":""},{"$f":"IF(Data!$E65=30,Data!BN65,\"\")","v":""},{"$f":"IF(Data!$E65=30,Data!BO65,IF(Data!Z65<>\"\",Data!Z65,\"\"))","v":""},{"$f":"IF(Data!$E65=30,Data!BP65,\"\")","v":""},{"$f":"IF(Data!$E65=30,Data!BQ65,\"\")","v":""},{"$f":"IF(Data!$E65=30,Data!BR65,IF(Data!AA65<>\"\",Data!AA65,\"\"))","v":""},{"$f":"IF(Data!$E65=30,Data!BS65,\"\")","v":""},{"$f":"IF(Data!$E65=30,Data!BT65,\"\")","v":""},{"$f":"IF(Data!$E65=30,Data!BU65,IF(Data!AB65<>\"\",Data!AB65,\"\"))","v":""},{"$f":"IF(Data!$E65=30,Data!BV65,\"\")","v":""},{"$f":"IF(Data!$E65=30,Data!BW65,\"\")","v":""},{"$f":"IF(Data!$E65=30,Data!BX65,IF(Data!AC65<>\"\",Data!AC65,\"\"))","v":""},{"$f":"IF(Data!$E65=30,Data!BY65,\"\")","v":""},{"$f":"IF(Data!$E65=30,Data!BZ65,\"\")","v":""},{"$f":"IF(Data!$E65=30,Data!CA65,IF(Data!AD65<>\"\",Data!AD65,\"\"))","v":""},{"$f":"IF(Data!$E65=30,Data!CB65,\"\")","v":""},{"$f":"IF(Data!$E65=30,Data!CC65,\"\")","v":""},{"$f":"IF(Data!$E65=30,Data!CD65,IF(Data!AE65<>\"\",Data!AE65,\"\"))","v":""},{"$f":"IF(Data!$E65=30,Data!CE65,\"\")","v":""},{"$f":"IF(Data!$E65=30,Data!CF65,\"\")","v":""},{"$f":"IF(Data!$E65=30,Data!CG65,IF(Data!AF65<>\"\",Data!AF65,\"\"))","v":""},{"$f":"IF(Data!$E65=30,Data!CH65,\"\")","v":""},{"$f":"IF(Data!$E65=30,Data!CI65,\"\")","v":""},{"$f":"IF(Data!$E65=30,Data!CJ65,IF(Data!AG65<>\"\",Data!AG65,\"\"))","v":""},{"$f":"IF(Data!$E65=30,Data!CK65,\"\")","v":""},{"$f":"IF(Data!$E65=30,Data!CL65,\"\")","v":""},{"$f":"IF(Data!$E65=30,Data!CM65,IF(Data!AH65<>\"\",Data!AH65,\"\"))","v":""},{"$f":"IF(Data!$E65=30,Data!CN65,\"\")","v":""},{"$f":"IF(Data!$E65=30,Data!CO65,\"\")","v":""},{"$f":"IF(Data!$E65=30,Data!CP65,IF(Data!AI65<>\"\",Data!AI65,\"\"))","v":""},{"$f":"IF(Data!$E65=30,Data!CQ65,\"\")","v":""},null,null,null,{"$f":"IF(Data!$E65=30,Data!CR65,\"\")","v":""},{"$f":"IF(Data!$E65=30,Data!CS65,IF(Data!AJ65<>\"\",Data!AJ65,\"\"))","v":""},{"$f":"IF(Data!$E65=30,Data!CT65,\"\")","v":""},{"$f":"IF(Data!$E65=30,Data!CU65,\"\")","v":""},{"$f":"IF(Data!$E65=30,Data!CV65,IF(Data!AK65<>\"\",Data!AK65,\"\"))","v":""},{"$f":"IF(Data!$E65=30,Data!CW65,\"\")","v":""},{"$f":"IF(Data!$E65=30,Data!CX65,\"\")","v":""},{"$f":"IF(Data!$E65=30,Data!CY65,IF(Data!AL65<>\"\",Data!AL65,\"\"))","v":""},{"$f":"IF(Data!$E65=30,Data!CZ65,\"\")","v":""},{"$f":"IF(Data!$E65=30,Data!DA65,\"\")","v":""},{"$f":"IF(Data!$E65=30,Data!DB65,IF(Data!AM65<>\"\",Data!AM65,\"\"))","v":""},{"$f":"IF(Data!$E65=30,Data!DC65,\"\")","v":""},{"$f":"IF(Data!$E65=30,Data!DD65,\"\")","v":""},{"$f":"IF(Data!$E65=30,Data!DE65,IF(Data!AN65<>\"\",Data!AN65,\"\"))","v":""},{"$f":"IF(Data!$E65=30,Data!DF65,\"\")","v":""},{"$f":"IF(Data!$E65=30,Data!DG65,\"\")","v":""},{"$f":"IF(Data!$E65=30,Data!DH65,IF(Data!AO65<>\"\",Data!AO65,\"\"))","v":""},{"$f":"IF(Data!$E65=30,Data!DI65,\"\")","v":""},{"$f":"IF(Data!$E65=30,Data!DJ65,\"\")","v":""},{"$f":"IF(Data!$E65=30,Data!DK65,IF(Data!AP65<>\"\",Data!AP65,\"\"))","v":""},{"$f":"IF(Data!$E65=30,Data!DL65,\"\")","v":""},{"$f":"IF(Data!$E65=30,Data!DM65,\"\")","v":""},{"$f":"IF(Data!$E65=30,Data!DN65,IF(Data!AQ65<>\"\",Data!AQ65,\"\"))","v":""},{"$f":"IF(Data!$E65=30,Data!DO65,\"\")","v":""},{"$f":"IF(Data!$E65=30,Data!DP65,\"\")","v":""},{"$f":"IF(Data!$E65=30,Data!DQ65,IF(Data!AR65<>\"\",Data!AR65,\"\"))","v":""},{"$f":"IF(Data!$E65=30,Data!DR65,\"\")","v":""},{"$f":"IF(Data!$E65=30,Data!DS65,\"\")","v":""},{"$f":"IF(Data!$E65=30,Data!DT65,IF(Data!AS65<>\"\",Data!AS65,\"\"))","v":""},{"$f":"IF(Data!$E65=30,Data!DU65,\"\")","v":""}]
[null,{"$f":"IF(Data!A66<>\"\",Data!A66,\"\")","v":""},{"$f":"IF(Data!$E66=30,Data!BN66,\"\")","v":""},{"$f":"IF(Data!$E66=30,Data!BO66,IF(Data!Z66<>\"\",Data!Z66,\"\"))","v":""},{"$f":"IF(Data!$E66=30,Data!BP66,\"\")","v":""},{"$f":"IF(Data!$E66=30,Data!BQ66,\"\")","v":""},{"$f":"IF(Data!$E66=30,Data!BR66,IF(Data!AA66<>\"\",Data!AA66,\"\"))","v":""},{"$f":"IF(Data!$E66=30,Data!BS66,\"\")","v":""},{"$f":"IF(Data!$E66=30,Data!BT66,\"\")","v":""},{"$f":"IF(Data!$E66=30,Data!BU66,IF(Data!AB66<>\"\",Data!AB66,\"\"))","v":""},{"$f":"IF(Data!$E66=30,Data!BV66,\"\")","v":""},{"$f":"IF(Data!$E66=30,Data!BW66,\"\")","v":""},{"$f":"IF(Data!$E66=30,Data!BX66,IF(Data!AC66<>\"\",Data!AC66,\"\"))","v":""},{"$f":"IF(Data!$E66=30,Data!BY66,\"\")","v":""},{"$f":"IF(Data!$E66=30,Data!BZ66,\"\")","v":""},{"$f":"IF(Data!$E66=30,Data!CA66,IF(Data!AD66<>\"\",Data!AD66,\"\"))","v":""},{"$f":"IF(Data!$E66=30,Data!CB66,\"\")","v":""},{"$f":"IF(Data!$E66=30,Data!CC66,\"\")","v":""},{"$f":"IF(Data!$E66=30,Data!CD66,IF(Data!AE66<>\"\",Data!AE66,\"\"))","v":""},{"$f":"IF(Data!$E66=30,Data!CE66,\"\")","v":""},{"$f":"IF(Data!$E66=30,Data!CF66,\"\")","v":""},{"$f":"IF(Data!$E66=30,Data!CG66,IF(Data!AF66<>\"\",Data!AF66,\"\"))","v":""},{"$f":"IF(Data!$E66=30,Data!CH66,\"\")","v":""},{"$f":"IF(Data!$E66=30,Data!CI66,\"\")","v":""},{"$f":"IF(Data!$E66=30,Data!CJ66,IF(Data!AG66<>\"\",Data!AG66,\"\"))","v":""},{"$f":"IF(Data!$E66=30,Data!CK66,\"\")","v":""},{"$f":"IF(Data!$E66=30,Data!CL66,\"\")","v":""},{"$f":"IF(Data!$E66=30,Data!CM66,IF(Data!AH66<>\"\",Data!AH66,\"\"))","v":""},{"$f":"IF(Data!$E66=30,Data!CN66,\"\")","v":""},{"$f":"IF(Data!$E66=30,Data!CO66,\"\")","v":""},{"$f":"IF(Data!$E66=30,Data!CP66,IF(Data!AI66<>\"\",Data!AI66,\"\"))","v":""},{"$f":"IF(Data!$E66=30,Data!CQ66,\"\")","v":""},null,null,null,{"$f":"IF(Data!$E66=30,Data!CR66,\"\")","v":""},{"$f":"IF(Data!$E66=30,Data!CS66,IF(Data!AJ66<>\"\",Data!AJ66,\"\"))","v":""},{"$f":"IF(Data!$E66=30,Data!CT66,\"\")","v":""},{"$f":"IF(Data!$E66=30,Data!CU66,\"\")","v":""},{"$f":"IF(Data!$E66=30,Data!CV66,IF(Data!AK66<>\"\",Data!AK66,\"\"))","v":""},{"$f":"IF(Data!$E66=30,Data!CW66,\"\")","v":""},{"$f":"IF(Data!$E66=30,Data!CX66,\"\")","v":""},{"$f":"IF(Data!$E66=30,Data!CY66,IF(Data!AL66<>\"\",Data!AL66,\"\"))","v":""},{"$f":"IF(Data!$E66=30,Data!CZ66,\"\")","v":""},{"$f":"IF(Data!$E66=30,Data!DA66,\"\")","v":""},{"$f":"IF(Data!$E66=30,Data!DB66,IF(Data!AM66<>\"\",Data!AM66,\"\"))","v":""},{"$f":"IF(Data!$E66=30,Data!DC66,\"\")","v":""},{"$f":"IF(Data!$E66=30,Data!DD66,\"\")","v":""},{"$f":"IF(Data!$E66=30,Data!DE66,IF(Data!AN66<>\"\",Data!AN66,\"\"))","v":""},{"$f":"IF(Data!$E66=30,Data!DF66,\"\")","v":""},{"$f":"IF(Data!$E66=30,Data!DG66,\"\")","v":""},{"$f":"IF(Data!$E66=30,Data!DH66,IF(Data!AO66<>\"\",Data!AO66,\"\"))","v":""},{"$f":"IF(Data!$E66=30,Data!DI66,\"\")","v":""},{"$f":"IF(Data!$E66=30,Data!DJ66,\"\")","v":""},{"$f":"IF(Data!$E66=30,Data!DK66,IF(Data!AP66<>\"\",Data!AP66,\"\"))","v":""},{"$f":"IF(Data!$E66=30,Data!DL66,\"\")","v":""},{"$f":"IF(Data!$E66=30,Data!DM66,\"\")","v":""},{"$f":"IF(Data!$E66=30,Data!DN66,IF(Data!AQ66<>\"\",Data!AQ66,\"\"))","v":""},{"$f":"IF(Data!$E66=30,Data!DO66,\"\")","v":""},{"$f":"IF(Data!$E66=30,Data!DP66,\"\")","v":""},{"$f":"IF(Data!$E66=30,Data!DQ66,IF(Data!AR66<>\"\",Data!AR66,\"\"))","v":""},{"$f":"IF(Data!$E66=30,Data!DR66,\"\")","v":""},{"$f":"IF(Data!$E66=30,Data!DS66,\"\")","v":""},{"$f":"IF(Data!$E66=30,Data!DT66,IF(Data!AS66<>\"\",Data!AS66,\"\"))","v":""},{"$f":"IF(Data!$E66=30,Data!DU66,\"\")","v":""}]
[null,{"$f":"IF(Data!A67<>\"\",Data!A67,\"\")","v":""},{"$f":"IF(Data!$E67=30,Data!BN67,\"\")","v":""},{"$f":"IF(Data!$E67=30,Data!BO67,IF(Data!Z67<>\"\",Data!Z67,\"\"))","v":""},{"$f":"IF(Data!$E67=30,Data!BP67,\"\")","v":""},{"$f":"IF(Data!$E67=30,Data!BQ67,\"\")","v":""},{"$f":"IF(Data!$E67=30,Data!BR67,IF(Data!AA67<>\"\",Data!AA67,\"\"))","v":""},{"$f":"IF(Data!$E67=30,Data!BS67,\"\")","v":""},{"$f":"IF(Data!$E67=30,Data!BT67,\"\")","v":""},{"$f":"IF(Data!$E67=30,Data!BU67,IF(Data!AB67<>\"\",Data!AB67,\"\"))","v":""},{"$f":"IF(Data!$E67=30,Data!BV67,\"\")","v":""},{"$f":"IF(Data!$E67=30,Data!BW67,\"\")","v":""},{"$f":"IF(Data!$E67=30,Data!BX67,IF(Data!AC67<>\"\",Data!AC67,\"\"))","v":""},{"$f":"IF(Data!$E67=30,Data!BY67,\"\")","v":""},{"$f":"IF(Data!$E67=30,Data!BZ67,\"\")","v":""},{"$f":"IF(Data!$E67=30,Data!CA67,IF(Data!AD67<>\"\",Data!AD67,\"\"))","v":""},{"$f":"IF(Data!$E67=30,Data!CB67,\"\")","v":""},{"$f":"IF(Data!$E67=30,Data!CC67,\"\")","v":""},{"$f":"IF(Data!$E67=30,Data!CD67,IF(Data!AE67<>\"\",Data!AE67,\"\"))","v":""},{"$f":"IF(Data!$E67=30,Data!CE67,\"\")","v":""},{"$f":"IF(Data!$E67=30,Data!CF67,\"\")","v":""},{"$f":"IF(Data!$E67=30,Data!CG67,IF(Data!AF67<>\"\",Data!AF67,\"\"))","v":""},{"$f":"IF(Data!$E67=30,Data!CH67,\"\")","v":""},{"$f":"IF(Data!$E67=30,Data!CI67,\"\")","v":""},{"$f":"IF(Data!$E67=30,Data!CJ67,IF(Data!AG67<>\"\",Data!AG67,\"\"))","v":""},{"$f":"IF(Data!$E67=30,Data!CK67,\"\")","v":""},{"$f":"IF(Data!$E67=30,Data!CL67,\"\")","v":""},{"$f":"IF(Data!$E67=30,Data!CM67,IF(Data!AH67<>\"\",Data!AH67,\"\"))","v":""},{"$f":"IF(Data!$E67=30,Data!CN67,\"\")","v":""},{"$f":"IF(Data!$E67=30,Data!CO67,\"\")","v":""},{"$f":"IF(Data!$E67=30,Data!CP67,IF(Data!AI67<>\"\",Data!AI67,\"\"))","v":""},{"$f":"IF(Data!$E67=30,Data!CQ67,\"\")","v":""},null,null,null,{"$f":"IF(Data!$E67=30,Data!CR67,\"\")","v":""},{"$f":"IF(Data!$E67=30,Data!CS67,IF(Data!AJ67<>\"\",Data!AJ67,\"\"))","v":""},{"$f":"IF(Data!$E67=30,Data!CT67,\"\")","v":""},{"$f":"IF(Data!$E67=30,Data!CU67,\"\")","v":""},{"$f":"IF(Data!$E67=30,Data!CV67,IF(Data!AK67<>\"\",Data!AK67,\"\"))","v":""},{"$f":"IF(Data!$E67=30,Data!CW67,\"\")","v":""},{"$f":"IF(Data!$E67=30,Data!CX67,\"\")","v":""},{"$f":"IF(Data!$E67=30,Data!CY67,IF(Data!AL67<>\"\",Data!AL67,\"\"))","v":""},{"$f":"IF(Data!$E67=30,Data!CZ67,\"\")","v":""},{"$f":"IF(Data!$E67=30,Data!DA67,\"\")","v":""},{"$f":"IF(Data!$E67=30,Data!DB67,IF(Data!AM67<>\"\",Data!AM67,\"\"))","v":""},{"$f":"IF(Data!$E67=30,Data!DC67,\"\")","v":""},{"$f":"IF(Data!$E67=30,Data!DD67,\"\")","v":""},{"$f":"IF(Data!$E67=30,Data!DE67,IF(Data!AN67<>\"\",Data!AN67,\"\"))","v":""},{"$f":"IF(Data!$E67=30,Data!DF67,\"\")","v":""},{"$f":"IF(Data!$E67=30,Data!DG67,\"\")","v":""},{"$f":"IF(Data!$E67=30,Data!DH67,IF(Data!AO67<>\"\",Data!AO67,\"\"))","v":""},{"$f":"IF(Data!$E67=30,Data!DI67,\"\")","v":""},{"$f":"IF(Data!$E67=30,Data!DJ67,\"\")","v":""},{"$f":"IF(Data!$E67=30,Data!DK67,IF(Data!AP67<>\"\",Data!AP67,\"\"))","v":""},{"$f":"IF(Data!$E67=30,Data!DL67,\"\")","v":""},{"$f":"IF(Data!$E67=30,Data!DM67,\"\")","v":""},{"$f":"IF(Data!$E67=30,Data!DN67,IF(Data!AQ67<>\"\",Data!AQ67,\"\"))","v":""},{"$f":"IF(Data!$E67=30,Data!DO67,\"\")","v":""},{"$f":"IF(Data!$E67=30,Data!DP67,\"\")","v":""},{"$f":"IF(Data!$E67=30,Data!DQ67,IF(Data!AR67<>\"\",Data!AR67,\"\"))","v":""},{"$f":"IF(Data!$E67=30,Data!DR67,\"\")","v":""},{"$f":"IF(Data!$E67=30,Data!DS67,\"\")","v":""},{"$f":"IF(Data!$E67=30,Data!DT67,IF(Data!AS67<>\"\",Data!AS67,\"\"))","v":""},{"$f":"IF(Data!$E67=30,Data!DU67,\"\")","v":""}]
[null,{"$f":"IF(Data!A68<>\"\",Data!A68,\"\")","v":""},{"$f":"IF(Data!$E68=30,Data!BN68,\"\")","v":""},{"$f":"IF(Data!$E68=30,Data!BO68,IF(Data!Z68<>\"\",Data!Z68,\"\"))","v":""},{"$f":"IF(Data!$E68=30,Data!BP68,\"\")","v":""},{"$f":"IF(Data!$E68=30,Data!BQ68,\"\")","v":""},{"$f":"IF(Data!$E68=30,Data!BR68,IF(Data!AA68<>\"\",Data!AA68,\"\"))","v":""},{"$f":"IF(Data!$E68=30,Data!BS68,\"\")","v":""},{"$f":"IF(Data!$E68=30,Data!BT68,\"\")","v":""},{"$f":"IF(Data!$E68=30,Data!BU68,IF(Data!AB68<>\"\",Data!AB68,\"\"))","v":""},{"$f":"IF(Data!$E68=30,Data!BV68,\"\")","v":""},{"$f":"IF(Data!$E68=30,Data!BW68,\"\")","v":""},{"$f":"IF(Data!$E68=30,Data!BX68,IF(Data!AC68<>\"\",Data!AC68,\"\"))","v":""},{"$f":"IF(Data!$E68=30,Data!BY68,\"\")","v":""},{"$f":"IF(Data!$E68=30,Data!BZ68,\"\")","v":""},{"$f":"IF(Data!$E68=30,Data!CA68,IF(Data!AD68<>\"\",Data!AD68,\"\"))","v":""},{"$f":"IF(Data!$E68=30,Data!CB68,\"\")","v":""},{"$f":"IF(Data!$E68=30,Data!CC68,\"\")","v":""},{"$f":"IF(Data!$E68=30,Data!CD68,IF(Data!AE68<>\"\",Data!AE68,\"\"))","v":""},{"$f":"IF(Data!$E68=30,Data!CE68,\"\")","v":""},{"$f":"IF(Data!$E68=30,Data!CF68,\"\")","v":""},{"$f":"IF(Data!$E68=30,Data!CG68,IF(Data!AF68<>\"\",Data!AF68,\"\"))","v":""},{"$f":"IF(Data!$E68=30,Data!CH68,\"\")","v":""},{"$f":"IF(Data!$E68=30,Data!CI68,\"\")","v":""},{"$f":"IF(Data!$E68=30,Data!CJ68,IF(Data!AG68<>\"\",Data!AG68,\"\"))","v":""},{"$f":"IF(Data!$E68=30,Data!CK68,\"\")","v":""},{"$f":"IF(Data!$E68=30,Data!CL68,\"\")","v":""},{"$f":"IF(Data!$E68=30,Data!CM68,IF(Data!AH68<>\"\",Data!AH68,\"\"))","v":""},{"$f":"IF(Data!$E68=30,Data!CN68,\"\")","v":""},{"$f":"IF(Data!$E68=30,Data!CO68,\"\")","v":""},{"$f":"IF(Data!$E68=30,Data!CP68,IF(Data!AI68<>\"\",Data!AI68,\"\"))","v":""},{"$f":"IF(Data!$E68=30,Data!CQ68,\"\")","v":""},null,null,null,{"$f":"IF(Data!$E68=30,Data!CR68,\"\")","v":""},{"$f":"IF(Data!$E68=30,Data!CS68,IF(Data!AJ68<>\"\",Data!AJ68,\"\"))","v":""},{"$f":"IF(Data!$E68=30,Data!CT68,\"\")","v":""},{"$f":"IF(Data!$E68=30,Data!CU68,\"\")","v":""},{"$f":"IF(Data!$E68=30,Data!CV68,IF(Data!AK68<>\"\",Data!AK68,\"\"))","v":""},{"$f":"IF(Data!$E68=30,Data!CW68,\"\")","v":""},{"$f":"IF(Data!$E68=30,Data!CX68,\"\")","v":""},{"$f":"IF(Data!$E68=30,Data!CY68,IF(Data!AL68<>\"\",Data!AL68,\"\"))","v":""},{"$f":"IF(Data!$E68=30,Data!CZ68,\"\")","v":""},{"$f":"IF(Data!$E68=30,Data!DA68,\"\")","v":""},{"$f":"IF(Data!$E68=30,Data!DB68,IF(Data!AM68<>\"\",Data!AM68,\"\"))","v":""},{"$f":"IF(Data!$E68=30,Data!DC68,\"\")","v":""},{"$f":"IF(Data!$E68=30,Data!DD68,\"\")","v":""},{"$f":"IF(Data!$E68=30,Data!DE68,IF(Data!AN68<>\"\",Data!AN68,\"\"))","v":""},{"$f":"IF(Data!$E68=30,Data!DF68,\"\")","v":""},{"$f":"IF(Data!$E68=30,Data!DG68,\"\")","v":""},{"$f":"IF(Data!$E68=30,Data!DH68,IF(Data!AO68<>\"\",Data!AO68,\"\"))","v":""},{"$f":"IF(Data!$E68=30,Data!DI68,\"\")","v":""},{"$f":"IF(Data!$E68=30,Data!DJ68,\"\")","v":""},{"$f":"IF(Data!$E68=30,Data!DK68,IF(Data!AP68<>\"\",Data!AP68,\"\"))","v":""},{"$f":"IF(Data!$E68=30,Data!DL68,\"\")","v":""},{"$f":"IF(Data!$E68=30,Data!DM68,\"\")","v":""},{"$f":"IF(Data!$E68=30,Data!DN68,IF(Data!AQ68<>\"\",Data!AQ68,\"\"))","v":""},{"$f":"IF(Data!$E68=30,Data!DO68,\"\")","v":""},{"$f":"IF(Data!$E68=30,Data!DP68,\"\")","v":""},{"$f":"IF(Data!$E68=30,Data!DQ68,IF(Data!AR68<>\"\",Data!AR68,\"\"))","v":""},{"$f":"IF(Data!$E68=30,Data!DR68,\"\")","v":""},{"$f":"IF(Data!$E68=30,Data!DS68,\"\")","v":""},{"$f":"IF(Data!$E68=30,Data!DT68,IF(Data!AS68<>\"\",Data!AS68,\"\"))","v":""},{"$f":"IF(Data!$E68=30,Data!DU68,\"\")","v":""}]
[null,{"$f":"IF(Data!A69<>\"\",Data!A69,\"\")","v":""},{"$f":"IF(Data!$E69=30,Data!BN69,\"\")","v":""},{"$f":"IF(Data!$E69=30,Data!BO69,IF(Data!Z69<>\"\",Data!Z69,\"\"))","v":""},{"$f":"IF(Data!$E69=30,Data!BP69,\"\")","v":""},{"$f":"IF(Data!$E69=30,Data!BQ69,\"\")","v":""},{"$f":"IF(Data!$E69=30,Data!BR69,IF(Data!AA69<>\"\",Data!AA69,\"\"))","v":""},{"$f":"IF(Data!$E69=30,Data!BS69,\"\")","v":""},{"$f":"IF(Data!$E69=30,Data!BT69,\"\")","v":""},{"$f":"IF(Data!$E69=30,Data!BU69,IF(Data!AB69<>\"\",Data!AB69,\"\"))","v":""},{"$f":"IF(Data!$E69=30,Data!BV69,\"\")","v":""},{"$f":"IF(Data!$E69=30,Data!BW69,\"\")","v":""},{"$f":"IF(Data!$E69=30,Data!BX69,IF(Data!AC69<>\"\",Data!AC69,\"\"))","v":""},{"$f":"IF(Data!$E69=30,Data!BY69,\"\")","v":""},{"$f":"IF(Data!$E69=30,Data!BZ69,\"\")","v":""},{"$f":"IF(Data!$E69=30,Data!CA69,IF(Data!AD69<>\"\",Data!AD69,\"\"))","v":""},{"$f":"IF(Data!$E69=30,Data!CB69,\"\")","v":""},{"$f":"IF(Data!$E69=30,Data!CC69,\"\")","v":""},{"$f":"IF(Data!$E69=30,Data!CD69,IF(Data!AE69<>\"\",Data!AE69,\"\"))","v":""},{"$f":"IF(Data!$E69=30,Data!CE69,\"\")","v":""},{"$f":"IF(Data!$E69=30,Data!CF69,\"\")","v":""},{"$f":"IF(Data!$E69=30,Data!CG69,IF(Data!AF69<>\"\",Data!AF69,\"\"))","v":""},{"$f":"IF(Data!$E69=30,Data!CH69,\"\")","v":""},{"$f":"IF(Data!$E69=30,Data!CI69,\"\")","v":""},{"$f":"IF(Data!$E69=30,Data!CJ69,IF(Data!AG69<>\"\",Data!AG69,\"\"))","v":""},{"$f":"IF(Data!$E69=30,Data!CK69,\"\")","v":""},{"$f":"IF(Data!$E69=30,Data!CL69,\"\")","v":""},{"$f":"IF(Data!$E69=30,Data!CM69,IF(Data!AH69<>\"\",Data!AH69,\"\"))","v":""},{"$f":"IF(Data!$E69=30,Data!CN69,\"\")","v":""},{"$f":"IF(Data!$E69=30,Data!CO69,\"\")","v":""},{"$f":"IF(Data!$E69=30,Data!CP69,IF(Data!AI69<>\"\",Data!AI69,\"\"))","v":""},{"$f":"IF(Data!$E69=30,Data!CQ69,\"\")","v":""},null,null,null,{"$f":"IF(Data!$E69=30,Data!CR69,\"\")","v":""},{"$f":"IF(Data!$E69=30,Data!CS69,IF(Data!AJ69<>\"\",Data!AJ69,\"\"))","v":""},{"$f":"IF(Data!$E69=30,Data!CT69,\"\")","v":""},{"$f":"IF(Data!$E69=30,Data!CU69,\"\")","v":""},{"$f":"IF(Data!$E69=30,Data!CV69,IF(Data!AK69<>\"\",Data!AK69,\"\"))","v":""},{"$f":"IF(Data!$E69=30,Data!CW69,\"\")","v":""},{"$f":"IF(Data!$E69=30,Data!CX69,\"\")","v":""},{"$f":"IF(Data!$E69=30,Data!CY69,IF(Data!AL69<>\"\",Data!AL69,\"\"))","v":""},{"$f":"IF(Data!$E69=30,Data!CZ69,\"\")","v":""},{"$f":"IF(Data!$E69=30,Data!DA69,\"\")","v":""},{"$f":"IF(Data!$E69=30,Data!DB69,IF(Data!AM69<>\"\",Data!AM69,\"\"))","v":""},{"$f":"IF(Data!$E69=30,Data!DC69,\"\")","v":""},{"$f":"IF(Data!$E69=30,Data!DD69,\"\")","v":""},{"$f":"IF(Data!$E69=30,Data!DE69,IF(Data!AN69<>\"\",Data!AN69,\"\"))","v":""},{"$f":"IF(Data!$E69=30,Data!DF69,\"\")","v":""},{"$f":"IF(Data!$E69=30,Data!DG69,\"\")","v":""},{"$f":"IF(Data!$E69=30,Data!DH69,IF(Data!AO69<>\"\",Data!AO69,\"\"))","v":""},{"$f":"IF(Data!$E69=30,Data!DI69,\"\")","v":""},{"$f":"IF(Data!$E69=30,Data!DJ69,\"\")","v":""},{"$f":"IF(Data!$E69=30,Data!DK69,IF(Data!AP69<>\"\",Data!AP69,\"\"))","v":""},{"$f":"IF(Data!$E69=30,Data!DL69,\"\")","v":""},{"$f":"IF(Data!$E69=30,Data!DM69,\"\")","v":""},{"$f":"IF(Data!$E69=30,Data!DN69,IF(Data!AQ69<>\"\",Data!AQ69,\"\"))","v":""},{"$f":"IF(Data!$E69=30,Data!DO69,\"\")","v":""},{"$f":"IF(Data!$E69=30,Data!DP69,\"\")","v":""},{"$f":"IF(Data!$E69=30,Data!DQ69,IF(Data!AR69<>\"\",Data!AR69,\"\"))","v":""},{"$f":"IF(Data!$E69=30,Data!DR69,\"\")","v":""},{"$f":"IF(Data!$E69=30,Data!DS69,\"\")","v":""},{"$f":"IF(Data!$E69=30,Data!DT69,IF(Data!AS69<>\"\",Data!AS69,\"\"))","v":""},{"$f":"IF(Data!$E69=30,Data!DU69,\"\")","v":""}]
[null,{"$f":"IF(Data!A70<>\"\",Data!A70,\"\")","v":""},{"$f":"IF(Data!$E70=30,Data!BN70,\"\")","v":""},{"$f":"IF(Data!$E70=30,Data!BO70,IF(Data!Z70<>\"\",Data!Z70,\"\"))","v":""},{"$f":"IF(Data!$E70=30,Data!BP70,\"\")","v":""},{"$f":"IF(Data!$E70=30,Data!BQ70,\"\")","v":""},{"$f":"IF(Data!$E70=30,Data!BR70,IF(Data!AA70<>\"\",Data!AA70,\"\"))","v":""},{"$f":"IF(Data!$E70=30,Data!BS70,\"\")","v":""},{"$f":"IF(Data!$E70=30,Data!BT70,\"\")","v":""},{"$f":"IF(Data!$E70=30,Data!BU70,IF(Data!AB70<>\"\",Data!AB70,\"\"))","v":""},{"$f":"IF(Data!$E70=30,Data!BV70,\"\")","v":""},{"$f":"IF(Data!$E70=30,Data!BW70,\"\")","v":""},{"$f":"IF(Data!$E70=30,Data!BX70,IF(Data!AC70<>\"\",Data!AC70,\"\"))","v":""},{"$f":"IF(Data!$E70=30,Data!BY70,\"\")","v":""},{"$f":"IF(Data!$E70=30,Data!BZ70,\"\")","v":""},{"$f":"IF(Data!$E70=30,Data!CA70,IF(Data!AD70<>\"\",Data!AD70,\"\"))","v":""},{"$f":"IF(Data!$E70=30,Data!CB70,\"\")","v":""},{"$f":"IF(Data!$E70=30,Data!CC70,\"\")","v":""},{"$f":"IF(Data!$E70=30,Data!CD70,IF(Data!AE70<>\"\",Data!AE70,\"\"))","v":""},{"$f":"IF(Data!$E70=30,Data!CE70,\"\")","v":""},{"$f":"IF(Data!$E70=30,Data!CF70,\"\")","v":""},{"$f":"IF(Data!$E70=30,Data!CG70,IF(Data!AF70<>\"\",Data!AF70,\"\"))","v":""},{"$f":"IF(Data!$E70=30,Data!CH70,\"\")","v":""},{"$f":"IF(Data!$E70=30,Data!CI70,\"\")","v":""},{"$f":"IF(Data!$E70=30,Data!CJ70,IF(Data!AG70<>\"\",Data!AG70,\"\"))","v":""},{"$f":"IF(Data!$E70=30,Data!CK70,\"\")","v":""},{"$f":"IF(Data!$E70=30,Data!CL70,\"\")","v":""},{"$f":"IF(Data!$E70=30,Data!CM70,IF(Data!AH70<>\"\",Data!AH70,\"\"))","v":""},{"$f":"IF(Data!$E70=30,Data!CN70,\"\")","v":""},{"$f":"IF(Data!$E70=30,Data!CO70,\"\")","v":""},{"$f":"IF(Data!$E70=30,Data!CP70,IF(Data!AI70<>\"\",Data!AI70,\"\"))","v":""},{"$f":"IF(Data!$E70=30,Data!CQ70,\"\")","v":""},null,null,null,{"$f":"IF(Data!$E70=30,Data!CR70,\"\")","v":""},{"$f":"IF(Data!$E70=30,Data!CS70,IF(Data!AJ70<>\"\",Data!AJ70,\"\"))","v":""},{"$f":"IF(Data!$E70=30,Data!CT70,\"\")","v":""},{"$f":"IF(Data!$E70=30,Data!CU70,\"\")","v":""},{"$f":"IF(Data!$E70=30,Data!CV70,IF(Data!AK70<>\"\",Data!AK70,\"\"))","v":""},{"$f":"IF(Data!$E70=30,Data!CW70,\"\")","v":""},{"$f":"IF(Data!$E70=30,Data!CX70,\"\")","v":""},{"$f":"IF(Data!$E70=30,Data!CY70,IF(Data!AL70<>\"\",Data!AL70,\"\"))","v":""},{"$f":"IF(Data!$E70=30,Data!CZ70,\"\")","v":""},{"$f":"IF(Data!$E70=30,Data!DA70,\"\")","v":""},{"$f":"IF(Data!$E70=30,Data!DB70,IF(Data!AM70<>\"\",Data!AM70,\"\"))","v":""},{"$f":"IF(Data!$E70=30,Data!DC70,\"\")","v":""},{"$f":"IF(Data!$E70=30,Data!DD70,\"\")","v":""},{"$f":"IF(Data!$E70=30,Data!DE70,IF(Data!AN70<>\"\",Data!AN70,\"\"))","v":""},{"$f":"IF(Data!$E70=30,Data!DF70,\"\")","v":""},{"$f":"IF(Data!$E70=30,Data!DG70,\"\")","v":""},{"$f":"IF(Data!$E70=30,Data!DH70,IF(Data!AO70<>\"\",Data!AO70,\"\"))","v":""},{"$f":"IF(Data!$E70=30,Data!DI70,\"\")","v":""},{"$f":"IF(Data!$E70=30,Data!DJ70,\"\")","v":""},{"$f":"IF(Data!$E70=30,Data!DK70,IF(Data!AP70<>\"\",Data!AP70,\"\"))","v":""},{"$f":"IF(Data!$E70=30,Data!DL70,\"\")","v":""},{"$f":"IF(Data!$E70=30,Data!DM70,\"\")","v":""},{"$f":"IF(Data!$E70=30,Data!DN70,IF(Data!AQ70<>\"\",Data!AQ70,\"\"))","v":""},{"$f":"IF(Data!$E70=30,Data!DO70,\"\")","v":""},{"$f":"IF(Data!$E70=30,Data!DP70,\"\")","v":""},{"$f":"IF(Data!$E70=30,Data!DQ70,IF(Data!AR70<>\"\",Data!AR70,\"\"))","v":""},{"$f":"IF(Data!$E70=30,Data!DR70,\"\")","v":""},{"$f":"IF(Data!$E70=30,Data!DS70,\"\")","v":""},{"$f":"IF(Data!$E70=30,Data!DT70,IF(Data!AS70<>\"\",Data!AS70,\"\"))","v":""},{"$f":"IF(Data!$E70=30,Data!DU70,\"\")","v":""}]
[null,{"$f":"IF(Data!A71<>\"\",Data!A71,\"\")","v":""},{"$f":"IF(Data!$E71=30,Data!BN71,\"\")","v":""},{"$f":"IF(Data!$E71=30,Data!BO71,IF(Data!Z71<>\"\",Data!Z71,\"\"))","v":""},{"$f":"IF(Data!$E71=30,Data!BP71,\"\")","v":""},{"$f":"IF(Data!$E71=30,Data!BQ71,\"\")","v":""},{"$f":"IF(Data!$E71=30,Data!BR71,IF(Data!AA71<>\"\",Data!AA71,\"\"))","v":""},{"$f":"IF(Data!$E71=30,Data!BS71,\"\")","v":""},{"$f":"IF(Data!$E71=30,Data!BT71,\"\")","v":""},{"$f":"IF(Data!$E71=30,Data!BU71,IF(Data!AB71<>\"\",Data!AB71,\"\"))","v":""},{"$f":"IF(Data!$E71=30,Data!BV71,\"\")","v":""},{"$f":"IF(Data!$E71=30,Data!BW71,\"\")","v":""},{"$f":"IF(Data!$E71=30,Data!BX71,IF(Data!AC71<>\"\",Data!AC71,\"\"))","v":""},{"$f":"IF(Data!$E71=30,Data!BY71,\"\")","v":""},{"$f":"IF(Data!$E71=30,Data!BZ71,\"\")","v":""},{"$f":"IF(Data!$E71=30,Data!CA71,IF(Data!AD71<>\"\",Data!AD71,\"\"))","v":""},{"$f":"IF(Data!$E71=30,Data!CB71,\"\")","v":""},{"$f":"IF(Data!$E71=30,Data!CC71,\"\")","v":""},{"$f":"IF(Data!$E71=30,Data!CD71,IF(Data!AE71<>\"\",Data!AE71,\"\"))","v":""},{"$f":"IF(Data!$E71=30,Data!CE71,\"\")","v":""},{"$f":"IF(Data!$E71=30,Data!CF71,\"\")","v":""},{"$f":"IF(Data!$E71=30,Data!CG71,IF(Data!AF71<>\"\",Data!AF71,\"\"))","v":""},{"$f":"IF(Data!$E71=30,Data!CH71,\"\")","v":""},{"$f":"IF(Data!$E71=30,Data!CI71,\"\")","v":""},{"$f":"IF(Data!$E71=30,Data!CJ71,IF(Data!AG71<>\"\",Data!AG71,\"\"))","v":""},{"$f":"IF(Data!$E71=30,Data!CK71,\"\")","v":""},{"$f":"IF(Data!$E71=30,Data!CL71,\"\")","v":""},{"$f":"IF(Data!$E71=30,Data!CM71,IF(Data!AH71<>\"\",Data!AH71,\"\"))","v":""},{"$f":"IF(Data!$E71=30,Data!CN71,\"\")","v":""},{"$f":"IF(Data!$E71=30,Data!CO71,\"\")","v":""},{"$f":"IF(Data!$E71=30,Data!CP71,IF(Data!AI71<>\"\",Data!AI71,\"\"))","v":""},{"$f":"IF(Data!$E71=30,Data!CQ71,\"\")","v":""},null,null,null,{"$f":"IF(Data!$E71=30,Data!CR71,\"\")","v":""},{"$f":"IF(Data!$E71=30,Data!CS71,IF(Data!AJ71<>\"\",Data!AJ71,\"\"))","v":""},{"$f":"IF(Data!$E71=30,Data!CT71,\"\")","v":""},{"$f":"IF(Data!$E71=30,Data!CU71,\"\")","v":""},{"$f":"IF(Data!$E71=30,Data!CV71,IF(Data!AK71<>\"\",Data!AK71,\"\"))","v":""},{"$f":"IF(Data!$E71=30,Data!CW71,\"\")","v":""},{"$f":"IF(Data!$E71=30,Data!CX71,\"\")","v":""},{"$f":"IF(Data!$E71=30,Data!CY71,IF(Data!AL71<>\"\",Data!AL71,\"\"))","v":""},{"$f":"IF(Data!$E71=30,Data!CZ71,\"\")","v":""},{"$f":"IF(Data!$E71=30,Data!DA71,\"\")","v":""},{"$f":"IF(Data!$E71=30,Data!DB71,IF(Data!AM71<>\"\",Data!AM71,\"\"))","v":""},{"$f":"IF(Data!$E71=30,Data!DC71,\"\")","v":""},{"$f":"IF(Data!$E71=30,Data!DD71,\"\")","v":""},{"$f":"IF(Data!$E71=30,Data!DE71,IF(Data!AN71<>\"\",Data!AN71,\"\"))","v":""},{"$f":"IF(Data!$E71=30,Data!DF71,\"\")","v":""},{"$f":"IF(Data!$E71=30,Data!DG71,\"\")","v":""},{"$f":"IF(Data!$E71=30,Data!DH71,IF(Data!AO71<>\"\",Data!AO71,\"\"))","v":""},{"$f":"IF(Data!$E71=30,Data!DI71,\"\")","v":""},{"$f":"IF(Data!$E71=30,Data!DJ71,\"\")","v":""},{"$f":"IF(Data!$E71=30,Data!DK71,IF(Data!AP71<>\"\",Data!AP71,\"\"))","v":""},{"$f":"IF(Data!$E71=30,Data!DL71,\"\")","v":""},{"$f":"IF(Data!$E71=30,Data!DM71,\"\")","v":""},{"$f":"IF(Data!$E71=30,Data!DN71,IF(Data!AQ71<>\"\",Data!AQ71,\"\"))","v":""},{"$f":"IF(Data!$E71=30,Data!DO71,\"\")","v":""},{"$f":"IF(Data!$E71=30,Data!DP71,\"\")","v":""},{"$f":"IF(Data!$E71=30,Data!DQ71,IF(Data!AR71<>\"\",Data!AR71,\"\"))","v":""},{"$f":"IF(Data!$E71=30,Data!DR71,\"\")","v":""},{"$f":"IF(Data!$E71=30,Data!DS71,\"\")","v":""},{"$f":"IF(Data!$E71=30,Data!DT71,IF(Data!AS71<>\"\",Data!AS71,\"\"))","v":""},{"$f":"IF(Data!$E71=30,Data!DU71,\"\")","v":""}]
[null,{"$f":"IF(Data!A72<>\"\",Data!A72,\"\")","v":""},{"$f":"IF(Data!$E72=30,Data!BN72,\"\")","v":""},{"$f":"IF(Data!$E72=30,Data!BO72,IF(Data!Z72<>\"\",Data!Z72,\"\"))","v":""},{"$f":"IF(Data!$E72=30,Data!BP72,\"\")","v":""},{"$f":"IF(Data!$E72=30,Data!BQ72,\"\")","v":""},{"$f":"IF(Data!$E72=30,Data!BR72,IF(Data!AA72<>\"\",Data!AA72,\"\"))","v":""},{"$f":"IF(Data!$E72=30,Data!BS72,\"\")","v":""},{"$f":"IF(Data!$E72=30,Data!BT72,\"\")","v":""},{"$f":"IF(Data!$E72=30,Data!BU72,IF(Data!AB72<>\"\",Data!AB72,\"\"))","v":""},{"$f":"IF(Data!$E72=30,Data!BV72,\"\")","v":""},{"$f":"IF(Data!$E72=30,Data!BW72,\"\")","v":""},{"$f":"IF(Data!$E72=30,Data!BX72,IF(Data!AC72<>\"\",Data!AC72,\"\"))","v":""},{"$f":"IF(Data!$E72=30,Data!BY72,\"\")","v":""},{"$f":"IF(Data!$E72=30,Data!BZ72,\"\")","v":""},{"$f":"IF(Data!$E72=30,Data!CA72,IF(Data!AD72<>\"\",Data!AD72,\"\"))","v":""},{"$f":"IF(Data!$E72=30,Data!CB72,\"\")","v":""},{"$f":"IF(Data!$E72=30,Data!CC72,\"\")","v":""},{"$f":"IF(Data!$E72=30,Data!CD72,IF(Data!AE72<>\"\",Data!AE72,\"\"))","v":""},{"$f":"IF(Data!$E72=30,Data!CE72,\"\")","v":""},{"$f":"IF(Data!$E72=30,Data!CF72,\"\")","v":""},{"$f":"IF(Data!$E72=30,Data!CG72,IF(Data!AF72<>\"\",Data!AF72,\"\"))","v":""},{"$f":"IF(Data!$E72=30,Data!CH72,\"\")","v":""},{"$f":"IF(Data!$E72=30,Data!CI72,\"\")","v":""},{"$f":"IF(Data!$E72=30,Data!CJ72,IF(Data!AG72<>\"\",Data!AG72,\"\"))","v":""},{"$f":"IF(Data!$E72=30,Data!CK72,\"\")","v":""},{"$f":"IF(Data!$E72=30,Data!CL72,\"\")","v":""},{"$f":"IF(Data!$E72=30,Data!CM72,IF(Data!AH72<>\"\",Data!AH72,\"\"))","v":""},{"$f":"IF(Data!$E72=30,Data!CN72,\"\")","v":""},{"$f":"IF(Data!$E72=30,Data!CO72,\"\")","v":""},{"$f":"IF(Data!$E72=30,Data!CP72,IF(Data!AI72<>\"\",Data!AI72,\"\"))","v":""},{"$f":"IF(Data!$E72=30,Data!CQ72,\"\")","v":""},null,null,null,{"$f":"IF(Data!$E72=30,Data!CR72,\"\")","v":""},{"$f":"IF(Data!$E72=30,Data!CS72,IF(Data!AJ72<>\"\",Data!AJ72,\"\"))","v":""},{"$f":"IF(Data!$E72=30,Data!CT72,\"\")","v":""},{"$f":"IF(Data!$E72=30,Data!CU72,\"\")","v":""},{"$f":"IF(Data!$E72=30,Data!CV72,IF(Data!AK72<>\"\",Data!AK72,\"\"))","v":""},{"$f":"IF(Data!$E72=30,Data!CW72,\"\")","v":""},{"$f":"IF(Data!$E72=30,Data!CX72,\"\")","v":""},{"$f":"IF(Data!$E72=30,Data!CY72,IF(Data!AL72<>\"\",Data!AL72,\"\"))","v":""},{"$f":"IF(Data!$E72=30,Data!CZ72,\"\")","v":""},{"$f":"IF(Data!$E72=30,Data!DA72,\"\")","v":""},{"$f":"IF(Data!$E72=30,Data!DB72,IF(Data!AM72<>\"\",Data!AM72,\"\"))","v":""},{"$f":"IF(Data!$E72=30,Data!DC72,\"\")","v":""},{"$f":"IF(Data!$E72=30,Data!DD72,\"\")","v":""},{"$f":"IF(Data!$E72=30,Data!DE72,IF(Data!AN72<>\"\",Data!AN72,\"\"))","v":""},{"$f":"IF(Data!$E72=30,Data!DF72,\"\")","v":""},{"$f":"IF(Data!$E72=30,Data!DG72,\"\")","v":""},{"$f":"IF(Data!$E72=30,Data!DH72,IF(Data!AO72<>\"\",Data!AO72,\"\"))","v":""},{"$f":"IF(Data!$E72=30,Data!DI72,\"\")","v":""},{"$f":"IF(Data!$E72=30,Data!DJ72,\"\")","v":""},{"$f":"IF(Data!$E72=30,Data!DK72,IF(Data!AP72<>\"\",Data!AP72,\"\"))","v":""},{"$f":"IF(Data!$E72=30,Data!DL72,\"\")","v":""},{"$f":"IF(Data!$E72=30,Data!DM72,\"\")","v":""},{"$f":"IF(Data!$E72=30,Data!DN72,IF(Data!AQ72<>\"\",Data!AQ72,\"\"))","v":""},{"$f":"IF(Data!$E72=30,Data!DO72,\"\")","v":""},{"$f":"IF(Data!$E72=30,Data!DP72,\"\")","v":""},{"$f":"IF(Data!$E72=30,Data!DQ72,IF(Data!AR72<>\"\",Data!AR72,\"\"))","v":""},{"$f":"IF(Data!$E72=30,Data!DR72,\"\")","v":""},{"$f":"IF(Data!$E72=30,Data!DS72,\"\")","v":""},{"$f":"IF(Data!$E72=30,Data!DT72,IF(Data!AS72<>\"\",Data!AS72,\"\"))","v":""},{"$f":"IF(Data!$E72=30,Data!DU72,\"\")","v":""}]
[null,{"$f":"IF(Data!A73<>\"\",Data!A73,\"\")","v":""},{"$f":"IF(Data!$E73=30,Data!BN73,\"\")","v":""},{"$f":"IF(Data!$E73=30,Data!BO73,IF(Data!Z73<>\"\",Data!Z73,\"\"))","v":""},{"$f":"IF(Data!$E73=30,Data!BP73,\"\")","v":""},{"$f":"IF(Data!$E73=30,Data!BQ73,\"\")","v":""},{"$f":"IF(Data!$E73=30,Data!BR73,IF(Data!AA73<>\"\",Data!AA73,\"\"))","v":""},{"$f":"IF(Data!$E73=30,Data!BS73,\"\")","v":""},{"$f":"IF(Data!$E73=30,Data!BT73,\"\")","v":""},{"$f":"IF(Data!$E73=30,Data!BU73,IF(Data!AB73<>\"\",Data!AB73,\"\"))","v":""},{"$f":"IF(Data!$E73=30,Data!BV73,\"\")","v":""},{"$f":"IF(Data!$E73=30,Data!BW73,\"\")","v":""},{"$f":"IF(Data!$E73=30,Data!BX73,IF(Data!AC73<>\"\",Data!AC73,\"\"))","v":""},{"$f":"IF(Data!$E73=30,Data!BY73,\"\")","v":""},{"$f":"IF(Data!$E73=30,Data!BZ73,\"\")","v":""},{"$f":"IF(Data!$E73=30,Data!CA73,IF(Data!AD73<>\"\",Data!AD73,\"\"))","v":""},{"$f":"IF(Data!$E73=30,Data!CB73,\"\")","v":""},{"$f":"IF(Data!$E73=30,Data!CC73,\"\")","v":""},{"$f":"IF(Data!$E73=30,Data!CD73,IF(Data!AE73<>\"\",Data!AE73,\"\"))","v":""},{"$f":"IF(Data!$E73=30,Data!CE73,\"\")","v":""},{"$f":"IF(Data!$E73=30,Data!CF73,\"\")","v":""},{"$f":"IF(Data!$E73=30,Data!CG73,IF(Data!AF73<>\"\",Data!AF73,\"\"))","v":""},{"$f":"IF(Data!$E73=30,Data!CH73,\"\")","v":""},{"$f":"IF(Data!$E73=30,Data!CI73,\"\")","v":""},{"$f":"IF(Data!$E73=30,Data!CJ73,IF(Data!AG73<>\"\",Data!AG73,\"\"))","v":""},{"$f":"IF(Data!$E73=30,Data!CK73,\"\")","v":""},{"$f":"IF(Data!$E73=30,Data!CL73,\"\")","v":""},{"$f":"IF(Data!$E73=30,Data!CM73,IF(Data!AH73<>\"\",Data!AH73,\"\"))","v":""},{"$f":"IF(Data!$E73=30,Data!CN73,\"\")","v":""},{"$f":"IF(Data!$E73=30,Data!CO73,\"\")","v":""},{"$f":"IF(Data!$E73=30,Data!CP73,IF(Data!AI73<>\"\",Data!AI73,\"\"))","v":""},{"$f":"IF(Data!$E73=30,Data!CQ73,\"\")","v":""},null,null,null,{"$f":"IF(Data!$E73=30,Data!CR73,\"\")","v":""},{"$f":"IF(Data!$E73=30,Data!CS73,IF(Data!AJ73<>\"\",Data!AJ73,\"\"))","v":""},{"$f":"IF(Data!$E73=30,Data!CT73,\"\")","v":""},{"$f":"IF(Data!$E73=30,Data!CU73,\"\")","v":""},{"$f":"IF(Data!$E73=30,Data!CV73,IF(Data!AK73<>\"\",Data!AK73,\"\"))","v":""},{"$f":"IF(Data!$E73=30,Data!CW73,\"\")","v":""},{"$f":"IF(Data!$E73=30,Data!CX73,\"\")","v":""},{"$f":"IF(Data!$E73=30,Data!CY73,IF(Data!AL73<>\"\",Data!AL73,\"\"))","v":""},{"$f":"IF(Data!$E73=30,Data!CZ73,\"\")","v":""},{"$f":"IF(Data!$E73=30,Data!DA73,\"\")","v":""},{"$f":"IF(Data!$E73=30,Data!DB73,IF(Data!AM73<>\"\",Data!AM73,\"\"))","v":""},{"$f":"IF(Data!$E73=30,Data!DC73,\"\")","v":""},{"$f":"IF(Data!$E73=30,Data!DD73,\"\")","v":""},{"$f":"IF(Data!$E73=30,Data!DE73,IF(Data!AN73<>\"\",Data!AN73,\"\"))","v":""},{"$f":"IF(Data!$E73=30,Data!DF73,\"\")","v":""},{"$f":"IF(Data!$E73=30,Data!DG73,\"\")","v":""},{"$f":"IF(Data!$E73=30,Data!DH73,IF(Data!AO73<>\"\",Data!AO73,\"\"))","v":""},{"$f":"IF(Data!$E73=30,Data!DI73,\"\")","v":""},{"$f":"IF(Data!$E73=30,Data!DJ73,\"\")","v":""},{"$f":"IF(Data!$E73=30,Data!DK73,IF(Data!AP73<>\"\",Data!AP73,\"\"))","v":""},{"$f":"IF(Data!$E73=30,Data!DL73,\"\")","v":""},{"$f":"IF(Data!$E73=30,Data!DM73,\"\")","v":""},{"$f":"IF(Data!$E73=30,Data!DN73,IF(Data!AQ73<>\"\",Data!AQ73,\"\"))","v":""},{"$f":"IF(Data!$E73=30,Data!DO73,\"\")","v":""},{"$f":"IF(Data!$E73=30,Data!DP73,\"\")","v":""},{"$f":"IF(Data!$E73=30,Data!DQ73,IF(Data!AR73<>\"\",Data!AR73,\"\"))","v":""},{"$f":"IF(Data!$E73=30,Data!DR73,\"\")","v":""},{"$f":"IF(Data!$E73=30,Data!DS73,\"\")","v":""},{"$f":"IF(Data!$E73=30,Data!DT73,IF(Data!AS73<>\"\",Data!AS73,\"\"))","v":""},{"$f":"IF(Data!$E73=30,Data!DU73,\"\")","v":""}]
[null,{"$f":"IF(Data!A74<>\"\",Data!A74,\"\")","v":""},{"$f":"IF(Data!$E74=30,Data!BN74,\"\")","v":""},{"$f":"IF(Data!$E74=30,Data!BO74,IF(Data!Z74<>\"\",Data!Z74,\"\"))","v":""},{"$f":"IF(Data!$E74=30,Data!BP74,\"\")","v":""},{"$f":"IF(Data!$E74=30,Data!BQ74,\"\")","v":""},{"$f":"IF(Data!$E74=30,Data!BR74,IF(Data!AA74<>\"\",Data!AA74,\"\"))","v":""},{"$f":"IF(Data!$E74=30,Data!BS74,\"\")","v":""},{"$f":"IF(Data!$E74=30,Data!BT74,\"\")","v":""},{"$f":"IF(Data!$E74=30,Data!BU74,IF(Data!AB74<>\"\",Data!AB74,\"\"))","v":""},{"$f":"IF(Data!$E74=30,Data!BV74,\"\")","v":""},{"$f":"IF(Data!$E74=30,Data!BW74,\"\")","v":""},{"$f":"IF(Data!$E74=30,Data!BX74,IF(Data!AC74<>\"\",Data!AC74,\"\"))","v":""},{"$f":"IF(Data!$E74=30,Data!BY74,\"\")","v":""},{"$f":"IF(Data!$E74=30,Data!BZ74,\"\")","v":""},{"$f":"IF(Data!$E74=30,Data!CA74,IF(Data!AD74<>\"\",Data!AD74,\"\"))","v":""},{"$f":"IF(Data!$E74=30,Data!CB74,\"\")","v":""},{"$f":"IF(Data!$E74=30,Data!CC74,\"\")","v":""},{"$f":"IF(Data!$E74=30,Data!CD74,IF(Data!AE74<>\"\",Data!AE74,\"\"))","v":""},{"$f":"IF(Data!$E74=30,Data!CE74,\"\")","v":""},{"$f":"IF(Data!$E74=30,Data!CF74,\"\")","v":""},{"$f":"IF(Data!$E74=30,Data!CG74,IF(Data!AF74<>\"\",Data!AF74,\"\"))","v":""},{"$f":"IF(Data!$E74=30,Data!CH74,\"\")","v":""},{"$f":"IF(Data!$E74=30,Data!CI74,\"\")","v":""},{"$f":"IF(Data!$E74=30,Data!CJ74,IF(Data!AG74<>\"\",Data!AG74,\"\"))","v":""},{"$f":"IF(Data!$E74=30,Data!CK74,\"\")","v":""},{"$f":"IF(Data!$E74=30,Data!CL74,\"\")","v":""},{"$f":"IF(Data!$E74=30,Data!CM74,IF(Data!AH74<>\"\",Data!AH74,\"\"))","v":""},{"$f":"IF(Data!$E74=30,Data!CN74,\"\")","v":""},{"$f":"IF(Data!$E74=30,Data!CO74,\"\")","v":""},{"$f":"IF(Data!$E74=30,Data!CP74,IF(Data!AI74<>\"\",Data!AI74,\"\"))","v":""},{"$f":"IF(Data!$E74=30,Data!CQ74,\"\")","v":""},null,null,null,{"$f":"IF(Data!$E74=30,Data!CR74,\"\")","v":""},{"$f":"IF(Data!$E74=30,Data!CS74,IF(Data!AJ74<>\"\",Data!AJ74,\"\"))","v":""},{"$f":"IF(Data!$E74=30,Data!CT74,\"\")","v":""},{"$f":"IF(Data!$E74=30,Data!CU74,\"\")","v":""},{"$f":"IF(Data!$E74=30,Data!CV74,IF(Data!AK74<>\"\",Data!AK74,\"\"))","v":""},{"$f":"IF(Data!$E74=30,Data!CW74,\"\")","v":""},{"$f":"IF(Data!$E74=30,Data!CX74,\"\")","v":""},{"$f":"IF(Data!$E74=30,Data!CY74,IF(Data!AL74<>\"\",Data!AL74,\"\"))","v":""},{"$f":"IF(Data!$E74=30,Data!CZ74,\"\")","v":""},{"$f":"IF(Data!$E74=30,Data!DA74,\"\")","v":""},{"$f":"IF(Data!$E74=30,Data!DB74,IF(Data!AM74<>\"\",Data!AM74,\"\"))","v":""},{"$f":"IF(Data!$E74=30,Data!DC74,\"\")","v":""},{"$f":"IF(Data!$E74=30,Data!DD74,\"\")","v":""},{"$f":"IF(Data!$E74=30,Data!DE74,IF(Data!AN74<>\"\",Data!AN74,\"\"))","v":""},{"$f":"IF(Data!$E74=30,Data!DF74,\"\")","v":""},{"$f":"IF(Data!$E74=30,Data!DG74,\"\")","v":""},{"$f":"IF(Data!$E74=30,Data!DH74,IF(Data!AO74<>\"\",Data!AO74,\"\"))","v":""},{"$f":"IF(Data!$E74=30,Data!DI74,\"\")","v":""},{"$f":"IF(Data!$E74=30,Data!DJ74,\"\")","v":""},{"$f":"IF(Data!$E74=30,Data!DK74,IF(Data!AP74<>\"\",Data!AP74,\"\"))","v":""},{"$f":"IF(Data!$E74=30,Data!DL74,\"\")","v":""},{"$f":"IF(Data!$E74=30,Data!DM74,\"\")","v":""},{"$f":"IF(Data!$E74=30,Data!DN74,IF(Data!AQ74<>\"\",Data!AQ74,\"\"))","v":""},{"$f":"IF(Data!$E74=30,Data!DO74,\"\")","v":""},{"$f":"IF(Data!$E74=30,Data!DP74,\"\")","v":""},{"$f":"IF(Data!$E74=30,Data!DQ74,IF(Data!AR74<>\"\",Data!AR74,\"\"))","v":""},{"$f":"IF(Data!$E74=30,Data!DR74,\"\")","v":""},{"$f":"IF(Data!$E74=30,Data!DS74,\"\")","v":""},{"$f":"IF(Data!$E74=30,Data!DT74,IF(Data!AS74<>\"\",Data!AS74,\"\"))","v":""},{"$f":"IF(Data!$E74=30,Data!DU74,\"\")","v":""}]
[null,{"$f":"IF(Data!A75<>\"\",Data!A75,\"\")","v":""},{"$f":"IF(Data!$E75=30,Data!BN75,\"\")","v":""},{"$f":"IF(Data!$E75=30,Data!BO75,IF(Data!Z75<>\"\",Data!Z75,\"\"))","v":""},{"$f":"IF(Data!$E75=30,Data!BP75,\"\")","v":""},{"$f":"IF(Data!$E75=30,Data!BQ75,\"\")","v":""},{"$f":"IF(Data!$E75=30,Data!BR75,IF(Data!AA75<>\"\",Data!AA75,\"\"))","v":""},{"$f":"IF(Data!$E75=30,Data!BS75,\"\")","v":""},{"$f":"IF(Data!$E75=30,Data!BT75,\"\")","v":""},{"$f":"IF(Data!$E75=30,Data!BU75,IF(Data!AB75<>\"\",Data!AB75,\"\"))","v":""},{"$f":"IF(Data!$E75=30,Data!BV75,\"\")","v":""},{"$f":"IF(Data!$E75=30,Data!BW75,\"\")","v":""},{"$f":"IF(Data!$E75=30,Data!BX75,IF(Data!AC75<>\"\",Data!AC75,\"\"))","v":""},{"$f":"IF(Data!$E75=30,Data!BY75,\"\")","v":""},{"$f":"IF(Data!$E75=30,Data!BZ75,\"\")","v":""},{"$f":"IF(Data!$E75=30,Data!CA75,IF(Data!AD75<>\"\",Data!AD75,\"\"))","v":""},{"$f":"IF(Data!$E75=30,Data!CB75,\"\")","v":""},{"$f":"IF(Data!$E75=30,Data!CC75,\"\")","v":""},{"$f":"IF(Data!$E75=30,Data!CD75,IF(Data!AE75<>\"\",Data!AE75,\"\"))","v":""},{"$f":"IF(Data!$E75=30,Data!CE75,\"\")","v":""},{"$f":"IF(Data!$E75=30,Data!CF75,\"\")","v":""},{"$f":"IF(Data!$E75=30,Data!CG75,IF(Data!AF75<>\"\",Data!AF75,\"\"))","v":""},{"$f":"IF(Data!$E75=30,Data!CH75,\"\")","v":""},{"$f":"IF(Data!$E75=30,Data!CI75,\"\")","v":""},{"$f":"IF(Data!$E75=30,Data!CJ75,IF(Data!AG75<>\"\",Data!AG75,\"\"))","v":""},{"$f":"IF(Data!$E75=30,Data!CK75,\"\")","v":""},{"$f":"IF(Data!$E75=30,Data!CL75,\"\")","v":""},{"$f":"IF(Data!$E75=30,Data!CM75,IF(Data!AH75<>\"\",Data!AH75,\"\"))","v":""},{"$f":"IF(Data!$E75=30,Data!CN75,\"\")","v":""},{"$f":"IF(Data!$E75=30,Data!CO75,\"\")","v":""},{"$f":"IF(Data!$E75=30,Data!CP75,IF(Data!AI75<>\"\",Data!AI75,\"\"))","v":""},{"$f":"IF(Data!$E75=30,Data!CQ75,\"\")","v":""},null,null,null,{"$f":"IF(Data!$E75=30,Data!CR75,\"\")","v":""},{"$f":"IF(Data!$E75=30,Data!CS75,IF(Data!AJ75<>\"\",Data!AJ75,\"\"))","v":""},{"$f":"IF(Data!$E75=30,Data!CT75,\"\")","v":""},{"$f":"IF(Data!$E75=30,Data!CU75,\"\")","v":""},{"$f":"IF(Data!$E75=30,Data!CV75,IF(Data!AK75<>\"\",Data!AK75,\"\"))","v":""},{"$f":"IF(Data!$E75=30,Data!CW75,\"\")","v":""},{"$f":"IF(Data!$E75=30,Data!CX75,\"\")","v":""},{"$f":"IF(Data!$E75=30,Data!CY75,IF(Data!AL75<>\"\",Data!AL75,\"\"))","v":""},{"$f":"IF(Data!$E75=30,Data!CZ75,\"\")","v":""},{"$f":"IF(Data!$E75=30,Data!DA75,\"\")","v":""},{"$f":"IF(Data!$E75=30,Data!DB75,IF(Data!AM75<>\"\",Data!AM75,\"\"))","v":""},{"$f":"IF(Data!$E75=30,Data!DC75,\"\")","v":""},{"$f":"IF(Data!$E75=30,Data!DD75,\"\")","v":""},{"$f":"IF(Data!$E75=30,Data!DE75,IF(Data!AN75<>\"\",Data!AN75,\"\"))","v":""},{"$f":"IF(Data!$E75=30,Data!DF75,\"\")","v":""},{"$f":"IF(Data!$E75=30,Data!DG75,\"\")","v":""},{"$f":"IF(Data!$E75=30,Data!DH75,IF(Data!AO75<>\"\",Data!AO75,\"\"))","v":""},{"$f":"IF(Data!$E75=30,Data!DI75,\"\")","v":""},{"$f":"IF(Data!$E75=30,Data!DJ75,\"\")","v":""},{"$f":"IF(Data!$E75=30,Data!DK75,IF(Data!AP75<>\"\",Data!AP75,\"\"))","v":""},{"$f":"IF(Data!$E75=30,Data!DL75,\"\")","v":""},{"$f":"IF(Data!$E75=30,Data!DM75,\"\")","v":""},{"$f":"IF(Data!$E75=30,Data!DN75,IF(Data!AQ75<>\"\",Data!AQ75,\"\"))","v":""},{"$f":"IF(Data!$E75=30,Data!DO75,\"\")","v":""},{"$f":"IF(Data!$E75=30,Data!DP75,\"\")","v":""},{"$f":"IF(Data!$E75=30,Data!DQ75,IF(Data!AR75<>\"\",Data!AR75,\"\"))","v":""},{"$f":"IF(Data!$E75=30,Data!DR75,\"\")","v":""},{"$f":"IF(Data!$E75=30,Data!DS75,\"\")","v":""},{"$f":"IF(Data!$E75=30,Data!DT75,IF(Data!AS75<>\"\",Data!AS75,\"\"))","v":""},{"$f":"IF(Data!$E75=30,Data!DU75,\"\")","v":""}]
[null,{"$f":"IF(Data!A76<>\"\",Data!A76,\"\")","v":""},{"$f":"IF(Data!$E76=30,Data!BN76,\"\")","v":""},{"$f":"IF(Data!$E76=30,Data!BO76,IF(Data!Z76<>\"\",Data!Z76,\"\"))","v":""},{"$f":"IF(Data!$E76=30,Data!BP76,\"\")","v":""},{"$f":"IF(Data!$E76=30,Data!BQ76,\"\")","v":""},{"$f":"IF(Data!$E76=30,Data!BR76,IF(Data!AA76<>\"\",Data!AA76,\"\"))","v":""},{"$f":"IF(Data!$E76=30,Data!BS76,\"\")","v":""},{"$f":"IF(Data!$E76=30,Data!BT76,\"\")","v":""},{"$f":"IF(Data!$E76=30,Data!BU76,IF(Data!AB76<>\"\",Data!AB76,\"\"))","v":""},{"$f":"IF(Data!$E76=30,Data!BV76,\"\")","v":""},{"$f":"IF(Data!$E76=30,Data!BW76,\"\")","v":""},{"$f":"IF(Data!$E76=30,Data!BX76,IF(Data!AC76<>\"\",Data!AC76,\"\"))","v":""},{"$f":"IF(Data!$E76=30,Data!BY76,\"\")","v":""},{"$f":"IF(Data!$E76=30,Data!BZ76,\"\")","v":""},{"$f":"IF(Data!$E76=30,Data!CA76,IF(Data!AD76<>\"\",Data!AD76,\"\"))","v":""},{"$f":"IF(Data!$E76=30,Data!CB76,\"\")","v":""},{"$f":"IF(Data!$E76=30,Data!CC76,\"\")","v":""},{"$f":"IF(Data!$E76=30,Data!CD76,IF(Data!AE76<>\"\",Data!AE76,\"\"))","v":""},{"$f":"IF(Data!$E76=30,Data!CE76,\"\")","v":""},{"$f":"IF(Data!$E76=30,Data!CF76,\"\")","v":""},{"$f":"IF(Data!$E76=30,Data!CG76,IF(Data!AF76<>\"\",Data!AF76,\"\"))","v":""},{"$f":"IF(Data!$E76=30,Data!CH76,\"\")","v":""},{"$f":"IF(Data!$E76=30,Data!CI76,\"\")","v":""},{"$f":"IF(Data!$E76=30,Data!CJ76,IF(Data!AG76<>\"\",Data!AG76,\"\"))","v":""},{"$f":"IF(Data!$E76=30,Data!CK76,\"\")","v":""},{"$f":"IF(Data!$E76=30,Data!CL76,\"\")","v":""},{"$f":"IF(Data!$E76=30,Data!CM76,IF(Data!AH76<>\"\",Data!AH76,\"\"))","v":""},{"$f":"IF(Data!$E76=30,Data!CN76,\"\")","v":""},{"$f":"IF(Data!$E76=30,Data!CO76,\"\")","v":""},{"$f":"IF(Data!$E76=30,Data!CP76,IF(Data!AI76<>\"\",Data!AI76,\"\"))","v":""},{"$f":"IF(Data!$E76=30,Data!CQ76,\"\")","v":""},null,null,null,{"$f":"IF(Data!$E76=30,Data!CR76,\"\")","v":""},{"$f":"IF(Data!$E76=30,Data!CS76,IF(Data!AJ76<>\"\",Data!AJ76,\"\"))","v":""},{"$f":"IF(Data!$E76=30,Data!CT76,\"\")","v":""},{"$f":"IF(Data!$E76=30,Data!CU76,\"\")","v":""},{"$f":"IF(Data!$E76=30,Data!CV76,IF(Data!AK76<>\"\",Data!AK76,\"\"))","v":""},{"$f":"IF(Data!$E76=30,Data!CW76,\"\")","v":""},{"$f":"IF(Data!$E76=30,Data!CX76,\"\")","v":""},{"$f":"IF(Data!$E76=30,Data!CY76,IF(Data!AL76<>\"\",Data!AL76,\"\"))","v":""},{"$f":"IF(Data!$E76=30,Data!CZ76,\"\")","v":""},{"$f":"IF(Data!$E76=30,Data!DA76,\"\")","v":""},{"$f":"IF(Data!$E76=30,Data!DB76,IF(Data!AM76<>\"\",Data!AM76,\"\"))","v":""},{"$f":"IF(Data!$E76=30,Data!DC76,\"\")","v":""},{"$f":"IF(Data!$E76=30,Data!DD76,\"\")","v":""},{"$f":"IF(Data!$E76=30,Data!DE76,IF(Data!AN76<>\"\",Data!AN76,\"\"))","v":""},{"$f":"IF(Data!$E76=30,Data!DF76,\"\")","v":""},{"$f":"IF(Data!$E76=30,Data!DG76,\"\")","v":""},{"$f":"IF(Data!$E76=30,Data!DH76,IF(Data!AO76<>\"\",Data!AO76,\"\"))","v":""},{"$f":"IF(Data!$E76=30,Data!DI76,\"\")","v":""},{"$f":"IF(Data!$E76=30,Data!DJ76,\"\")","v":""},{"$f":"IF(Data!$E76=30,Data!DK76,IF(Data!AP76<>\"\",Data!AP76,\"\"))","v":""},{"$f":"IF(Data!$E76=30,Data!DL76,\"\")","v":""},{"$f":"IF(Data!$E76=30,Data!DM76,\"\")","v":""},{"$f":"IF(Data!$E76=30,Data!DN76,IF(Data!AQ76<>\"\",Data!AQ76,\"\"))","v":""},{"$f":"IF(Data!$E76=30,Data!DO76,\"\")","v":""},{"$f":"IF(Data!$E76=30,Data!DP76,\"\")","v":""},{"$f":"IF(Data!$E76=30,Data!DQ76,IF(Data!AR76<>\"\",Data!AR76,\"\"))","v":""},{"$f":"IF(Data!$E76=30,Data!DR76,\"\")","v":""},{"$f":"IF(Data!$E76=30,Data!DS76,\"\")","v":""},{"$f":"IF(Data!$E76=30,Data!DT76,IF(Data!AS76<>\"\",Data!AS76,\"\"))","v":""},{"$f":"IF(Data!$E76=30,Data!DU76,\"\")","v":""}]
[null,{"$f":"IF(Data!A77<>\"\",Data!A77,\"\")","v":""},{"$f":"IF(Data!$E77=30,Data!BN77,\"\")","v":""},{"$f":"IF(Data!$E77=30,Data!BO77,IF(Data!Z77<>\"\",Data!Z77,\"\"))","v":""},{"$f":"IF(Data!$E77=30,Data!BP77,\"\")","v":""},{"$f":"IF(Data!$E77=30,Data!BQ77,\"\")","v":""},{"$f":"IF(Data!$E77=30,Data!BR77,IF(Data!AA77<>\"\",Data!AA77,\"\"))","v":""},{"$f":"IF(Data!$E77=30,Data!BS77,\"\")","v":""},{"$f":"IF(Data!$E77=30,Data!BT77,\"\")","v":""},{"$f":"IF(Data!$E77=30,Data!BU77,IF(Data!AB77<>\"\",Data!AB77,\"\"))","v":""},{"$f":"IF(Data!$E77=30,Data!BV77,\"\")","v":""},{"$f":"IF(Data!$E77=30,Data!BW77,\"\")","v":""},{"$f":"IF(Data!$E77=30,Data!BX77,IF(Data!AC77<>\"\",Data!AC77,\"\"))","v":""},{"$f":"IF(Data!$E77=30,Data!BY77,\"\")","v":""},{"$f":"IF(Data!$E77=30,Data!BZ77,\"\")","v":""},{"$f":"IF(Data!$E77=30,Data!CA77,IF(Data!AD77<>\"\",Data!AD77,\"\"))","v":""},{"$f":"IF(Data!$E77=30,Data!CB77,\"\")","v":""},{"$f":"IF(Data!$E77=30,Data!CC77,\"\")","v":""},{"$f":"IF(Data!$E77=30,Data!CD77,IF(Data!AE77<>\"\",Data!AE77,\"\"))","v":""},{"$f":"IF(Data!$E77=30,Data!CE77,\"\")","v":""},{"$f":"IF(Data!$E77=30,Data!CF77,\"\")","v":""},{"$f":"IF(Data!$E77=30,Data!CG77,IF(Data!AF77<>\"\",Data!AF77,\"\"))","v":""},{"$f":"IF(Data!$E77=30,Data!CH77,\"\")","v":""},{"$f":"IF(Data!$E77=30,Data!CI77,\"\")","v":""},{"$f":"IF(Data!$E77=30,Data!CJ77,IF(Data!AG77<>\"\",Data!AG77,\"\"))","v":""},{"$f":"IF(Data!$E77=30,Data!CK77,\"\")","v":""},{"$f":"IF(Data!$E77=30,Data!CL77,\"\")","v":""},{"$f":"IF(Data!$E77=30,Data!CM77,IF(Data!AH77<>\"\",Data!AH77,\"\"))","v":""},{"$f":"IF(Data!$E77=30,Data!CN77,\"\")","v":""},{"$f":"IF(Data!$E77=30,Data!CO77,\"\")","v":""},{"$f":"IF(Data!$E77=30,Data!CP77,IF(Data!AI77<>\"\",Data!AI77,\"\"))","v":""},{"$f":"IF(Data!$E77=30,Data!CQ77,\"\")","v":""},null,null,null,{"$f":"IF(Data!$E77=30,Data!CR77,\"\")","v":""},{"$f":"IF(Data!$E77=30,Data!CS77,IF(Data!AJ77<>\"\",Data!AJ77,\"\"))","v":""},{"$f":"IF(Data!$E77=30,Data!CT77,\"\")","v":""},{"$f":"IF(Data!$E77=30,Data!CU77,\"\")","v":""},{"$f":"IF(Data!$E77=30,Data!CV77,IF(Data!AK77<>\"\",Data!AK77,\"\"))","v":""},{"$f":"IF(Data!$E77=30,Data!CW77,\"\")","v":""},{"$f":"IF(Data!$E77=30,Data!CX77,\"\")","v":""},{"$f":"IF(Data!$E77=30,Data!CY77,IF(Data!AL77<>\"\",Data!AL77,\"\"))","v":""},{"$f":"IF(Data!$E77=30,Data!CZ77,\"\")","v":""},{"$f":"IF(Data!$E77=30,Data!DA77,\"\")","v":""},{"$f":"IF(Data!$E77=30,Data!DB77,IF(Data!AM77<>\"\",Data!AM77,\"\"))","v":""},{"$f":"IF(Data!$E77=30,Data!DC77,\"\")","v":""},{"$f":"IF(Data!$E77=30,Data!DD77,\"\")","v":""},{"$f":"IF(Data!$E77=30,Data!DE77,IF(Data!AN77<>\"\",Data!AN77,\"\"))","v":""},{"$f":"IF(Data!$E77=30,Data!DF77,\"\")","v":""},{"$f":"IF(Data!$E77=30,Data!DG77,\"\")","v":""},{"$f":"IF(Data!$E77=30,Data!DH77,IF(Data!AO77<>\"\",Data!AO77,\"\"))","v":""},{"$f":"IF(Data!$E77=30,Data!DI77,\"\")","v":""},{"$f":"IF(Data!$E77=30,Data!DJ77,\"\")","v":""},{"$f":"IF(Data!$E77=30,Data!DK77,IF(Data!AP77<>\"\",Data!AP77,\"\"))","v":""},{"$f":"IF(Data!$E77=30,Data!DL77,\"\")","v":""},{"$f":"IF(Data!$E77=30,Data!DM77,\"\")","v":""},{"$f":"IF(Data!$E77=30,Data!DN77,IF(Data!AQ77<>\"\",Data!AQ77,\"\"))","v":""},{"$f":"IF(Data!$E77=30,Data!DO77,\"\")","v":""},{"$f":"IF(Data!$E77=30,Data!DP77,\"\")","v":""},{"$f":"IF(Data!$E77=30,Data!DQ77,IF(Data!AR77<>\"\",Data!AR77,\"\"))","v":""},{"$f":"IF(Data!$E77=30,Data!DR77,\"\")","v":""},{"$f":"IF(Data!$E77=30,Data!DS77,\"\")","v":""},{"$f":"IF(Data!$E77=30,Data!DT77,IF(Data!AS77<>\"\",Data!AS77,\"\"))","v":""},{"$f":"IF(Data!$E77=30,Data!DU77,\"\")","v":""}]
[null,{"$f":"IF(Data!A78<>\"\",Data!A78,\"\")","v":""},{"$f":"IF(Data!$E78=30,Data!BN78,\"\")","v":""},{"$f":"IF(Data!$E78=30,Data!BO78,IF(Data!Z78<>\"\",Data!Z78,\"\"))","v":""},{"$f":"IF(Data!$E78=30,Data!BP78,\"\")","v":""},{"$f":"IF(Data!$E78=30,Data!BQ78,\"\")","v":""},{"$f":"IF(Data!$E78=30,Data!BR78,IF(Data!AA78<>\"\",Data!AA78,\"\"))","v":""},{"$f":"IF(Data!$E78=30,Data!BS78,\"\")","v":""},{"$f":"IF(Data!$E78=30,Data!BT78,\"\")","v":""},{"$f":"IF(Data!$E78=30,Data!BU78,IF(Data!AB78<>\"\",Data!AB78,\"\"))","v":""},{"$f":"IF(Data!$E78=30,Data!BV78,\"\")","v":""},{"$f":"IF(Data!$E78=30,Data!BW78,\"\")","v":""},{"$f":"IF(Data!$E78=30,Data!BX78,IF(Data!AC78<>\"\",Data!AC78,\"\"))","v":""},{"$f":"IF(Data!$E78=30,Data!BY78,\"\")","v":""},{"$f":"IF(Data!$E78=30,Data!BZ78,\"\")","v":""},{"$f":"IF(Data!$E78=30,Data!CA78,IF(Data!AD78<>\"\",Data!AD78,\"\"))","v":""},{"$f":"IF(Data!$E78=30,Data!CB78,\"\")","v":""},{"$f":"IF(Data!$E78=30,Data!CC78,\"\")","v":""},{"$f":"IF(Data!$E78=30,Data!CD78,IF(Data!AE78<>\"\",Data!AE78,\"\"))","v":""},{"$f":"IF(Data!$E78=30,Data!CE78,\"\")","v":""},{"$f":"IF(Data!$E78=30,Data!CF78,\"\")","v":""},{"$f":"IF(Data!$E78=30,Data!CG78,IF(Data!AF78<>\"\",Data!AF78,\"\"))","v":""},{"$f":"IF(Data!$E78=30,Data!CH78,\"\")","v":""},{"$f":"IF(Data!$E78=30,Data!CI78,\"\")","v":""},{"$f":"IF(Data!$E78=30,Data!CJ78,IF(Data!AG78<>\"\",Data!AG78,\"\"))","v":""},{"$f":"IF(Data!$E78=30,Data!CK78,\"\")","v":""},{"$f":"IF(Data!$E78=30,Data!CL78,\"\")","v":""},{"$f":"IF(Data!$E78=30,Data!CM78,IF(Data!AH78<>\"\",Data!AH78,\"\"))","v":""},{"$f":"IF(Data!$E78=30,Data!CN78,\"\")","v":""},{"$f":"IF(Data!$E78=30,Data!CO78,\"\")","v":""},{"$f":"IF(Data!$E78=30,Data!CP78,IF(Data!AI78<>\"\",Data!AI78,\"\"))","v":""},{"$f":"IF(Data!$E78=30,Data!CQ78,\"\")","v":""},null,null,null,{"$f":"IF(Data!$E78=30,Data!CR78,\"\")","v":""},{"$f":"IF(Data!$E78=30,Data!CS78,IF(Data!AJ78<>\"\",Data!AJ78,\"\"))","v":""},{"$f":"IF(Data!$E78=30,Data!CT78,\"\")","v":""},{"$f":"IF(Data!$E78=30,Data!CU78,\"\")","v":""},{"$f":"IF(Data!$E78=30,Data!CV78,IF(Data!AK78<>\"\",Data!AK78,\"\"))","v":""},{"$f":"IF(Data!$E78=30,Data!CW78,\"\")","v":""},{"$f":"IF(Data!$E78=30,Data!CX78,\"\")","v":""},{"$f":"IF(Data!$E78=30,Data!CY78,IF(Data!AL78<>\"\",Data!AL78,\"\"))","v":""},{"$f":"IF(Data!$E78=30,Data!CZ78,\"\")","v":""},{"$f":"IF(Data!$E78=30,Data!DA78,\"\")","v":""},{"$f":"IF(Data!$E78=30,Data!DB78,IF(Data!AM78<>\"\",Data!AM78,\"\"))","v":""},{"$f":"IF(Data!$E78=30,Data!DC78,\"\")","v":""},{"$f":"IF(Data!$E78=30,Data!DD78,\"\")","v":""},{"$f":"IF(Data!$E78=30,Data!DE78,IF(Data!AN78<>\"\",Data!AN78,\"\"))","v":""},{"$f":"IF(Data!$E78=30,Data!DF78,\"\")","v":""},{"$f":"IF(Data!$E78=30,Data!DG78,\"\")","v":""},{"$f":"IF(Data!$E78=30,Data!DH78,IF(Data!AO78<>\"\",Data!AO78,\"\"))","v":""},{"$f":"IF(Data!$E78=30,Data!DI78,\"\")","v":""},{"$f":"IF(Data!$E78=30,Data!DJ78,\"\")","v":""},{"$f":"IF(Data!$E78=30,Data!DK78,IF(Data!AP78<>\"\",Data!AP78,\"\"))","v":""},{"$f":"IF(Data!$E78=30,Data!DL78,\"\")","v":""},{"$f":"IF(Data!$E78=30,Data!DM78,\"\")","v":""},{"$f":"IF(Data!$E78=30,Data!DN78,IF(Data!AQ78<>\"\",Data!AQ78,\"\"))","v":""},{"$f":"IF(Data!$E78=30,Data!DO78,\"\")","v":""},{"$f":"IF(Data!$E78=30,Data!DP78,\"\")","v":""},{"$f":"IF(Data!$E78=30,Data!DQ78,IF(Data!AR78<>\"\",Data!AR78,\"\"))","v":""},{"$f":"IF(Data!$E78=30,Data!DR78,\"\")","v":""},{"$f":"IF(Data!$E78=30,Data!DS78,\"\")","v":""},{"$f":"IF(Data!$E78=30,Data!DT78,IF(Data!AS78<>\"\",Data!AS78,\"\"))","v":""},{"$f":"IF(Data!$E78=30,Data!DU78,\"\")","v":""}]
[null,{"$f":"IF(Data!A79<>\"\",Data!A79,\"\")","v":""},{"$f":"IF(Data!$E79=30,Data!BN79,\"\")","v":""},{"$f":"IF(Data!$E79=30,Data!BO79,IF(Data!Z79<>\"\",Data!Z79,\"\"))","v":""},{"$f":"IF(Data!$E79=30,Data!BP79,\"\")","v":""},{"$f":"IF(Data!$E79=30,Data!BQ79,\"\")","v":""},{"$f":"IF(Data!$E79=30,Data!BR79,IF(Data!AA79<>\"\",Data!AA79,\"\"))","v":""},{"$f":"IF(Data!$E79=30,Data!BS79,\"\")","v":""},{"$f":"IF(Data!$E79=30,Data!BT79,\"\")","v":""},{"$f":"IF(Data!$E79=30,Data!BU79,IF(Data!AB79<>\"\",Data!AB79,\"\"))","v":""},{"$f":"IF(Data!$E79=30,Data!BV79,\"\")","v":""},{"$f":"IF(Data!$E79=30,Data!BW79,\"\")","v":""},{"$f":"IF(Data!$E79=30,Data!BX79,IF(Data!AC79<>\"\",Data!AC79,\"\"))","v":""},{"$f":"IF(Data!$E79=30,Data!BY79,\"\")","v":""},{"$f":"IF(Data!$E79=30,Data!BZ79,\"\")","v":""},{"$f":"IF(Data!$E79=30,Data!CA79,IF(Data!AD79<>\"\",Data!AD79,\"\"))","v":""},{"$f":"IF(Data!$E79=30,Data!CB79,\"\")","v":""},{"$f":"IF(Data!$E79=30,Data!CC79,\"\")","v":""},{"$f":"IF(Data!$E79=30,Data!CD79,IF(Data!AE79<>\"\",Data!AE79,\"\"))","v":""},{"$f":"IF(Data!$E79=30,Data!CE79,\"\")","v":""},{"$f":"IF(Data!$E79=30,Data!CF79,\"\")","v":""},{"$f":"IF(Data!$E79=30,Data!CG79,IF(Data!AF79<>\"\",Data!AF79,\"\"))","v":""},{"$f":"IF(Data!$E79=30,Data!CH79,\"\")","v":""},{"$f":"IF(Data!$E79=30,Data!CI79,\"\")","v":""},{"$f":"IF(Data!$E79=30,Data!CJ79,IF(Data!AG79<>\"\",Data!AG79,\"\"))","v":""},{"$f":"IF(Data!$E79=30,Data!CK79,\"\")","v":""},{"$f":"IF(Data!$E79=30,Data!CL79,\"\")","v":""},{"$f":"IF(Data!$E79=30,Data!CM79,IF(Data!AH79<>\"\",Data!AH79,\"\"))","v":""},{"$f":"IF(Data!$E79=30,Data!CN79,\"\")","v":""},{"$f":"IF(Data!$E79=30,Data!CO79,\"\")","v":""},{"$f":"IF(Data!$E79=30,Data!CP79,IF(Data!AI79<>\"\",Data!AI79,\"\"))","v":""},{"$f":"IF(Data!$E79=30,Data!CQ79,\"\")","v":""},null,null,null,{"$f":"IF(Data!$E79=30,Data!CR79,\"\")","v":""},{"$f":"IF(Data!$E79=30,Data!CS79,IF(Data!AJ79<>\"\",Data!AJ79,\"\"))","v":""},{"$f":"IF(Data!$E79=30,Data!CT79,\"\")","v":""},{"$f":"IF(Data!$E79=30,Data!CU79,\"\")","v":""},{"$f":"IF(Data!$E79=30,Data!CV79,IF(Data!AK79<>\"\",Data!AK79,\"\"))","v":""},{"$f":"IF(Data!$E79=30,Data!CW79,\"\")","v":""},{"$f":"IF(Data!$E79=30,Data!CX79,\"\")","v":""},{"$f":"IF(Data!$E79=30,Data!CY79,IF(Data!AL79<>\"\",Data!AL79,\"\"))","v":""},{"$f":"IF(Data!$E79=30,Data!CZ79,\"\")","v":""},{"$f":"IF(Data!$E79=30,Data!DA79,\"\")","v":""},{"$f":"IF(Data!$E79=30,Data!DB79,IF(Data!AM79<>\"\",Data!AM79,\"\"))","v":""},{"$f":"IF(Data!$E79=30,Data!DC79,\"\")","v":""},{"$f":"IF(Data!$E79=30,Data!DD79,\"\")","v":""},{"$f":"IF(Data!$E79=30,Data!DE79,IF(Data!AN79<>\"\",Data!AN79,\"\"))","v":""},{"$f":"IF(Data!$E79=30,Data!DF79,\"\")","v":""},{"$f":"IF(Data!$E79=30,Data!DG79,\"\")","v":""},{"$f":"IF(Data!$E79=30,Data!DH79,IF(Data!AO79<>\"\",Data!AO79,\"\"))","v":""},{"$f":"IF(Data!$E79=30,Data!DI79,\"\")","v":""},{"$f":"IF(Data!$E79=30,Data!DJ79,\"\")","v":""},{"$f":"IF(Data!$E79=30,Data!DK79,IF(Data!AP79<>\"\",Data!AP79,\"\"))","v":""},{"$f":"IF(Data!$E79=30,Data!DL79,\"\")","v":""},{"$f":"IF(Data!$E79=30,Data!DM79,\"\")","v":""},{"$f":"IF(Data!$E79=30,Data!DN79,IF(Data!AQ79<>\"\",Data!AQ79,\"\"))","v":""},{"$f":"IF(Data!$E79=30,Data!DO79,\"\")","v":""},{"$f":"IF(Data!$E79=30,Data!DP79,\"\")","v":""},{"$f":"IF(Data!$E79=30,Data!DQ79,IF(Data!AR79<>\"\",Data!AR79,\"\"))","v":""},{"$f":"IF(Data!$E79=30,Data!DR79,\"\")","v":""},{"$f":"IF(Data!$E79=30,Data!DS79,\"\")","v":""},{"$f":"IF(Data!$E79=30,Data!DT79,IF(Data!AS79<>\"\",Data!AS79,\"\"))","v":""},{"$f":"IF(Data!$E79=30,Data!DU79,\"\")","v":""}]
[null,{"$f":"IF(Data!A80<>\"\",Data!A80,\"\")","v":""},{"$f":"IF(Data!$E80=30,Data!BN80,\"\")","v":""},{"$f":"IF(Data!$E80=30,Data!BO80,IF(Data!Z80<>\"\",Data!Z80,\"\"))","v":""},{"$f":"IF(Data!$E80=30,Data!BP80,\"\")","v":""},{"$f":"IF(Data!$E80=30,Data!BQ80,\"\")","v":""},{"$f":"IF(Data!$E80=30,Data!BR80,IF(Data!AA80<>\"\",Data!AA80,\"\"))","v":""},{"$f":"IF(Data!$E80=30,Data!BS80,\"\")","v":""},{"$f":"IF(Data!$E80=30,Data!BT80,\"\")","v":""},{"$f":"IF(Data!$E80=30,Data!BU80,IF(Data!AB80<>\"\",Data!AB80,\"\"))","v":""},{"$f":"IF(Data!$E80=30,Data!BV80,\"\")","v":""},{"$f":"IF(Data!$E80=30,Data!BW80,\"\")","v":""},{"$f":"IF(Data!$E80=30,Data!BX80,IF(Data!AC80<>\"\",Data!AC80,\"\"))","v":""},{"$f":"IF(Data!$E80=30,Data!BY80,\"\")","v":""},{"$f":"IF(Data!$E80=30,Data!BZ80,\"\")","v":""},{"$f":"IF(Data!$E80=30,Data!CA80,IF(Data!AD80<>\"\",Data!AD80,\"\"))","v":""},{"$f":"IF(Data!$E80=30,Data!CB80,\"\")","v":""},{"$f":"IF(Data!$E80=30,Data!CC80,\"\")","v":""},{"$f":"IF(Data!$E80=30,Data!CD80,IF(Data!AE80<>\"\",Data!AE80,\"\"))","v":""},{"$f":"IF(Data!$E80=30,Data!CE80,\"\")","v":""},{"$f":"IF(Data!$E80=30,Data!CF80,\"\")","v":""},{"$f":"IF(Data!$E80=30,Data!CG80,IF(Data!AF80<>\"\",Data!AF80,\"\"))","v":""},{"$f":"IF(Data!$E80=30,Data!CH80,\"\")","v":""},{"$f":"IF(Data!$E80=30,Data!CI80,\"\")","v":""},{"$f":"IF(Data!$E80=30,Data!CJ80,IF(Data!AG80<>\"\",Data!AG80,\"\"))","v":""},{"$f":"IF(Data!$E80=30,Data!CK80,\"\")","v":""},{"$f":"IF(Data!$E80=30,Data!CL80,\"\")","v":""},{"$f":"IF(Data!$E80=30,Data!CM80,IF(Data!AH80<>\"\",Data!AH80,\"\"))","v":""},{"$f":"IF(Data!$E80=30,Data!CN80,\"\")","v":""},{"$f":"IF(Data!$E80=30,Data!CO80,\"\")","v":""},{"$f":"IF(Data!$E80=30,Data!CP80,IF(Data!AI80<>\"\",Data!AI80,\"\"))","v":""},{"$f":"IF(Data!$E80=30,Data!CQ80,\"\")","v":""},null,null,null,{"$f":"IF(Data!$E80=30,Data!CR80,\"\")","v":""},{"$f":"IF(Data!$E80=30,Data!CS80,IF(Data!AJ80<>\"\",Data!AJ80,\"\"))","v":""},{"$f":"IF(Data!$E80=30,Data!CT80,\"\")","v":""},{"$f":"IF(Data!$E80=30,Data!CU80,\"\")","v":""},{"$f":"IF(Data!$E80=30,Data!CV80,IF(Data!AK80<>\"\",Data!AK80,\"\"))","v":""},{"$f":"IF(Data!$E80=30,Data!CW80,\"\")","v":""},{"$f":"IF(Data!$E80=30,Data!CX80,\"\")","v":""},{"$f":"IF(Data!$E80=30,Data!CY80,IF(Data!AL80<>\"\",Data!AL80,\"\"))","v":""},{"$f":"IF(Data!$E80=30,Data!CZ80,\"\")","v":""},{"$f":"IF(Data!$E80=30,Data!DA80,\"\")","v":""},{"$f":"IF(Data!$E80=30,Data!DB80,IF(Data!AM80<>\"\",Data!AM80,\"\"))","v":""},{"$f":"IF(Data!$E80=30,Data!DC80,\"\")","v":""},{"$f":"IF(Data!$E80=30,Data!DD80,\"\")","v":""},{"$f":"IF(Data!$E80=30,Data!DE80,IF(Data!AN80<>\"\",Data!AN80,\"\"))","v":""},{"$f":"IF(Data!$E80=30,Data!DF80,\"\")","v":""},{"$f":"IF(Data!$E80=30,Data!DG80,\"\")","v":""},{"$f":"IF(Data!$E80=30,Data!DH80,IF(Data!AO80<>\"\",Data!AO80,\"\"))","v":""},{"$f":"IF(Data!$E80=30,Data!DI80,\"\")","v":""},{"$f":"IF(Data!$E80=30,Data!DJ80,\"\")","v":""},{"$f":"IF(Data!$E80=30,Data!DK80,IF(Data!AP80<>\"\",Data!AP80,\"\"))","v":""},{"$f":"IF(Data!$E80=30,Data!DL80,\"\")","v":""},{"$f":"IF(Data!$E80=30,Data!DM80,\"\")","v":""},{"$f":"IF(Data!$E80=30,Data!DN80,IF(Data!AQ80<>\"\",Data!AQ80,\"\"))","v":""},{"$f":"IF(Data!$E80=30,Data!DO80,\"\")","v":""},{"$f":"IF(Data!$E80=30,Data!DP80,\"\")","v":""},{"$f":"IF(Data!$E80=30,Data!DQ80,IF(Data!AR80<>\"\",Data!AR80,\"\"))","v":""},{"$f":"IF(Data!$E80=30,Data!DR80,\"\")","v":""},{"$f":"IF(Data!$E80=30,Data!DS80,\"\")","v":""},{"$f":"IF(Data!$E80=30,Data!DT80,IF(Data!AS80<>\"\",Data!AS80,\"\"))","v":""},{"$f":"IF(Data!$E80=30,Data!DU80,\"\")","v":""}]
[null,{"$f":"IF(Data!A81<>\"\",Data!A81,\"\")","v":""},{"$f":"IF(Data!$E81=30,Data!BN81,\"\")","v":""},{"$f":"IF(Data!$E81=30,Data!BO81,IF(Data!Z81<>\"\",Data!Z81,\"\"))","v":""},{"$f":"IF(Data!$E81=30,Data!BP81,\"\")","v":""},{"$f":"IF(Data!$E81=30,Data!BQ81,\"\")","v":""},{"$f":"IF(Data!$E81=30,Data!BR81,IF(Data!AA81<>\"\",Data!AA81,\"\"))","v":""},{"$f":"IF(Data!$E81=30,Data!BS81,\"\")","v":""},{"$f":"IF(Data!$E81=30,Data!BT81,\"\")","v":""},{"$f":"IF(Data!$E81=30,Data!BU81,IF(Data!AB81<>\"\",Data!AB81,\"\"))","v":""},{"$f":"IF(Data!$E81=30,Data!BV81,\"\")","v":""},{"$f":"IF(Data!$E81=30,Data!BW81,\"\")","v":""},{"$f":"IF(Data!$E81=30,Data!BX81,IF(Data!AC81<>\"\",Data!AC81,\"\"))","v":""},{"$f":"IF(Data!$E81=30,Data!BY81,\"\")","v":""},{"$f":"IF(Data!$E81=30,Data!BZ81,\"\")","v":""},{"$f":"IF(Data!$E81=30,Data!CA81,IF(Data!AD81<>\"\",Data!AD81,\"\"))","v":""},{"$f":"IF(Data!$E81=30,Data!CB81,\"\")","v":""},{"$f":"IF(Data!$E81=30,Data!CC81,\"\")","v":""},{"$f":"IF(Data!$E81=30,Data!CD81,IF(Data!AE81<>\"\",Data!AE81,\"\"))","v":""},{"$f":"IF(Data!$E81=30,Data!CE81,\"\")","v":""},{"$f":"IF(Data!$E81=30,Data!CF81,\"\")","v":""},{"$f":"IF(Data!$E81=30,Data!CG81,IF(Data!AF81<>\"\",Data!AF81,\"\"))","v":""},{"$f":"IF(Data!$E81=30,Data!CH81,\"\")","v":""},{"$f":"IF(Data!$E81=30,Data!CI81,\"\")","v":""},{"$f":"IF(Data!$E81=30,Data!CJ81,IF(Data!AG81<>\"\",Data!AG81,\"\"))","v":""},{"$f":"IF(Data!$E81=30,Data!CK81,\"\")","v":""},{"$f":"IF(Data!$E81=30,Data!CL81,\"\")","v":""},{"$f":"IF(Data!$E81=30,Data!CM81,IF(Data!AH81<>\"\",Data!AH81,\"\"))","v":""},{"$f":"IF(Data!$E81=30,Data!CN81,\"\")","v":""},{"$f":"IF(Data!$E81=30,Data!CO81,\"\")","v":""},{"$f":"IF(Data!$E81=30,Data!CP81,IF(Data!AI81<>\"\",Data!AI81,\"\"))","v":""},{"$f":"IF(Data!$E81=30,Data!CQ81,\"\")","v":""},null,null,null,{"$f":"IF(Data!$E81=30,Data!CR81,\"\")","v":""},{"$f":"IF(Data!$E81=30,Data!CS81,IF(Data!AJ81<>\"\",Data!AJ81,\"\"))","v":""},{"$f":"IF(Data!$E81=30,Data!CT81,\"\")","v":""},{"$f":"IF(Data!$E81=30,Data!CU81,\"\")","v":""},{"$f":"IF(Data!$E81=30,Data!CV81,IF(Data!AK81<>\"\",Data!AK81,\"\"))","v":""},{"$f":"IF(Data!$E81=30,Data!CW81,\"\")","v":""},{"$f":"IF(Data!$E81=30,Data!CX81,\"\")","v":""},{"$f":"IF(Data!$E81=30,Data!CY81,IF(Data!AL81<>\"\",Data!AL81,\"\"))","v":""},{"$f":"IF(Data!$E81=30,Data!CZ81,\"\")","v":""},{"$f":"IF(Data!$E81=30,Data!DA81,\"\")","v":""},{"$f":"IF(Data!$E81=30,Data!DB81,IF(Data!AM81<>\"\",Data!AM81,\"\"))","v":""},{"$f":"IF(Data!$E81=30,Data!DC81,\"\")","v":""},{"$f":"IF(Data!$E81=30,Data!DD81,\"\")","v":""},{"$f":"IF(Data!$E81=30,Data!DE81,IF(Data!AN81<>\"\",Data!AN81,\"\"))","v":""},{"$f":"IF(Data!$E81=30,Data!DF81,\"\")","v":""},{"$f":"IF(Data!$E81=30,Data!DG81,\"\")","v":""},{"$f":"IF(Data!$E81=30,Data!DH81,IF(Data!AO81<>\"\",Data!AO81,\"\"))","v":""},{"$f":"IF(Data!$E81=30,Data!DI81,\"\")","v":""},{"$f":"IF(Data!$E81=30,Data!DJ81,\"\")","v":""},{"$f":"IF(Data!$E81=30,Data!DK81,IF(Data!AP81<>\"\",Data!AP81,\"\"))","v":""},{"$f":"IF(Data!$E81=30,Data!DL81,\"\")","v":""},{"$f":"IF(Data!$E81=30,Data!DM81,\"\")","v":""},{"$f":"IF(Data!$E81=30,Data!DN81,IF(Data!AQ81<>\"\",Data!AQ81,\"\"))","v":""},{"$f":"IF(Data!$E81=30,Data!DO81,\"\")","v":""},{"$f":"IF(Data!$E81=30,Data!DP81,\"\")","v":""},{"$f":"IF(Data!$E81=30,Data!DQ81,IF(Data!AR81<>\"\",Data!AR81,\"\"))","v":""},{"$f":"IF(Data!$E81=30,Data!DR81,\"\")","v":""},{"$f":"IF(Data!$E81=30,Data!DS81,\"\")","v":""},{"$f":"IF(Data!$E81=30,Data!DT81,IF(Data!AS81<>\"\",Data!AS81,\"\"))","v":""},{"$f":"IF(Data!$E81=30,Data!DU81,\"\")","v":""}]
[null,{"$f":"IF(Data!A82<>\"\",Data!A82,\"\")","v":""},{"$f":"IF(Data!$E82=30,Data!BN82,\"\")","v":""},{"$f":"IF(Data!$E82=30,Data!BO82,IF(Data!Z82<>\"\",Data!Z82,\"\"))","v":""},{"$f":"IF(Data!$E82=30,Data!BP82,\"\")","v":""},{"$f":"IF(Data!$E82=30,Data!BQ82,\"\")","v":""},{"$f":"IF(Data!$E82=30,Data!BR82,IF(Data!AA82<>\"\",Data!AA82,\"\"))","v":""},{"$f":"IF(Data!$E82=30,Data!BS82,\"\")","v":""},{"$f":"IF(Data!$E82=30,Data!BT82,\"\")","v":""},{"$f":"IF(Data!$E82=30,Data!BU82,IF(Data!AB82<>\"\",Data!AB82,\"\"))","v":""},{"$f":"IF(Data!$E82=30,Data!BV82,\"\")","v":""},{"$f":"IF(Data!$E82=30,Data!BW82,\"\")","v":""},{"$f":"IF(Data!$E82=30,Data!BX82,IF(Data!AC82<>\"\",Data!AC82,\"\"))","v":""},{"$f":"IF(Data!$E82=30,Data!BY82,\"\")","v":""},{"$f":"IF(Data!$E82=30,Data!BZ82,\"\")","v":""},{"$f":"IF(Data!$E82=30,Data!CA82,IF(Data!AD82<>\"\",Data!AD82,\"\"))","v":""},{"$f":"IF(Data!$E82=30,Data!CB82,\"\")","v":""},{"$f":"IF(Data!$E82=30,Data!CC82,\"\")","v":""},{"$f":"IF(Data!$E82=30,Data!CD82,IF(Data!AE82<>\"\",Data!AE82,\"\"))","v":""},{"$f":"IF(Data!$E82=30,Data!CE82,\"\")","v":""},{"$f":"IF(Data!$E82=30,Data!CF82,\"\")","v":""},{"$f":"IF(Data!$E82=30,Data!CG82,IF(Data!AF82<>\"\",Data!AF82,\"\"))","v":""},{"$f":"IF(Data!$E82=30,Data!CH82,\"\")","v":""},{"$f":"IF(Data!$E82=30,Data!CI82,\"\")","v":""},{"$f":"IF(Data!$E82=30,Data!CJ82,IF(Data!AG82<>\"\",Data!AG82,\"\"))","v":""},{"$f":"IF(Data!$E82=30,Data!CK82,\"\")","v":""},{"$f":"IF(Data!$E82=30,Data!CL82,\"\")","v":""},{"$f":"IF(Data!$E82=30,Data!CM82,IF(Data!AH82<>\"\",Data!AH82,\"\"))","v":""},{"$f":"IF(Data!$E82=30,Data!CN82,\"\")","v":""},{"$f":"IF(Data!$E82=30,Data!CO82,\"\")","v":""},{"$f":"IF(Data!$E82=30,Data!CP82,IF(Data!AI82<>\"\",Data!AI82,\"\"))","v":""},{"$f":"IF(Data!$E82=30,Data!CQ82,\"\")","v":""},null,null,null,{"$f":"IF(Data!$E82=30,Data!CR82,\"\")","v":""},{"$f":"IF(Data!$E82=30,Data!CS82,IF(Data!AJ82<>\"\",Data!AJ82,\"\"))","v":""},{"$f":"IF(Data!$E82=30,Data!CT82,\"\")","v":""},{"$f":"IF(Data!$E82=30,Data!CU82,\"\")","v":""},{"$f":"IF(Data!$E82=30,Data!CV82,IF(Data!AK82<>\"\",Data!AK82,\"\"))","v":""},{"$f":"IF(Data!$E82=30,Data!CW82,\"\")","v":""},{"$f":"IF(Data!$E82=30,Data!CX82,\"\")","v":""},{"$f":"IF(Data!$E82=30,Data!CY82,IF(Data!AL82<>\"\",Data!AL82,\"\"))","v":""},{"$f":"IF(Data!$E82=30,Data!CZ82,\"\")","v":""},{"$f":"IF(Data!$E82=30,Data!DA82,\"\")","v":""},{"$f":"IF(Data!$E82=30,Data!DB82,IF(Data!AM82<>\"\",Data!AM82,\"\"))","v":""},{"$f":"IF(Data!$E82=30,Data!DC82,\"\")","v":""},{"$f":"IF(Data!$E82=30,Data!DD82,\"\")","v":""},{"$f":"IF(Data!$E82=30,Data!DE82,IF(Data!AN82<>\"\",Data!AN82,\"\"))","v":""},{"$f":"IF(Data!$E82=30,Data!DF82,\"\")","v":""},{"$f":"IF(Data!$E82=30,Data!DG82,\"\")","v":""},{"$f":"IF(Data!$E82=30,Data!DH82,IF(Data!AO82<>\"\",Data!AO82,\"\"))","v":""},{"$f":"IF(Data!$E82=30,Data!DI82,\"\")","v":""},{"$f":"IF(Data!$E82=30,Data!DJ82,\"\")","v":""},{"$f":"IF(Data!$E82=30,Data!DK82,IF(Data!AP82<>\"\",Data!AP82,\"\"))","v":""},{"$f":"IF(Data!$E82=30,Data!DL82,\"\")","v":""},{"$f":"IF(Data!$E82=30,Data!DM82,\"\")","v":""},{"$f":"IF(Data!$E82=30,Data!DN82,IF(Data!AQ82<>\"\",Data!AQ82,\"\"))","v":""},{"$f":"IF(Data!$E82=30,Data!DO82,\"\")","v":""},{"$f":"IF(Data!$E82=30,Data!DP82,\"\")","v":""},{"$f":"IF(Data!$E82=30,Data!DQ82,IF(Data!AR82<>\"\",Data!AR82,\"\"))","v":""},{"$f":"IF(Data!$E82=30,Data!DR82,\"\")","v":""},{"$f":"IF(Data!$E82=30,Data!DS82,\"\")","v":""},{"$f":"IF(Data!$E82=30,Data!DT82,IF(Data!AS82<>\"\",Data!AS82,\"\"))","v":""},{"$f":"IF(Data!$E82=30,Data!DU82,\"\")","v":""}]
[null,{"$f":"IF(Data!A83<>\"\",Data!A83,\"\")","v":""},{"$f":"IF(Data!$E83=30,Data!BN83,\"\")","v":""},{"$f":"IF(Data!$E83=30,Data!BO83,IF(Data!Z83<>\"\",Data!Z83,\"\"))","v":""},{"$f":"IF(Data!$E83=30,Data!BP83,\"\")","v":""},{"$f":"IF(Data!$E83=30,Data!BQ83,\"\")","v":""},{"$f":"IF(Data!$E83=30,Data!BR83,IF(Data!AA83<>\"\",Data!AA83,\"\"))","v":""},{"$f":"IF(Data!$E83=30,Data!BS83,\"\")","v":""},{"$f":"IF(Data!$E83=30,Data!BT83,\"\")","v":""},{"$f":"IF(Data!$E83=30,Data!BU83,IF(Data!AB83<>\"\",Data!AB83,\"\"))","v":""},{"$f":"IF(Data!$E83=30,Data!BV83,\"\")","v":""},{"$f":"IF(Data!$E83=30,Data!BW83,\"\")","v":""},{"$f":"IF(Data!$E83=30,Data!BX83,IF(Data!AC83<>\"\",Data!AC83,\"\"))","v":""},{"$f":"IF(Data!$E83=30,Data!BY83,\"\")","v":""},{"$f":"IF(Data!$E83=30,Data!BZ83,\"\")","v":""},{"$f":"IF(Data!$E83=30,Data!CA83,IF(Data!AD83<>\"\",Data!AD83,\"\"))","v":""},{"$f":"IF(Data!$E83=30,Data!CB83,\"\")","v":""},{"$f":"IF(Data!$E83=30,Data!CC83,\"\")","v":""},{"$f":"IF(Data!$E83=30,Data!CD83,IF(Data!AE83<>\"\",Data!AE83,\"\"))","v":""},{"$f":"IF(Data!$E83=30,Data!CE83,\"\")","v":""},{"$f":"IF(Data!$E83=30,Data!CF83,\"\")","v":""},{"$f":"IF(Data!$E83=30,Data!CG83,IF(Data!AF83<>\"\",Data!AF83,\"\"))","v":""},{"$f":"IF(Data!$E83=30,Data!CH83,\"\")","v":""},{"$f":"IF(Data!$E83=30,Data!CI83,\"\")","v":""},{"$f":"IF(Data!$E83=30,Data!CJ83,IF(Data!AG83<>\"\",Data!AG83,\"\"))","v":""},{"$f":"IF(Data!$E83=30,Data!CK83,\"\")","v":""},{"$f":"IF(Data!$E83=30,Data!CL83,\"\")","v":""},{"$f":"IF(Data!$E83=30,Data!CM83,IF(Data!AH83<>\"\",Data!AH83,\"\"))","v":""},{"$f":"IF(Data!$E83=30,Data!CN83,\"\")","v":""},{"$f":"IF(Data!$E83=30,Data!CO83,\"\")","v":""},{"$f":"IF(Data!$E83=30,Data!CP83,IF(Data!AI83<>\"\",Data!AI83,\"\"))","v":""},{"$f":"IF(Data!$E83=30,Data!CQ83,\"\")","v":""},null,null,null,{"$f":"IF(Data!$E83=30,Data!CR83,\"\")","v":""},{"$f":"IF(Data!$E83=30,Data!CS83,IF(Data!AJ83<>\"\",Data!AJ83,\"\"))","v":""},{"$f":"IF(Data!$E83=30,Data!CT83,\"\")","v":""},{"$f":"IF(Data!$E83=30,Data!CU83,\"\")","v":""},{"$f":"IF(Data!$E83=30,Data!CV83,IF(Data!AK83<>\"\",Data!AK83,\"\"))","v":""},{"$f":"IF(Data!$E83=30,Data!CW83,\"\")","v":""},{"$f":"IF(Data!$E83=30,Data!CX83,\"\")","v":""},{"$f":"IF(Data!$E83=30,Data!CY83,IF(Data!AL83<>\"\",Data!AL83,\"\"))","v":""},{"$f":"IF(Data!$E83=30,Data!CZ83,\"\")","v":""},{"$f":"IF(Data!$E83=30,Data!DA83,\"\")","v":""},{"$f":"IF(Data!$E83=30,Data!DB83,IF(Data!AM83<>\"\",Data!AM83,\"\"))","v":""},{"$f":"IF(Data!$E83=30,Data!DC83,\"\")","v":""},{"$f":"IF(Data!$E83=30,Data!DD83,\"\")","v":""},{"$f":"IF(Data!$E83=30,Data!DE83,IF(Data!AN83<>\"\",Data!AN83,\"\"))","v":""},{"$f":"IF(Data!$E83=30,Data!DF83,\"\")","v":""},{"$f":"IF(Data!$E83=30,Data!DG83,\"\")","v":""},{"$f":"IF(Data!$E83=30,Data!DH83,IF(Data!AO83<>\"\",Data!AO83,\"\"))","v":""},{"$f":"IF(Data!$E83=30,Data!DI83,\"\")","v":""},{"$f":"IF(Data!$E83=30,Data!DJ83,\"\")","v":""},{"$f":"IF(Data!$E83=30,Data!DK83,IF(Data!AP83<>\"\",Data!AP83,\"\"))","v":""},{"$f":"IF(Data!$E83=30,Data!DL83,\"\")","v":""},{"$f":"IF(Data!$E83=30,Data!DM83,\"\")","v":""},{"$f":"IF(Data!$E83=30,Data!DN83,IF(Data!AQ83<>\"\",Data!AQ83,\"\"))","v":""},{"$f":"IF(Data!$E83=30,Data!DO83,\"\")","v":""},{"$f":"IF(Data!$E83=30,Data!DP83,\"\")","v":""},{"$f":"IF(Data!$E83=30,Data!DQ83,IF(Data!AR83<>\"\",Data!AR83,\"\"))","v":""},{"$f":"IF(Data!$E83=30,Data!DR83,\"\")","v":""},{"$f":"IF(Data!$E83=30,Data!DS83,\"\")","v":""},{"$f":"IF(Data!$E83=30,Data!DT83,IF(Data!AS83<>\"\",Data!AS83,\"\"))","v":""},{"$f":"IF(Data!$E83=30,Data!DU83,\"\")","v":""}]
[null,{"$f":"IF(Data!A84<>\"\",Data!A84,\"\")","v":""},{"$f":"IF(Data!$E84=30,Data!BN84,\"\")","v":""},{"$f":"IF(Data!$E84=30,Data!BO84,IF(Data!Z84<>\"\",Data!Z84,\"\"))","v":""},{"$f":"IF(Data!$E84=30,Data!BP84,\"\")","v":""},{"$f":"IF(Data!$E84=30,Data!BQ84,\"\")","v":""},{"$f":"IF(Data!$E84=30,Data!BR84,IF(Data!AA84<>\"\",Data!AA84,\"\"))","v":""},{"$f":"IF(Data!$E84=30,Data!BS84,\"\")","v":""},{"$f":"IF(Data!$E84=30,Data!BT84,\"\")","v":""},{"$f":"IF(Data!$E84=30,Data!BU84,IF(Data!AB84<>\"\",Data!AB84,\"\"))","v":""},{"$f":"IF(Data!$E84=30,Data!BV84,\"\")","v":""},{"$f":"IF(Data!$E84=30,Data!BW84,\"\")","v":""},{"$f":"IF(Data!$E84=30,Data!BX84,IF(Data!AC84<>\"\",Data!AC84,\"\"))","v":""},{"$f":"IF(Data!$E84=30,Data!BY84,\"\")","v":""},{"$f":"IF(Data!$E84=30,Data!BZ84,\"\")","v":""},{"$f":"IF(Data!$E84=30,Data!CA84,IF(Data!AD84<>\"\",Data!AD84,\"\"))","v":""},{"$f":"IF(Data!$E84=30,Data!CB84,\"\")","v":""},{"$f":"IF(Data!$E84=30,Data!CC84,\"\")","v":""},{"$f":"IF(Data!$E84=30,Data!CD84,IF(Data!AE84<>\"\",Data!AE84,\"\"))","v":""},{"$f":"IF(Data!$E84=30,Data!CE84,\"\")","v":""},{"$f":"IF(Data!$E84=30,Data!CF84,\"\")","v":""},{"$f":"IF(Data!$E84=30,Data!CG84,IF(Data!AF84<>\"\",Data!AF84,\"\"))","v":""},{"$f":"IF(Data!$E84=30,Data!CH84,\"\")","v":""},{"$f":"IF(Data!$E84=30,Data!CI84,\"\")","v":""},{"$f":"IF(Data!$E84=30,Data!CJ84,IF(Data!AG84<>\"\",Data!AG84,\"\"))","v":""},{"$f":"IF(Data!$E84=30,Data!CK84,\"\")","v":""},{"$f":"IF(Data!$E84=30,Data!CL84,\"\")","v":""},{"$f":"IF(Data!$E84=30,Data!CM84,IF(Data!AH84<>\"\",Data!AH84,\"\"))","v":""},{"$f":"IF(Data!$E84=30,Data!CN84,\"\")","v":""},{"$f":"IF(Data!$E84=30,Data!CO84,\"\")","v":""},{"$f":"IF(Data!$E84=30,Data!CP84,IF(Data!AI84<>\"\",Data!AI84,\"\"))","v":""},{"$f":"IF(Data!$E84=30,Data!CQ84,\"\")","v":""},null,null,null,{"$f":"IF(Data!$E84=30,Data!CR84,\"\")","v":""},{"$f":"IF(Data!$E84=30,Data!CS84,IF(Data!AJ84<>\"\",Data!AJ84,\"\"))","v":""},{"$f":"IF(Data!$E84=30,Data!CT84,\"\")","v":""},{"$f":"IF(Data!$E84=30,Data!CU84,\"\")","v":""},{"$f":"IF(Data!$E84=30,Data!CV84,IF(Data!AK84<>\"\",Data!AK84,\"\"))","v":""},{"$f":"IF(Data!$E84=30,Data!CW84,\"\")","v":""},{"$f":"IF(Data!$E84=30,Data!CX84,\"\")","v":""},{"$f":"IF(Data!$E84=30,Data!CY84,IF(Data!AL84<>\"\",Data!AL84,\"\"))","v":""},{"$f":"IF(Data!$E84=30,Data!CZ84,\"\")","v":""},{"$f":"IF(Data!$E84=30,Data!DA84,\"\")","v":""},{"$f":"IF(Data!$E84=30,Data!DB84,IF(Data!AM84<>\"\",Data!AM84,\"\"))","v":""},{"$f":"IF(Data!$E84=30,Data!DC84,\"\")","v":""},{"$f":"IF(Data!$E84=30,Data!DD84,\"\")","v":""},{"$f":"IF(Data!$E84=30,Data!DE84,IF(Data!AN84<>\"\",Data!AN84,\"\"))","v":""},{"$f":"IF(Data!$E84=30,Data!DF84,\"\")","v":""},{"$f":"IF(Data!$E84=30,Data!DG84,\"\")","v":""},{"$f":"IF(Data!$E84=30,Data!DH84,IF(Data!AO84<>\"\",Data!AO84,\"\"))","v":""},{"$f":"IF(Data!$E84=30,Data!DI84,\"\")","v":""},{"$f":"IF(Data!$E84=30,Data!DJ84,\"\")","v":""},{"$f":"IF(Data!$E84=30,Data!DK84,IF(Data!AP84<>\"\",Data!AP84,\"\"))","v":""},{"$f":"IF(Data!$E84=30,Data!DL84,\"\")","v":""},{"$f":"IF(Data!$E84=30,Data!DM84,\"\")","v":""},{"$f":"IF(Data!$E84=30,Data!DN84,IF(Data!AQ84<>\"\",Data!AQ84,\"\"))","v":""},{"$f":"IF(Data!$E84=30,Data!DO84,\"\")","v":""},{"$f":"IF(Data!$E84=30,Data!DP84,\"\")","v":""},{"$f":"IF(Data!$E84=30,Data!DQ84,IF(Data!AR84<>\"\",Data!AR84,\"\"))","v":""},{"$f":"IF(Data!$E84=30,Data!DR84,\"\")","v":""},{"$f":"IF(Data!$E84=30,Data!DS84,\"\")","v":""},{"$f":"IF(Data!$E84=30,Data!DT84,IF(Data!AS84<>\"\",Data!AS84,\"\"))","v":""},{"$f":"IF(Data!$E84=30,Data!DU84,\"\")","v":""}]
[null,{"$f":"IF(Data!A85<>\"\",Data!A85,\"\")","v":""},{"$f":"IF(Data!$E85=30,Data!BN85,\"\")","v":""},{"$f":"IF(Data!$E85=30,Data!BO85,IF(Data!Z85<>\"\",Data!Z85,\"\"))","v":""},{"$f":"IF(Data!$E85=30,Data!BP85,\"\")","v":""},{"$f":"IF(Data!$E85=30,Data!BQ85,\"\")","v":""},{"$f":"IF(Data!$E85=30,Data!BR85,IF(Data!AA85<>\"\",Data!AA85,\"\"))","v":""},{"$f":"IF(Data!$E85=30,Data!BS85,\"\")","v":""},{"$f":"IF(Data!$E85=30,Data!BT85,\"\")","v":""},{"$f":"IF(Data!$E85=30,Data!BU85,IF(Data!AB85<>\"\",Data!AB85,\"\"))","v":""},{"$f":"IF(Data!$E85=30,Data!BV85,\"\")","v":""},{"$f":"IF(Data!$E85=30,Data!BW85,\"\")","v":""},{"$f":"IF(Data!$E85=30,Data!BX85,IF(Data!AC85<>\"\",Data!AC85,\"\"))","v":""},{"$f":"IF(Data!$E85=30,Data!BY85,\"\")","v":""},{"$f":"IF(Data!$E85=30,Data!BZ85,\"\")","v":""},{"$f":"IF(Data!$E85=30,Data!CA85,IF(Data!AD85<>\"\",Data!AD85,\"\"))","v":""},{"$f":"IF(Data!$E85=30,Data!CB85,\"\")","v":""},{"$f":"IF(Data!$E85=30,Data!CC85,\"\")","v":""},{"$f":"IF(Data!$E85=30,Data!CD85,IF(Data!AE85<>\"\",Data!AE85,\"\"))","v":""},{"$f":"IF(Data!$E85=30,Data!CE85,\"\")","v":""},{"$f":"IF(Data!$E85=30,Data!CF85,\"\")","v":""},{"$f":"IF(Data!$E85=30,Data!CG85,IF(Data!AF85<>\"\",Data!AF85,\"\"))","v":""},{"$f":"IF(Data!$E85=30,Data!CH85,\"\")","v":""},{"$f":"IF(Data!$E85=30,Data!CI85,\"\")","v":""},{"$f":"IF(Data!$E85=30,Data!CJ85,IF(Data!AG85<>\"\",Data!AG85,\"\"))","v":""},{"$f":"IF(Data!$E85=30,Data!CK85,\"\")","v":""},{"$f":"IF(Data!$E85=30,Data!CL85,\"\")","v":""},{"$f":"IF(Data!$E85=30,Data!CM85,IF(Data!AH85<>\"\",Data!AH85,\"\"))","v":""},{"$f":"IF(Data!$E85=30,Data!CN85,\"\")","v":""},{"$f":"IF(Data!$E85=30,Data!CO85,\"\")","v":""},{"$f":"IF(Data!$E85=30,Data!CP85,IF(Data!AI85<>\"\",Data!AI85,\"\"))","v":""},{"$f":"IF(Data!$E85=30,Data!CQ85,\"\")","v":""},null,null,null,{"$f":"IF(Data!$E85=30,Data!CR85,\"\")","v":""},{"$f":"IF(Data!$E85=30,Data!CS85,IF(Data!AJ85<>\"\",Data!AJ85,\"\"))","v":""},{"$f":"IF(Data!$E85=30,Data!CT85,\"\")","v":""},{"$f":"IF(Data!$E85=30,Data!CU85,\"\")","v":""},{"$f":"IF(Data!$E85=30,Data!CV85,IF(Data!AK85<>\"\",Data!AK85,\"\"))","v":""},{"$f":"IF(Data!$E85=30,Data!CW85,\"\")","v":""},{"$f":"IF(Data!$E85=30,Data!CX85,\"\")","v":""},{"$f":"IF(Data!$E85=30,Data!CY85,IF(Data!AL85<>\"\",Data!AL85,\"\"))","v":""},{"$f":"IF(Data!$E85=30,Data!CZ85,\"\")","v":""},{"$f":"IF(Data!$E85=30,Data!DA85,\"\")","v":""},{"$f":"IF(Data!$E85=30,Data!DB85,IF(Data!AM85<>\"\",Data!AM85,\"\"))","v":""},{"$f":"IF(Data!$E85=30,Data!DC85,\"\")","v":""},{"$f":"IF(Data!$E85=30,Data!DD85,\"\")","v":""},{"$f":"IF(Data!$E85=30,Data!DE85,IF(Data!AN85<>\"\",Data!AN85,\"\"))","v":""},{"$f":"IF(Data!$E85=30,Data!DF85,\"\")","v":""},{"$f":"IF(Data!$E85=30,Data!DG85,\"\")","v":""},{"$f":"IF(Data!$E85=30,Data!DH85,IF(Data!AO85<>\"\",Data!AO85,\"\"))","v":""},{"$f":"IF(Data!$E85=30,Data!DI85,\"\")","v":""},{"$f":"IF(Data!$E85=30,Data!DJ85,\"\")","v":""},{"$f":"IF(Data!$E85=30,Data!DK85,IF(Data!AP85<>\"\",Data!AP85,\"\"))","v":""},{"$f":"IF(Data!$E85=30,Data!DL85,\"\")","v":""},{"$f":"IF(Data!$E85=30,Data!DM85,\"\")","v":""},{"$f":"IF(Data!$E85=30,Data!DN85,IF(Data!AQ85<>\"\",Data!AQ85,\"\"))","v":""},{"$f":"IF(Data!$E85=30,Data!DO85,\"\")","v":""},{"$f":"IF(Data!$E85=30,Data!DP85,\"\")","v":""},{"$f":"IF(Data!$E85=30,Data!DQ85,IF(Data!AR85<>\"\",Data!AR85,\"\"))","v":""},{"$f":"IF(Data!$E85=30,Data!DR85,\"\")","v":""},{"$f":"IF(Data!$E85=30,Data!DS85,\"\")","v":""},{"$f":"IF(Data!$E85=30,Data!DT85,IF(Data!AS85<>\"\",Data!AS85,\"\"))","v":""},{"$f":"IF(Data!$E85=30,Data!DU85,\"\")","v":""}]
[null,{"$f":"IF(Data!A86<>\"\",Data!A86,\"\")","v":""},{"$f":"IF(Data!$E86=30,Data!BN86,\"\")","v":""},{"$f":"IF(Data!$E86=30,Data!BO86,IF(Data!Z86<>\"\",Data!Z86,\"\"))","v":""},{"$f":"IF(Data!$E86=30,Data!BP86,\"\")","v":""},{"$f":"IF(Data!$E86=30,Data!BQ86,\"\")","v":""},{"$f":"IF(Data!$E86=30,Data!BR86,IF(Data!AA86<>\"\",Data!AA86,\"\"))","v":""},{"$f":"IF(Data!$E86=30,Data!BS86,\"\")","v":""},{"$f":"IF(Data!$E86=30,Data!BT86,\"\")","v":""},{"$f":"IF(Data!$E86=30,Data!BU86,IF(Data!AB86<>\"\",Data!AB86,\"\"))","v":""},{"$f":"IF(Data!$E86=30,Data!BV86,\"\")","v":""},{"$f":"IF(Data!$E86=30,Data!BW86,\"\")","v":""},{"$f":"IF(Data!$E86=30,Data!BX86,IF(Data!AC86<>\"\",Data!AC86,\"\"))","v":""},{"$f":"IF(Data!$E86=30,Data!BY86,\"\")","v":""},{"$f":"IF(Data!$E86=30,Data!BZ86,\"\")","v":""},{"$f":"IF(Data!$E86=30,Data!CA86,IF(Data!AD86<>\"\",Data!AD86,\"\"))","v":""},{"$f":"IF(Data!$E86=30,Data!CB86,\"\")","v":""},{"$f":"IF(Data!$E86=30,Data!CC86,\"\")","v":""},{"$f":"IF(Data!$E86=30,Data!CD86,IF(Data!AE86<>\"\",Data!AE86,\"\"))","v":""},{"$f":"IF(Data!$E86=30,Data!CE86,\"\")","v":""},{"$f":"IF(Data!$E86=30,Data!CF86,\"\")","v":""},{"$f":"IF(Data!$E86=30,Data!CG86,IF(Data!AF86<>\"\",Data!AF86,\"\"))","v":""},{"$f":"IF(Data!$E86=30,Data!CH86,\"\")","v":""},{"$f":"IF(Data!$E86=30,Data!CI86,\"\")","v":""},{"$f":"IF(Data!$E86=30,Data!CJ86,IF(Data!AG86<>\"\",Data!AG86,\"\"))","v":""},{"$f":"IF(Data!$E86=30,Data!CK86,\"\")","v":""},{"$f":"IF(Data!$E86=30,Data!CL86,\"\")","v":""},{"$f":"IF(Data!$E86=30,Data!CM86,IF(Data!AH86<>\"\",Data!AH86,\"\"))","v":""},{"$f":"IF(Data!$E86=30,Data!CN86,\"\")","v":""},{"$f":"IF(Data!$E86=30,Data!CO86,\"\")","v":""},{"$f":"IF(Data!$E86=30,Data!CP86,IF(Data!AI86<>\"\",Data!AI86,\"\"))","v":""},{"$f":"IF(Data!$E86=30,Data!CQ86,\"\")","v":""},null,null,null,{"$f":"IF(Data!$E86=30,Data!CR86,\"\")","v":""},{"$f":"IF(Data!$E86=30,Data!CS86,IF(Data!AJ86<>\"\",Data!AJ86,\"\"))","v":""},{"$f":"IF(Data!$E86=30,Data!CT86,\"\")","v":""},{"$f":"IF(Data!$E86=30,Data!CU86,\"\")","v":""},{"$f":"IF(Data!$E86=30,Data!CV86,IF(Data!AK86<>\"\",Data!AK86,\"\"))","v":""},{"$f":"IF(Data!$E86=30,Data!CW86,\"\")","v":""},{"$f":"IF(Data!$E86=30,Data!CX86,\"\")","v":""},{"$f":"IF(Data!$E86=30,Data!CY86,IF(Data!AL86<>\"\",Data!AL86,\"\"))","v":""},{"$f":"IF(Data!$E86=30,Data!CZ86,\"\")","v":""},{"$f":"IF(Data!$E86=30,Data!DA86,\"\")","v":""},{"$f":"IF(Data!$E86=30,Data!DB86,IF(Data!AM86<>\"\",Data!AM86,\"\"))","v":""},{"$f":"IF(Data!$E86=30,Data!DC86,\"\")","v":""},{"$f":"IF(Data!$E86=30,Data!DD86,\"\")","v":""},{"$f":"IF(Data!$E86=30,Data!DE86,IF(Data!AN86<>\"\",Data!AN86,\"\"))","v":""},{"$f":"IF(Data!$E86=30,Data!DF86,\"\")","v":""},{"$f":"IF(Data!$E86=30,Data!DG86,\"\")","v":""},{"$f":"IF(Data!$E86=30,Data!DH86,IF(Data!AO86<>\"\",Data!AO86,\"\"))","v":""},{"$f":"IF(Data!$E86=30,Data!DI86,\"\")","v":""},{"$f":"IF(Data!$E86=30,Data!DJ86,\"\")","v":""},{"$f":"IF(Data!$E86=30,Data!DK86,IF(Data!AP86<>\"\",Data!AP86,\"\"))","v":""},{"$f":"IF(Data!$E86=30,Data!DL86,\"\")","v":""},{"$f":"IF(Data!$E86=30,Data!DM86,\"\")","v":""},{"$f":"IF(Data!$E86=30,Data!DN86,IF(Data!AQ86<>\"\",Data!AQ86,\"\"))","v":""},{"$f":"IF(Data!$E86=30,Data!DO86,\"\")","v":""},{"$f":"IF(Data!$E86=30,Data!DP86,\"\")","v":""},{"$f":"IF(Data!$E86=30,Data!DQ86,IF(Data!AR86<>\"\",Data!AR86,\"\"))","v":""},{"$f":"IF(Data!$E86=30,Data!DR86,\"\")","v":""},{"$f":"IF(Data!$E86=30,Data!DS86,\"\")","v":""},{"$f":"IF(Data!$E86=30,Data!DT86,IF(Data!AS86<>\"\",Data!AS86,\"\"))","v":""},{"$f":"IF(Data!$E86=30,Data!DU86,\"\")","v":""}]
[null,{"$f":"IF(Data!A87<>\"\",Data!A87,\"\")","v":""},{"$f":"IF(Data!$E87=30,Data!BN87,\"\")","v":""},{"$f":"IF(Data!$E87=30,Data!BO87,IF(Data!Z87<>\"\",Data!Z87,\"\"))","v":""},{"$f":"IF(Data!$E87=30,Data!BP87,\"\")","v":""},{"$f":"IF(Data!$E87=30,Data!BQ87,\"\")","v":""},{"$f":"IF(Data!$E87=30,Data!BR87,IF(Data!AA87<>\"\",Data!AA87,\"\"))","v":""},{"$f":"IF(Data!$E87=30,Data!BS87,\"\")","v":""},{"$f":"IF(Data!$E87=30,Data!BT87,\"\")","v":""},{"$f":"IF(Data!$E87=30,Data!BU87,IF(Data!AB87<>\"\",Data!AB87,\"\"))","v":""},{"$f":"IF(Data!$E87=30,Data!BV87,\"\")","v":""},{"$f":"IF(Data!$E87=30,Data!BW87,\"\")","v":""},{"$f":"IF(Data!$E87=30,Data!BX87,IF(Data!AC87<>\"\",Data!AC87,\"\"))","v":""},{"$f":"IF(Data!$E87=30,Data!BY87,\"\")","v":""},{"$f":"IF(Data!$E87=30,Data!BZ87,\"\")","v":""},{"$f":"IF(Data!$E87=30,Data!CA87,IF(Data!AD87<>\"\",Data!AD87,\"\"))","v":""},{"$f":"IF(Data!$E87=30,Data!CB87,\"\")","v":""},{"$f":"IF(Data!$E87=30,Data!CC87,\"\")","v":""},{"$f":"IF(Data!$E87=30,Data!CD87,IF(Data!AE87<>\"\",Data!AE87,\"\"))","v":""},{"$f":"IF(Data!$E87=30,Data!CE87,\"\")","v":""},{"$f":"IF(Data!$E87=30,Data!CF87,\"\")","v":""},{"$f":"IF(Data!$E87=30,Data!CG87,IF(Data!AF87<>\"\",Data!AF87,\"\"))","v":""},{"$f":"IF(Data!$E87=30,Data!CH87,\"\")","v":""},{"$f":"IF(Data!$E87=30,Data!CI87,\"\")","v":""},{"$f":"IF(Data!$E87=30,Data!CJ87,IF(Data!AG87<>\"\",Data!AG87,\"\"))","v":""},{"$f":"IF(Data!$E87=30,Data!CK87,\"\")","v":""},{"$f":"IF(Data!$E87=30,Data!CL87,\"\")","v":""},{"$f":"IF(Data!$E87=30,Data!CM87,IF(Data!AH87<>\"\",Data!AH87,\"\"))","v":""},{"$f":"IF(Data!$E87=30,Data!CN87,\"\")","v":""},{"$f":"IF(Data!$E87=30,Data!CO87,\"\")","v":""},{"$f":"IF(Data!$E87=30,Data!CP87,IF(Data!AI87<>\"\",Data!AI87,\"\"))","v":""},{"$f":"IF(Data!$E87=30,Data!CQ87,\"\")","v":""},null,null,null,{"$f":"IF(Data!$E87=30,Data!CR87,\"\")","v":""},{"$f":"IF(Data!$E87=30,Data!CS87,IF(Data!AJ87<>\"\",Data!AJ87,\"\"))","v":""},{"$f":"IF(Data!$E87=30,Data!CT87,\"\")","v":""},{"$f":"IF(Data!$E87=30,Data!CU87,\"\")","v":""},{"$f":"IF(Data!$E87=30,Data!CV87,IF(Data!AK87<>\"\",Data!AK87,\"\"))","v":""},{"$f":"IF(Data!$E87=30,Data!CW87,\"\")","v":""},{"$f":"IF(Data!$E87=30,Data!CX87,\"\")","v":""},{"$f":"IF(Data!$E87=30,Data!CY87,IF(Data!AL87<>\"\",Data!AL87,\"\"))","v":""},{"$f":"IF(Data!$E87=30,Data!CZ87,\"\")","v":""},{"$f":"IF(Data!$E87=30,Data!DA87,\"\")","v":""},{"$f":"IF(Data!$E87=30,Data!DB87,IF(Data!AM87<>\"\",Data!AM87,\"\"))","v":""},{"$f":"IF(Data!$E87=30,Data!DC87,\"\")","v":""},{"$f":"IF(Data!$E87=30,Data!DD87,\"\")","v":""},{"$f":"IF(Data!$E87=30,Data!DE87,IF(Data!AN87<>\"\",Data!AN87,\"\"))","v":""},{"$f":"IF(Data!$E87=30,Data!DF87,\"\")","v":""},{"$f":"IF(Data!$E87=30,Data!DG87,\"\")","v":""},{"$f":"IF(Data!$E87=30,Data!DH87,IF(Data!AO87<>\"\",Data!AO87,\"\"))","v":""},{"$f":"IF(Data!$E87=30,Data!DI87,\"\")","v":""},{"$f":"IF(Data!$E87=30,Data!DJ87,\"\")","v":""},{"$f":"IF(Data!$E87=30,Data!DK87,IF(Data!AP87<>\"\",Data!AP87,\"\"))","v":""},{"$f":"IF(Data!$E87=30,Data!DL87,\"\")","v":""},{"$f":"IF(Data!$E87=30,Data!DM87,\"\")","v":""},{"$f":"IF(Data!$E87=30,Data!DN87,IF(Data!AQ87<>\"\",Data!AQ87,\"\"))","v":""},{"$f":"IF(Data!$E87=30,Data!DO87,\"\")","v":""},{"$f":"IF(Data!$E87=30,Data!DP87,\"\")","v":""},{"$f":"IF(Data!$E87=30,Data!DQ87,IF(Data!AR87<>\"\",Data!AR87,\"\"))","v":""},{"$f":"IF(Data!$E87=30,Data!DR87,\"\")","v":""},{"$f":"IF(Data!$E87=30,Data!DS87,\"\")","v":""},{"$f":"IF(Data!$E87=30,Data!DT87,IF(Data!AS87<>\"\",Data!AS87,\"\"))","v":""},{"$f":"IF(Data!$E87=30,Data!DU87,\"\")","v":""}]
[null,{"$f":"IF(Data!A88<>\"\",Data!A88,\"\")","v":""},{"$f":"IF(Data!$E88=30,Data!BN88,\"\")","v":""},{"$f":"IF(Data!$E88=30,Data!BO88,IF(Data!Z88<>\"\",Data!Z88,\"\"))","v":""},{"$f":"IF(Data!$E88=30,Data!BP88,\"\")","v":""},{"$f":"IF(Data!$E88=30,Data!BQ88,\"\")","v":""},{"$f":"IF(Data!$E88=30,Data!BR88,IF(Data!AA88<>\"\",Data!AA88,\"\"))","v":""},{"$f":"IF(Data!$E88=30,Data!BS88,\"\")","v":""},{"$f":"IF(Data!$E88=30,Data!BT88,\"\")","v":""},{"$f":"IF(Data!$E88=30,Data!BU88,IF(Data!AB88<>\"\",Data!AB88,\"\"))","v":""},{"$f":"IF(Data!$E88=30,Data!BV88,\"\")","v":""},{"$f":"IF(Data!$E88=30,Data!BW88,\"\")","v":""},{"$f":"IF(Data!$E88=30,Data!BX88,IF(Data!AC88<>\"\",Data!AC88,\"\"))","v":""},{"$f":"IF(Data!$E88=30,Data!BY88,\"\")","v":""},{"$f":"IF(Data!$E88=30,Data!BZ88,\"\")","v":""},{"$f":"IF(Data!$E88=30,Data!CA88,IF(Data!AD88<>\"\",Data!AD88,\"\"))","v":""},{"$f":"IF(Data!$E88=30,Data!CB88,\"\")","v":""},{"$f":"IF(Data!$E88=30,Data!CC88,\"\")","v":""},{"$f":"IF(Data!$E88=30,Data!CD88,IF(Data!AE88<>\"\",Data!AE88,\"\"))","v":""},{"$f":"IF(Data!$E88=30,Data!CE88,\"\")","v":""},{"$f":"IF(Data!$E88=30,Data!CF88,\"\")","v":""},{"$f":"IF(Data!$E88=30,Data!CG88,IF(Data!AF88<>\"\",Data!AF88,\"\"))","v":""},{"$f":"IF(Data!$E88=30,Data!CH88,\"\")","v":""},{"$f":"IF(Data!$E88=30,Data!CI88,\"\")","v":""},{"$f":"IF(Data!$E88=30,Data!CJ88,IF(Data!AG88<>\"\",Data!AG88,\"\"))","v":""},{"$f":"IF(Data!$E88=30,Data!CK88,\"\")","v":""},{"$f":"IF(Data!$E88=30,Data!CL88,\"\")","v":""},{"$f":"IF(Data!$E88=30,Data!CM88,IF(Data!AH88<>\"\",Data!AH88,\"\"))","v":""},{"$f":"IF(Data!$E88=30,Data!CN88,\"\")","v":""},{"$f":"IF(Data!$E88=30,Data!CO88,\"\")","v":""},{"$f":"IF(Data!$E88=30,Data!CP88,IF(Data!AI88<>\"\",Data!AI88,\"\"))","v":""},{"$f":"IF(Data!$E88=30,Data!CQ88,\"\")","v":""},null,null,null,{"$f":"IF(Data!$E88=30,Data!CR88,\"\")","v":""},{"$f":"IF(Data!$E88=30,Data!CS88,IF(Data!AJ88<>\"\",Data!AJ88,\"\"))","v":""},{"$f":"IF(Data!$E88=30,Data!CT88,\"\")","v":""},{"$f":"IF(Data!$E88=30,Data!CU88,\"\")","v":""},{"$f":"IF(Data!$E88=30,Data!CV88,IF(Data!AK88<>\"\",Data!AK88,\"\"))","v":""},{"$f":"IF(Data!$E88=30,Data!CW88,\"\")","v":""},{"$f":"IF(Data!$E88=30,Data!CX88,\"\")","v":""},{"$f":"IF(Data!$E88=30,Data!CY88,IF(Data!AL88<>\"\",Data!AL88,\"\"))","v":""},{"$f":"IF(Data!$E88=30,Data!CZ88,\"\")","v":""},{"$f":"IF(Data!$E88=30,Data!DA88,\"\")","v":""},{"$f":"IF(Data!$E88=30,Data!DB88,IF(Data!AM88<>\"\",Data!AM88,\"\"))","v":""},{"$f":"IF(Data!$E88=30,Data!DC88,\"\")","v":""},{"$f":"IF(Data!$E88=30,Data!DD88,\"\")","v":""},{"$f":"IF(Data!$E88=30,Data!DE88,IF(Data!AN88<>\"\",Data!AN88,\"\"))","v":""},{"$f":"IF(Data!$E88=30,Data!DF88,\"\")","v":""},{"$f":"IF(Data!$E88=30,Data!DG88,\"\")","v":""},{"$f":"IF(Data!$E88=30,Data!DH88,IF(Data!AO88<>\"\",Data!AO88,\"\"))","v":""},{"$f":"IF(Data!$E88=30,Data!DI88,\"\")","v":""},{"$f":"IF(Data!$E88=30,Data!DJ88,\"\")","v":""},{"$f":"IF(Data!$E88=30,Data!DK88,IF(Data!AP88<>\"\",Data!AP88,\"\"))","v":""},{"$f":"IF(Data!$E88=30,Data!DL88,\"\")","v":""},{"$f":"IF(Data!$E88=30,Data!DM88,\"\")","v":""},{"$f":"IF(Data!$E88=30,Data!DN88,IF(Data!AQ88<>\"\",Data!AQ88,\"\"))","v":""},{"$f":"IF(Data!$E88=30,Data!DO88,\"\")","v":""},{"$f":"IF(Data!$E88=30,Data!DP88,\"\")","v":""},{"$f":"IF(Data!$E88=30,Data!DQ88,IF(Data!AR88<>\"\",Data!AR88,\"\"))","v":""},{"$f":"IF(Data!$E88=30,Data!DR88,\"\")","v":""},{"$f":"IF(Data!$E88=30,Data!DS88,\"\")","v":""},{"$f":"IF(Data!$E88=30,Data!DT88,IF(Data!AS88<>\"\",Data!AS88,\"\"))","v":""},{"$f":"IF(Data!$E88=30,Data!DU88,\"\")","v":""}]
[null,{"$f":"IF(Data!A89<>\"\",Data!A89,\"\")","v":""},{"$f":"IF(Data!$E89=30,Data!BN89,\"\")","v":""},{"$f":"IF(Data!$E89=30,Data!BO89,IF(Data!Z89<>\"\",Data!Z89,\"\"))","v":""},{"$f":"IF(Data!$E89=30,Data!BP89,\"\")","v":""},{"$f":"IF(Data!$E89=30,Data!BQ89,\"\")","v":""},{"$f":"IF(Data!$E89=30,Data!BR89,IF(Data!AA89<>\"\",Data!AA89,\"\"))","v":""},{"$f":"IF(Data!$E89=30,Data!BS89,\"\")","v":""},{"$f":"IF(Data!$E89=30,Data!BT89,\"\")","v":""},{"$f":"IF(Data!$E89=30,Data!BU89,IF(Data!AB89<>\"\",Data!AB89,\"\"))","v":""},{"$f":"IF(Data!$E89=30,Data!BV89,\"\")","v":""},{"$f":"IF(Data!$E89=30,Data!BW89,\"\")","v":""},{"$f":"IF(Data!$E89=30,Data!BX89,IF(Data!AC89<>\"\",Data!AC89,\"\"))","v":""},{"$f":"IF(Data!$E89=30,Data!BY89,\"\")","v":""},{"$f":"IF(Data!$E89=30,Data!BZ89,\"\")","v":""},{"$f":"IF(Data!$E89=30,Data!CA89,IF(Data!AD89<>\"\",Data!AD89,\"\"))","v":""},{"$f":"IF(Data!$E89=30,Data!CB89,\"\")","v":""},{"$f":"IF(Data!$E89=30,Data!CC89,\"\")","v":""},{"$f":"IF(Data!$E89=30,Data!CD89,IF(Data!AE89<>\"\",Data!AE89,\"\"))","v":""},{"$f":"IF(Data!$E89=30,Data!CE89,\"\")","v":""},{"$f":"IF(Data!$E89=30,Data!CF89,\"\")","v":""},{"$f":"IF(Data!$E89=30,Data!CG89,IF(Data!AF89<>\"\",Data!AF89,\"\"))","v":""},{"$f":"IF(Data!$E89=30,Data!CH89,\"\")","v":""},{"$f":"IF(Data!$E89=30,Data!CI89,\"\")","v":""},{"$f":"IF(Data!$E89=30,Data!CJ89,IF(Data!AG89<>\"\",Data!AG89,\"\"))","v":""},{"$f":"IF(Data!$E89=30,Data!CK89,\"\")","v":""},{"$f":"IF(Data!$E89=30,Data!CL89,\"\")","v":""},{"$f":"IF(Data!$E89=30,Data!CM89,IF(Data!AH89<>\"\",Data!AH89,\"\"))","v":""},{"$f":"IF(Data!$E89=30,Data!CN89,\"\")","v":""},{"$f":"IF(Data!$E89=30,Data!CO89,\"\")","v":""},{"$f":"IF(Data!$E89=30,Data!CP89,IF(Data!AI89<>\"\",Data!AI89,\"\"))","v":""},{"$f":"IF(Data!$E89=30,Data!CQ89,\"\")","v":""},null,null,null,{"$f":"IF(Data!$E89=30,Data!CR89,\"\")","v":""},{"$f":"IF(Data!$E89=30,Data!CS89,IF(Data!AJ89<>\"\",Data!AJ89,\"\"))","v":""},{"$f":"IF(Data!$E89=30,Data!CT89,\"\")","v":""},{"$f":"IF(Data!$E89=30,Data!CU89,\"\")","v":""},{"$f":"IF(Data!$E89=30,Data!CV89,IF(Data!AK89<>\"\",Data!AK89,\"\"))","v":""},{"$f":"IF(Data!$E89=30,Data!CW89,\"\")","v":""},{"$f":"IF(Data!$E89=30,Data!CX89,\"\")","v":""},{"$f":"IF(Data!$E89=30,Data!CY89,IF(Data!AL89<>\"\",Data!AL89,\"\"))","v":""},{"$f":"IF(Data!$E89=30,Data!CZ89,\"\")","v":""},{"$f":"IF(Data!$E89=30,Data!DA89,\"\")","v":""},{"$f":"IF(Data!$E89=30,Data!DB89,IF(Data!AM89<>\"\",Data!AM89,\"\"))","v":""},{"$f":"IF(Data!$E89=30,Data!DC89,\"\")","v":""},{"$f":"IF(Data!$E89=30,Data!DD89,\"\")","v":""},{"$f":"IF(Data!$E89=30,Data!DE89,IF(Data!AN89<>\"\",Data!AN89,\"\"))","v":""},{"$f":"IF(Data!$E89=30,Data!DF89,\"\")","v":""},{"$f":"IF(Data!$E89=30,Data!DG89,\"\")","v":""},{"$f":"IF(Data!$E89=30,Data!DH89,IF(Data!AO89<>\"\",Data!AO89,\"\"))","v":""},{"$f":"IF(Data!$E89=30,Data!DI89,\"\")","v":""},{"$f":"IF(Data!$E89=30,Data!DJ89,\"\")","v":""},{"$f":"IF(Data!$E89=30,Data!DK89,IF(Data!AP89<>\"\",Data!AP89,\"\"))","v":""},{"$f":"IF(Data!$E89=30,Data!DL89,\"\")","v":""},{"$f":"IF(Data!$E89=30,Data!DM89,\"\")","v":""},{"$f":"IF(Data!$E89=30,Data!DN89,IF(Data!AQ89<>\"\",Data!AQ89,\"\"))","v":""},{"$f":"IF(Data!$E89=30,Data!DO89,\"\")","v":""},{"$f":"IF(Data!$E89=30,Data!DP89,\"\")","v":""},{"$f":"IF(Data!$E89=30,Data!DQ89,IF(Data!AR89<>\"\",Data!AR89,\"\"))","v":""},{"$f":"IF(Data!$E89=30,Data!DR89,\"\")","v":""},{"$f":"IF(Data!$E89=30,Data!DS89,\"\")","v":""},{"$f":"IF(Data!$E89=30,Data!DT89,IF(Data!AS89<>\"\",Data!AS89,\"\"))","v":""},{"$f":"IF(Data!$E89=30,Data!DU89,\"\")","v":""}]
[null,{"$f":"IF(Data!A90<>\"\",Data!A90,\"\")","v":""},{"$f":"IF(Data!$E90=30,Data!BN90,\"\")","v":""},{"$f":"IF(Data!$E90=30,Data!BO90,IF(Data!Z90<>\"\",Data!Z90,\"\"))","v":""},{"$f":"IF(Data!$E90=30,Data!BP90,\"\")","v":""},{"$f":"IF(Data!$E90=30,Data!BQ90,\"\")","v":""},{"$f":"IF(Data!$E90=30,Data!BR90,IF(Data!AA90<>\"\",Data!AA90,\"\"))","v":""},{"$f":"IF(Data!$E90=30,Data!BS90,\"\")","v":""},{"$f":"IF(Data!$E90=30,Data!BT90,\"\")","v":""},{"$f":"IF(Data!$E90=30,Data!BU90,IF(Data!AB90<>\"\",Data!AB90,\"\"))","v":""},{"$f":"IF(Data!$E90=30,Data!BV90,\"\")","v":""},{"$f":"IF(Data!$E90=30,Data!BW90,\"\")","v":""},{"$f":"IF(Data!$E90=30,Data!BX90,IF(Data!AC90<>\"\",Data!AC90,\"\"))","v":""},{"$f":"IF(Data!$E90=30,Data!BY90,\"\")","v":""},{"$f":"IF(Data!$E90=30,Data!BZ90,\"\")","v":""},{"$f":"IF(Data!$E90=30,Data!CA90,IF(Data!AD90<>\"\",Data!AD90,\"\"))","v":""},{"$f":"IF(Data!$E90=30,Data!CB90,\"\")","v":""},{"$f":"IF(Data!$E90=30,Data!CC90,\"\")","v":""},{"$f":"IF(Data!$E90=30,Data!CD90,IF(Data!AE90<>\"\",Data!AE90,\"\"))","v":""},{"$f":"IF(Data!$E90=30,Data!CE90,\"\")","v":""},{"$f":"IF(Data!$E90=30,Data!CF90,\"\")","v":""},{"$f":"IF(Data!$E90=30,Data!CG90,IF(Data!AF90<>\"\",Data!AF90,\"\"))","v":""},{"$f":"IF(Data!$E90=30,Data!CH90,\"\")","v":""},{"$f":"IF(Data!$E90=30,Data!CI90,\"\")","v":""},{"$f":"IF(Data!$E90=30,Data!CJ90,IF(Data!AG90<>\"\",Data!AG90,\"\"))","v":""},{"$f":"IF(Data!$E90=30,Data!CK90,\"\")","v":""},{"$f":"IF(Data!$E90=30,Data!CL90,\"\")","v":""},{"$f":"IF(Data!$E90=30,Data!CM90,IF(Data!AH90<>\"\",Data!AH90,\"\"))","v":""},{"$f":"IF(Data!$E90=30,Data!CN90,\"\")","v":""},{"$f":"IF(Data!$E90=30,Data!CO90,\"\")","v":""},{"$f":"IF(Data!$E90=30,Data!CP90,IF(Data!AI90<>\"\",Data!AI90,\"\"))","v":""},{"$f":"IF(Data!$E90=30,Data!CQ90,\"\")","v":""},null,null,null,{"$f":"IF(Data!$E90=30,Data!CR90,\"\")","v":""},{"$f":"IF(Data!$E90=30,Data!CS90,IF(Data!AJ90<>\"\",Data!AJ90,\"\"))","v":""},{"$f":"IF(Data!$E90=30,Data!CT90,\"\")","v":""},{"$f":"IF(Data!$E90=30,Data!CU90,\"\")","v":""},{"$f":"IF(Data!$E90=30,Data!CV90,IF(Data!AK90<>\"\",Data!AK90,\"\"))","v":""},{"$f":"IF(Data!$E90=30,Data!CW90,\"\")","v":""},{"$f":"IF(Data!$E90=30,Data!CX90,\"\")","v":""},{"$f":"IF(Data!$E90=30,Data!CY90,IF(Data!AL90<>\"\",Data!AL90,\"\"))","v":""},{"$f":"IF(Data!$E90=30,Data!CZ90,\"\")","v":""},{"$f":"IF(Data!$E90=30,Data!DA90,\"\")","v":""},{"$f":"IF(Data!$E90=30,Data!DB90,IF(Data!AM90<>\"\",Data!AM90,\"\"))","v":""},{"$f":"IF(Data!$E90=30,Data!DC90,\"\")","v":""},{"$f":"IF(Data!$E90=30,Data!DD90,\"\")","v":""},{"$f":"IF(Data!$E90=30,Data!DE90,IF(Data!AN90<>\"\",Data!AN90,\"\"))","v":""},{"$f":"IF(Data!$E90=30,Data!DF90,\"\")","v":""},{"$f":"IF(Data!$E90=30,Data!DG90,\"\")","v":""},{"$f":"IF(Data!$E90=30,Data!DH90,IF(Data!AO90<>\"\",Data!AO90,\"\"))","v":""},{"$f":"IF(Data!$E90=30,Data!DI90,\"\")","v":""},{"$f":"IF(Data!$E90=30,Data!DJ90,\"\")","v":""},{"$f":"IF(Data!$E90=30,Data!DK90,IF(Data!AP90<>\"\",Data!AP90,\"\"))","v":""},{"$f":"IF(Data!$E90=30,Data!DL90,\"\")","v":""},{"$f":"IF(Data!$E90=30,Data!DM90,\"\")","v":""},{"$f":"IF(Data!$E90=30,Data!DN90,IF(Data!AQ90<>\"\",Data!AQ90,\"\"))","v":""},{"$f":"IF(Data!$E90=30,Data!DO90,\"\")","v":""},{"$f":"IF(Data!$E90=30,Data!DP90,\"\")","v":""},{"$f":"IF(Data!$E90=30,Data!DQ90,IF(Data!AR90<>\"\",Data!AR90,\"\"))","v":""},{"$f":"IF(Data!$E90=30,Data!DR90,\"\")","v":""},{"$f":"IF(Data!$E90=30,Data!DS90,\"\")","v":""},{"$f":"IF(Data!$E90=30,Data!DT90,IF(Data!AS90<>\"\",Data!AS90,\"\"))","v":""},{"$f":"IF(Data!$E90=30,Data!DU90,\"\")","v":""}]
[null,{"$f":"IF(Data!A91<>\"\",Data!A91,\"\")","v":""},{"$f":"IF(Data!$E91=30,Data!BN91,\"\")","v":""},{"$f":"IF(Data!$E91=30,Data!BO91,IF(Data!Z91<>\"\",Data!Z91,\"\"))","v":""},{"$f":"IF(Data!$E91=30,Data!BP91,\"\")","v":""},{"$f":"IF(Data!$E91=30,Data!BQ91,\"\")","v":""},{"$f":"IF(Data!$E91=30,Data!BR91,IF(Data!AA91<>\"\",Data!AA91,\"\"))","v":""},{"$f":"IF(Data!$E91=30,Data!BS91,\"\")","v":""},{"$f":"IF(Data!$E91=30,Data!BT91,\"\")","v":""},{"$f":"IF(Data!$E91=30,Data!BU91,IF(Data!AB91<>\"\",Data!AB91,\"\"))","v":""},{"$f":"IF(Data!$E91=30,Data!BV91,\"\")","v":""},{"$f":"IF(Data!$E91=30,Data!BW91,\"\")","v":""},{"$f":"IF(Data!$E91=30,Data!BX91,IF(Data!AC91<>\"\",Data!AC91,\"\"))","v":""},{"$f":"IF(Data!$E91=30,Data!BY91,\"\")","v":""},{"$f":"IF(Data!$E91=30,Data!BZ91,\"\")","v":""},{"$f":"IF(Data!$E91=30,Data!CA91,IF(Data!AD91<>\"\",Data!AD91,\"\"))","v":""},{"$f":"IF(Data!$E91=30,Data!CB91,\"\")","v":""},{"$f":"IF(Data!$E91=30,Data!CC91,\"\")","v":""},{"$f":"IF(Data!$E91=30,Data!CD91,IF(Data!AE91<>\"\",Data!AE91,\"\"))","v":""},{"$f":"IF(Data!$E91=30,Data!CE91,\"\")","v":""},{"$f":"IF(Data!$E91=30,Data!CF91,\"\")","v":""},{"$f":"IF(Data!$E91=30,Data!CG91,IF(Data!AF91<>\"\",Data!AF91,\"\"))","v":""},{"$f":"IF(Data!$E91=30,Data!CH91,\"\")","v":""},{"$f":"IF(Data!$E91=30,Data!CI91,\"\")","v":""},{"$f":"IF(Data!$E91=30,Data!CJ91,IF(Data!AG91<>\"\",Data!AG91,\"\"))","v":""},{"$f":"IF(Data!$E91=30,Data!CK91,\"\")","v":""},{"$f":"IF(Data!$E91=30,Data!CL91,\"\")","v":""},{"$f":"IF(Data!$E91=30,Data!CM91,IF(Data!AH91<>\"\",Data!AH91,\"\"))","v":""},{"$f":"IF(Data!$E91=30,Data!CN91,\"\")","v":""},{"$f":"IF(Data!$E91=30,Data!CO91,\"\")","v":""},{"$f":"IF(Data!$E91=30,Data!CP91,IF(Data!AI91<>\"\",Data!AI91,\"\"))","v":""},{"$f":"IF(Data!$E91=30,Data!CQ91,\"\")","v":""},null,null,null,{"$f":"IF(Data!$E91=30,Data!CR91,\"\")","v":""},{"$f":"IF(Data!$E91=30,Data!CS91,IF(Data!AJ91<>\"\",Data!AJ91,\"\"))","v":""},{"$f":"IF(Data!$E91=30,Data!CT91,\"\")","v":""},{"$f":"IF(Data!$E91=30,Data!CU91,\"\")","v":""},{"$f":"IF(Data!$E91=30,Data!CV91,IF(Data!AK91<>\"\",Data!AK91,\"\"))","v":""},{"$f":"IF(Data!$E91=30,Data!CW91,\"\")","v":""},{"$f":"IF(Data!$E91=30,Data!CX91,\"\")","v":""},{"$f":"IF(Data!$E91=30,Data!CY91,IF(Data!AL91<>\"\",Data!AL91,\"\"))","v":""},{"$f":"IF(Data!$E91=30,Data!CZ91,\"\")","v":""},{"$f":"IF(Data!$E91=30,Data!DA91,\"\")","v":""},{"$f":"IF(Data!$E91=30,Data!DB91,IF(Data!AM91<>\"\",Data!AM91,\"\"))","v":""},{"$f":"IF(Data!$E91=30,Data!DC91,\"\")","v":""},{"$f":"IF(Data!$E91=30,Data!DD91,\"\")","v":""},{"$f":"IF(Data!$E91=30,Data!DE91,IF(Data!AN91<>\"\",Data!AN91,\"\"))","v":""},{"$f":"IF(Data!$E91=30,Data!DF91,\"\")","v":""},{"$f":"IF(Data!$E91=30,Data!DG91,\"\")","v":""},{"$f":"IF(Data!$E91=30,Data!DH91,IF(Data!AO91<>\"\",Data!AO91,\"\"))","v":""},{"$f":"IF(Data!$E91=30,Data!DI91,\"\")","v":""},{"$f":"IF(Data!$E91=30,Data!DJ91,\"\")","v":""},{"$f":"IF(Data!$E91=30,Data!DK91,IF(Data!AP91<>\"\",Data!AP91,\"\"))","v":""},{"$f":"IF(Data!$E91=30,Data!DL91,\"\")","v":""},{"$f":"IF(Data!$E91=30,Data!DM91,\"\")","v":""},{"$f":"IF(Data!$E91=30,Data!DN91,IF(Data!AQ91<>\"\",Data!AQ91,\"\"))","v":""},{"$f":"IF(Data!$E91=30,Data!DO91,\"\")","v":""},{"$f":"IF(Data!$E91=30,Data!DP91,\"\")","v":""},{"$f":"IF(Data!$E91=30,Data!DQ91,IF(Data!AR91<>\"\",Data!AR91,\"\"))","v":""},{"$f":"IF(Data!$E91=30,Data!DR91,\"\")","v":""},{"$f":"IF(Data!$E91=30,Data!DS91,\"\")","v":""},{"$f":"IF(Data!$E91=30,Data!DT91,IF(Data!AS91<>\"\",Data!AS91,\"\"))","v":""},{"$f":"IF(Data!$E91=30,Data!DU91,\"\")","v":""}]
[null,{"$f":"IF(Data!A92<>\"\",Data!A92,\"\")","v":""},{"$f":"IF(Data!$E92=30,Data!BN92,\"\")","v":""},{"$f":"IF(Data!$E92=30,Data!BO92,IF(Data!Z92<>\"\",Data!Z92,\"\"))","v":""},{"$f":"IF(Data!$E92=30,Data!BP92,\"\")","v":""},{"$f":"IF(Data!$E92=30,Data!BQ92,\"\")","v":""},{"$f":"IF(Data!$E92=30,Data!BR92,IF(Data!AA92<>\"\",Data!AA92,\"\"))","v":""},{"$f":"IF(Data!$E92=30,Data!BS92,\"\")","v":""},{"$f":"IF(Data!$E92=30,Data!BT92,\"\")","v":""},{"$f":"IF(Data!$E92=30,Data!BU92,IF(Data!AB92<>\"\",Data!AB92,\"\"))","v":""},{"$f":"IF(Data!$E92=30,Data!BV92,\"\")","v":""},{"$f":"IF(Data!$E92=30,Data!BW92,\"\")","v":""},{"$f":"IF(Data!$E92=30,Data!BX92,IF(Data!AC92<>\"\",Data!AC92,\"\"))","v":""},{"$f":"IF(Data!$E92=30,Data!BY92,\"\")","v":""},{"$f":"IF(Data!$E92=30,Data!BZ92,\"\")","v":""},{"$f":"IF(Data!$E92=30,Data!CA92,IF(Data!AD92<>\"\",Data!AD92,\"\"))","v":""},{"$f":"IF(Data!$E92=30,Data!CB92,\"\")","v":""},{"$f":"IF(Data!$E92=30,Data!CC92,\"\")","v":""},{"$f":"IF(Data!$E92=30,Data!CD92,IF(Data!AE92<>\"\",Data!AE92,\"\"))","v":""},{"$f":"IF(Data!$E92=30,Data!CE92,\"\")","v":""},{"$f":"IF(Data!$E92=30,Data!CF92,\"\")","v":""},{"$f":"IF(Data!$E92=30,Data!CG92,IF(Data!AF92<>\"\",Data!AF92,\"\"))","v":""},{"$f":"IF(Data!$E92=30,Data!CH92,\"\")","v":""},{"$f":"IF(Data!$E92=30,Data!CI92,\"\")","v":""},{"$f":"IF(Data!$E92=30,Data!CJ92,IF(Data!AG92<>\"\",Data!AG92,\"\"))","v":""},{"$f":"IF(Data!$E92=30,Data!CK92,\"\")","v":""},{"$f":"IF(Data!$E92=30,Data!CL92,\"\")","v":""},{"$f":"IF(Data!$E92=30,Data!CM92,IF(Data!AH92<>\"\",Data!AH92,\"\"))","v":""},{"$f":"IF(Data!$E92=30,Data!CN92,\"\")","v":""},{"$f":"IF(Data!$E92=30,Data!CO92,\"\")","v":""},{"$f":"IF(Data!$E92=30,Data!CP92,IF(Data!AI92<>\"\",Data!AI92,\"\"))","v":""},{"$f":"IF(Data!$E92=30,Data!CQ92,\"\")","v":""},null,null,null,{"$f":"IF(Data!$E92=30,Data!CR92,\"\")","v":""},{"$f":"IF(Data!$E92=30,Data!CS92,IF(Data!AJ92<>\"\",Data!AJ92,\"\"))","v":""},{"$f":"IF(Data!$E92=30,Data!CT92,\"\")","v":""},{"$f":"IF(Data!$E92=30,Data!CU92,\"\")","v":""},{"$f":"IF(Data!$E92=30,Data!CV92,IF(Data!AK92<>\"\",Data!AK92,\"\"))","v":""},{"$f":"IF(Data!$E92=30,Data!CW92,\"\")","v":""},{"$f":"IF(Data!$E92=30,Data!CX92,\"\")","v":""},{"$f":"IF(Data!$E92=30,Data!CY92,IF(Data!AL92<>\"\",Data!AL92,\"\"))","v":""},{"$f":"IF(Data!$E92=30,Data!CZ92,\"\")","v":""},{"$f":"IF(Data!$E92=30,Data!DA92,\"\")","v":""},{"$f":"IF(Data!$E92=30,Data!DB92,IF(Data!AM92<>\"\",Data!AM92,\"\"))","v":""},{"$f":"IF(Data!$E92=30,Data!DC92,\"\")","v":""},{"$f":"IF(Data!$E92=30,Data!DD92,\"\")","v":""},{"$f":"IF(Data!$E92=30,Data!DE92,IF(Data!AN92<>\"\",Data!AN92,\"\"))","v":""},{"$f":"IF(Data!$E92=30,Data!DF92,\"\")","v":""},{"$f":"IF(Data!$E92=30,Data!DG92,\"\")","v":""},{"$f":"IF(Data!$E92=30,Data!DH92,IF(Data!AO92<>\"\",Data!AO92,\"\"))","v":""},{"$f":"IF(Data!$E92=30,Data!DI92,\"\")","v":""},{"$f":"IF(Data!$E92=30,Data!DJ92,\"\")","v":""},{"$f":"IF(Data!$E92=30,Data!DK92,IF(Data!AP92<>\"\",Data!AP92,\"\"))","v":""},{"$f":"IF(Data!$E92=30,Data!DL92,\"\")","v":""},{"$f":"IF(Data!$E92=30,Data!DM92,\"\")","v":""},{"$f":"IF(Data!$E92=30,Data!DN92,IF(Data!AQ92<>\"\",Data!AQ92,\"\"))","v":""},{"$f":"IF(Data!$E92=30,Data!DO92,\"\")","v":""},{"$f":"IF(Data!$E92=30,Data!DP92,\"\")","v":""},{"$f":"IF(Data!$E92=30,Data!DQ92,IF(Data!AR92<>\"\",Data!AR92,\"\"))","v":""},{"$f":"IF(Data!$E92=30,Data!DR92,\"\")","v":""},{"$f":"IF(Data!$E92=30,Data!DS92,\"\")","v":""},{"$f":"IF(Data!$E92=30,Data!DT92,IF(Data!AS92<>\"\",Data!AS92,\"\"))","v":""},{"$f":"IF(Data!$E92=30,Data!DU92,\"\")","v":""}]
[null,{"$f":"IF(Data!A93<>\"\",Data!A93,\"\")","v":""},{"$f":"IF(Data!$E93=30,Data!BN93,\"\")","v":""},{"$f":"IF(Data!$E93=30,Data!BO93,IF(Data!Z93<>\"\",Data!Z93,\"\"))","v":""},{"$f":"IF(Data!$E93=30,Data!BP93,\"\")","v":""},{"$f":"IF(Data!$E93=30,Data!BQ93,\"\")","v":""},{"$f":"IF(Data!$E93=30,Data!BR93,IF(Data!AA93<>\"\",Data!AA93,\"\"))","v":""},{"$f":"IF(Data!$E93=30,Data!BS93,\"\")","v":""},{"$f":"IF(Data!$E93=30,Data!BT93,\"\")","v":""},{"$f":"IF(Data!$E93=30,Data!BU93,IF(Data!AB93<>\"\",Data!AB93,\"\"))","v":""},{"$f":"IF(Data!$E93=30,Data!BV93,\"\")","v":""},{"$f":"IF(Data!$E93=30,Data!BW93,\"\")","v":""},{"$f":"IF(Data!$E93=30,Data!BX93,IF(Data!AC93<>\"\",Data!AC93,\"\"))","v":""},{"$f":"IF(Data!$E93=30,Data!BY93,\"\")","v":""},{"$f":"IF(Data!$E93=30,Data!BZ93,\"\")","v":""},{"$f":"IF(Data!$E93=30,Data!CA93,IF(Data!AD93<>\"\",Data!AD93,\"\"))","v":""},{"$f":"IF(Data!$E93=30,Data!CB93,\"\")","v":""},{"$f":"IF(Data!$E93=30,Data!CC93,\"\")","v":""},{"$f":"IF(Data!$E93=30,Data!CD93,IF(Data!AE93<>\"\",Data!AE93,\"\"))","v":""},{"$f":"IF(Data!$E93=30,Data!CE93,\"\")","v":""},{"$f":"IF(Data!$E93=30,Data!CF93,\"\")","v":""},{"$f":"IF(Data!$E93=30,Data!CG93,IF(Data!AF93<>\"\",Data!AF93,\"\"))","v":""},{"$f":"IF(Data!$E93=30,Data!CH93,\"\")","v":""},{"$f":"IF(Data!$E93=30,Data!CI93,\"\")","v":""},{"$f":"IF(Data!$E93=30,Data!CJ93,IF(Data!AG93<>\"\",Data!AG93,\"\"))","v":""},{"$f":"IF(Data!$E93=30,Data!CK93,\"\")","v":""},{"$f":"IF(Data!$E93=30,Data!CL93,\"\")","v":""},{"$f":"IF(Data!$E93=30,Data!CM93,IF(Data!AH93<>\"\",Data!AH93,\"\"))","v":""},{"$f":"IF(Data!$E93=30,Data!CN93,\"\")","v":""},{"$f":"IF(Data!$E93=30,Data!CO93,\"\")","v":""},{"$f":"IF(Data!$E93=30,Data!CP93,IF(Data!AI93<>\"\",Data!AI93,\"\"))","v":""},{"$f":"IF(Data!$E93=30,Data!CQ93,\"\")","v":""},null,null,null,{"$f":"IF(Data!$E93=30,Data!CR93,\"\")","v":""},{"$f":"IF(Data!$E93=30,Data!CS93,IF(Data!AJ93<>\"\",Data!AJ93,\"\"))","v":""},{"$f":"IF(Data!$E93=30,Data!CT93,\"\")","v":""},{"$f":"IF(Data!$E93=30,Data!CU93,\"\")","v":""},{"$f":"IF(Data!$E93=30,Data!CV93,IF(Data!AK93<>\"\",Data!AK93,\"\"))","v":""},{"$f":"IF(Data!$E93=30,Data!CW93,\"\")","v":""},{"$f":"IF(Data!$E93=30,Data!CX93,\"\")","v":""},{"$f":"IF(Data!$E93=30,Data!CY93,IF(Data!AL93<>\"\",Data!AL93,\"\"))","v":""},{"$f":"IF(Data!$E93=30,Data!CZ93,\"\")","v":""},{"$f":"IF(Data!$E93=30,Data!DA93,\"\")","v":""},{"$f":"IF(Data!$E93=30,Data!DB93,IF(Data!AM93<>\"\",Data!AM93,\"\"))","v":""},{"$f":"IF(Data!$E93=30,Data!DC93,\"\")","v":""},{"$f":"IF(Data!$E93=30,Data!DD93,\"\")","v":""},{"$f":"IF(Data!$E93=30,Data!DE93,IF(Data!AN93<>\"\",Data!AN93,\"\"))","v":""},{"$f":"IF(Data!$E93=30,Data!DF93,\"\")","v":""},{"$f":"IF(Data!$E93=30,Data!DG93,\"\")","v":""},{"$f":"IF(Data!$E93=30,Data!DH93,IF(Data!AO93<>\"\",Data!AO93,\"\"))","v":""},{"$f":"IF(Data!$E93=30,Data!DI93,\"\")","v":""},{"$f":"IF(Data!$E93=30,Data!DJ93,\"\")","v":""},{"$f":"IF(Data!$E93=30,Data!DK93,IF(Data!AP93<>\"\",Data!AP93,\"\"))","v":""},{"$f":"IF(Data!$E93=30,Data!DL93,\"\")","v":""},{"$f":"IF(Data!$E93=30,Data!DM93,\"\")","v":""},{"$f":"IF(Data!$E93=30,Data!DN93,IF(Data!AQ93<>\"\",Data!AQ93,\"\"))","v":""},{"$f":"IF(Data!$E93=30,Data!DO93,\"\")","v":""},{"$f":"IF(Data!$E93=30,Data!DP93,\"\")","v":""},{"$f":"IF(Data!$E93=30,Data!DQ93,IF(Data!AR93<>\"\",Data!AR93,\"\"))","v":""},{"$f":"IF(Data!$E93=30,Data!DR93,\"\")","v":""},{"$f":"IF(Data!$E93=30,Data!DS93,\"\")","v":""},{"$f":"IF(Data!$E93=30,Data!DT93,IF(Data!AS93<>\"\",Data!AS93,\"\"))","v":""},{"$f":"IF(Data!$E93=30,Data!DU93,\"\")","v":""}]
[null,{"$f":"IF(Data!A94<>\"\",Data!A94,\"\")","v":""},{"$f":"IF(Data!$E94=30,Data!BN94,\"\")","v":""},{"$f":"IF(Data!$E94=30,Data!BO94,IF(Data!Z94<>\"\",Data!Z94,\"\"))","v":""},{"$f":"IF(Data!$E94=30,Data!BP94,\"\")","v":""},{"$f":"IF(Data!$E94=30,Data!BQ94,\"\")","v":""},{"$f":"IF(Data!$E94=30,Data!BR94,IF(Data!AA94<>\"\",Data!AA94,\"\"))","v":""},{"$f":"IF(Data!$E94=30,Data!BS94,\"\")","v":""},{"$f":"IF(Data!$E94=30,Data!BT94,\"\")","v":""},{"$f":"IF(Data!$E94=30,Data!BU94,IF(Data!AB94<>\"\",Data!AB94,\"\"))","v":""},{"$f":"IF(Data!$E94=30,Data!BV94,\"\")","v":""},{"$f":"IF(Data!$E94=30,Data!BW94,\"\")","v":""},{"$f":"IF(Data!$E94=30,Data!BX94,IF(Data!AC94<>\"\",Data!AC94,\"\"))","v":""},{"$f":"IF(Data!$E94=30,Data!BY94,\"\")","v":""},{"$f":"IF(Data!$E94=30,Data!BZ94,\"\")","v":""},{"$f":"IF(Data!$E94=30,Data!CA94,IF(Data!AD94<>\"\",Data!AD94,\"\"))","v":""},{"$f":"IF(Data!$E94=30,Data!CB94,\"\")","v":""},{"$f":"IF(Data!$E94=30,Data!CC94,\"\")","v":""},{"$f":"IF(Data!$E94=30,Data!CD94,IF(Data!AE94<>\"\",Data!AE94,\"\"))","v":""},{"$f":"IF(Data!$E94=30,Data!CE94,\"\")","v":""},{"$f":"IF(Data!$E94=30,Data!CF94,\"\")","v":""},{"$f":"IF(Data!$E94=30,Data!CG94,IF(Data!AF94<>\"\",Data!AF94,\"\"))","v":""},{"$f":"IF(Data!$E94=30,Data!CH94,\"\")","v":""},{"$f":"IF(Data!$E94=30,Data!CI94,\"\")","v":""},{"$f":"IF(Data!$E94=30,Data!CJ94,IF(Data!AG94<>\"\",Data!AG94,\"\"))","v":""},{"$f":"IF(Data!$E94=30,Data!CK94,\"\")","v":""},{"$f":"IF(Data!$E94=30,Data!CL94,\"\")","v":""},{"$f":"IF(Data!$E94=30,Data!CM94,IF(Data!AH94<>\"\",Data!AH94,\"\"))","v":""},{"$f":"IF(Data!$E94=30,Data!CN94,\"\")","v":""},{"$f":"IF(Data!$E94=30,Data!CO94,\"\")","v":""},{"$f":"IF(Data!$E94=30,Data!CP94,IF(Data!AI94<>\"\",Data!AI94,\"\"))","v":""},{"$f":"IF(Data!$E94=30,Data!CQ94,\"\")","v":""},null,null,null,{"$f":"IF(Data!$E94=30,Data!CR94,\"\")","v":""},{"$f":"IF(Data!$E94=30,Data!CS94,IF(Data!AJ94<>\"\",Data!AJ94,\"\"))","v":""},{"$f":"IF(Data!$E94=30,Data!CT94,\"\")","v":""},{"$f":"IF(Data!$E94=30,Data!CU94,\"\")","v":""},{"$f":"IF(Data!$E94=30,Data!CV94,IF(Data!AK94<>\"\",Data!AK94,\"\"))","v":""},{"$f":"IF(Data!$E94=30,Data!CW94,\"\")","v":""},{"$f":"IF(Data!$E94=30,Data!CX94,\"\")","v":""},{"$f":"IF(Data!$E94=30,Data!CY94,IF(Data!AL94<>\"\",Data!AL94,\"\"))","v":""},{"$f":"IF(Data!$E94=30,Data!CZ94,\"\")","v":""},{"$f":"IF(Data!$E94=30,Data!DA94,\"\")","v":""},{"$f":"IF(Data!$E94=30,Data!DB94,IF(Data!AM94<>\"\",Data!AM94,\"\"))","v":""},{"$f":"IF(Data!$E94=30,Data!DC94,\"\")","v":""},{"$f":"IF(Data!$E94=30,Data!DD94,\"\")","v":""},{"$f":"IF(Data!$E94=30,Data!DE94,IF(Data!AN94<>\"\",Data!AN94,\"\"))","v":""},{"$f":"IF(Data!$E94=30,Data!DF94,\"\")","v":""},{"$f":"IF(Data!$E94=30,Data!DG94,\"\")","v":""},{"$f":"IF(Data!$E94=30,Data!DH94,IF(Data!AO94<>\"\",Data!AO94,\"\"))","v":""},{"$f":"IF(Data!$E94=30,Data!DI94,\"\")","v":""},{"$f":"IF(Data!$E94=30,Data!DJ94,\"\")","v":""},{"$f":"IF(Data!$E94=30,Data!DK94,IF(Data!AP94<>\"\",Data!AP94,\"\"))","v":""},{"$f":"IF(Data!$E94=30,Data!DL94,\"\")","v":""},{"$f":"IF(Data!$E94=30,Data!DM94,\"\")","v":""},{"$f":"IF(Data!$E94=30,Data!DN94,IF(Data!AQ94<>\"\",Data!AQ94,\"\"))","v":""},{"$f":"IF(Data!$E94=30,Data!DO94,\"\")","v":""},{"$f":"IF(Data!$E94=30,Data!DP94,\"\")","v":""},{"$f":"IF(Data!$E94=30,Data!DQ94,IF(Data!AR94<>\"\",Data!AR94,\"\"))","v":""},{"$f":"IF(Data!$E94=30,Data!DR94,\"\")","v":""},{"$f":"IF(Data!$E94=30,Data!DS94,\"\")","v":""},{"$f":"IF(Data!$E94=30,Data!DT94,IF(Data!AS94<>\"\",Data!AS94,\"\"))","v":""},{"$f":"IF(Data!$E94=30,Data!DU94,\"\")","v":""}]
[null,{"$f":"IF(Data!A95<>\"\",Data!A95,\"\")","v":""},{"$f":"IF(Data!$E95=30,Data!BN95,\"\")","v":""},{"$f":"IF(Data!$E95=30,Data!BO95,IF(Data!Z95<>\"\",Data!Z95,\"\"))","v":""},{"$f":"IF(Data!$E95=30,Data!BP95,\"\")","v":""},{"$f":"IF(Data!$E95=30,Data!BQ95,\"\")","v":""},{"$f":"IF(Data!$E95=30,Data!BR95,IF(Data!AA95<>\"\",Data!AA95,\"\"))","v":""},{"$f":"IF(Data!$E95=30,Data!BS95,\"\")","v":""},{"$f":"IF(Data!$E95=30,Data!BT95,\"\")","v":""},{"$f":"IF(Data!$E95=30,Data!BU95,IF(Data!AB95<>\"\",Data!AB95,\"\"))","v":""},{"$f":"IF(Data!$E95=30,Data!BV95,\"\")","v":""},{"$f":"IF(Data!$E95=30,Data!BW95,\"\")","v":""},{"$f":"IF(Data!$E95=30,Data!BX95,IF(Data!AC95<>\"\",Data!AC95,\"\"))","v":""},{"$f":"IF(Data!$E95=30,Data!BY95,\"\")","v":""},{"$f":"IF(Data!$E95=30,Data!BZ95,\"\")","v":""},{"$f":"IF(Data!$E95=30,Data!CA95,IF(Data!AD95<>\"\",Data!AD95,\"\"))","v":""},{"$f":"IF(Data!$E95=30,Data!CB95,\"\")","v":""},{"$f":"IF(Data!$E95=30,Data!CC95,\"\")","v":""},{"$f":"IF(Data!$E95=30,Data!CD95,IF(Data!AE95<>\"\",Data!AE95,\"\"))","v":""},{"$f":"IF(Data!$E95=30,Data!CE95,\"\")","v":""},{"$f":"IF(Data!$E95=30,Data!CF95,\"\")","v":""},{"$f":"IF(Data!$E95=30,Data!CG95,IF(Data!AF95<>\"\",Data!AF95,\"\"))","v":""},{"$f":"IF(Data!$E95=30,Data!CH95,\"\")","v":""},{"$f":"IF(Data!$E95=30,Data!CI95,\"\")","v":""},{"$f":"IF(Data!$E95=30,Data!CJ95,IF(Data!AG95<>\"\",Data!AG95,\"\"))","v":""},{"$f":"IF(Data!$E95=30,Data!CK95,\"\")","v":""},{"$f":"IF(Data!$E95=30,Data!CL95,\"\")","v":""},{"$f":"IF(Data!$E95=30,Data!CM95,IF(Data!AH95<>\"\",Data!AH95,\"\"))","v":""},{"$f":"IF(Data!$E95=30,Data!CN95,\"\")","v":""},{"$f":"IF(Data!$E95=30,Data!CO95,\"\")","v":""},{"$f":"IF(Data!$E95=30,Data!CP95,IF(Data!AI95<>\"\",Data!AI95,\"\"))","v":""},{"$f":"IF(Data!$E95=30,Data!CQ95,\"\")","v":""},null,null,null,{"$f":"IF(Data!$E95=30,Data!CR95,\"\")","v":""},{"$f":"IF(Data!$E95=30,Data!CS95,IF(Data!AJ95<>\"\",Data!AJ95,\"\"))","v":""},{"$f":"IF(Data!$E95=30,Data!CT95,\"\")","v":""},{"$f":"IF(Data!$E95=30,Data!CU95,\"\")","v":""},{"$f":"IF(Data!$E95=30,Data!CV95,IF(Data!AK95<>\"\",Data!AK95,\"\"))","v":""},{"$f":"IF(Data!$E95=30,Data!CW95,\"\")","v":""},{"$f":"IF(Data!$E95=30,Data!CX95,\"\")","v":""},{"$f":"IF(Data!$E95=30,Data!CY95,IF(Data!AL95<>\"\",Data!AL95,\"\"))","v":""},{"$f":"IF(Data!$E95=30,Data!CZ95,\"\")","v":""},{"$f":"IF(Data!$E95=30,Data!DA95,\"\")","v":""},{"$f":"IF(Data!$E95=30,Data!DB95,IF(Data!AM95<>\"\",Data!AM95,\"\"))","v":""},{"$f":"IF(Data!$E95=30,Data!DC95,\"\")","v":""},{"$f":"IF(Data!$E95=30,Data!DD95,\"\")","v":""},{"$f":"IF(Data!$E95=30,Data!DE95,IF(Data!AN95<>\"\",Data!AN95,\"\"))","v":""},{"$f":"IF(Data!$E95=30,Data!DF95,\"\")","v":""},{"$f":"IF(Data!$E95=30,Data!DG95,\"\")","v":""},{"$f":"IF(Data!$E95=30,Data!DH95,IF(Data!AO95<>\"\",Data!AO95,\"\"))","v":""},{"$f":"IF(Data!$E95=30,Data!DI95,\"\")","v":""},{"$f":"IF(Data!$E95=30,Data!DJ95,\"\")","v":""},{"$f":"IF(Data!$E95=30,Data!DK95,IF(Data!AP95<>\"\",Data!AP95,\"\"))","v":""},{"$f":"IF(Data!$E95=30,Data!DL95,\"\")","v":""},{"$f":"IF(Data!$E95=30,Data!DM95,\"\")","v":""},{"$f":"IF(Data!$E95=30,Data!DN95,IF(Data!AQ95<>\"\",Data!AQ95,\"\"))","v":""},{"$f":"IF(Data!$E95=30,Data!DO95,\"\")","v":""},{"$f":"IF(Data!$E95=30,Data!DP95,\"\")","v":""},{"$f":"IF(Data!$E95=30,Data!DQ95,IF(Data!AR95<>\"\",Data!AR95,\"\"))","v":""},{"$f":"IF(Data!$E95=30,Data!DR95,\"\")","v":""},{"$f":"IF(Data!$E95=30,Data!DS95,\"\")","v":""},{"$f":"IF(Data!$E95=30,Data!DT95,IF(Data!AS95<>\"\",Data!AS95,\"\"))","v":""},{"$f":"IF(Data!$E95=30,Data!DU95,\"\")","v":""}]
[null,{"$f":"IF(Data!A96<>\"\",Data!A96,\"\")","v":""},{"$f":"IF(Data!$E96=30,Data!BN96,\"\")","v":""},{"$f":"IF(Data!$E96=30,Data!BO96,IF(Data!Z96<>\"\",Data!Z96,\"\"))","v":""},{"$f":"IF(Data!$E96=30,Data!BP96,\"\")","v":""},{"$f":"IF(Data!$E96=30,Data!BQ96,\"\")","v":""},{"$f":"IF(Data!$E96=30,Data!BR96,IF(Data!AA96<>\"\",Data!AA96,\"\"))","v":""},{"$f":"IF(Data!$E96=30,Data!BS96,\"\")","v":""},{"$f":"IF(Data!$E96=30,Data!BT96,\"\")","v":""},{"$f":"IF(Data!$E96=30,Data!BU96,IF(Data!AB96<>\"\",Data!AB96,\"\"))","v":""},{"$f":"IF(Data!$E96=30,Data!BV96,\"\")","v":""},{"$f":"IF(Data!$E96=30,Data!BW96,\"\")","v":""},{"$f":"IF(Data!$E96=30,Data!BX96,IF(Data!AC96<>\"\",Data!AC96,\"\"))","v":""},{"$f":"IF(Data!$E96=30,Data!BY96,\"\")","v":""},{"$f":"IF(Data!$E96=30,Data!BZ96,\"\")","v":""},{"$f":"IF(Data!$E96=30,Data!CA96,IF(Data!AD96<>\"\",Data!AD96,\"\"))","v":""},{"$f":"IF(Data!$E96=30,Data!CB96,\"\")","v":""},{"$f":"IF(Data!$E96=30,Data!CC96,\"\")","v":""},{"$f":"IF(Data!$E96=30,Data!CD96,IF(Data!AE96<>\"\",Data!AE96,\"\"))","v":""},{"$f":"IF(Data!$E96=30,Data!CE96,\"\")","v":""},{"$f":"IF(Data!$E96=30,Data!CF96,\"\")","v":""},{"$f":"IF(Data!$E96=30,Data!CG96,IF(Data!AF96<>\"\",Data!AF96,\"\"))","v":""},{"$f":"IF(Data!$E96=30,Data!CH96,\"\")","v":""},{"$f":"IF(Data!$E96=30,Data!CI96,\"\")","v":""},{"$f":"IF(Data!$E96=30,Data!CJ96,IF(Data!AG96<>\"\",Data!AG96,\"\"))","v":""},{"$f":"IF(Data!$E96=30,Data!CK96,\"\")","v":""},{"$f":"IF(Data!$E96=30,Data!CL96,\"\")","v":""},{"$f":"IF(Data!$E96=30,Data!CM96,IF(Data!AH96<>\"\",Data!AH96,\"\"))","v":""},{"$f":"IF(Data!$E96=30,Data!CN96,\"\")","v":""},{"$f":"IF(Data!$E96=30,Data!CO96,\"\")","v":""},{"$f":"IF(Data!$E96=30,Data!CP96,IF(Data!AI96<>\"\",Data!AI96,\"\"))","v":""},{"$f":"IF(Data!$E96=30,Data!CQ96,\"\")","v":""},null,null,null,{"$f":"IF(Data!$E96=30,Data!CR96,\"\")","v":""},{"$f":"IF(Data!$E96=30,Data!CS96,IF(Data!AJ96<>\"\",Data!AJ96,\"\"))","v":""},{"$f":"IF(Data!$E96=30,Data!CT96,\"\")","v":""},{"$f":"IF(Data!$E96=30,Data!CU96,\"\")","v":""},{"$f":"IF(Data!$E96=30,Data!CV96,IF(Data!AK96<>\"\",Data!AK96,\"\"))","v":""},{"$f":"IF(Data!$E96=30,Data!CW96,\"\")","v":""},{"$f":"IF(Data!$E96=30,Data!CX96,\"\")","v":""},{"$f":"IF(Data!$E96=30,Data!CY96,IF(Data!AL96<>\"\",Data!AL96,\"\"))","v":""},{"$f":"IF(Data!$E96=30,Data!CZ96,\"\")","v":""},{"$f":"IF(Data!$E96=30,Data!DA96,\"\")","v":""},{"$f":"IF(Data!$E96=30,Data!DB96,IF(Data!AM96<>\"\",Data!AM96,\"\"))","v":""},{"$f":"IF(Data!$E96=30,Data!DC96,\"\")","v":""},{"$f":"IF(Data!$E96=30,Data!DD96,\"\")","v":""},{"$f":"IF(Data!$E96=30,Data!DE96,IF(Data!AN96<>\"\",Data!AN96,\"\"))","v":""},{"$f":"IF(Data!$E96=30,Data!DF96,\"\")","v":""},{"$f":"IF(Data!$E96=30,Data!DG96,\"\")","v":""},{"$f":"IF(Data!$E96=30,Data!DH96,IF(Data!AO96<>\"\",Data!AO96,\"\"))","v":""},{"$f":"IF(Data!$E96=30,Data!DI96,\"\")","v":""},{"$f":"IF(Data!$E96=30,Data!DJ96,\"\")","v":""},{"$f":"IF(Data!$E96=30,Data!DK96,IF(Data!AP96<>\"\",Data!AP96,\"\"))","v":""},{"$f":"IF(Data!$E96=30,Data!DL96,\"\")","v":""},{"$f":"IF(Data!$E96=30,Data!DM96,\"\")","v":""},{"$f":"IF(Data!$E96=30,Data!DN96,IF(Data!AQ96<>\"\",Data!AQ96,\"\"))","v":""},{"$f":"IF(Data!$E96=30,Data!DO96,\"\")","v":""},{"$f":"IF(Data!$E96=30,Data!DP96,\"\")","v":""},{"$f":"IF(Data!$E96=30,Data!DQ96,IF(Data!AR96<>\"\",Data!AR96,\"\"))","v":""},{"$f":"IF(Data!$E96=30,Data!DR96,\"\")","v":""},{"$f":"IF(Data!$E96=30,Data!DS96,\"\")","v":""},{"$f":"IF(Data!$E96=30,Data!DT96,IF(Data!AS96<>\"\",Data!AS96,\"\"))","v":""},{"$f":"IF(Data!$E96=30,Data!DU96,\"\")","v":""}]
[null,{"$f":"IF(Data!A97<>\"\",Data!A97,\"\")","v":""},{"$f":"IF(Data!$E97=30,Data!BN97,\"\")","v":""},{"$f":"IF(Data!$E97=30,Data!BO97,IF(Data!Z97<>\"\",Data!Z97,\"\"))","v":""},{"$f":"IF(Data!$E97=30,Data!BP97,\"\")","v":""},{"$f":"IF(Data!$E97=30,Data!BQ97,\"\")","v":""},{"$f":"IF(Data!$E97=30,Data!BR97,IF(Data!AA97<>\"\",Data!AA97,\"\"))","v":""},{"$f":"IF(Data!$E97=30,Data!BS97,\"\")","v":""},{"$f":"IF(Data!$E97=30,Data!BT97,\"\")","v":""},{"$f":"IF(Data!$E97=30,Data!BU97,IF(Data!AB97<>\"\",Data!AB97,\"\"))","v":""},{"$f":"IF(Data!$E97=30,Data!BV97,\"\")","v":""},{"$f":"IF(Data!$E97=30,Data!BW97,\"\")","v":""},{"$f":"IF(Data!$E97=30,Data!BX97,IF(Data!AC97<>\"\",Data!AC97,\"\"))","v":""},{"$f":"IF(Data!$E97=30,Data!BY97,\"\")","v":""},{"$f":"IF(Data!$E97=30,Data!BZ97,\"\")","v":""},{"$f":"IF(Data!$E97=30,Data!CA97,IF(Data!AD97<>\"\",Data!AD97,\"\"))","v":""},{"$f":"IF(Data!$E97=30,Data!CB97,\"\")","v":""},{"$f":"IF(Data!$E97=30,Data!CC97,\"\")","v":""},{"$f":"IF(Data!$E97=30,Data!CD97,IF(Data!AE97<>\"\",Data!AE97,\"\"))","v":""},{"$f":"IF(Data!$E97=30,Data!CE97,\"\")","v":""},{"$f":"IF(Data!$E97=30,Data!CF97,\"\")","v":""},{"$f":"IF(Data!$E97=30,Data!CG97,IF(Data!AF97<>\"\",Data!AF97,\"\"))","v":""},{"$f":"IF(Data!$E97=30,Data!CH97,\"\")","v":""},{"$f":"IF(Data!$E97=30,Data!CI97,\"\")","v":""},{"$f":"IF(Data!$E97=30,Data!CJ97,IF(Data!AG97<>\"\",Data!AG97,\"\"))","v":""},{"$f":"IF(Data!$E97=30,Data!CK97,\"\")","v":""},{"$f":"IF(Data!$E97=30,Data!CL97,\"\")","v":""},{"$f":"IF(Data!$E97=30,Data!CM97,IF(Data!AH97<>\"\",Data!AH97,\"\"))","v":""},{"$f":"IF(Data!$E97=30,Data!CN97,\"\")","v":""},{"$f":"IF(Data!$E97=30,Data!CO97,\"\")","v":""},{"$f":"IF(Data!$E97=30,Data!CP97,IF(Data!AI97<>\"\",Data!AI97,\"\"))","v":""},{"$f":"IF(Data!$E97=30,Data!CQ97,\"\")","v":""},null,null,null,{"$f":"IF(Data!$E97=30,Data!CR97,\"\")","v":""},{"$f":"IF(Data!$E97=30,Data!CS97,IF(Data!AJ97<>\"\",Data!AJ97,\"\"))","v":""},{"$f":"IF(Data!$E97=30,Data!CT97,\"\")","v":""},{"$f":"IF(Data!$E97=30,Data!CU97,\"\")","v":""},{"$f":"IF(Data!$E97=30,Data!CV97,IF(Data!AK97<>\"\",Data!AK97,\"\"))","v":""},{"$f":"IF(Data!$E97=30,Data!CW97,\"\")","v":""},{"$f":"IF(Data!$E97=30,Data!CX97,\"\")","v":""},{"$f":"IF(Data!$E97=30,Data!CY97,IF(Data!AL97<>\"\",Data!AL97,\"\"))","v":""},{"$f":"IF(Data!$E97=30,Data!CZ97,\"\")","v":""},{"$f":"IF(Data!$E97=30,Data!DA97,\"\")","v":""},{"$f":"IF(Data!$E97=30,Data!DB97,IF(Data!AM97<>\"\",Data!AM97,\"\"))","v":""},{"$f":"IF(Data!$E97=30,Data!DC97,\"\")","v":""},{"$f":"IF(Data!$E97=30,Data!DD97,\"\")","v":""},{"$f":"IF(Data!$E97=30,Data!DE97,IF(Data!AN97<>\"\",Data!AN97,\"\"))","v":""},{"$f":"IF(Data!$E97=30,Data!DF97,\"\")","v":""},{"$f":"IF(Data!$E97=30,Data!DG97,\"\")","v":""},{"$f":"IF(Data!$E97=30,Data!DH97,IF(Data!AO97<>\"\",Data!AO97,\"\"))","v":""},{"$f":"IF(Data!$E97=30,Data!DI97,\"\")","v":""},{"$f":"IF(Data!$E97=30,Data!DJ97,\"\")","v":""},{"$f":"IF(Data!$E97=30,Data!DK97,IF(Data!AP97<>\"\",Data!AP97,\"\"))","v":""},{"$f":"IF(Data!$E97=30,Data!DL97,\"\")","v":""},{"$f":"IF(Data!$E97=30,Data!DM97,\"\")","v":""},{"$f":"IF(Data!$E97=30,Data!DN97,IF(Data!AQ97<>\"\",Data!AQ97,\"\"))","v":""},{"$f":"IF(Data!$E97=30,Data!DO97,\"\")","v":""},{"$f":"IF(Data!$E97=30,Data!DP97,\"\")","v":""},{"$f":"IF(Data!$E97=30,Data!DQ97,IF(Data!AR97<>\"\",Data!AR97,\"\"))","v":""},{"$f":"IF(Data!$E97=30,Data!DR97,\"\")","v":""},{"$f":"IF(Data!$E97=30,Data!DS97,\"\")","v":""},{"$f":"IF(Data!$E97=30,Data!DT97,IF(Data!AS97<>\"\",Data!AS97,\"\"))","v":""},{"$f":"IF(Data!$E97=30,Data!DU97,\"\")","v":""}]
[null,{"$f":"IF(Data!A98<>\"\",Data!A98,\"\")","v":""},{"$f":"IF(Data!$E98=30,Data!BN98,\"\")","v":""},{"$f":"IF(Data!$E98=30,Data!BO98,IF(Data!Z98<>\"\",Data!Z98,\"\"))","v":""},{"$f":"IF(Data!$E98=30,Data!BP98,\"\")","v":""},{"$f":"IF(Data!$E98=30,Data!BQ98,\"\")","v":""},{"$f":"IF(Data!$E98=30,Data!BR98,IF(Data!AA98<>\"\",Data!AA98,\"\"))","v":""},{"$f":"IF(Data!$E98=30,Data!BS98,\"\")","v":""},{"$f":"IF(Data!$E98=30,Data!BT98,\"\")","v":""},{"$f":"IF(Data!$E98=30,Data!BU98,IF(Data!AB98<>\"\",Data!AB98,\"\"))","v":""},{"$f":"IF(Data!$E98=30,Data!BV98,\"\")","v":""},{"$f":"IF(Data!$E98=30,Data!BW98,\"\")","v":""},{"$f":"IF(Data!$E98=30,Data!BX98,IF(Data!AC98<>\"\",Data!AC98,\"\"))","v":""},{"$f":"IF(Data!$E98=30,Data!BY98,\"\")","v":""},{"$f":"IF(Data!$E98=30,Data!BZ98,\"\")","v":""},{"$f":"IF(Data!$E98=30,Data!CA98,IF(Data!AD98<>\"\",Data!AD98,\"\"))","v":""},{"$f":"IF(Data!$E98=30,Data!CB98,\"\")","v":""},{"$f":"IF(Data!$E98=30,Data!CC98,\"\")","v":""},{"$f":"IF(Data!$E98=30,Data!CD98,IF(Data!AE98<>\"\",Data!AE98,\"\"))","v":""},{"$f":"IF(Data!$E98=30,Data!CE98,\"\")","v":""},{"$f":"IF(Data!$E98=30,Data!CF98,\"\")","v":""},{"$f":"IF(Data!$E98=30,Data!CG98,IF(Data!AF98<>\"\",Data!AF98,\"\"))","v":""},{"$f":"IF(Data!$E98=30,Data!CH98,\"\")","v":""},{"$f":"IF(Data!$E98=30,Data!CI98,\"\")","v":""},{"$f":"IF(Data!$E98=30,Data!CJ98,IF(Data!AG98<>\"\",Data!AG98,\"\"))","v":""},{"$f":"IF(Data!$E98=30,Data!CK98,\"\")","v":""},{"$f":"IF(Data!$E98=30,Data!CL98,\"\")","v":""},{"$f":"IF(Data!$E98=30,Data!CM98,IF(Data!AH98<>\"\",Data!AH98,\"\"))","v":""},{"$f":"IF(Data!$E98=30,Data!CN98,\"\")","v":""},{"$f":"IF(Data!$E98=30,Data!CO98,\"\")","v":""},{"$f":"IF(Data!$E98=30,Data!CP98,IF(Data!AI98<>\"\",Data!AI98,\"\"))","v":""},{"$f":"IF(Data!$E98=30,Data!CQ98,\"\")","v":""},null,null,null,{"$f":"IF(Data!$E98=30,Data!CR98,\"\")","v":""},{"$f":"IF(Data!$E98=30,Data!CS98,IF(Data!AJ98<>\"\",Data!AJ98,\"\"))","v":""},{"$f":"IF(Data!$E98=30,Data!CT98,\"\")","v":""},{"$f":"IF(Data!$E98=30,Data!CU98,\"\")","v":""},{"$f":"IF(Data!$E98=30,Data!CV98,IF(Data!AK98<>\"\",Data!AK98,\"\"))","v":""},{"$f":"IF(Data!$E98=30,Data!CW98,\"\")","v":""},{"$f":"IF(Data!$E98=30,Data!CX98,\"\")","v":""},{"$f":"IF(Data!$E98=30,Data!CY98,IF(Data!AL98<>\"\",Data!AL98,\"\"))","v":""},{"$f":"IF(Data!$E98=30,Data!CZ98,\"\")","v":""},{"$f":"IF(Data!$E98=30,Data!DA98,\"\")","v":""},{"$f":"IF(Data!$E98=30,Data!DB98,IF(Data!AM98<>\"\",Data!AM98,\"\"))","v":""},{"$f":"IF(Data!$E98=30,Data!DC98,\"\")","v":""},{"$f":"IF(Data!$E98=30,Data!DD98,\"\")","v":""},{"$f":"IF(Data!$E98=30,Data!DE98,IF(Data!AN98<>\"\",Data!AN98,\"\"))","v":""},{"$f":"IF(Data!$E98=30,Data!DF98,\"\")","v":""},{"$f":"IF(Data!$E98=30,Data!DG98,\"\")","v":""},{"$f":"IF(Data!$E98=30,Data!DH98,IF(Data!AO98<>\"\",Data!AO98,\"\"))","v":""},{"$f":"IF(Data!$E98=30,Data!DI98,\"\")","v":""},{"$f":"IF(Data!$E98=30,Data!DJ98,\"\")","v":""},{"$f":"IF(Data!$E98=30,Data!DK98,IF(Data!AP98<>\"\",Data!AP98,\"\"))","v":""},{"$f":"IF(Data!$E98=30,Data!DL98,\"\")","v":""},{"$f":"IF(Data!$E98=30,Data!DM98,\"\")","v":""},{"$f":"IF(Data!$E98=30,Data!DN98,IF(Data!AQ98<>\"\",Data!AQ98,\"\"))","v":""},{"$f":"IF(Data!$E98=30,Data!DO98,\"\")","v":""},{"$f":"IF(Data!$E98=30,Data!DP98,\"\")","v":""},{"$f":"IF(Data!$E98=30,Data!DQ98,IF(Data!AR98<>\"\",Data!AR98,\"\"))","v":""},{"$f":"IF(Data!$E98=30,Data!DR98,\"\")","v":""},{"$f":"IF(Data!$E98=30,Data!DS98,\"\")","v":""},{"$f":"IF(Data!$E98=30,Data!DT98,IF(Data!AS98<>\"\",Data!AS98,\"\"))","v":""},{"$f":"IF(Data!$E98=30,Data!DU98,\"\")","v":""}]
[null,{"$f":"IF(Data!A99<>\"\",Data!A99,\"\")","v":""},{"$f":"IF(Data!$E99=30,Data!BN99,\"\")","v":""},{"$f":"IF(Data!$E99=30,Data!BO99,IF(Data!Z99<>\"\",Data!Z99,\"\"))","v":""},{"$f":"IF(Data!$E99=30,Data!BP99,\"\")","v":""},{"$f":"IF(Data!$E99=30,Data!BQ99,\"\")","v":""},{"$f":"IF(Data!$E99=30,Data!BR99,IF(Data!AA99<>\"\",Data!AA99,\"\"))","v":""},{"$f":"IF(Data!$E99=30,Data!BS99,\"\")","v":""},{"$f":"IF(Data!$E99=30,Data!BT99,\"\")","v":""},{"$f":"IF(Data!$E99=30,Data!BU99,IF(Data!AB99<>\"\",Data!AB99,\"\"))","v":""},{"$f":"IF(Data!$E99=30,Data!BV99,\"\")","v":""},{"$f":"IF(Data!$E99=30,Data!BW99,\"\")","v":""},{"$f":"IF(Data!$E99=30,Data!BX99,IF(Data!AC99<>\"\",Data!AC99,\"\"))","v":""},{"$f":"IF(Data!$E99=30,Data!BY99,\"\")","v":""},{"$f":"IF(Data!$E99=30,Data!BZ99,\"\")","v":""},{"$f":"IF(Data!$E99=30,Data!CA99,IF(Data!AD99<>\"\",Data!AD99,\"\"))","v":""},{"$f":"IF(Data!$E99=30,Data!CB99,\"\")","v":""},{"$f":"IF(Data!$E99=30,Data!CC99,\"\")","v":""},{"$f":"IF(Data!$E99=30,Data!CD99,IF(Data!AE99<>\"\",Data!AE99,\"\"))","v":""},{"$f":"IF(Data!$E99=30,Data!CE99,\"\")","v":""},{"$f":"IF(Data!$E99=30,Data!CF99,\"\")","v":""},{"$f":"IF(Data!$E99=30,Data!CG99,IF(Data!AF99<>\"\",Data!AF99,\"\"))","v":""},{"$f":"IF(Data!$E99=30,Data!CH99,\"\")","v":""},{"$f":"IF(Data!$E99=30,Data!CI99,\"\")","v":""},{"$f":"IF(Data!$E99=30,Data!CJ99,IF(Data!AG99<>\"\",Data!AG99,\"\"))","v":""},{"$f":"IF(Data!$E99=30,Data!CK99,\"\")","v":""},{"$f":"IF(Data!$E99=30,Data!CL99,\"\")","v":""},{"$f":"IF(Data!$E99=30,Data!CM99,IF(Data!AH99<>\"\",Data!AH99,\"\"))","v":""},{"$f":"IF(Data!$E99=30,Data!CN99,\"\")","v":""},{"$f":"IF(Data!$E99=30,Data!CO99,\"\")","v":""},{"$f":"IF(Data!$E99=30,Data!CP99,IF(Data!AI99<>\"\",Data!AI99,\"\"))","v":""},{"$f":"IF(Data!$E99=30,Data!CQ99,\"\")","v":""},null,null,null,{"$f":"IF(Data!$E99=30,Data!CR99,\"\")","v":""},{"$f":"IF(Data!$E99=30,Data!CS99,IF(Data!AJ99<>\"\",Data!AJ99,\"\"))","v":""},{"$f":"IF(Data!$E99=30,Data!CT99,\"\")","v":""},{"$f":"IF(Data!$E99=30,Data!CU99,\"\")","v":""},{"$f":"IF(Data!$E99=30,Data!CV99,IF(Data!AK99<>\"\",Data!AK99,\"\"))","v":""},{"$f":"IF(Data!$E99=30,Data!CW99,\"\")","v":""},{"$f":"IF(Data!$E99=30,Data!CX99,\"\")","v":""},{"$f":"IF(Data!$E99=30,Data!CY99,IF(Data!AL99<>\"\",Data!AL99,\"\"))","v":""},{"$f":"IF(Data!$E99=30,Data!CZ99,\"\")","v":""},{"$f":"IF(Data!$E99=30,Data!DA99,\"\")","v":""},{"$f":"IF(Data!$E99=30,Data!DB99,IF(Data!AM99<>\"\",Data!AM99,\"\"))","v":""},{"$f":"IF(Data!$E99=30,Data!DC99,\"\")","v":""},{"$f":"IF(Data!$E99=30,Data!DD99,\"\")","v":""},{"$f":"IF(Data!$E99=30,Data!DE99,IF(Data!AN99<>\"\",Data!AN99,\"\"))","v":""},{"$f":"IF(Data!$E99=30,Data!DF99,\"\")","v":""},{"$f":"IF(Data!$E99=30,Data!DG99,\"\")","v":""},{"$f":"IF(Data!$E99=30,Data!DH99,IF(Data!AO99<>\"\",Data!AO99,\"\"))","v":""},{"$f":"IF(Data!$E99=30,Data!DI99,\"\")","v":""},{"$f":"IF(Data!$E99=30,Data!DJ99,\"\")","v":""},{"$f":"IF(Data!$E99=30,Data!DK99,IF(Data!AP99<>\"\",Data!AP99,\"\"))","v":""},{"$f":"IF(Data!$E99=30,Data!DL99,\"\")","v":""},{"$f":"IF(Data!$E99=30,Data!DM99,\"\")","v":""},{"$f":"IF(Data!$E99=30,Data!DN99,IF(Data!AQ99<>\"\",Data!AQ99,\"\"))","v":""},{"$f":"IF(Data!$E99=30,Data!DO99,\"\")","v":""},{"$f":"IF(Data!$E99=30,Data!DP99,\"\")","v":""},{"$f":"IF(Data!$E99=30,Data!DQ99,IF(Data!AR99<>\"\",Data!AR99,\"\"))","v":""},{"$f":"IF(Data!$E99=30,Data!DR99,\"\")","v":""},{"$f":"IF(Data!$E99=30,Data!DS99,\"\")","v":""},{"$f":"IF(Data!$E99=30,Data!DT99,IF(Data!AS99<>\"\",Data!AS99,\"\"))","v":""},{"$f":"IF(Data!$E99=30,Data!DU99,\"\")","v":""}]
[null,{"$f":"IF(Data!A100<>\"\",Data!A100,\"\")","v":""},{"$f":"IF(Data!$E100=30,Data!BN100,\"\")","v":""},{"$f":"IF(Data!$E100=30,Data!BO100,IF(Data!Z100<>\"\",Data!Z100,\"\"))","v":""},{"$f":"IF(Data!$E100=30,Data!BP100,\"\")","v":""},{"$f":"IF(Data!$E100=30,Data!BQ100,\"\")","v":""},{"$f":"IF(Data!$E100=30,Data!BR100,IF(Data!AA100<>\"\",Data!AA100,\"\"))","v":""},{"$f":"IF(Data!$E100=30,Data!BS100,\"\")","v":""},{"$f":"IF(Data!$E100=30,Data!BT100,\"\")","v":""},{"$f":"IF(Data!$E100=30,Data!BU100,IF(Data!AB100<>\"\",Data!AB100,\"\"))","v":""},{"$f":"IF(Data!$E100=30,Data!BV100,\"\")","v":""},{"$f":"IF(Data!$E100=30,Data!BW100,\"\")","v":""},{"$f":"IF(Data!$E100=30,Data!BX100,IF(Data!AC100<>\"\",Data!AC100,\"\"))","v":""},{"$f":"IF(Data!$E100=30,Data!BY100,\"\")","v":""},{"$f":"IF(Data!$E100=30,Data!BZ100,\"\")","v":""},{"$f":"IF(Data!$E100=30,Data!CA100,IF(Data!AD100<>\"\",Data!AD100,\"\"))","v":""},{"$f":"IF(Data!$E100=30,Data!CB100,\"\")","v":""},{"$f":"IF(Data!$E100=30,Data!CC100,\"\")","v":""},{"$f":"IF(Data!$E100=30,Data!CD100,IF(Data!AE100<>\"\",Data!AE100,\"\"))","v":""},{"$f":"IF(Data!$E100=30,Data!CE100,\"\")","v":""},{"$f":"IF(Data!$E100=30,Data!CF100,\"\")","v":""},{"$f":"IF(Data!$E100=30,Data!CG100,IF(Data!AF100<>\"\",Data!AF100,\"\"))","v":""},{"$f":"IF(Data!$E100=30,Data!CH100,\"\")","v":""},{"$f":"IF(Data!$E100=30,Data!CI100,\"\")","v":""},{"$f":"IF(Data!$E100=30,Data!CJ100,IF(Data!AG100<>\"\",Data!AG100,\"\"))","v":""},{"$f":"IF(Data!$E100=30,Data!CK100,\"\")","v":""},{"$f":"IF(Data!$E100=30,Data!CL100,\"\")","v":""},{"$f":"IF(Data!$E100=30,Data!CM100,IF(Data!AH100<>\"\",Data!AH100,\"\"))","v":""},{"$f":"IF(Data!$E100=30,Data!CN100,\"\")","v":""},{"$f":"IF(Data!$E100=30,Data!CO100,\"\")","v":""},{"$f":"IF(Data!$E100=30,Data!CP100,IF(Data!AI100<>\"\",Data!AI100,\"\"))","v":""},{"$f":"IF(Data!$E100=30,Data!CQ100,\"\")","v":""},null,null,null,{"$f":"IF(Data!$E100=30,Data!CR100,\"\")","v":""},{"$f":"IF(Data!$E100=30,Data!CS100,IF(Data!AJ100<>\"\",Data!AJ100,\"\"))","v":""},{"$f":"IF(Data!$E100=30,Data!CT100,\"\")","v":""},{"$f":"IF(Data!$E100=30,Data!CU100,\"\")","v":""},{"$f":"IF(Data!$E100=30,Data!CV100,IF(Data!AK100<>\"\",Data!AK100,\"\"))","v":""},{"$f":"IF(Data!$E100=30,Data!CW100,\"\")","v":""},{"$f":"IF(Data!$E100=30,Data!CX100,\"\")","v":""},{"$f":"IF(Data!$E100=30,Data!CY100,IF(Data!AL100<>\"\",Data!AL100,\"\"))","v":""},{"$f":"IF(Data!$E100=30,Data!CZ100,\"\")","v":""},{"$f":"IF(Data!$E100=30,Data!DA100,\"\")","v":""},{"$f":"IF(Data!$E100=30,Data!DB100,IF(Data!AM100<>\"\",Data!AM100,\"\"))","v":""},{"$f":"IF(Data!$E100=30,Data!DC100,\"\")","v":""},{"$f":"IF(Data!$E100=30,Data!DD100,\"\")","v":""},{"$f":"IF(Data!$E100=30,Data!DE100,IF(Data!AN100<>\"\",Data!AN100,\"\"))","v":""},{"$f":"IF(Data!$E100=30,Data!DF100,\"\")","v":""},{"$f":"IF(Data!$E100=30,Data!DG100,\"\")","v":""},{"$f":"IF(Data!$E100=30,Data!DH100,IF(Data!AO100<>\"\",Data!AO100,\"\"))","v":""},{"$f":"IF(Data!$E100=30,Data!DI100,\"\")","v":""},{"$f":"IF(Data!$E100=30,Data!DJ100,\"\")","v":""},{"$f":"IF(Data!$E100=30,Data!DK100,IF(Data!AP100<>\"\",Data!AP100,\"\"))","v":""},{"$f":"IF(Data!$E100=30,Data!DL100,\"\")","v":""},{"$f":"IF(Data!$E100=30,Data!DM100,\"\")","v":""},{"$f":"IF(Data!$E100=30,Data!DN100,IF(Data!AQ100<>\"\",Data!AQ100,\"\"))","v":""},{"$f":"IF(Data!$E100=30,Data!DO100,\"\")","v":""},{"$f":"IF(Data!$E100=30,Data!DP100,\"\")","v":""},{"$f":"IF(Data!$E100=30,Data!DQ100,IF(Data!AR100<>\"\",Data!AR100,\"\"))","v":""},{"$f":"IF(Data!$E100=30,Data!DR100,\"\")","v":""},{"$f":"IF(Data!$E100=30,Data!DS100,\"\")","v":""},{"$f":"IF(Data!$E100=30,Data!DT100,IF(Data!AS100<>\"\",Data!AS100,\"\"))","v":""},{"$f":"IF(Data!$E100=30,Data!DU100,\"\")","v":""}]

{"sheet":"T30","index":4,"n_rows":100,"n_cols":65,"rows_kept":100,"cut":false,"hidden":false,"merged":[]}
[]
[null,"ID",25,31.5,40,50,63,80,100,125,160,200,250,315,400,500,630,800,1000,1250,1600,2000,2500,3150,4000,5000,6300,8000,10000,12500,16000,20000,null,null,null,25,31.5,40,50,63,80,100,125,160,200,250,315,400,500,630,800,1000,1250,1600,2000,2500,3150,4000,5000,6300,8000,10000,12500,16000,20000]
[null,{"$f":"IF(Data!A3<>\"\",Data!A3,\"\")","v":""},{"$f":"IF(Data!$E3=30,Data!DV3,\"\")","v":""},{"$f":"IF(Data!$E3=30,Data!DW3,IF(Data!AT3<>\"\",Data!AT3,\"\"))","v":""},{"$f":"IF(Data!$E3=30,Data!DX3,\"\")","v":""},{"$f":"IF(Data!$E3=30,Data!DY3,\"\")","v":""},{"$f":"IF(Data!$E3=30,Data!DZ3,IF(Data!AU3<>\"\",Data!AU3,\"\"))","v":""},{"$f":"IF(Data!$E3=30,Data!EA3,\"\")","v":""},{"$f":"IF(Data!$E3=30,Data!EB3,\"\")","v":""},{"$f":"IF(Data!$E3=30,Data!EC3,IF(Data!AV3<>\"\",Data!AV3,\"\"))","v":""},{"$f":"IF(Data!$E3=30,Data!ED3,\"\")","v":""},{"$f":"IF(Data!$E3=30,Data!EE3,\"\")","v":""},{"$f":"IF(Data!$E3=30,Data!EF3,IF(Data!AW3<>\"\",Data!AW3,\"\"))","v":""},{"$f":"IF(Data!$E3=30,Data!EG3,\"\")","v":""},{"$f":"IF(Data!$E3=30,Data!EH3,\"\")","v":""},{"$f":"IF(Data!$E3=30,Data!EI3,IF(Data!AX3<>\"\",Data!AX3,\"\"))","v":""},{"$f":"IF(Data!$E3=30,Data!EJ3,\"\")","v":""},{"$f":"IF(Data!$E3=30,Data!EK3,\"\")","v":""},{"$f":"IF(Data!$E3=30,Data!EL3,IF(Data!AY3<>\"\",Data!AY3,\"\"))","v":""},{"$f":"IF(Data!$E3=30,Data!EM3,\"\")","v":""},{"$f":"IF(Data!$E3=30,Data!EN3,\"\")","v":""},{"$f":"IF(Data!$E3=30,Data!EO3,IF(Data!AZ3<>\"\",Data!AZ3,\"\"))","v":""},{"$f":"IF(Data!$E3=30,Data!EP3,\"\")","v":""},{"$f":"IF(Data!$E3=30,Data!EQ3,\"\")","v":""},{"$f":"IF(Data!$E3=30,Data!ER3,IF(Data!BA3<>\"\",Data!BA3,\"\"))","v":""},{"$f":"IF(Data!$E3=30,Data!ES3,\"\")","v":""},{"$f":"IF(Data!$E3=30,Data!ET3,\"\")","v":""},{"$f":"IF(Data!$E3=30,Data!EU3,IF(Data!BB3<>\"\",Data!BB3,\"\"))","v":""},{"$f":"IF(Data!$E3=30,Data!EV3,\"\")","v":""},{"$f":"IF(Data!$E3=30,Data!EW3,\"\")","v":""},{"$f":"IF(Data!$E3=30,Data!EX3,IF(Data!Z3<>\"\",Data!BC3,\"\"))","v":""},{"$f":"IF(Data!$E3=30,Data!EY3,\"\")","v":""},null,null,null,{"$f":"IF(Data!$E3=30,Data!EZ3,\"\")","v":""},{"$f":"IF(Data!$E3=30,Data!FA3,IF(Data!BD3<>\"\",Data!BD3,\"\"))","v":""},{"$f":"IF(Data!$E3=30,Data!FB3,\"\")","v":""},{"$f":"IF(Data!$E3=30,Data!FC3,\"\")","v":""},{"$f":"IF(Data!$E3=30,Data!FD3,IF(Data!BE3<>\"\",Data!BE3,\"\"))","v":""},{"$f":"IF(Data!$E3=30,Data!FE3,\"\")","v":""},{"$f":"IF(Data!$E3=30,Data!FF3,\"\")","v":""},{"$f":"IF(Data!$E3=30,Data!FG3,IF(Data!BF3<>\"\",Data!BF3,\"\"))","v":""},{"$f":"IF(Data!$E3=30,Data!FH3,\"\")","v":""},{"$f":"IF(Data!$E3=30,Data!FI3,\"\")","v":""},{"$f":"IF(Data!$E3=30,Data!FJ3,IF(Data!BG3<>\"\",Data!BG3,\"\"))","v":""},{"$f":"IF(Data!$E3=30,Data!FK3,\"\")","v":""},{"$f":"IF(Data!$E3=30,Data!FL3,\"\")","v":""},{"$f":"IF(Data!$E3=30,Data!FM3,IF(Data!BH3<>\"\",Data!BH3,\"\"))","v":""},{"$f":"IF(Data!$E3=30,Data!FN3,\"\")","v":""},{"$f":"IF(Data!$E3=30,Data!FO3,\"\")","v":""},{"$f":"IF(Data!$E3=30,Data!FP3,IF(Data!BI3<>\"\",Data!BI3,\"\"))","v":""},{"$f":"IF(Data!$E3=30,Data!FQ3,\"\")","v":""},{"$f":"IF(Data!$E3=30,Data!FR3,\"\")","v":""},{"$f":"IF(Data!$E3=30,Data!FS3,IF(Data!BJ3<>\"\",Data!BJ3,\"\"))","v":""},{"$f":"IF(Data!$E3=30,Data!FT3,\"\")","v":""},{"$f":"IF(Data!$E3=30,Data!FU3,\"\")","v":""},{"$f":"IF(Data!$E3=30,Data!FV3,IF(Data!BK3<>\"\",Data!BK3,\"\"))","v":""},{"$f":"IF(Data!$E3=30,Data!FW3,\"\")","v":""},{"$f":"IF(Data!$E3=30,Data!FX3,\"\")","v":""},{"$f":"IF(Data!$E3=30,Data!FY3,IF(Data!BL3<>\"\",Data!BL3,\"\"))","v":""},{"$f":"IF(Data!$E3=30,Data!FZ3,\"\")","v":""},{"$f":"IF(Data!$E3=30,Data!GA3,\"\")","v":""},{"$f":"IF(Data!$E3=30,Data!GB3,IF(Data!BM3<>\"\",Data!BM3,\"\"))","v":""},{"$f":"IF(Data!$E3=30,Data!GC3,\"\")","v":""}]
[null,{"$f":"IF(Data!A4<>\"\",Data!A4,\"\")","v":""},{"$f":"IF(Data!$E4=30,Data!DV4,\"\")","v":""},{"$f":"IF(Data!$E4=30,Data!DW4,IF(Data!AT4<>\"\",Data!AT4,\"\"))","v":""},{"$f":"IF(Data!$E4=30,Data!DX4,\"\")","v":""},{"$f":"IF(Data!$E4=30,Data!DY4,\"\")","v":""},{"$f":"IF(Data!$E4=30,Data!DZ4,IF(Data!AU4<>\"\",Data!AU4,\"\"))","v":""},{"$f":"IF(Data!$E4=30,Data!EA4,\"\")","v":""},{"$f":"IF(Data!$E4=30,Data!EB4,\"\")","v":""},{"$f":"IF(Data!$E4=30,Data!EC4,IF(Data!AV4<>\"\",Data!AV4,\"\"))","v":""},{"$f":"IF(Data!$E4=30,Data!ED4,\"\")","v":""},{"$f":"IF(Data!$E4=30,Data!EE4,\"\")","v":""},{"$f":"IF(Data!$E4=30,Data!EF4,IF(Data!AW4<>\"\",Data!AW4,\"\"))","v":""},{"$f":"IF(Data!$E4=30,Data!EG4,\"\")","v":""},{"$f":"IF(Data!$E4=30,Data!EH4,\"\")","v":""},{"$f":"IF(Data!$E4=30,Data!EI4,IF(Data!AX4<>\"\",Data!AX4,\"\"))","v":""},{"$f":"IF(Data!$E4=30,Data!EJ4,\"\")","v":""},{"$f":"IF(Data!$E4=30,Data!EK4,\"\")","v":""},{"$f":"IF(Data!$E4=30,Data!EL4,IF(Data!AY4<>\"\",Data!AY4,\"\"))","v":""},{"$f":"IF(Data!$E4=30,Data!EM4,\"\")","v":""},{"$f":"IF(Data!$E4=30,Data!EN4,\"\")","v":""},{"$f":"IF(Data!$E4=30,Data!EO4,IF(Data!AZ4<>\"\",Data!AZ4,\"\"))","v":""},{"$f":"IF(Data!$E4=30,Data!EP4,\"\")","v":""},{"$f":"IF(Data!$E4=30,Data!EQ4,\"\")","v":""},{"$f":"IF(Data!$E4=30,Data!ER4,IF(Data!BA4<>\"\",Data!BA4,\"\"))","v":""},{"$f":"IF(Data!$E4=30,Data!ES4,\"\")","v":""},{"$f":"IF(Data!$E4=30,Data!ET4,\"\")","v":""},{"$f":"IF(Data!$E4=30,Data!EU4,IF(Data!BB4<>\"\",Data!BB4,\"\"))","v":""},{"$f":"IF(Data!$E4=30,Data!EV4,\"\")","v":""},{"$f":"IF(Data!$E4=30,Data!EW4,\"\")","v":""},{"$f":"IF(Data!$E4=30,Data!EX4,IF(Data!Z4<>\"\",Data!BC4,\"\"))","v":""},{"$f":"IF(Data!$E4=30,Data!EY4,\"\")","v":""},null,null,null,{"$f":"IF(Data!$E4=30,Data!EZ4,\"\")","v":""},{"$f":"IF(Data!$E4=30,Data!FA4,IF(Data!BD4<>\"\",Data!BD4,\"\"))","v":""},{"$f":"IF(Data!$E4=30,Data!FB4,\"\")","v":""},{"$f":"IF(Data!$E4=30,Data!FC4,\"\")","v":""},{"$f":"IF(Data!$E4=30,Data!FD4,IF(Data!BE4<>\"\",Data!BE4,\"\"))","v":""},{"$f":"IF(Data!$E4=30,Data!FE4,\"\")","v":""},{"$f":"IF(Data!$E4=30,Data!FF4,\"\")","v":""},{"$f":"IF(Data!$E4=30,Data!FG4,IF(Data!BF4<>\"\",Data!BF4,\"\"))","v":""},{"$f":"IF(Data!$E4=30,Data!FH4,\"\")","v":""},{"$f":"IF(Data!$E4=30,Data!FI4,\"\")","v":""},{"$f":"IF(Data!$E4=30,Data!FJ4,IF(Data!BG4<>\"\",Data!BG4,\"\"))","v":""},{"$f":"IF(Data!$E4=30,Data!FK4,\"\")","v":""},{"$f":"IF(Data!$E4=30,Data!FL4,\"\")","v":""},{"$f":"IF(Data!$E4=30,Data!FM4,IF(Data!BH4<>\"\",Data!BH4,\"\"))","v":""},{"$f":"IF(Data!$E4=30,Data!FN4,\"\")","v":""},{"$f":"IF(Data!$E4=30,Data!FO4,\"\")","v":""},{"$f":"IF(Data!$E4=30,Data!FP4,IF(Data!BI4<>\"\",Data!BI4,\"\"))","v":""},{"$f":"IF(Data!$E4=30,Data!FQ4,\"\")","v":""},{"$f":"IF(Data!$E4=30,Data!FR4,\"\")","v":""},{"$f":"IF(Data!$E4=30,Data!FS4,IF(Data!BJ4<>\"\",Data!BJ4,\"\"))","v":""},{"$f":"IF(Data!$E4=30,Data!FT4,\"\")","v":""},{"$f":"IF(Data!$E4=30,Data!FU4,\"\")","v":""},{"$f":"IF(Data!$E4=30,Data!FV4,IF(Data!BK4<>\"\",Data!BK4,\"\"))","v":""},{"$f":"IF(Data!$E4=30,Data!FW4,\"\")","v":""},{"$f":"IF(Data!$E4=30,Data!FX4,\"\")","v":""},{"$f":"IF(Data!$E4=30,Data!FY4,IF(Data!BL4<>\"\",Data!BL4,\"\"))","v":""},{"$f":"IF(Data!$E4=30,Data!FZ4,\"\")","v":""},{"$f":"IF(Data!$E4=30,Data!GA4,\"\")","v":""},{"$f":"IF(Data!$E4=30,Data!GB4,IF(Data!BM4<>\"\",Data!BM4,\"\"))","v":""},{"$f":"IF(Data!$E4=30,Data!GC4,\"\")","v":""}]
[null,{"$f":"IF(Data!A5<>\"\",Data!A5,\"\")","v":""},{"$f":"IF(Data!$E5=30,Data!DV5,\"\")","v":""},{"$f":"IF(Data!$E5=30,Data!DW5,IF(Data!AT5<>\"\",Data!AT5,\"\"))","v":""},{"$f":"IF(Data!$E5=30,Data!DX5,\"\")","v":""},{"$f":"IF(Data!$E5=30,Data!DY5,\"\")","v":""},{"$f":"IF(Data!$E5=30,Data!DZ5,IF(Data!AU5<>\"\",Data!AU5,\"\"))","v":""},{"$f":"IF(Data!$E5=30,Data!EA5,\"\")","v":""},{"$f":"IF(Data!$E5=30,Data!EB5,\"\")","v":""},{"$f":"IF(Data!$E5=30,Data!EC5,IF(Data!AV5<>\"\",Data!AV5,\"\"))","v":""},{"$f":"IF(Data!$E5=30,Data!ED5,\"\")","v":""},{"$f":"IF(Data!$E5=30,Data!EE5,\"\")","v":""},{"$f":"IF(Data!$E5=30,Data!EF5,IF(Data!AW5<>\"\",Data!AW5,\"\"))","v":""},{"$f":"IF(Data!$E5=30,Data!EG5,\"\")","v":""},{"$f":"IF(Data!$E5=30,Data!EH5,\"\")","v":""},{"$f":"IF(Data!$E5=30,Data!EI5,IF(Data!AX5<>\"\",Data!AX5,\"\"))","v":""},{"$f":"IF(Data!$E5=30,Data!EJ5,\"\")","v":""},{"$f":"IF(Data!$E5=30,Data!EK5,\"\")","v":""},{"$f":"IF(Data!$E5=30,Data!EL5,IF(Data!AY5<>\"\",Data!AY5,\"\"))","v":""},{"$f":"IF(Data!$E5=30,Data!EM5,\"\")","v":""},{"$f":"IF(Data!$E5=30,Data!EN5,\"\")","v":""},{"$f":"IF(Data!$E5=30,Data!EO5,IF(Data!AZ5<>\"\",Data!AZ5,\"\"))","v":""},{"$f":"IF(Data!$E5=30,Data!EP5,\"\")","v":""},{"$f":"IF(Data!$E5=30,Data!EQ5,\"\")","v":""},{"$f":"IF(Data!$E5=30,Data!ER5,IF(Data!BA5<>\"\",Data!BA5,\"\"))","v":""},{"$f":"IF(Data!$E5=30,Data!ES5,\"\")","v":""},{"$f":"IF(Data!$E5=30,Data!ET5,\"\")","v":""},{"$f":"IF(Data!$E5=30,Data!EU5,IF(Data!BB5<>\"\",Data!BB5,\"\"))","v":""},{"$f":"IF(Data!$E5=30,Data!EV5,\"\")","v":""},{"$f":"IF(Data!$E5=30,Data!EW5,\"\")","v":""},{"$f":"IF(Data!$E5=30,Data!EX5,IF(Data!Z5<>\"\",Data!BC5,\"\"))","v":""},{"$f":"IF(Data!$E5=30,Data!EY5,\"\")","v":""},null,null,null,{"$f":"IF(Data!$E5=30,Data!EZ5,\"\")","v":""},{"$f":"IF(Data!$E5=30,Data!FA5,IF(Data!BD5<>\"\",Data!BD5,\"\"))","v":""},{"$f":"IF(Data!$E5=30,Data!FB5,\"\")","v":""},{"$f":"IF(Data!$E5=30,Data!FC5,\"\")","v":""},{"$f":"IF(Data!$E5=30,Data!FD5,IF(Data!BE5<>\"\",Data!BE5,\"\"))","v":""},{"$f":"IF(Data!$E5=30,Data!FE5,\"\")","v":""},{"$f":"IF(Data!$E5=30,Data!FF5,\"\")","v":""},{"$f":"IF(Data!$E5=30,Data!FG5,IF(Data!BF5<>\"\",Data!BF5,\"\"))","v":""},{"$f":"IF(Data!$E5=30,Data!FH5,\"\")","v":""},{"$f":"IF(Data!$E5=30,Data!FI5,\"\")","v":""},{"$f":"IF(Data!$E5=30,Data!FJ5,IF(Data!BG5<>\"\",Data!BG5,\"\"))","v":""},{"$f":"IF(Data!$E5=30,Data!FK5,\"\")","v":""},{"$f":"IF(Data!$E5=30,Data!FL5,\"\")","v":""},{"$f":"IF(Data!$E5=30,Data!FM5,IF(Data!BH5<>\"\",Data!BH5,\"\"))","v":""},{"$f":"IF(Data!$E5=30,Data!FN5,\"\")","v":""},{"$f":"IF(Data!$E5=30,Data!FO5,\"\")","v":""},{"$f":"IF(Data!$E5=30,Data!FP5,IF(Data!BI5<>\"\",Data!BI5,\"\"))","v":""},{"$f":"IF(Data!$E5=30,Data!FQ5,\"\")","v":""},{"$f":"IF(Data!$E5=30,Data!FR5,\"\")","v":""},{"$f":"IF(Data!$E5=30,Data!FS5,IF(Data!BJ5<>\"\",Data!BJ5,\"\"))","v":""},{"$f":"IF(Data!$E5=30,Data!FT5,\"\")","v":""},{"$f":"IF(Data!$E5=30,Data!FU5,\"\")","v":""},{"$f":"IF(Data!$E5=30,Data!FV5,IF(Data!BK5<>\"\",Data!BK5,\"\"))","v":""},{"$f":"IF(Data!$E5=30,Data!FW5,\"\")","v":""},{"$f":"IF(Data!$E5=30,Data!FX5,\"\")","v":""},{"$f":"IF(Data!$E5=30,Data!FY5,IF(Data!BL5<>\"\",Data!BL5,\"\"))","v":""},{"$f":"IF(Data!$E5=30,Data!FZ5,\"\")","v":""},{"$f":"IF(Data!$E5=30,Data!GA5,\"\")","v":""},{"$f":"IF(Data!$E5=30,Data!GB5,IF(Data!BM5<>\"\",Data!BM5,\"\"))","v":""},{"$f":"IF(Data!$E5=30,Data!GC5,\"\")","v":""}]
[null,{"$f":"IF(Data!A6<>\"\",Data!A6,\"\")","v":""},{"$f":"IF(Data!$E6=30,Data!DV6,\"\")","v":""},{"$f":"IF(Data!$E6=30,Data!DW6,IF(Data!AT6<>\"\",Data!AT6,\"\"))","v":""},{"$f":"IF(Data!$E6=30,Data!DX6,\"\")","v":""},{"$f":"IF(Data!$E6=30,Data!DY6,\"\")","v":""},{"$f":"IF(Data!$E6=30,Data!DZ6,IF(Data!AU6<>\"\",Data!AU6,\"\"))","v":""},{"$f":"IF(Data!$E6=30,Data!EA6,\"\")","v":""},{"$f":"IF(Data!$E6=30,Data!EB6,\"\")","v":""},{"$f":"IF(Data!$E6=30,Data!EC6,IF(Data!AV6<>\"\",Data!AV6,\"\"))","v":""},{"$f":"IF(Data!$E6=30,Data!ED6,\"\")","v":""},{"$f":"IF(Data!$E6=30,Data!EE6,\"\")","v":""},{"$f":"IF(Data!$E6=30,Data!EF6,IF(Data!AW6<>\"\",Data!AW6,\"\"))","v":""},{"$f":"IF(Data!$E6=30,Data!EG6,\"\")","v":""},{"$f":"IF(Data!$E6=30,Data!EH6,\"\")","v":""},{"$f":"IF(Data!$E6=30,Data!EI6,IF(Data!AX6<>\"\",Data!AX6,\"\"))","v":""},{"$f":"IF(Data!$E6=30,Data!EJ6,\"\")","v":""},{"$f":"IF(Data!$E6=30,Data!EK6,\"\")","v":""},{"$f":"IF(Data!$E6=30,Data!EL6,IF(Data!AY6<>\"\",Data!AY6,\"\"))","v":""},{"$f":"IF(Data!$E6=30,Data!EM6,\"\")","v":""},{"$f":"IF(Data!$E6=30,Data!EN6,\"\")","v":""},{"$f":"IF(Data!$E6=30,Data!EO6,IF(Data!AZ6<>\"\",Data!AZ6,\"\"))","v":""},{"$f":"IF(Data!$E6=30,Data!EP6,\"\")","v":""},{"$f":"IF(Data!$E6=30,Data!EQ6,\"\")","v":""},{"$f":"IF(Data!$E6=30,Data!ER6,IF(Data!BA6<>\"\",Data!BA6,\"\"))","v":""},{"$f":"IF(Data!$E6=30,Data!ES6,\"\")","v":""},{"$f":"IF(Data!$E6=30,Data!ET6,\"\")","v":""},{"$f":"IF(Data!$E6=30,Data!EU6,IF(Data!BB6<>\"\",Data!BB6,\"\"))","v":""},{"$f":"IF(Data!$E6=30,Data!EV6,\"\")","v":""},{"$f":"IF(Data!$E6=30,Data!EW6,\"\")","v":""},{"$f":"IF(Data!$E6=30,Data!EX6,IF(Data!Z6<>\"\",Data!BC6,\"\"))","v":""},{"$f":"IF(Data!$E6=30,Data!EY6,\"\")","v":""},null,null,null,{"$f":"IF(Data!$E6=30,Data!EZ6,\"\")","v":""},{"$f":"IF(Data!$E6=30,Data!FA6,IF(Data!BD6<>\"\",Data!BD6,\"\"))","v":""},{"$f":"IF(Data!$E6=30,Data!FB6,\"\")","v":""},{"$f":"IF(Data!$E6=30,Data!FC6,\"\")","v":""},{"$f":"IF(Data!$E6=30,Data!FD6,IF(Data!BE6<>\"\",Data!BE6,\"\"))","v":""},{"$f":"IF(Data!$E6=30,Data!FE6,\"\")","v":""},{"$f":"IF(Data!$E6=30,Data!FF6,\"\")","v":""},{"$f":"IF(Data!$E6=30,Data!FG6,IF(Data!BF6<>\"\",Data!BF6,\"\"))","v":""},{"$f":"IF(Data!$E6=30,Data!FH6,\"\")","v":""},{"$f":"IF(Data!$E6=30,Data!FI6,\"\")","v":""},{"$f":"IF(Data!$E6=30,Data!FJ6,IF(Data!BG6<>\"\",Data!BG6,\"\"))","v":""},{"$f":"IF(Data!$E6=30,Data!FK6,\"\")","v":""},{"$f":"IF(Data!$E6=30,Data!FL6,\"\")","v":""},{"$f":"IF(Data!$E6=30,Data!FM6,IF(Data!BH6<>\"\",Data!BH6,\"\"))","v":""},{"$f":"IF(Data!$E6=30,Data!FN6,\"\")","v":""},{"$f":"IF(Data!$E6=30,Data!FO6,\"\")","v":""},{"$f":"IF(Data!$E6=30,Data!FP6,IF(Data!BI6<>\"\",Data!BI6,\"\"))","v":""},{"$f":"IF(Data!$E6=30,Data!FQ6,\"\")","v":""},{"$f":"IF(Data!$E6=30,Data!FR6,\"\")","v":""},{"$f":"IF(Data!$E6=30,Data!FS6,IF(Data!BJ6<>\"\",Data!BJ6,\"\"))","v":""},{"$f":"IF(Data!$E6=30,Data!FT6,\"\")","v":""},{"$f":"IF(Data!$E6=30,Data!FU6,\"\")","v":""},{"$f":"IF(Data!$E6=30,Data!FV6,IF(Data!BK6<>\"\",Data!BK6,\"\"))","v":""},{"$f":"IF(Data!$E6=30,Data!FW6,\"\")","v":""},{"$f":"IF(Data!$E6=30,Data!FX6,\"\")","v":""},{"$f":"IF(Data!$E6=30,Data!FY6,IF(Data!BL6<>\"\",Data!BL6,\"\"))","v":""},{"$f":"IF(Data!$E6=30,Data!FZ6,\"\")","v":""},{"$f":"IF(Data!$E6=30,Data!GA6,\"\")","v":""},{"$f":"IF(Data!$E6=30,Data!GB6,IF(Data!BM6<>\"\",Data!BM6,\"\"))","v":""},{"$f":"IF(Data!$E6=30,Data!GC6,\"\")","v":""}]
[null,{"$f":"IF(Data!A7<>\"\",Data!A7,\"\")","v":""},{"$f":"IF(Data!$E7=30,Data!DV7,\"\")","v":""},{"$f":"IF(Data!$E7=30,Data!DW7,IF(Data!AT7<>\"\",Data!AT7,\"\"))","v":""},{"$f":"IF(Data!$E7=30,Data!DX7,\"\")","v":""},{"$f":"IF(Data!$E7=30,Data!DY7,\"\")","v":""},{"$f":"IF(Data!$E7=30,Data!DZ7,IF(Data!AU7<>\"\",Data!AU7,\"\"))","v":""},{"$f":"IF(Data!$E7=30,Data!EA7,\"\")","v":""},{"$f":"IF(Data!$E7=30,Data!EB7,\"\")","v":""},{"$f":"IF(Data!$E7=30,Data!EC7,IF(Data!AV7<>\"\",Data!AV7,\"\"))","v":""},{"$f":"IF(Data!$E7=30,Data!ED7,\"\")","v":""},{"$f":"IF(Data!$E7=30,Data!EE7,\"\")","v":""},{"$f":"IF(Data!$E7=30,Data!EF7,IF(Data!AW7<>\"\",Data!AW7,\"\"))","v":""},{"$f":"IF(Data!$E7=30,Data!EG7,\"\")","v":""},{"$f":"IF(Data!$E7=30,Data!EH7,\"\")","v":""},{"$f":"IF(Data!$E7=30,Data!EI7,IF(Data!AX7<>\"\",Data!AX7,\"\"))","v":""},{"$f":"IF(Data!$E7=30,Data!EJ7,\"\")","v":""},{"$f":"IF(Data!$E7=30,Data!EK7,\"\")","v":""},{"$f":"IF(Data!$E7=30,Data!EL7,IF(Data!AY7<>\"\",Data!AY7,\"\"))","v":""},{"$f":"IF(Data!$E7=30,Data!EM7,\"\")","v":""},{"$f":"IF(Data!$E7=30,Data!EN7,\"\")","v":""},{"$f":"IF(Data!$E7=30,Data!EO7,IF(Data!AZ7<>\"\",Data!AZ7,\"\"))","v":""},{"$f":"IF(Data!$E7=30,Data!EP7,\"\")","v":""},{"$f":"IF(Data!$E7=30,Data!EQ7,\"\")","v":""},{"$f":"IF(Data!$E7=30,Data!ER7,IF(Data!BA7<>\"\",Data!BA7,\"\"))","v":""},{"$f":"IF(Data!$E7=30,Data!ES7,\"\")","v":""},{"$f":"IF(Data!$E7=30,Data!ET7,\"\")","v":""},{"$f":"IF(Data!$E7=30,Data!EU7,IF(Data!BB7<>\"\",Data!BB7,\"\"))","v":""},{"$f":"IF(Data!$E7=30,Data!EV7,\"\")","v":""},{"$f":"IF(Data!$E7=30,Data!EW7,\"\")","v":""},{"$f":"IF(Data!$E7=30,Data!EX7,IF(Data!Z7<>\"\",Data!BC7,\"\"))","v":""},{"$f":"IF(Data!$E7=30,Data!EY7,\"\")","v":""},null,null,null,{"$f":"IF(Data!$E7=30,Data!EZ7,\"\")","v":""},{"$f":"IF(Data!$E7=30,Data!FA7,IF(Data!BD7<>\"\",Data!BD7,\"\"))","v":""},{"$f":"IF(Data!$E7=30,Data!FB7,\"\")","v":""},{"$f":"IF(Data!$E7=30,Data!FC7,\"\")","v":""},{"$f":"IF(Data!$E7=30,Data!FD7,IF(Data!BE7<>\"\",Data!BE7,\"\"))","v":""},{"$f":"IF(Data!$E7=30,Data!FE7,\"\")","v":""},{"$f":"IF(Data!$E7=30,Data!FF7,\"\")","v":""},{"$f":"IF(Data!$E7=30,Data!FG7,IF(Data!BF7<>\"\",Data!BF7,\"\"))","v":""},{"$f":"IF(Data!$E7=30,Data!FH7,\"\")","v":""},{"$f":"IF(Data!$E7=30,Data!FI7,\"\")","v":""},{"$f":"IF(Data!$E7=30,Data!FJ7,IF(Data!BG7<>\"\",Data!BG7,\"\"))","v":""},{"$f":"IF(Data!$E7=30,Data!FK7,\"\")","v":""},{"$f":"IF(Data!$E7=30,Data!FL7,\"\")","v":""},{"$f":"IF(Data!$E7=30,Data!FM7,IF(Data!BH7<>\"\",Data!BH7,\"\"))","v":""},{"$f":"IF(Data!$E7=30,Data!FN7,\"\")","v":""},{"$f":"IF(Data!$E7=30,Data!FO7,\"\")","v":""},{"$f":"IF(Data!$E7=30,Data!FP7,IF(Data!BI7<>\"\",Data!BI7,\"\"))","v":""},{"$f":"IF(Data!$E7=30,Data!FQ7,\"\")","v":""},{"$f":"IF(Data!$E7=30,Data!FR7,\"\")","v":""},{"$f":"IF(Data!$E7=30,Data!FS7,IF(Data!BJ7<>\"\",Data!BJ7,\"\"))","v":""},{"$f":"IF(Data!$E7=30,Data!FT7,\"\")","v":""},{"$f":"IF(Data!$E7=30,Data!FU7,\"\")","v":""},{"$f":"IF(Data!$E7=30,Data!FV7,IF(Data!BK7<>\"\",Data!BK7,\"\"))","v":""},{"$f":"IF(Data!$E7=30,Data!FW7,\"\")","v":""},{"$f":"IF(Data!$E7=30,Data!FX7,\"\")","v":""},{"$f":"IF(Data!$E7=30,Data!FY7,IF(Data!BL7<>\"\",Data!BL7,\"\"))","v":""},{"$f":"IF(Data!$E7=30,Data!FZ7,\"\")","v":""},{"$f":"IF(Data!$E7=30,Data!GA7,\"\")","v":""},{"$f":"IF(Data!$E7=30,Data!GB7,IF(Data!BM7<>\"\",Data!BM7,\"\"))","v":""},{"$f":"IF(Data!$E7=30,Data!GC7,\"\")","v":""}]
[null,{"$f":"IF(Data!A8<>\"\",Data!A8,\"\")","v":""},{"$f":"IF(Data!$E8=30,Data!DV8,\"\")","v":""},{"$f":"IF(Data!$E8=30,Data!DW8,IF(Data!AT8<>\"\",Data!AT8,\"\"))","v":""},{"$f":"IF(Data!$E8=30,Data!DX8,\"\")","v":""},{"$f":"IF(Data!$E8=30,Data!DY8,\"\")","v":""},{"$f":"IF(Data!$E8=30,Data!DZ8,IF(Data!AU8<>\"\",Data!AU8,\"\"))","v":""},{"$f":"IF(Data!$E8=30,Data!EA8,\"\")","v":""},{"$f":"IF(Data!$E8=30,Data!EB8,\"\")","v":""},{"$f":"IF(Data!$E8=30,Data!EC8,IF(Data!AV8<>\"\",Data!AV8,\"\"))","v":""},{"$f":"IF(Data!$E8=30,Data!ED8,\"\")","v":""},{"$f":"IF(Data!$E8=30,Data!EE8,\"\")","v":""},{"$f":"IF(Data!$E8=30,Data!EF8,IF(Data!AW8<>\"\",Data!AW8,\"\"))","v":""},{"$f":"IF(Data!$E8=30,Data!EG8,\"\")","v":""},{"$f":"IF(Data!$E8=30,Data!EH8,\"\")","v":""},{"$f":"IF(Data!$E8=30,Data!EI8,IF(Data!AX8<>\"\",Data!AX8,\"\"))","v":""},{"$f":"IF(Data!$E8=30,Data!EJ8,\"\")","v":""},{"$f":"IF(Data!$E8=30,Data!EK8,\"\")","v":""},{"$f":"IF(Data!$E8=30,Data!EL8,IF(Data!AY8<>\"\",Data!AY8,\"\"))","v":""},{"$f":"IF(Data!$E8=30,Data!EM8,\"\")","v":""},{"$f":"IF(Data!$E8=30,Data!EN8,\"\")","v":""},{"$f":"IF(Data!$E8=30,Data!EO8,IF(Data!AZ8<>\"\",Data!AZ8,\"\"))","v":""},{"$f":"IF(Data!$E8=30,Data!EP8,\"\")","v":""},{"$f":"IF(Data!$E8=30,Data!EQ8,\"\")","v":""},{"$f":"IF(Data!$E8=30,Data!ER8,IF(Data!BA8<>\"\",Data!BA8,\"\"))","v":""},{"$f":"IF(Data!$E8=30,Data!ES8,\"\")","v":""},{"$f":"IF(Data!$E8=30,Data!ET8,\"\")","v":""},{"$f":"IF(Data!$E8=30,Data!EU8,IF(Data!BB8<>\"\",Data!BB8,\"\"))","v":""},{"$f":"IF(Data!$E8=30,Data!EV8,\"\")","v":""},{"$f":"IF(Data!$E8=30,Data!EW8,\"\")","v":""},{"$f":"IF(Data!$E8=30,Data!EX8,IF(Data!Z8<>\"\",Data!BC8,\"\"))","v":""},{"$f":"IF(Data!$E8=30,Data!EY8,\"\")","v":""},null,null,null,{"$f":"IF(Data!$E8=30,Data!EZ8,\"\")","v":""},{"$f":"IF(Data!$E8=30,Data!FA8,IF(Data!BD8<>\"\",Data!BD8,\"\"))","v":""},{"$f":"IF(Data!$E8=30,Data!FB8,\"\")","v":""},{"$f":"IF(Data!$E8=30,Data!FC8,\"\")","v":""},{"$f":"IF(Data!$E8=30,Data!FD8,IF(Data!BE8<>\"\",Data!BE8,\"\"))","v":""},{"$f":"IF(Data!$E8=30,Data!FE8,\"\")","v":""},{"$f":"IF(Data!$E8=30,Data!FF8,\"\")","v":""},{"$f":"IF(Data!$E8=30,Data!FG8,IF(Data!BF8<>\"\",Data!BF8,\"\"))","v":""},{"$f":"IF(Data!$E8=30,Data!FH8,\"\")","v":""},{"$f":"IF(Data!$E8=30,Data!FI8,\"\")","v":""},{"$f":"IF(Data!$E8=30,Data!FJ8,IF(Data!BG8<>\"\",Data!BG8,\"\"))","v":""},{"$f":"IF(Data!$E8=30,Data!FK8,\"\")","v":""},{"$f":"IF(Data!$E8=30,Data!FL8,\"\")","v":""},{"$f":"IF(Data!$E8=30,Data!FM8,IF(Data!BH8<>\"\",Data!BH8,\"\"))","v":""},{"$f":"IF(Data!$E8=30,Data!FN8,\"\")","v":""},{"$f":"IF(Data!$E8=30,Data!FO8,\"\")","v":""},{"$f":"IF(Data!$E8=30,Data!FP8,IF(Data!BI8<>\"\",Data!BI8,\"\"))","v":""},{"$f":"IF(Data!$E8=30,Data!FQ8,\"\")","v":""},{"$f":"IF(Data!$E8=30,Data!FR8,\"\")","v":""},{"$f":"IF(Data!$E8=30,Data!FS8,IF(Data!BJ8<>\"\",Data!BJ8,\"\"))","v":""},{"$f":"IF(Data!$E8=30,Data!FT8,\"\")","v":""},{"$f":"IF(Data!$E8=30,Data!FU8,\"\")","v":""},{"$f":"IF(Data!$E8=30,Data!FV8,IF(Data!BK8<>\"\",Data!BK8,\"\"))","v":""},{"$f":"IF(Data!$E8=30,Data!FW8,\"\")","v":""},{"$f":"IF(Data!$E8=30,Data!FX8,\"\")","v":""},{"$f":"IF(Data!$E8=30,Data!FY8,IF(Data!BL8<>\"\",Data!BL8,\"\"))","v":""},{"$f":"IF(Data!$E8=30,Data!FZ8,\"\")","v":""},{"$f":"IF(Data!$E8=30,Data!GA8,\"\")","v":""},{"$f":"IF(Data!$E8=30,Data!GB8,IF(Data!BM8<>\"\",Data!BM8,\"\"))","v":""},{"$f":"IF(Data!$E8=30,Data!GC8,\"\")","v":""}]
[null,{"$f":"IF(Data!A9<>\"\",Data!A9,\"\")","v":""},{"$f":"IF(Data!$E9=30,Data!DV9,\"\")","v":""},{"$f":"IF(Data!$E9=30,Data!DW9,IF(Data!AT9<>\"\",Data!AT9,\"\"))","v":""},{"$f":"IF(Data!$E9=30,Data!DX9,\"\")","v":""},{"$f":"IF(Data!$E9=30,Data!DY9,\"\")","v":""},{"$f":"IF(Data!$E9=30,Data!DZ9,IF(Data!AU9<>\"\",Data!AU9,\"\"))","v":""},{"$f":"IF(Data!$E9=30,Data!EA9,\"\")","v":""},{"$f":"IF(Data!$E9=30,Data!EB9,\"\")","v":""},{"$f":"IF(Data!$E9=30,Data!EC9,IF(Data!AV9<>\"\",Data!AV9,\"\"))","v":""},{"$f":"IF(Data!$E9=30,Data!ED9,\"\")","v":""},{"$f":"IF(Data!$E9=30,Data!EE9,\"\")","v":""},{"$f":"IF(Data!$E9=30,Data!EF9,IF(Data!AW9<>\"\",Data!AW9,\"\"))","v":""},{"$f":"IF(Data!$E9=30,Data!EG9,\"\")","v":""},{"$f":"IF(Data!$E9=30,Data!EH9,\"\")","v":""},{"$f":"IF(Data!$E9=30,Data!EI9,IF(Data!AX9<>\"\",Data!AX9,\"\"))","v":""},{"$f":"IF(Data!$E9=30,Data!EJ9,\"\")","v":""},{"$f":"IF(Data!$E9=30,Data!EK9,\"\")","v":""},{"$f":"IF(Data!$E9=30,Data!EL9,IF(Data!AY9<>\"\",Data!AY9,\"\"))","v":""},{"$f":"IF(Data!$E9=30,Data!EM9,\"\")","v":""},{"$f":"IF(Data!$E9=30,Data!EN9,\"\")","v":""},{"$f":"IF(Data!$E9=30,Data!EO9,IF(Data!AZ9<>\"\",Data!AZ9,\"\"))","v":""},{"$f":"IF(Data!$E9=30,Data!EP9,\"\")","v":""},{"$f":"IF(Data!$E9=30,Data!EQ9,\"\")","v":""},{"$f":"IF(Data!$E9=30,Data!ER9,IF(Data!BA9<>\"\",Data!BA9,\"\"))","v":""},{"$f":"IF(Data!$E9=30,Data!ES9,\"\")","v":""},{"$f":"IF(Data!$E9=30,Data!ET9,\"\")","v":""},{"$f":"IF(Data!$E9=30,Data!EU9,IF(Data!BB9<>\"\",Data!BB9,\"\"))","v":""},{"$f":"IF(Data!$E9=30,Data!EV9,\"\")","v":""},{"$f":"IF(Data!$E9=30,Data!EW9,\"\")","v":""},{"$f":"IF(Data!$E9=30,Data!EX9,IF(Data!Z9<>\"\",Data!BC9,\"\"))","v":""},{"$f":"IF(Data!$E9=30,Data!EY9,\"\")","v":""},null,null,null,{"$f":"IF(Data!$E9=30,Data!EZ9,\"\")","v":""},{"$f":"IF(Data!$E9=30,Data!FA9,IF(Data!BD9<>\"\",Data!BD9,\"\"))","v":""},{"$f":"IF(Data!$E9=30,Data!FB9,\"\")","v":""},{"$f":"IF(Data!$E9=30,Data!FC9,\"\")","v":""},{"$f":"IF(Data!$E9=30,Data!FD9,IF(Data!BE9<>\"\",Data!BE9,\"\"))","v":""},{"$f":"IF(Data!$E9=30,Data!FE9,\"\")","v":""},{"$f":"IF(Data!$E9=30,Data!FF9,\"\")","v":""},{"$f":"IF(Data!$E9=30,Data!FG9,IF(Data!BF9<>\"\",Data!BF9,\"\"))","v":""},{"$f":"IF(Data!$E9=30,Data!FH9,\"\")","v":""},{"$f":"IF(Data!$E9=30,Data!FI9,\"\")","v":""},{"$f":"IF(Data!$E9=30,Data!FJ9,IF(Data!BG9<>\"\",Data!BG9,\"\"))","v":""},{"$f":"IF(Data!$E9=30,Data!FK9,\"\")","v":""},{"$f":"IF(Data!$E9=30,Data!FL9,\"\")","v":""},{"$f":"IF(Data!$E9=30,Data!FM9,IF(Data!BH9<>\"\",Data!BH9,\"\"))","v":""},{"$f":"IF(Data!$E9=30,Data!FN9,\"\")","v":""},{"$f":"IF(Data!$E9=30,Data!FO9,\"\")","v":""},{"$f":"IF(Data!$E9=30,Data!FP9,IF(Data!BI9<>\"\",Data!BI9,\"\"))","v":""},{"$f":"IF(Data!$E9=30,Data!FQ9,\"\")","v":""},{"$f":"IF(Data!$E9=30,Data!FR9,\"\")","v":""},{"$f":"IF(Data!$E9=30,Data!FS9,IF(Data!BJ9<>\"\",Data!BJ9,\"\"))","v":""},{"$f":"IF(Data!$E9=30,Data!FT9,\"\")","v":""},{"$f":"IF(Data!$E9=30,Data!FU9,\"\")","v":""},{"$f":"IF(Data!$E9=30,Data!FV9,IF(Data!BK9<>\"\",Data!BK9,\"\"))","v":""},{"$f":"IF(Data!$E9=30,Data!FW9,\"\")","v":""},{"$f":"IF(Data!$E9=30,Data!FX9,\"\")","v":""},{"$f":"IF(Data!$E9=30,Data!FY9,IF(Data!BL9<>\"\",Data!BL9,\"\"))","v":""},{"$f":"IF(Data!$E9=30,Data!FZ9,\"\")","v":""},{"$f":"IF(Data!$E9=30,Data!GA9,\"\")","v":""},{"$f":"IF(Data!$E9=30,Data!GB9,IF(Data!BM9<>\"\",Data!BM9,\"\"))","v":""},{"$f":"IF(Data!$E9=30,Data!GC9,\"\")","v":""}]
[null,{"$f":"IF(Data!A10<>\"\",Data!A10,\"\")","v":""},{"$f":"IF(Data!$E10=30,Data!DV10,\"\")","v":""},{"$f":"IF(Data!$E10=30,Data!DW10,IF(Data!AT10<>\"\",Data!AT10,\"\"))","v":""},{"$f":"IF(Data!$E10=30,Data!DX10,\"\")","v":""},{"$f":"IF(Data!$E10=30,Data!DY10,\"\")","v":""},{"$f":"IF(Data!$E10=30,Data!DZ10,IF(Data!AU10<>\"\",Data!AU10,\"\"))","v":""},{"$f":"IF(Data!$E10=30,Data!EA10,\"\")","v":""},{"$f":"IF(Data!$E10=30,Data!EB10,\"\")","v":""},{"$f":"IF(Data!$E10=30,Data!EC10,IF(Data!AV10<>\"\",Data!AV10,\"\"))","v":""},{"$f":"IF(Data!$E10=30,Data!ED10,\"\")","v":""},{"$f":"IF(Data!$E10=30,Data!EE10,\"\")","v":""},{"$f":"IF(Data!$E10=30,Data!EF10,IF(Data!AW10<>\"\",Data!AW10,\"\"))","v":""},{"$f":"IF(Data!$E10=30,Data!EG10,\"\")","v":""},{"$f":"IF(Data!$E10=30,Data!EH10,\"\")","v":""},{"$f":"IF(Data!$E10=30,Data!EI10,IF(Data!AX10<>\"\",Data!AX10,\"\"))","v":""},{"$f":"IF(Data!$E10=30,Data!EJ10,\"\")","v":""},{"$f":"IF(Data!$E10=30,Data!EK10,\"\")","v":""},{"$f":"IF(Data!$E10=30,Data!EL10,IF(Data!AY10<>\"\",Data!AY10,\"\"))","v":""},{"$f":"IF(Data!$E10=30,Data!EM10,\"\")","v":""},{"$f":"IF(Data!$E10=30,Data!EN10,\"\")","v":""},{"$f":"IF(Data!$E10=30,Data!EO10,IF(Data!AZ10<>\"\",Data!AZ10,\"\"))","v":""},{"$f":"IF(Data!$E10=30,Data!EP10,\"\")","v":""},{"$f":"IF(Data!$E10=30,Data!EQ10,\"\")","v":""},{"$f":"IF(Data!$E10=30,Data!ER10,IF(Data!BA10<>\"\",Data!BA10,\"\"))","v":""},{"$f":"IF(Data!$E10=30,Data!ES10,\"\")","v":""},{"$f":"IF(Data!$E10=30,Data!ET10,\"\")","v":""},{"$f":"IF(Data!$E10=30,Data!EU10,IF(Data!BB10<>\"\",Data!BB10,\"\"))","v":""},{"$f":"IF(Data!$E10=30,Data!EV10,\"\")","v":""},{"$f":"IF(Data!$E10=30,Data!EW10,\"\")","v":""},{"$f":"IF(Data!$E10=30,Data!EX10,IF(Data!Z10<>\"\",Data!BC10,\"\"))","v":""},{"$f":"IF(Data!$E10=30,Data!EY10,\"\")","v":""},null,null,null,{"$f":"IF(Data!$E10=30,Data!EZ10,\"\")","v":""},{"$f":"IF(Data!$E10=30,Data!FA10,IF(Data!BD10<>\"\",Data!BD10,\"\"))","v":""},{"$f":"IF(Data!$E10=30,Data!FB10,\"\")","v":""},{"$f":"IF(Data!$E10=30,Data!FC10,\"\")","v":""},{"$f":"IF(Data!$E10=30,Data!FD10,IF(Data!BE10<>\"\",Data!BE10,\"\"))","v":""},{"$f":"IF(Data!$E10=30,Data!FE10,\"\")","v":""},{"$f":"IF(Data!$E10=30,Data!FF10,\"\")","v":""},{"$f":"IF(Data!$E10=30,Data!FG10,IF(Data!BF10<>\"\",Data!BF10,\"\"))","v":""},{"$f":"IF(Data!$E10=30,Data!FH10,\"\")","v":""},{"$f":"IF(Data!$E10=30,Data!FI10,\"\")","v":""},{"$f":"IF(Data!$E10=30,Data!FJ10,IF(Data!BG10<>\"\",Data!BG10,\"\"))","v":""},{"$f":"IF(Data!$E10=30,Data!FK10,\"\")","v":""},{"$f":"IF(Data!$E10=30,Data!FL10,\"\")","v":""},{"$f":"IF(Data!$E10=30,Data!FM10,IF(Data!BH10<>\"\",Data!BH10,\"\"))","v":""},{"$f":"IF(Data!$E10=30,Data!FN10,\"\")","v":""},{"$f":"IF(Data!$E10=30,Data!FO10,\"\")","v":""},{"$f":"IF(Data!$E10=30,Data!FP10,IF(Data!BI10<>\"\",Data!BI10,\"\"))","v":""},{"$f":"IF(Data!$E10=30,Data!FQ10,\"\")","v":""},{"$f":"IF(Data!$E10=30,Data!FR10,\"\")","v":""},{"$f":"IF(Data!$E10=30,Data!FS10,IF(Data!BJ10<>\"\",Data!BJ10,\"\"))","v":""},{"$f":"IF(Data!$E10=30,Data!FT10,\"\")","v":""},{"$f":"IF(Data!$E10=30,Data!FU10,\"\")","v":""},{"$f":"IF(Data!$E10=30,Data!FV10,IF(Data!BK10<>\"\",Data!BK10,\"\"))","v":""},{"$f":"IF(Data!$E10=30,Data!FW10,\"\")","v":""},{"$f":"IF(Data!$E10=30,Data!FX10,\"\")","v":""},{"$f":"IF(Data!$E10=30,Data!FY10,IF(Data!BL10<>\"\",Data!BL10,\"\"))","v":""},{"$f":"IF(Data!$E10=30,Data!FZ10,\"\")","v":""},{"$f":"IF(Data!$E10=30,Data!GA10,\"\")","v":""},{"$f":"IF(Data!$E10=30,Data!GB10,IF(Data!BM10<>\"\",Data!BM10,\"\"))","v":""},{"$f":"IF(Data!$E10=30,Data!GC10,\"\")","v":""}]
[null,{"$f":"IF(Data!A11<>\"\",Data!A11,\"\")","v":""},{"$f":"IF(Data!$E11=30,Data!DV11,\"\")","v":""},{"$f":"IF(Data!$E11=30,Data!DW11,IF(Data!AT11<>\"\",Data!AT11,\"\"))","v":""},{"$f":"IF(Data!$E11=30,Data!DX11,\"\")","v":""},{"$f":"IF(Data!$E11=30,Data!DY11,\"\")","v":""},{"$f":"IF(Data!$E11=30,Data!DZ11,IF(Data!AU11<>\"\",Data!AU11,\"\"))","v":""},{"$f":"IF(Data!$E11=30,Data!EA11,\"\")","v":""},{"$f":"IF(Data!$E11=30,Data!EB11,\"\")","v":""},{"$f":"IF(Data!$E11=30,Data!EC11,IF(Data!AV11<>\"\",Data!AV11,\"\"))","v":""},{"$f":"IF(Data!$E11=30,Data!ED11,\"\")","v":""},{"$f":"IF(Data!$E11=30,Data!EE11,\"\")","v":""},{"$f":"IF(Data!$E11=30,Data!EF11,IF(Data!AW11<>\"\",Data!AW11,\"\"))","v":""},{"$f":"IF(Data!$E11=30,Data!EG11,\"\")","v":""},{"$f":"IF(Data!$E11=30,Data!EH11,\"\")","v":""},{"$f":"IF(Data!$E11=30,Data!EI11,IF(Data!AX11<>\"\",Data!AX11,\"\"))","v":""},{"$f":"IF(Data!$E11=30,Data!EJ11,\"\")","v":""},{"$f":"IF(Data!$E11=30,Data!EK11,\"\")","v":""},{"$f":"IF(Data!$E11=30,Data!EL11,IF(Data!AY11<>\"\",Data!AY11,\"\"))","v":""},{"$f":"IF(Data!$E11=30,Data!EM11,\"\")","v":""},{"$f":"IF(Data!$E11=30,Data!EN11,\"\")","v":""},{"$f":"IF(Data!$E11=30,Data!EO11,IF(Data!AZ11<>\"\",Data!AZ11,\"\"))","v":""},{"$f":"IF(Data!$E11=30,Data!EP11,\"\")","v":""},{"$f":"IF(Data!$E11=30,Data!EQ11,\"\")","v":""},{"$f":"IF(Data!$E11=30,Data!ER11,IF(Data!BA11<>\"\",Data!BA11,\"\"))","v":""},{"$f":"IF(Data!$E11=30,Data!ES11,\"\")","v":""},{"$f":"IF(Data!$E11=30,Data!ET11,\"\")","v":""},{"$f":"IF(Data!$E11=30,Data!EU11,IF(Data!BB11<>\"\",Data!BB11,\"\"))","v":""},{"$f":"IF(Data!$E11=30,Data!EV11,\"\")","v":""},{"$f":"IF(Data!$E11=30,Data!EW11,\"\")","v":""},{"$f":"IF(Data!$E11=30,Data!EX11,IF(Data!Z11<>\"\",Data!BC11,\"\"))","v":""},{"$f":"IF(Data!$E11=30,Data!EY11,\"\")","v":""},null,null,null,{"$f":"IF(Data!$E11=30,Data!EZ11,\"\")","v":""},{"$f":"IF(Data!$E11=30,Data!FA11,IF(Data!BD11<>\"\",Data!BD11,\"\"))","v":""},{"$f":"IF(Data!$E11=30,Data!FB11,\"\")","v":""},{"$f":"IF(Data!$E11=30,Data!FC11,\"\")","v":""},{"$f":"IF(Data!$E11=30,Data!FD11,IF(Data!BE11<>\"\",Data!BE11,\"\"))","v":""},{"$f":"IF(Data!$E11=30,Data!FE11,\"\")","v":""},{"$f":"IF(Data!$E11=30,Data!FF11,\"\")","v":""},{"$f":"IF(Data!$E11=30,Data!FG11,IF(Data!BF11<>\"\",Data!BF11,\"\"))","v":""},{"$f":"IF(Data!$E11=30,Data!FH11,\"\")","v":""},{"$f":"IF(Data!$E11=30,Data!FI11,\"\")","v":""},{"$f":"IF(Data!$E11=30,Data!FJ11,IF(Data!BG11<>\"\",Data!BG11,\"\"))","v":""},{"$f":"IF(Data!$E11=30,Data!FK11,\"\")","v":""},{"$f":"IF(Data!$E11=30,Data!FL11,\"\")","v":""},{"$f":"IF(Data!$E11=30,Data!FM11,IF(Data!BH11<>\"\",Data!BH11,\"\"))","v":""},{"$f":"IF(Data!$E11=30,Data!FN11,\"\")","v":""},{"$f":"IF(Data!$E11=30,Data!FO11,\"\")","v":""},{"$f":"IF(Data!$E11=30,Data!FP11,IF(Data!BI11<>\"\",Data!BI11,\"\"))","v":""},{"$f":"IF(Data!$E11=30,Data!FQ11,\"\")","v":""},{"$f":"IF(Data!$E11=30,Data!FR11,\"\")","v":""},{"$f":"IF(Data!$E11=30,Data!FS11,IF(Data!BJ11<>\"\",Data!BJ11,\"\"))","v":""},{"$f":"IF(Data!$E11=30,Data!FT11,\"\")","v":""},{"$f":"IF(Data!$E11=30,Data!FU11,\"\")","v":""},{"$f":"IF(Data!$E11=30,Data!FV11,IF(Data!BK11<>\"\",Data!BK11,\"\"))","v":""},{"$f":"IF(Data!$E11=30,Data!FW11,\"\")","v":""},{"$f":"IF(Data!$E11=30,Data!FX11,\"\")","v":""},{"$f":"IF(Data!$E11=30,Data!FY11,IF(Data!BL11<>\"\",Data!BL11,\"\"))","v":""},{"$f":"IF(Data!$E11=30,Data!FZ11,\"\")","v":""},{"$f":"IF(Data!$E11=30,Data!GA11,\"\")","v":""},{"$f":"IF(Data!$E11=30,Data!GB11,IF(Data!BM11<>\"\",Data!BM11,\"\"))","v":""},{"$f":"IF(Data!$E11=30,Data!GC11,\"\")","v":""}]
[null,{"$f":"IF(Data!A12<>\"\",Data!A12,\"\")","v":""},{"$f":"IF(Data!$E12=30,Data!DV12,\"\")","v":""},{"$f":"IF(Data!$E12=30,Data!DW12,IF(Data!AT12<>\"\",Data!AT12,\"\"))","v":""},{"$f":"IF(Data!$E12=30,Data!DX12,\"\")","v":""},{"$f":"IF(Data!$E12=30,Data!DY12,\"\")","v":""},{"$f":"IF(Data!$E12=30,Data!DZ12,IF(Data!AU12<>\"\",Data!AU12,\"\"))","v":""},{"$f":"IF(Data!$E12=30,Data!EA12,\"\")","v":""},{"$f":"IF(Data!$E12=30,Data!EB12,\"\")","v":""},{"$f":"IF(Data!$E12=30,Data!EC12,IF(Data!AV12<>\"\",Data!AV12,\"\"))","v":""},{"$f":"IF(Data!$E12=30,Data!ED12,\"\")","v":""},{"$f":"IF(Data!$E12=30,Data!EE12,\"\")","v":""},{"$f":"IF(Data!$E12=30,Data!EF12,IF(Data!AW12<>\"\",Data!AW12,\"\"))","v":""},{"$f":"IF(Data!$E12=30,Data!EG12,\"\")","v":""},{"$f":"IF(Data!$E12=30,Data!EH12,\"\")","v":""},{"$f":"IF(Data!$E12=30,Data!EI12,IF(Data!AX12<>\"\",Data!AX12,\"\"))","v":""},{"$f":"IF(Data!$E12=30,Data!EJ12,\"\")","v":""},{"$f":"IF(Data!$E12=30,Data!EK12,\"\")","v":""},{"$f":"IF(Data!$E12=30,Data!EL12,IF(Data!AY12<>\"\",Data!AY12,\"\"))","v":""},{"$f":"IF(Data!$E12=30,Data!EM12,\"\")","v":""},{"$f":"IF(Data!$E12=30,Data!EN12,\"\")","v":""},{"$f":"IF(Data!$E12=30,Data!EO12,IF(Data!AZ12<>\"\",Data!AZ12,\"\"))","v":""},{"$f":"IF(Data!$E12=30,Data!EP12,\"\")","v":""},{"$f":"IF(Data!$E12=30,Data!EQ12,\"\")","v":""},{"$f":"IF(Data!$E12=30,Data!ER12,IF(Data!BA12<>\"\",Data!BA12,\"\"))","v":""},{"$f":"IF(Data!$E12=30,Data!ES12,\"\")","v":""},{"$f":"IF(Data!$E12=30,Data!ET12,\"\")","v":""},{"$f":"IF(Data!$E12=30,Data!EU12,IF(Data!BB12<>\"\",Data!BB12,\"\"))","v":""},{"$f":"IF(Data!$E12=30,Data!EV12,\"\")","v":""},{"$f":"IF(Data!$E12=30,Data!EW12,\"\")","v":""},{"$f":"IF(Data!$E12=30,Data!EX12,IF(Data!Z12<>\"\",Data!BC12,\"\"))","v":""},{"$f":"IF(Data!$E12=30,Data!EY12,\"\")","v":""},null,null,null,{"$f":"IF(Data!$E12=30,Data!EZ12,\"\")","v":""},{"$f":"IF(Data!$E12=30,Data!FA12,IF(Data!BD12<>\"\",Data!BD12,\"\"))","v":""},{"$f":"IF(Data!$E12=30,Data!FB12,\"\")","v":""},{"$f":"IF(Data!$E12=30,Data!FC12,\"\")","v":""},{"$f":"IF(Data!$E12=30,Data!FD12,IF(Data!BE12<>\"\",Data!BE12,\"\"))","v":""},{"$f":"IF(Data!$E12=30,Data!FE12,\"\")","v":""},{"$f":"IF(Data!$E12=30,Data!FF12,\"\")","v":""},{"$f":"IF(Data!$E12=30,Data!FG12,IF(Data!BF12<>\"\",Data!BF12,\"\"))","v":""},{"$f":"IF(Data!$E12=30,Data!FH12,\"\")","v":""},{"$f":"IF(Data!$E12=30,Data!FI12,\"\")","v":""},{"$f":"IF(Data!$E12=30,Data!FJ12,IF(Data!BG12<>\"\",Data!BG12,\"\"))","v":""},{"$f":"IF(Data!$E12=30,Data!FK12,\"\")","v":""},{"$f":"IF(Data!$E12=30,Data!FL12,\"\")","v":""},{"$f":"IF(Data!$E12=30,Data!FM12,IF(Data!BH12<>\"\",Data!BH12,\"\"))","v":""},{"$f":"IF(Data!$E12=30,Data!FN12,\"\")","v":""},{"$f":"IF(Data!$E12=30,Data!FO12,\"\")","v":""},{"$f":"IF(Data!$E12=30,Data!FP12,IF(Data!BI12<>\"\",Data!BI12,\"\"))","v":""},{"$f":"IF(Data!$E12=30,Data!FQ12,\"\")","v":""},{"$f":"IF(Data!$E12=30,Data!FR12,\"\")","v":""},{"$f":"IF(Data!$E12=30,Data!FS12,IF(Data!BJ12<>\"\",Data!BJ12,\"\"))","v":""},{"$f":"IF(Data!$E12=30,Data!FT12,\"\")","v":""},{"$f":"IF(Data!$E12=30,Data!FU12,\"\")","v":""},{"$f":"IF(Data!$E12=30,Data!FV12,IF(Data!BK12<>\"\",Data!BK12,\"\"))","v":""},{"$f":"IF(Data!$E12=30,Data!FW12,\"\")","v":""},{"$f":"IF(Data!$E12=30,Data!FX12,\"\")","v":""},{"$f":"IF(Data!$E12=30,Data!FY12,IF(Data!BL12<>\"\",Data!BL12,\"\"))","v":""},{"$f":"IF(Data!$E12=30,Data!FZ12,\"\")","v":""},{"$f":"IF(Data!$E12=30,Data!GA12,\"\")","v":""},{"$f":"IF(Data!$E12=30,Data!GB12,IF(Data!BM12<>\"\",Data!BM12,\"\"))","v":""},{"$f":"IF(Data!$E12=30,Data!GC12,\"\")","v":""}]
[null,{"$f":"IF(Data!A13<>\"\",Data!A13,\"\")","v":""},{"$f":"IF(Data!$E13=30,Data!DV13,\"\")","v":""},{"$f":"IF(Data!$E13=30,Data!DW13,IF(Data!AT13<>\"\",Data!AT13,\"\"))","v":""},{"$f":"IF(Data!$E13=30,Data!DX13,\"\")","v":""},{"$f":"IF(Data!$E13=30,Data!DY13,\"\")","v":""},{"$f":"IF(Data!$E13=30,Data!DZ13,IF(Data!AU13<>\"\",Data!AU13,\"\"))","v":""},{"$f":"IF(Data!$E13=30,Data!EA13,\"\")","v":""},{"$f":"IF(Data!$E13=30,Data!EB13,\"\")","v":""},{"$f":"IF(Data!$E13=30,Data!EC13,IF(Data!AV13<>\"\",Data!AV13,\"\"))","v":""},{"$f":"IF(Data!$E13=30,Data!ED13,\"\")","v":""},{"$f":"IF(Data!$E13=30,Data!EE13,\"\")","v":""},{"$f":"IF(Data!$E13=30,Data!EF13,IF(Data!AW13<>\"\",Data!AW13,\"\"))","v":""},{"$f":"IF(Data!$E13=30,Data!EG13,\"\")","v":""},{"$f":"IF(Data!$E13=30,Data!EH13,\"\")","v":""},{"$f":"IF(Data!$E13=30,Data!EI13,IF(Data!AX13<>\"\",Data!AX13,\"\"))","v":""},{"$f":"IF(Data!$E13=30,Data!EJ13,\"\")","v":""},{"$f":"IF(Data!$E13=30,Data!EK13,\"\")","v":""},{"$f":"IF(Data!$E13=30,Data!EL13,IF(Data!AY13<>\"\",Data!AY13,\"\"))","v":""},{"$f":"IF(Data!$E13=30,Data!EM13,\"\")","v":""},{"$f":"IF(Data!$E13=30,Data!EN13,\"\")","v":""},{"$f":"IF(Data!$E13=30,Data!EO13,IF(Data!AZ13<>\"\",Data!AZ13,\"\"))","v":""},{"$f":"IF(Data!$E13=30,Data!EP13,\"\")","v":""},{"$f":"IF(Data!$E13=30,Data!EQ13,\"\")","v":""},{"$f":"IF(Data!$E13=30,Data!ER13,IF(Data!BA13<>\"\",Data!BA13,\"\"))","v":""},{"$f":"IF(Data!$E13=30,Data!ES13,\"\")","v":""},{"$f":"IF(Data!$E13=30,Data!ET13,\"\")","v":""},{"$f":"IF(Data!$E13=30,Data!EU13,IF(Data!BB13<>\"\",Data!BB13,\"\"))","v":""},{"$f":"IF(Data!$E13=30,Data!EV13,\"\")","v":""},{"$f":"IF(Data!$E13=30,Data!EW13,\"\")","v":""},{"$f":"IF(Data!$E13=30,Data!EX13,IF(Data!Z13<>\"\",Data!BC13,\"\"))","v":""},{"$f":"IF(Data!$E13=30,Data!EY13,\"\")","v":""},null,null,null,{"$f":"IF(Data!$E13=30,Data!EZ13,\"\")","v":""},{"$f":"IF(Data!$E13=30,Data!FA13,IF(Data!BD13<>\"\",Data!BD13,\"\"))","v":""},{"$f":"IF(Data!$E13=30,Data!FB13,\"\")","v":""},{"$f":"IF(Data!$E13=30,Data!FC13,\"\")","v":""},{"$f":"IF(Data!$E13=30,Data!FD13,IF(Data!BE13<>\"\",Data!BE13,\"\"))","v":""},{"$f":"IF(Data!$E13=30,Data!FE13,\"\")","v":""},{"$f":"IF(Data!$E13=30,Data!FF13,\"\")","v":""},{"$f":"IF(Data!$E13=30,Data!FG13,IF(Data!BF13<>\"\",Data!BF13,\"\"))","v":""},{"$f":"IF(Data!$E13=30,Data!FH13,\"\")","v":""},{"$f":"IF(Data!$E13=30,Data!FI13,\"\")","v":""},{"$f":"IF(Data!$E13=30,Data!FJ13,IF(Data!BG13<>\"\",Data!BG13,\"\"))","v":""},{"$f":"IF(Data!$E13=30,Data!FK13,\"\")","v":""},{"$f":"IF(Data!$E13=30,Data!FL13,\"\")","v":""},{"$f":"IF(Data!$E13=30,Data!FM13,IF(Data!BH13<>\"\",Data!BH13,\"\"))","v":""},{"$f":"IF(Data!$E13=30,Data!FN13,\"\")","v":""},{"$f":"IF(Data!$E13=30,Data!FO13,\"\")","v":""},{"$f":"IF(Data!$E13=30,Data!FP13,IF(Data!BI13<>\"\",Data!BI13,\"\"))","v":""},{"$f":"IF(Data!$E13=30,Data!FQ13,\"\")","v":""},{"$f":"IF(Data!$E13=30,Data!FR13,\"\")","v":""},{"$f":"IF(Data!$E13=30,Data!FS13,IF(Data!BJ13<>\"\",Data!BJ13,\"\"))","v":""},{"$f":"IF(Data!$E13=30,Data!FT13,\"\")","v":""},{"$f":"IF(Data!$E13=30,Data!FU13,\"\")","v":""},{"$f":"IF(Data!$E13=30,Data!FV13,IF(Data!BK13<>\"\",Data!BK13,\"\"))","v":""},{"$f":"IF(Data!$E13=30,Data!FW13,\"\")","v":""},{"$f":"IF(Data!$E13=30,Data!FX13,\"\")","v":""},{"$f":"IF(Data!$E13=30,Data!FY13,IF(Data!BL13<>\"\",Data!BL13,\"\"))","v":""},{"$f":"IF(Data!$E13=30,Data!FZ13,\"\")","v":""},{"$f":"IF(Data!$E13=30,Data!GA13,\"\")","v":""},{"$f":"IF(Data!$E13=30,Data!GB13,IF(Data!BM13<>\"\",Data!BM13,\"\"))","v":""},{"$f":"IF(Data!$E13=30,Data!GC13,\"\")","v":""}]
[null,{"$f":"IF(Data!A14<>\"\",Data!A14,\"\")","v":""},{"$f":"IF(Data!$E14=30,Data!DV14,\"\")","v":""},{"$f":"IF(Data!$E14=30,Data!DW14,IF(Data!AT14<>\"\",Data!AT14,\"\"))","v":""},{"$f":"IF(Data!$E14=30,Data!DX14,\"\")","v":""},{"$f":"IF(Data!$E14=30,Data!DY14,\"\")","v":""},{"$f":"IF(Data!$E14=30,Data!DZ14,IF(Data!AU14<>\"\",Data!AU14,\"\"))","v":""},{"$f":"IF(Data!$E14=30,Data!EA14,\"\")","v":""},{"$f":"IF(Data!$E14=30,Data!EB14,\"\")","v":""},{"$f":"IF(Data!$E14=30,Data!EC14,IF(Data!AV14<>\"\",Data!AV14,\"\"))","v":""},{"$f":"IF(Data!$E14=30,Data!ED14,\"\")","v":""},{"$f":"IF(Data!$E14=30,Data!EE14,\"\")","v":""},{"$f":"IF(Data!$E14=30,Data!EF14,IF(Data!AW14<>\"\",Data!AW14,\"\"))","v":""},{"$f":"IF(Data!$E14=30,Data!EG14,\"\")","v":""},{"$f":"IF(Data!$E14=30,Data!EH14,\"\")","v":""},{"$f":"IF(Data!$E14=30,Data!EI14,IF(Data!AX14<>\"\",Data!AX14,\"\"))","v":""},{"$f":"IF(Data!$E14=30,Data!EJ14,\"\")","v":""},{"$f":"IF(Data!$E14=30,Data!EK14,\"\")","v":""},{"$f":"IF(Data!$E14=30,Data!EL14,IF(Data!AY14<>\"\",Data!AY14,\"\"))","v":""},{"$f":"IF(Data!$E14=30,Data!EM14,\"\")","v":""},{"$f":"IF(Data!$E14=30,Data!EN14,\"\")","v":""},{"$f":"IF(Data!$E14=30,Data!EO14,IF(Data!AZ14<>\"\",Data!AZ14,\"\"))","v":""},{"$f":"IF(Data!$E14=30,Data!EP14,\"\")","v":""},{"$f":"IF(Data!$E14=30,Data!EQ14,\"\")","v":""},{"$f":"IF(Data!$E14=30,Data!ER14,IF(Data!BA14<>\"\",Data!BA14,\"\"))","v":""},{"$f":"IF(Data!$E14=30,Data!ES14,\"\")","v":""},{"$f":"IF(Data!$E14=30,Data!ET14,\"\")","v":""},{"$f":"IF(Data!$E14=30,Data!EU14,IF(Data!BB14<>\"\",Data!BB14,\"\"))","v":""},{"$f":"IF(Data!$E14=30,Data!EV14,\"\")","v":""},{"$f":"IF(Data!$E14=30,Data!EW14,\"\")","v":""},{"$f":"IF(Data!$E14=30,Data!EX14,IF(Data!Z14<>\"\",Data!BC14,\"\"))","v":""},{"$f":"IF(Data!$E14=30,Data!EY14,\"\")","v":""},null,null,null,{"$f":"IF(Data!$E14=30,Data!EZ14,\"\")","v":""},{"$f":"IF(Data!$E14=30,Data!FA14,IF(Data!BD14<>\"\",Data!BD14,\"\"))","v":""},{"$f":"IF(Data!$E14=30,Data!FB14,\"\")","v":""},{"$f":"IF(Data!$E14=30,Data!FC14,\"\")","v":""},{"$f":"IF(Data!$E14=30,Data!FD14,IF(Data!BE14<>\"\",Data!BE14,\"\"))","v":""},{"$f":"IF(Data!$E14=30,Data!FE14,\"\")","v":""},{"$f":"IF(Data!$E14=30,Data!FF14,\"\")","v":""},{"$f":"IF(Data!$E14=30,Data!FG14,IF(Data!BF14<>\"\",Data!BF14,\"\"))","v":""},{"$f":"IF(Data!$E14=30,Data!FH14,\"\")","v":""},{"$f":"IF(Data!$E14=30,Data!FI14,\"\")","v":""},{"$f":"IF(Data!$E14=30,Data!FJ14,IF(Data!BG14<>\"\",Data!BG14,\"\"))","v":""},{"$f":"IF(Data!$E14=30,Data!FK14,\"\")","v":""},{"$f":"IF(Data!$E14=30,Data!FL14,\"\")","v":""},{"$f":"IF(Data!$E14=30,Data!FM14,IF(Data!BH14<>\"\",Data!BH14,\"\"))","v":""},{"$f":"IF(Data!$E14=30,Data!FN14,\"\")","v":""},{"$f":"IF(Data!$E14=30,Data!FO14,\"\")","v":""},{"$f":"IF(Data!$E14=30,Data!FP14,IF(Data!BI14<>\"\",Data!BI14,\"\"))","v":""},{"$f":"IF(Data!$E14=30,Data!FQ14,\"\")","v":""},{"$f":"IF(Data!$E14=30,Data!FR14,\"\")","v":""},{"$f":"IF(Data!$E14=30,Data!FS14,IF(Data!BJ14<>\"\",Data!BJ14,\"\"))","v":""},{"$f":"IF(Data!$E14=30,Data!FT14,\"\")","v":""},{"$f":"IF(Data!$E14=30,Data!FU14,\"\")","v":""},{"$f":"IF(Data!$E14=30,Data!FV14,IF(Data!BK14<>\"\",Data!BK14,\"\"))","v":""},{"$f":"IF(Data!$E14=30,Data!FW14,\"\")","v":""},{"$f":"IF(Data!$E14=30,Data!FX14,\"\")","v":""},{"$f":"IF(Data!$E14=30,Data!FY14,IF(Data!BL14<>\"\",Data!BL14,\"\"))","v":""},{"$f":"IF(Data!$E14=30,Data!FZ14,\"\")","v":""},{"$f":"IF(Data!$E14=30,Data!GA14,\"\")","v":""},{"$f":"IF(Data!$E14=30,Data!GB14,IF(Data!BM14<>\"\",Data!BM14,\"\"))","v":""},{"$f":"IF(Data!$E14=30,Data!GC14,\"\")","v":""}]
[null,{"$f":"IF(Data!A15<>\"\",Data!A15,\"\")","v":""},{"$f":"IF(Data!$E15=30,Data!DV15,\"\")","v":""},{"$f":"IF(Data!$E15=30,Data!DW15,IF(Data!AT15<>\"\",Data!AT15,\"\"))","v":""},{"$f":"IF(Data!$E15=30,Data!DX15,\"\")","v":""},{"$f":"IF(Data!$E15=30,Data!DY15,\"\")","v":""},{"$f":"IF(Data!$E15=30,Data!DZ15,IF(Data!AU15<>\"\",Data!AU15,\"\"))","v":""},{"$f":"IF(Data!$E15=30,Data!EA15,\"\")","v":""},{"$f":"IF(Data!$E15=30,Data!EB15,\"\")","v":""},{"$f":"IF(Data!$E15=30,Data!EC15,IF(Data!AV15<>\"\",Data!AV15,\"\"))","v":""},{"$f":"IF(Data!$E15=30,Data!ED15,\"\")","v":""},{"$f":"IF(Data!$E15=30,Data!EE15,\"\")","v":""},{"$f":"IF(Data!$E15=30,Data!EF15,IF(Data!AW15<>\"\",Data!AW15,\"\"))","v":""},{"$f":"IF(Data!$E15=30,Data!EG15,\"\")","v":""},{"$f":"IF(Data!$E15=30,Data!EH15,\"\")","v":""},{"$f":"IF(Data!$E15=30,Data!EI15,IF(Data!AX15<>\"\",Data!AX15,\"\"))","v":""},{"$f":"IF(Data!$E15=30,Data!EJ15,\"\")","v":""},{"$f":"IF(Data!$E15=30,Data!EK15,\"\")","v":""},{"$f":"IF(Data!$E15=30,Data!EL15,IF(Data!AY15<>\"\",Data!AY15,\"\"))","v":""},{"$f":"IF(Data!$E15=30,Data!EM15,\"\")","v":""},{"$f":"IF(Data!$E15=30,Data!EN15,\"\")","v":""},{"$f":"IF(Data!$E15=30,Data!EO15,IF(Data!AZ15<>\"\",Data!AZ15,\"\"))","v":""},{"$f":"IF(Data!$E15=30,Data!EP15,\"\")","v":""},{"$f":"IF(Data!$E15=30,Data!EQ15,\"\")","v":""},{"$f":"IF(Data!$E15=30,Data!ER15,IF(Data!BA15<>\"\",Data!BA15,\"\"))","v":""},{"$f":"IF(Data!$E15=30,Data!ES15,\"\")","v":""},{"$f":"IF(Data!$E15=30,Data!ET15,\"\")","v":""},{"$f":"IF(Data!$E15=30,Data!EU15,IF(Data!BB15<>\"\",Data!BB15,\"\"))","v":""},{"$f":"IF(Data!$E15=30,Data!EV15,\"\")","v":""},{"$f":"IF(Data!$E15=30,Data!EW15,\"\")","v":""},{"$f":"IF(Data!$E15=30,Data!EX15,IF(Data!Z15<>\"\",Data!BC15,\"\"))","v":""},{"$f":"IF(Data!$E15=30,Data!EY15,\"\")","v":""},null,null,null,{"$f":"IF(Data!$E15=30,Data!EZ15,\"\")","v":""},{"$f":"IF(Data!$E15=30,Data!FA15,IF(Data!BD15<>\"\",Data!BD15,\"\"))","v":""},{"$f":"IF(Data!$E15=30,Data!FB15,\"\")","v":""},{"$f":"IF(Data!$E15=30,Data!FC15,\"\")","v":""},{"$f":"IF(Data!$E15=30,Data!FD15,IF(Data!BE15<>\"\",Data!BE15,\"\"))","v":""},{"$f":"IF(Data!$E15=30,Data!FE15,\"\")","v":""},{"$f":"IF(Data!$E15=30,Data!FF15,\"\")","v":""},{"$f":"IF(Data!$E15=30,Data!FG15,IF(Data!BF15<>\"\",Data!BF15,\"\"))","v":""},{"$f":"IF(Data!$E15=30,Data!FH15,\"\")","v":""},{"$f":"IF(Data!$E15=30,Data!FI15,\"\")","v":""},{"$f":"IF(Data!$E15=30,Data!FJ15,IF(Data!BG15<>\"\",Data!BG15,\"\"))","v":""},{"$f":"IF(Data!$E15=30,Data!FK15,\"\")","v":""},{"$f":"IF(Data!$E15=30,Data!FL15,\"\")","v":""},{"$f":"IF(Data!$E15=30,Data!FM15,IF(Data!BH15<>\"\",Data!BH15,\"\"))","v":""},{"$f":"IF(Data!$E15=30,Data!FN15,\"\")","v":""},{"$f":"IF(Data!$E15=30,Data!FO15,\"\")","v":""},{"$f":"IF(Data!$E15=30,Data!FP15,IF(Data!BI15<>\"\",Data!BI15,\"\"))","v":""},{"$f":"IF(Data!$E15=30,Data!FQ15,\"\")","v":""},{"$f":"IF(Data!$E15=30,Data!FR15,\"\")","v":""},{"$f":"IF(Data!$E15=30,Data!FS15,IF(Data!BJ15<>\"\",Data!BJ15,\"\"))","v":""},{"$f":"IF(Data!$E15=30,Data!FT15,\"\")","v":""},{"$f":"IF(Data!$E15=30,Data!FU15,\"\")","v":""},{"$f":"IF(Data!$E15=30,Data!FV15,IF(Data!BK15<>\"\",Data!BK15,\"\"))","v":""},{"$f":"IF(Data!$E15=30,Data!FW15,\"\")","v":""},{"$f":"IF(Data!$E15=30,Data!FX15,\"\")","v":""},{"$f":"IF(Data!$E15=30,Data!FY15,IF(Data!BL15<>\"\",Data!BL15,\"\"))","v":""},{"$f":"IF(Data!$E15=30,Data!FZ15,\"\")","v":""},{"$f":"IF(Data!$E15=30,Data!GA15,\"\")","v":""},{"$f":"IF(Data!$E15=30,Data!GB15,IF(Data!BM15<>\"\",Data!BM15,\"\"))","v":""},{"$f":"IF(Data!$E15=30,Data!GC15,\"\")","v":""}]
[null,{"$f":"IF(Data!A16<>\"\",Data!A16,\"\")","v":""},{"$f":"IF(Data!$E16=30,Data!DV16,\"\")","v":""},{"$f":"IF(Data!$E16=30,Data!DW16,IF(Data!AT16<>\"\",Data!AT16,\"\"))","v":""},{"$f":"IF(Data!$E16=30,Data!DX16,\"\")","v":""},{"$f":"IF(Data!$E16=30,Data!DY16,\"\")","v":""},{"$f":"IF(Data!$E16=30,Data!DZ16,IF(Data!AU16<>\"\",Data!AU16,\"\"))","v":""},{"$f":"IF(Data!$E16=30,Data!EA16,\"\")","v":""},{"$f":"IF(Data!$E16=30,Data!EB16,\"\")","v":""},{"$f":"IF(Data!$E16=30,Data!EC16,IF(Data!AV16<>\"\",Data!AV16,\"\"))","v":""},{"$f":"IF(Data!$E16=30,Data!ED16,\"\")","v":""},{"$f":"IF(Data!$E16=30,Data!EE16,\"\")","v":""},{"$f":"IF(Data!$E16=30,Data!EF16,IF(Data!AW16<>\"\",Data!AW16,\"\"))","v":""},{"$f":"IF(Data!$E16=30,Data!EG16,\"\")","v":""},{"$f":"IF(Data!$E16=30,Data!EH16,\"\")","v":""},{"$f":"IF(Data!$E16=30,Data!EI16,IF(Data!AX16<>\"\",Data!AX16,\"\"))","v":""},{"$f":"IF(Data!$E16=30,Data!EJ16,\"\")","v":""},{"$f":"IF(Data!$E16=30,Data!EK16,\"\")","v":""},{"$f":"IF(Data!$E16=30,Data!EL16,IF(Data!AY16<>\"\",Data!AY16,\"\"))","v":""},{"$f":"IF(Data!$E16=30,Data!EM16,\"\")","v":""},{"$f":"IF(Data!$E16=30,Data!EN16,\"\")","v":""},{"$f":"IF(Data!$E16=30,Data!EO16,IF(Data!AZ16<>\"\",Data!AZ16,\"\"))","v":""},{"$f":"IF(Data!$E16=30,Data!EP16,\"\")","v":""},{"$f":"IF(Data!$E16=30,Data!EQ16,\"\")","v":""},{"$f":"IF(Data!$E16=30,Data!ER16,IF(Data!BA16<>\"\",Data!BA16,\"\"))","v":""},{"$f":"IF(Data!$E16=30,Data!ES16,\"\")","v":""},{"$f":"IF(Data!$E16=30,Data!ET16,\"\")","v":""},{"$f":"IF(Data!$E16=30,Data!EU16,IF(Data!BB16<>\"\",Data!BB16,\"\"))","v":""},{"$f":"IF(Data!$E16=30,Data!EV16,\"\")","v":""},{"$f":"IF(Data!$E16=30,Data!EW16,\"\")","v":""},{"$f":"IF(Data!$E16=30,Data!EX16,IF(Data!Z16<>\"\",Data!BC16,\"\"))","v":""},{"$f":"IF(Data!$E16=30,Data!EY16,\"\")","v":""},null,null,null,{"$f":"IF(Data!$E16=30,Data!EZ16,\"\")","v":""},{"$f":"IF(Data!$E16=30,Data!FA16,IF(Data!BD16<>\"\",Data!BD16,\"\"))","v":""},{"$f":"IF(Data!$E16=30,Data!FB16,\"\")","v":""},{"$f":"IF(Data!$E16=30,Data!FC16,\"\")","v":""},{"$f":"IF(Data!$E16=30,Data!FD16,IF(Data!BE16<>\"\",Data!BE16,\"\"))","v":""},{"$f":"IF(Data!$E16=30,Data!FE16,\"\")","v":""},{"$f":"IF(Data!$E16=30,Data!FF16,\"\")","v":""},{"$f":"IF(Data!$E16=30,Data!FG16,IF(Data!BF16<>\"\",Data!BF16,\"\"))","v":""},{"$f":"IF(Data!$E16=30,Data!FH16,\"\")","v":""},{"$f":"IF(Data!$E16=30,Data!FI16,\"\")","v":""},{"$f":"IF(Data!$E16=30,Data!FJ16,IF(Data!BG16<>\"\",Data!BG16,\"\"))","v":""},{"$f":"IF(Data!$E16=30,Data!FK16,\"\")","v":""},{"$f":"IF(Data!$E16=30,Data!FL16,\"\")","v":""},{"$f":"IF(Data!$E16=30,Data!FM16,IF(Data!BH16<>\"\",Data!BH16,\"\"))","v":""},{"$f":"IF(Data!$E16=30,Data!FN16,\"\")","v":""},{"$f":"IF(Data!$E16=30,Data!FO16,\"\")","v":""},{"$f":"IF(Data!$E16=30,Data!FP16,IF(Data!BI16<>\"\",Data!BI16,\"\"))","v":""},{"$f":"IF(Data!$E16=30,Data!FQ16,\"\")","v":""},{"$f":"IF(Data!$E16=30,Data!FR16,\"\")","v":""},{"$f":"IF(Data!$E16=30,Data!FS16,IF(Data!BJ16<>\"\",Data!BJ16,\"\"))","v":""},{"$f":"IF(Data!$E16=30,Data!FT16,\"\")","v":""},{"$f":"IF(Data!$E16=30,Data!FU16,\"\")","v":""},{"$f":"IF(Data!$E16=30,Data!FV16,IF(Data!BK16<>\"\",Data!BK16,\"\"))","v":""},{"$f":"IF(Data!$E16=30,Data!FW16,\"\")","v":""},{"$f":"IF(Data!$E16=30,Data!FX16,\"\")","v":""},{"$f":"IF(Data!$E16=30,Data!FY16,IF(Data!BL16<>\"\",Data!BL16,\"\"))","v":""},{"$f":"IF(Data!$E16=30,Data!FZ16,\"\")","v":""},{"$f":"IF(Data!$E16=30,Data!GA16,\"\")","v":""},{"$f":"IF(Data!$E16=30,Data!GB16,IF(Data!BM16<>\"\",Data!BM16,\"\"))","v":""},{"$f":"IF(Data!$E16=30,Data!GC16,\"\")","v":""}]
[null,{"$f":"IF(Data!A17<>\"\",Data!A17,\"\")","v":""},{"$f":"IF(Data!$E17=30,Data!DV17,\"\")","v":""},{"$f":"IF(Data!$E17=30,Data!DW17,IF(Data!AT17<>\"\",Data!AT17,\"\"))","v":""},{"$f":"IF(Data!$E17=30,Data!DX17,\"\")","v":""},{"$f":"IF(Data!$E17=30,Data!DY17,\"\")","v":""},{"$f":"IF(Data!$E17=30,Data!DZ17,IF(Data!AU17<>\"\",Data!AU17,\"\"))","v":""},{"$f":"IF(Data!$E17=30,Data!EA17,\"\")","v":""},{"$f":"IF(Data!$E17=30,Data!EB17,\"\")","v":""},{"$f":"IF(Data!$E17=30,Data!EC17,IF(Data!AV17<>\"\",Data!AV17,\"\"))","v":""},{"$f":"IF(Data!$E17=30,Data!ED17,\"\")","v":""},{"$f":"IF(Data!$E17=30,Data!EE17,\"\")","v":""},{"$f":"IF(Data!$E17=30,Data!EF17,IF(Data!AW17<>\"\",Data!AW17,\"\"))","v":""},{"$f":"IF(Data!$E17=30,Data!EG17,\"\")","v":""},{"$f":"IF(Data!$E17=30,Data!EH17,\"\")","v":""},{"$f":"IF(Data!$E17=30,Data!EI17,IF(Data!AX17<>\"\",Data!AX17,\"\"))","v":""},{"$f":"IF(Data!$E17=30,Data!EJ17,\"\")","v":""},{"$f":"IF(Data!$E17=30,Data!EK17,\"\")","v":""},{"$f":"IF(Data!$E17=30,Data!EL17,IF(Data!AY17<>\"\",Data!AY17,\"\"))","v":""},{"$f":"IF(Data!$E17=30,Data!EM17,\"\")","v":""},{"$f":"IF(Data!$E17=30,Data!EN17,\"\")","v":""},{"$f":"IF(Data!$E17=30,Data!EO17,IF(Data!AZ17<>\"\",Data!AZ17,\"\"))","v":""},{"$f":"IF(Data!$E17=30,Data!EP17,\"\")","v":""},{"$f":"IF(Data!$E17=30,Data!EQ17,\"\")","v":""},{"$f":"IF(Data!$E17=30,Data!ER17,IF(Data!BA17<>\"\",Data!BA17,\"\"))","v":""},{"$f":"IF(Data!$E17=30,Data!ES17,\"\")","v":""},{"$f":"IF(Data!$E17=30,Data!ET17,\"\")","v":""},{"$f":"IF(Data!$E17=30,Data!EU17,IF(Data!BB17<>\"\",Data!BB17,\"\"))","v":""},{"$f":"IF(Data!$E17=30,Data!EV17,\"\")","v":""},{"$f":"IF(Data!$E17=30,Data!EW17,\"\")","v":""},{"$f":"IF(Data!$E17=30,Data!EX17,IF(Data!Z17<>\"\",Data!BC17,\"\"))","v":""},{"$f":"IF(Data!$E17=30,Data!EY17,\"\")","v":""},null,null,null,{"$f":"IF(Data!$E17=30,Data!EZ17,\"\")","v":""},{"$f":"IF(Data!$E17=30,Data!FA17,IF(Data!BD17<>\"\",Data!BD17,\"\"))","v":""},{"$f":"IF(Data!$E17=30,Data!FB17,\"\")","v":""},{"$f":"IF(Data!$E17=30,Data!FC17,\"\")","v":""},{"$f":"IF(Data!$E17=30,Data!FD17,IF(Data!BE17<>\"\",Data!BE17,\"\"))","v":""},{"$f":"IF(Data!$E17=30,Data!FE17,\"\")","v":""},{"$f":"IF(Data!$E17=30,Data!FF17,\"\")","v":""},{"$f":"IF(Data!$E17=30,Data!FG17,IF(Data!BF17<>\"\",Data!BF17,\"\"))","v":""},{"$f":"IF(Data!$E17=30,Data!FH17,\"\")","v":""},{"$f":"IF(Data!$E17=30,Data!FI17,\"\")","v":""},{"$f":"IF(Data!$E17=30,Data!FJ17,IF(Data!BG17<>\"\",Data!BG17,\"\"))","v":""},{"$f":"IF(Data!$E17=30,Data!FK17,\"\")","v":""},{"$f":"IF(Data!$E17=30,Data!FL17,\"\")","v":""},{"$f":"IF(Data!$E17=30,Data!FM17,IF(Data!BH17<>\"\",Data!BH17,\"\"))","v":""},{"$f":"IF(Data!$E17=30,Data!FN17,\"\")","v":""},{"$f":"IF(Data!$E17=30,Data!FO17,\"\")","v":""},{"$f":"IF(Data!$E17=30,Data!FP17,IF(Data!BI17<>\"\",Data!BI17,\"\"))","v":""},{"$f":"IF(Data!$E17=30,Data!FQ17,\"\")","v":""},{"$f":"IF(Data!$E17=30,Data!FR17,\"\")","v":""},{"$f":"IF(Data!$E17=30,Data!FS17,IF(Data!BJ17<>\"\",Data!BJ17,\"\"))","v":""},{"$f":"IF(Data!$E17=30,Data!FT17,\"\")","v":""},{"$f":"IF(Data!$E17=30,Data!FU17,\"\")","v":""},{"$f":"IF(Data!$E17=30,Data!FV17,IF(Data!BK17<>\"\",Data!BK17,\"\"))","v":""},{"$f":"IF(Data!$E17=30,Data!FW17,\"\")","v":""},{"$f":"IF(Data!$E17=30,Data!FX17,\"\")","v":""},{"$f":"IF(Data!$E17=30,Data!FY17,IF(Data!BL17<>\"\",Data!BL17,\"\"))","v":""},{"$f":"IF(Data!$E17=30,Data!FZ17,\"\")","v":""},{"$f":"IF(Data!$E17=30,Data!GA17,\"\")","v":""},{"$f":"IF(Data!$E17=30,Data!GB17,IF(Data!BM17<>\"\",Data!BM17,\"\"))","v":""},{"$f":"IF(Data!$E17=30,Data!GC17,\"\")","v":""}]
[null,{"$f":"IF(Data!A18<>\"\",Data!A18,\"\")","v":""},{"$f":"IF(Data!$E18=30,Data!DV18,\"\")","v":""},{"$f":"IF(Data!$E18=30,Data!DW18,IF(Data!AT18<>\"\",Data!AT18,\"\"))","v":""},{"$f":"IF(Data!$E18=30,Data!DX18,\"\")","v":""},{"$f":"IF(Data!$E18=30,Data!DY18,\"\")","v":""},{"$f":"IF(Data!$E18=30,Data!DZ18,IF(Data!AU18<>\"\",Data!AU18,\"\"))","v":""},{"$f":"IF(Data!$E18=30,Data!EA18,\"\")","v":""},{"$f":"IF(Data!$E18=30,Data!EB18,\"\")","v":""},{"$f":"IF(Data!$E18=30,Data!EC18,IF(Data!AV18<>\"\",Data!AV18,\"\"))","v":""},{"$f":"IF(Data!$E18=30,Data!ED18,\"\")","v":""},{"$f":"IF(Data!$E18=30,Data!EE18,\"\")","v":""},{"$f":"IF(Data!$E18=30,Data!EF18,IF(Data!AW18<>\"\",Data!AW18,\"\"))","v":""},{"$f":"IF(Data!$E18=30,Data!EG18,\"\")","v":""},{"$f":"IF(Data!$E18=30,Data!EH18,\"\")","v":""},{"$f":"IF(Data!$E18=30,Data!EI18,IF(Data!AX18<>\"\",Data!AX18,\"\"))","v":""},{"$f":"IF(Data!$E18=30,Data!EJ18,\"\")","v":""},{"$f":"IF(Data!$E18=30,Data!EK18,\"\")","v":""},{"$f":"IF(Data!$E18=30,Data!EL18,IF(Data!AY18<>\"\",Data!AY18,\"\"))","v":""},{"$f":"IF(Data!$E18=30,Data!EM18,\"\")","v":""},{"$f":"IF(Data!$E18=30,Data!EN18,\"\")","v":""},{"$f":"IF(Data!$E18=30,Data!EO18,IF(Data!AZ18<>\"\",Data!AZ18,\"\"))","v":""},{"$f":"IF(Data!$E18=30,Data!EP18,\"\")","v":""},{"$f":"IF(Data!$E18=30,Data!EQ18,\"\")","v":""},{"$f":"IF(Data!$E18=30,Data!ER18,IF(Data!BA18<>\"\",Data!BA18,\"\"))","v":""},{"$f":"IF(Data!$E18=30,Data!ES18,\"\")","v":""},{"$f":"IF(Data!$E18=30,Data!ET18,\"\")","v":""},{"$f":"IF(Data!$E18=30,Data!EU18,IF(Data!BB18<>\"\",Data!BB18,\"\"))","v":""},{"$f":"IF(Data!$E18=30,Data!EV18,\"\")","v":""},{"$f":"IF(Data!$E18=30,Data!EW18,\"\")","v":""},{"$f":"IF(Data!$E18=30,Data!EX18,IF(Data!Z18<>\"\",Data!BC18,\"\"))","v":""},{"$f":"IF(Data!$E18=30,Data!EY18,\"\")","v":""},null,null,null,{"$f":"IF(Data!$E18=30,Data!EZ18,\"\")","v":""},{"$f":"IF(Data!$E18=30,Data!FA18,IF(Data!BD18<>\"\",Data!BD18,\"\"))","v":""},{"$f":"IF(Data!$E18=30,Data!FB18,\"\")","v":""},{"$f":"IF(Data!$E18=30,Data!FC18,\"\")","v":""},{"$f":"IF(Data!$E18=30,Data!FD18,IF(Data!BE18<>\"\",Data!BE18,\"\"))","v":""},{"$f":"IF(Data!$E18=30,Data!FE18,\"\")","v":""},{"$f":"IF(Data!$E18=30,Data!FF18,\"\")","v":""},{"$f":"IF(Data!$E18=30,Data!FG18,IF(Data!BF18<>\"\",Data!BF18,\"\"))","v":""},{"$f":"IF(Data!$E18=30,Data!FH18,\"\")","v":""},{"$f":"IF(Data!$E18=30,Data!FI18,\"\")","v":""},{"$f":"IF(Data!$E18=30,Data!FJ18,IF(Data!BG18<>\"\",Data!BG18,\"\"))","v":""},{"$f":"IF(Data!$E18=30,Data!FK18,\"\")","v":""},{"$f":"IF(Data!$E18=30,Data!FL18,\"\")","v":""},{"$f":"IF(Data!$E18=30,Data!FM18,IF(Data!BH18<>\"\",Data!BH18,\"\"))","v":""},{"$f":"IF(Data!$E18=30,Data!FN18,\"\")","v":""},{"$f":"IF(Data!$E18=30,Data!FO18,\"\")","v":""},{"$f":"IF(Data!$E18=30,Data!FP18,IF(Data!BI18<>\"\",Data!BI18,\"\"))","v":""},{"$f":"IF(Data!$E18=30,Data!FQ18,\"\")","v":""},{"$f":"IF(Data!$E18=30,Data!FR18,\"\")","v":""},{"$f":"IF(Data!$E18=30,Data!FS18,IF(Data!BJ18<>\"\",Data!BJ18,\"\"))","v":""},{"$f":"IF(Data!$E18=30,Data!FT18,\"\")","v":""},{"$f":"IF(Data!$E18=30,Data!FU18,\"\")","v":""},{"$f":"IF(Data!$E18=30,Data!FV18,IF(Data!BK18<>\"\",Data!BK18,\"\"))","v":""},{"$f":"IF(Data!$E18=30,Data!FW18,\"\")","v":""},{"$f":"IF(Data!$E18=30,Data!FX18,\"\")","v":""},{"$f":"IF(Data!$E18=30,Data!FY18,IF(Data!BL18<>\"\",Data!BL18,\"\"))","v":""},{"$f":"IF(Data!$E18=30,Data!FZ18,\"\")","v":""},{"$f":"IF(Data!$E18=30,Data!GA18,\"\")","v":""},{"$f":"IF(Data!$E18=30,Data!GB18,IF(Data!BM18<>\"\",Data!BM18,\"\"))","v":""},{"$f":"IF(Data!$E18=30,Data!GC18,\"\")","v":""}]
[null,{"$f":"IF(Data!A19<>\"\",Data!A19,\"\")","v":""},{"$f":"IF(Data!$E19=30,Data!DV19,\"\")","v":""},{"$f":"IF(Data!$E19=30,Data!DW19,IF(Data!AT19<>\"\",Data!AT19,\"\"))","v":""},{"$f":"IF(Data!$E19=30,Data!DX19,\"\")","v":""},{"$f":"IF(Data!$E19=30,Data!DY19,\"\")","v":""},{"$f":"IF(Data!$E19=30,Data!DZ19,IF(Data!AU19<>\"\",Data!AU19,\"\"))","v":""},{"$f":"IF(Data!$E19=30,Data!EA19,\"\")","v":""},{"$f":"IF(Data!$E19=30,Data!EB19,\"\")","v":""},{"$f":"IF(Data!$E19=30,Data!EC19,IF(Data!AV19<>\"\",Data!AV19,\"\"))","v":""},{"$f":"IF(Data!$E19=30,Data!ED19,\"\")","v":""},{"$f":"IF(Data!$E19=30,Data!EE19,\"\")","v":""},{"$f":"IF(Data!$E19=30,Data!EF19,IF(Data!AW19<>\"\",Data!AW19,\"\"))","v":""},{"$f":"IF(Data!$E19=30,Data!EG19,\"\")","v":""},{"$f":"IF(Data!$E19=30,Data!EH19,\"\")","v":""},{"$f":"IF(Data!$E19=30,Data!EI19,IF(Data!AX19<>\"\",Data!AX19,\"\"))","v":""},{"$f":"IF(Data!$E19=30,Data!EJ19,\"\")","v":""},{"$f":"IF(Data!$E19=30,Data!EK19,\"\")","v":""},{"$f":"IF(Data!$E19=30,Data!EL19,IF(Data!AY19<>\"\",Data!AY19,\"\"))","v":""},{"$f":"IF(Data!$E19=30,Data!EM19,\"\")","v":""},{"$f":"IF(Data!$E19=30,Data!EN19,\"\")","v":""},{"$f":"IF(Data!$E19=30,Data!EO19,IF(Data!AZ19<>\"\",Data!AZ19,\"\"))","v":""},{"$f":"IF(Data!$E19=30,Data!EP19,\"\")","v":""},{"$f":"IF(Data!$E19=30,Data!EQ19,\"\")","v":""},{"$f":"IF(Data!$E19=30,Data!ER19,IF(Data!BA19<>\"\",Data!BA19,\"\"))","v":""},{"$f":"IF(Data!$E19=30,Data!ES19,\"\")","v":""},{"$f":"IF(Data!$E19=30,Data!ET19,\"\")","v":""},{"$f":"IF(Data!$E19=30,Data!EU19,IF(Data!BB19<>\"\",Data!BB19,\"\"))","v":""},{"$f":"IF(Data!$E19=30,Data!EV19,\"\")","v":""},{"$f":"IF(Data!$E19=30,Data!EW19,\"\")","v":""},{"$f":"IF(Data!$E19=30,Data!EX19,IF(Data!Z19<>\"\",Data!BC19,\"\"))","v":""},{"$f":"IF(Data!$E19=30,Data!EY19,\"\")","v":""},null,null,null,{"$f":"IF(Data!$E19=30,Data!EZ19,\"\")","v":""},{"$f":"IF(Data!$E19=30,Data!FA19,IF(Data!BD19<>\"\",Data!BD19,\"\"))","v":""},{"$f":"IF(Data!$E19=30,Data!FB19,\"\")","v":""},{"$f":"IF(Data!$E19=30,Data!FC19,\"\")","v":""},{"$f":"IF(Data!$E19=30,Data!FD19,IF(Data!BE19<>\"\",Data!BE19,\"\"))","v":""},{"$f":"IF(Data!$E19=30,Data!FE19,\"\")","v":""},{"$f":"IF(Data!$E19=30,Data!FF19,\"\")","v":""},{"$f":"IF(Data!$E19=30,Data!FG19,IF(Data!BF19<>\"\",Data!BF19,\"\"))","v":""},{"$f":"IF(Data!$E19=30,Data!FH19,\"\")","v":""},{"$f":"IF(Data!$E19=30,Data!FI19,\"\")","v":""},{"$f":"IF(Data!$E19=30,Data!FJ19,IF(Data!BG19<>\"\",Data!BG19,\"\"))","v":""},{"$f":"IF(Data!$E19=30,Data!FK19,\"\")","v":""},{"$f":"IF(Data!$E19=30,Data!FL19,\"\")","v":""},{"$f":"IF(Data!$E19=30,Data!FM19,IF(Data!BH19<>\"\",Data!BH19,\"\"))","v":""},{"$f":"IF(Data!$E19=30,Data!FN19,\"\")","v":""},{"$f":"IF(Data!$E19=30,Data!FO19,\"\")","v":""},{"$f":"IF(Data!$E19=30,Data!FP19,IF(Data!BI19<>\"\",Data!BI19,\"\"))","v":""},{"$f":"IF(Data!$E19=30,Data!FQ19,\"\")","v":""},{"$f":"IF(Data!$E19=30,Data!FR19,\"\")","v":""},{"$f":"IF(Data!$E19=30,Data!FS19,IF(Data!BJ19<>\"\",Data!BJ19,\"\"))","v":""},{"$f":"IF(Data!$E19=30,Data!FT19,\"\")","v":""},{"$f":"IF(Data!$E19=30,Data!FU19,\"\")","v":""},{"$f":"IF(Data!$E19=30,Data!FV19,IF(Data!BK19<>\"\",Data!BK19,\"\"))","v":""},{"$f":"IF(Data!$E19=30,Data!FW19,\"\")","v":""},{"$f":"IF(Data!$E19=30,Data!FX19,\"\")","v":""},{"$f":"IF(Data!$E19=30,Data!FY19,IF(Data!BL19<>\"\",Data!BL19,\"\"))","v":""},{"$f":"IF(Data!$E19=30,Data!FZ19,\"\")","v":""},{"$f":"IF(Data!$E19=30,Data!GA19,\"\")","v":""},{"$f":"IF(Data!$E19=30,Data!GB19,IF(Data!BM19<>\"\",Data!BM19,\"\"))","v":""},{"$f":"IF(Data!$E19=30,Data!GC19,\"\")","v":""}]
[null,{"$f":"IF(Data!A20<>\"\",Data!A20,\"\")","v":""},{"$f":"IF(Data!$E20=30,Data!DV20,\"\")","v":""},{"$f":"IF(Data!$E20=30,Data!DW20,IF(Data!AT20<>\"\",Data!AT20,\"\"))","v":""},{"$f":"IF(Data!$E20=30,Data!DX20,\"\")","v":""},{"$f":"IF(Data!$E20=30,Data!DY20,\"\")","v":""},{"$f":"IF(Data!$E20=30,Data!DZ20,IF(Data!AU20<>\"\",Data!AU20,\"\"))","v":""},{"$f":"IF(Data!$E20=30,Data!EA20,\"\")","v":""},{"$f":"IF(Data!$E20=30,Data!EB20,\"\")","v":""},{"$f":"IF(Data!$E20=30,Data!EC20,IF(Data!AV20<>\"\",Data!AV20,\"\"))","v":""},{"$f":"IF(Data!$E20=30,Data!ED20,\"\")","v":""},{"$f":"IF(Data!$E20=30,Data!EE20,\"\")","v":""},{"$f":"IF(Data!$E20=30,Data!EF20,IF(Data!AW20<>\"\",Data!AW20,\"\"))","v":""},{"$f":"IF(Data!$E20=30,Data!EG20,\"\")","v":""},{"$f":"IF(Data!$E20=30,Data!EH20,\"\")","v":""},{"$f":"IF(Data!$E20=30,Data!EI20,IF(Data!AX20<>\"\",Data!AX20,\"\"))","v":""},{"$f":"IF(Data!$E20=30,Data!EJ20,\"\")","v":""},{"$f":"IF(Data!$E20=30,Data!EK20,\"\")","v":""},{"$f":"IF(Data!$E20=30,Data!EL20,IF(Data!AY20<>\"\",Data!AY20,\"\"))","v":""},{"$f":"IF(Data!$E20=30,Data!EM20,\"\")","v":""},{"$f":"IF(Data!$E20=30,Data!EN20,\"\")","v":""},{"$f":"IF(Data!$E20=30,Data!EO20,IF(Data!AZ20<>\"\",Data!AZ20,\"\"))","v":""},{"$f":"IF(Data!$E20=30,Data!EP20,\"\")","v":""},{"$f":"IF(Data!$E20=30,Data!EQ20,\"\")","v":""},{"$f":"IF(Data!$E20=30,Data!ER20,IF(Data!BA20<>\"\",Data!BA20,\"\"))","v":""},{"$f":"IF(Data!$E20=30,Data!ES20,\"\")","v":""},{"$f":"IF(Data!$E20=30,Data!ET20,\"\")","v":""},{"$f":"IF(Data!$E20=30,Data!EU20,IF(Data!BB20<>\"\",Data!BB20,\"\"))","v":""},{"$f":"IF(Data!$E20=30,Data!EV20,\"\")","v":""},{"$f":"IF(Data!$E20=30,Data!EW20,\"\")","v":""},{"$f":"IF(Data!$E20=30,Data!EX20,IF(Data!Z20<>\"\",Data!BC20,\"\"))","v":""},{"$f":"IF(Data!$E20=30,Data!EY20,\"\")","v":""},null,null,null,{"$f":"IF(Data!$E20=30,Data!EZ20,\"\")","v":""},{"$f":"IF(Data!$E20=30,Data!FA20,IF(Data!BD20<>\"\",Data!BD20,\"\"))","v":""},{"$f":"IF(Data!$E20=30,Data!FB20,\"\")","v":""},{"$f":"IF(Data!$E20=30,Data!FC20,\"\")","v":""},{"$f":"IF(Data!$E20=30,Data!FD20,IF(Data!BE20<>\"\",Data!BE20,\"\"))","v":""},{"$f":"IF(Data!$E20=30,Data!FE20,\"\")","v":""},{"$f":"IF(Data!$E20=30,Data!FF20,\"\")","v":""},{"$f":"IF(Data!$E20=30,Data!FG20,IF(Data!BF20<>\"\",Data!BF20,\"\"))","v":""},{"$f":"IF(Data!$E20=30,Data!FH20,\"\")","v":""},{"$f":"IF(Data!$E20=30,Data!FI20,\"\")","v":""},{"$f":"IF(Data!$E20=30,Data!FJ20,IF(Data!BG20<>\"\",Data!BG20,\"\"))","v":""},{"$f":"IF(Data!$E20=30,Data!FK20,\"\")","v":""},{"$f":"IF(Data!$E20=30,Data!FL20,\"\")","v":""},{"$f":"IF(Data!$E20=30,Data!FM20,IF(Data!BH20<>\"\",Data!BH20,\"\"))","v":""},{"$f":"IF(Data!$E20=30,Data!FN20,\"\")","v":""},{"$f":"IF(Data!$E20=30,Data!FO20,\"\")","v":""},{"$f":"IF(Data!$E20=30,Data!FP20,IF(Data!BI20<>\"\",Data!BI20,\"\"))","v":""},{"$f":"IF(Data!$E20=30,Data!FQ20,\"\")","v":""},{"$f":"IF(Data!$E20=30,Data!FR20,\"\")","v":""},{"$f":"IF(Data!$E20=30,Data!FS20,IF(Data!BJ20<>\"\",Data!BJ20,\"\"))","v":""},{"$f":"IF(Data!$E20=30,Data!FT20,\"\")","v":""},{"$f":"IF(Data!$E20=30,Data!FU20,\"\")","v":""},{"$f":"IF(Data!$E20=30,Data!FV20,IF(Data!BK20<>\"\",Data!BK20,\"\"))","v":""},{"$f":"IF(Data!$E20=30,Data!FW20,\"\")","v":""},{"$f":"IF(Data!$E20=30,Data!FX20,\"\")","v":""},{"$f":"IF(Data!$E20=30,Data!FY20,IF(Data!BL20<>\"\",Data!BL20,\"\"))","v":""},{"$f":"IF(Data!$E20=30,Data!FZ20,\"\")","v":""},{"$f":"IF(Data!$E20=30,Data!GA20,\"\")","v":""},{"$f":"IF(Data!$E20=30,Data!GB20,IF(Data!BM20<>\"\",Data!BM20,\"\"))","v":""},{"$f":"IF(Data!$E20=30,Data!GC20,\"\")","v":""}]
[null,{"$f":"IF(Data!A21<>\"\",Data!A21,\"\")","v":""},{"$f":"IF(Data!$E21=30,Data!DV21,\"\")","v":""},{"$f":"IF(Data!$E21=30,Data!DW21,IF(Data!AT21<>\"\",Data!AT21,\"\"))","v":""},{"$f":"IF(Data!$E21=30,Data!DX21,\"\")","v":""},{"$f":"IF(Data!$E21=30,Data!DY21,\"\")","v":""},{"$f":"IF(Data!$E21=30,Data!DZ21,IF(Data!AU21<>\"\",Data!AU21,\"\"))","v":""},{"$f":"IF(Data!$E21=30,Data!EA21,\"\")","v":""},{"$f":"IF(Data!$E21=30,Data!EB21,\"\")","v":""},{"$f":"IF(Data!$E21=30,Data!EC21,IF(Data!AV21<>\"\",Data!AV21,\"\"))","v":""},{"$f":"IF(Data!$E21=30,Data!ED21,\"\")","v":""},{"$f":"IF(Data!$E21=30,Data!EE21,\"\")","v":""},{"$f":"IF(Data!$E21=30,Data!EF21,IF(Data!AW21<>\"\",Data!AW21,\"\"))","v":""},{"$f":"IF(Data!$E21=30,Data!EG21,\"\")","v":""},{"$f":"IF(Data!$E21=30,Data!EH21,\"\")","v":""},{"$f":"IF(Data!$E21=30,Data!EI21,IF(Data!AX21<>\"\",Data!AX21,\"\"))","v":""},{"$f":"IF(Data!$E21=30,Data!EJ21,\"\")","v":""},{"$f":"IF(Data!$E21=30,Data!EK21,\"\")","v":""},{"$f":"IF(Data!$E21=30,Data!EL21,IF(Data!AY21<>\"\",Data!AY21,\"\"))","v":""},{"$f":"IF(Data!$E21=30,Data!EM21,\"\")","v":""},{"$f":"IF(Data!$E21=30,Data!EN21,\"\")","v":""},{"$f":"IF(Data!$E21=30,Data!EO21,IF(Data!AZ21<>\"\",Data!AZ21,\"\"))","v":""},{"$f":"IF(Data!$E21=30,Data!EP21,\"\")","v":""},{"$f":"IF(Data!$E21=30,Data!EQ21,\"\")","v":""},{"$f":"IF(Data!$E21=30,Data!ER21,IF(Data!BA21<>\"\",Data!BA21,\"\"))","v":""},{"$f":"IF(Data!$E21=30,Data!ES21,\"\")","v":""},{"$f":"IF(Data!$E21=30,Data!ET21,\"\")","v":""},{"$f":"IF(Data!$E21=30,Data!EU21,IF(Data!BB21<>\"\",Data!BB21,\"\"))","v":""},{"$f":"IF(Data!$E21=30,Data!EV21,\"\")","v":""},{"$f":"IF(Data!$E21=30,Data!EW21,\"\")","v":""},{"$f":"IF(Data!$E21=30,Data!EX21,IF(Data!Z21<>\"\",Data!BC21,\"\"))","v":""},{"$f":"IF(Data!$E21=30,Data!EY21,\"\")","v":""},null,null,null,{"$f":"IF(Data!$E21=30,Data!EZ21,\"\")","v":""},{"$f":"IF(Data!$E21=30,Data!FA21,IF(Data!BD21<>\"\",Data!BD21,\"\"))","v":""},{"$f":"IF(Data!$E21=30,Data!FB21,\"\")","v":""},{"$f":"IF(Data!$E21=30,Data!FC21,\"\")","v":""},{"$f":"IF(Data!$E21=30,Data!FD21,IF(Data!BE21<>\"\",Data!BE21,\"\"))","v":""},{"$f":"IF(Data!$E21=30,Data!FE21,\"\")","v":""},{"$f":"IF(Data!$E21=30,Data!FF21,\"\")","v":""},{"$f":"IF(Data!$E21=30,Data!FG21,IF(Data!BF21<>\"\",Data!BF21,\"\"))","v":""},{"$f":"IF(Data!$E21=30,Data!FH21,\"\")","v":""},{"$f":"IF(Data!$E21=30,Data!FI21,\"\")","v":""},{"$f":"IF(Data!$E21=30,Data!FJ21,IF(Data!BG21<>\"\",Data!BG21,\"\"))","v":""},{"$f":"IF(Data!$E21=30,Data!FK21,\"\")","v":""},{"$f":"IF(Data!$E21=30,Data!FL21,\"\")","v":""},{"$f":"IF(Data!$E21=30,Data!FM21,IF(Data!BH21<>\"\",Data!BH21,\"\"))","v":""},{"$f":"IF(Data!$E21=30,Data!FN21,\"\")","v":""},{"$f":"IF(Data!$E21=30,Data!FO21,\"\")","v":""},{"$f":"IF(Data!$E21=30,Data!FP21,IF(Data!BI21<>\"\",Data!BI21,\"\"))","v":""},{"$f":"IF(Data!$E21=30,Data!FQ21,\"\")","v":""},{"$f":"IF(Data!$E21=30,Data!FR21,\"\")","v":""},{"$f":"IF(Data!$E21=30,Data!FS21,IF(Data!BJ21<>\"\",Data!BJ21,\"\"))","v":""},{"$f":"IF(Data!$E21=30,Data!FT21,\"\")","v":""},{"$f":"IF(Data!$E21=30,Data!FU21,\"\")","v":""},{"$f":"IF(Data!$E21=30,Data!FV21,IF(Data!BK21<>\"\",Data!BK21,\"\"))","v":""},{"$f":"IF(Data!$E21=30,Data!FW21,\"\")","v":""},{"$f":"IF(Data!$E21=30,Data!FX21,\"\")","v":""},{"$f":"IF(Data!$E21=30,Data!FY21,IF(Data!BL21<>\"\",Data!BL21,\"\"))","v":""},{"$f":"IF(Data!$E21=30,Data!FZ21,\"\")","v":""},{"$f":"IF(Data!$E21=30,Data!GA21,\"\")","v":""},{"$f":"IF(Data!$E21=30,Data!GB21,IF(Data!BM21<>\"\",Data!BM21,\"\"))","v":""},{"$f":"IF(Data!$E21=30,Data!GC21,\"\")","v":""}]
[null,{"$f":"IF(Data!A22<>\"\",Data!A22,\"\")","v":""},{"$f":"IF(Data!$E22=30,Data!DV22,\"\")","v":""},{"$f":"IF(Data!$E22=30,Data!DW22,IF(Data!AT22<>\"\",Data!AT22,\"\"))","v":""},{"$f":"IF(Data!$E22=30,Data!DX22,\"\")","v":""},{"$f":"IF(Data!$E22=30,Data!DY22,\"\")","v":""},{"$f":"IF(Data!$E22=30,Data!DZ22,IF(Data!AU22<>\"\",Data!AU22,\"\"))","v":""},{"$f":"IF(Data!$E22=30,Data!EA22,\"\")","v":""},{"$f":"IF(Data!$E22=30,Data!EB22,\"\")","v":""},{"$f":"IF(Data!$E22=30,Data!EC22,IF(Data!AV22<>\"\",Data!AV22,\"\"))","v":""},{"$f":"IF(Data!$E22=30,Data!ED22,\"\")","v":""},{"$f":"IF(Data!$E22=30,Data!EE22,\"\")","v":""},{"$f":"IF(Data!$E22=30,Data!EF22,IF(Data!AW22<>\"\",Data!AW22,\"\"))","v":""},{"$f":"IF(Data!$E22=30,Data!EG22,\"\")","v":""},{"$f":"IF(Data!$E22=30,Data!EH22,\"\")","v":""},{"$f":"IF(Data!$E22=30,Data!EI22,IF(Data!AX22<>\"\",Data!AX22,\"\"))","v":""},{"$f":"IF(Data!$E22=30,Data!EJ22,\"\")","v":""},{"$f":"IF(Data!$E22=30,Data!EK22,\"\")","v":""},{"$f":"IF(Data!$E22=30,Data!EL22,IF(Data!AY22<>\"\",Data!AY22,\"\"))","v":""},{"$f":"IF(Data!$E22=30,Data!EM22,\"\")","v":""},{"$f":"IF(Data!$E22=30,Data!EN22,\"\")","v":""},{"$f":"IF(Data!$E22=30,Data!EO22,IF(Data!AZ22<>\"\",Data!AZ22,\"\"))","v":""},{"$f":"IF(Data!$E22=30,Data!EP22,\"\")","v":""},{"$f":"IF(Data!$E22=30,Data!EQ22,\"\")","v":""},{"$f":"IF(Data!$E22=30,Data!ER22,IF(Data!BA22<>\"\",Data!BA22,\"\"))","v":""},{"$f":"IF(Data!$E22=30,Data!ES22,\"\")","v":""},{"$f":"IF(Data!$E22=30,Data!ET22,\"\")","v":""},{"$f":"IF(Data!$E22=30,Data!EU22,IF(Data!BB22<>\"\",Data!BB22,\"\"))","v":""},{"$f":"IF(Data!$E22=30,Data!EV22,\"\")","v":""},{"$f":"IF(Data!$E22=30,Data!EW22,\"\")","v":""},{"$f":"IF(Data!$E22=30,Data!EX22,IF(Data!Z22<>\"\",Data!BC22,\"\"))","v":""},{"$f":"IF(Data!$E22=30,Data!EY22,\"\")","v":""},null,null,null,{"$f":"IF(Data!$E22=30,Data!EZ22,\"\")","v":""},{"$f":"IF(Data!$E22=30,Data!FA22,IF(Data!BD22<>\"\",Data!BD22,\"\"))","v":""},{"$f":"IF(Data!$E22=30,Data!FB22,\"\")","v":""},{"$f":"IF(Data!$E22=30,Data!FC22,\"\")","v":""},{"$f":"IF(Data!$E22=30,Data!FD22,IF(Data!BE22<>\"\",Data!BE22,\"\"))","v":""},{"$f":"IF(Data!$E22=30,Data!FE22,\"\")","v":""},{"$f":"IF(Data!$E22=30,Data!FF22,\"\")","v":""},{"$f":"IF(Data!$E22=30,Data!FG22,IF(Data!BF22<>\"\",Data!BF22,\"\"))","v":""},{"$f":"IF(Data!$E22=30,Data!FH22,\"\")","v":""},{"$f":"IF(Data!$E22=30,Data!FI22,\"\")","v":""},{"$f":"IF(Data!$E22=30,Data!FJ22,IF(Data!BG22<>\"\",Data!BG22,\"\"))","v":""},{"$f":"IF(Data!$E22=30,Data!FK22,\"\")","v":""},{"$f":"IF(Data!$E22=30,Data!FL22,\"\")","v":""},{"$f":"IF(Data!$E22=30,Data!FM22,IF(Data!BH22<>\"\",Data!BH22,\"\"))","v":""},{"$f":"IF(Data!$E22=30,Data!FN22,\"\")","v":""},{"$f":"IF(Data!$E22=30,Data!FO22,\"\")","v":""},{"$f":"IF(Data!$E22=30,Data!FP22,IF(Data!BI22<>\"\",Data!BI22,\"\"))","v":""},{"$f":"IF(Data!$E22=30,Data!FQ22,\"\")","v":""},{"$f":"IF(Data!$E22=30,Data!FR22,\"\")","v":""},{"$f":"IF(Data!$E22=30,Data!FS22,IF(Data!BJ22<>\"\",Data!BJ22,\"\"))","v":""},{"$f":"IF(Data!$E22=30,Data!FT22,\"\")","v":""},{"$f":"IF(Data!$E22=30,Data!FU22,\"\")","v":""},{"$f":"IF(Data!$E22=30,Data!FV22,IF(Data!BK22<>\"\",Data!BK22,\"\"))","v":""},{"$f":"IF(Data!$E22=30,Data!FW22,\"\")","v":""},{"$f":"IF(Data!$E22=30,Data!FX22,\"\")","v":""},{"$f":"IF(Data!$E22=30,Data!FY22,IF(Data!BL22<>\"\",Data!BL22,\"\"))","v":""},{"$f":"IF(Data!$E22=30,Data!FZ22,\"\")","v":""},{"$f":"IF(Data!$E22=30,Data!GA22,\"\")","v":""},{"$f":"IF(Data!$E22=30,Data!GB22,IF(Data!BM22<>\"\",Data!BM22,\"\"))","v":""},{"$f":"IF(Data!$E22=30,Data!GC22,\"\")","v":""}]
[null,{"$f":"IF(Data!A23<>\"\",Data!A23,\"\")","v":""},{"$f":"IF(Data!$E23=30,Data!DV23,\"\")","v":""},{"$f":"IF(Data!$E23=30,Data!DW23,IF(Data!AT23<>\"\",Data!AT23,\"\"))","v":""},{"$f":"IF(Data!$E23=30,Data!DX23,\"\")","v":""},{"$f":"IF(Data!$E23=30,Data!DY23,\"\")","v":""},{"$f":"IF(Data!$E23=30,Data!DZ23,IF(Data!AU23<>\"\",Data!AU23,\"\"))","v":""},{"$f":"IF(Data!$E23=30,Data!EA23,\"\")","v":""},{"$f":"IF(Data!$E23=30,Data!EB23,\"\")","v":""},{"$f":"IF(Data!$E23=30,Data!EC23,IF(Data!AV23<>\"\",Data!AV23,\"\"))","v":""},{"$f":"IF(Data!$E23=30,Data!ED23,\"\")","v":""},{"$f":"IF(Data!$E23=30,Data!EE23,\"\")","v":""},{"$f":"IF(Data!$E23=30,Data!EF23,IF(Data!AW23<>\"\",Data!AW23,\"\"))","v":""},{"$f":"IF(Data!$E23=30,Data!EG23,\"\")","v":""},{"$f":"IF(Data!$E23=30,Data!EH23,\"\")","v":""},{"$f":"IF(Data!$E23=30,Data!EI23,IF(Data!AX23<>\"\",Data!AX23,\"\"))","v":""},{"$f":"IF(Data!$E23=30,Data!EJ23,\"\")","v":""},{"$f":"IF(Data!$E23=30,Data!EK23,\"\")","v":""},{"$f":"IF(Data!$E23=30,Data!EL23,IF(Data!AY23<>\"\",Data!AY23,\"\"))","v":""},{"$f":"IF(Data!$E23=30,Data!EM23,\"\")","v":""},{"$f":"IF(Data!$E23=30,Data!EN23,\"\")","v":""},{"$f":"IF(Data!$E23=30,Data!EO23,IF(Data!AZ23<>\"\",Data!AZ23,\"\"))","v":""},{"$f":"IF(Data!$E23=30,Data!EP23,\"\")","v":""},{"$f":"IF(Data!$E23=30,Data!EQ23,\"\")","v":""},{"$f":"IF(Data!$E23=30,Data!ER23,IF(Data!BA23<>\"\",Data!BA23,\"\"))","v":""},{"$f":"IF(Data!$E23=30,Data!ES23,\"\")","v":""},{"$f":"IF(Data!$E23=30,Data!ET23,\"\")","v":""},{"$f":"IF(Data!$E23=30,Data!EU23,IF(Data!BB23<>\"\",Data!BB23,\"\"))","v":""},{"$f":"IF(Data!$E23=30,Data!EV23,\"\")","v":""},{"$f":"IF(Data!$E23=30,Data!EW23,\"\")","v":""},{"$f":"IF(Data!$E23=30,Data!EX23,IF(Data!Z23<>\"\",Data!BC23,\"\"))","v":""},{"$f":"IF(Data!$E23=30,Data!EY23,\"\")","v":""},null,null,null,{"$f":"IF(Data!$E23=30,Data!EZ23,\"\")","v":""},{"$f":"IF(Data!$E23=30,Data!FA23,IF(Data!BD23<>\"\",Data!BD23,\"\"))","v":""},{"$f":"IF(Data!$E23=30,Data!FB23,\"\")","v":""},{"$f":"IF(Data!$E23=30,Data!FC23,\"\")","v":""},{"$f":"IF(Data!$E23=30,Data!FD23,IF(Data!BE23<>\"\",Data!BE23,\"\"))","v":""},{"$f":"IF(Data!$E23=30,Data!FE23,\"\")","v":""},{"$f":"IF(Data!$E23=30,Data!FF23,\"\")","v":""},{"$f":"IF(Data!$E23=30,Data!FG23,IF(Data!BF23<>\"\",Data!BF23,\"\"))","v":""},{"$f":"IF(Data!$E23=30,Data!FH23,\"\")","v":""},{"$f":"IF(Data!$E23=30,Data!FI23,\"\")","v":""},{"$f":"IF(Data!$E23=30,Data!FJ23,IF(Data!BG23<>\"\",Data!BG23,\"\"))","v":""},{"$f":"IF(Data!$E23=30,Data!FK23,\"\")","v":""},{"$f":"IF(Data!$E23=30,Data!FL23,\"\")","v":""},{"$f":"IF(Data!$E23=30,Data!FM23,IF(Data!BH23<>\"\",Data!BH23,\"\"))","v":""},{"$f":"IF(Data!$E23=30,Data!FN23,\"\")","v":""},{"$f":"IF(Data!$E23=30,Data!FO23,\"\")","v":""},{"$f":"IF(Data!$E23=30,Data!FP23,IF(Data!BI23<>\"\",Data!BI23,\"\"))","v":""},{"$f":"IF(Data!$E23=30,Data!FQ23,\"\")","v":""},{"$f":"IF(Data!$E23=30,Data!FR23,\"\")","v":""},{"$f":"IF(Data!$E23=30,Data!FS23,IF(Data!BJ23<>\"\",Data!BJ23,\"\"))","v":""},{"$f":"IF(Data!$E23=30,Data!FT23,\"\")","v":""},{"$f":"IF(Data!$E23=30,Data!FU23,\"\")","v":""},{"$f":"IF(Data!$E23=30,Data!FV23,IF(Data!BK23<>\"\",Data!BK23,\"\"))","v":""},{"$f":"IF(Data!$E23=30,Data!FW23,\"\")","v":""},{"$f":"IF(Data!$E23=30,Data!FX23,\"\")","v":""},{"$f":"IF(Data!$E23=30,Data!FY23,IF(Data!BL23<>\"\",Data!BL23,\"\"))","v":""},{"$f":"IF(Data!$E23=30,Data!FZ23,\"\")","v":""},{"$f":"IF(Data!$E23=30,Data!GA23,\"\")","v":""},{"$f":"IF(Data!$E23=30,Data!GB23,IF(Data!BM23<>\"\",Data!BM23,\"\"))","v":""},{"$f":"IF(Data!$E23=30,Data!GC23,\"\")","v":""}]
[null,{"$f":"IF(Data!A24<>\"\",Data!A24,\"\")","v":""},{"$f":"IF(Data!$E24=30,Data!DV24,\"\")","v":""},{"$f":"IF(Data!$E24=30,Data!DW24,IF(Data!AT24<>\"\",Data!AT24,\"\"))","v":""},{"$f":"IF(Data!$E24=30,Data!DX24,\"\")","v":""},{"$f":"IF(Data!$E24=30,Data!DY24,\"\")","v":""},{"$f":"IF(Data!$E24=30,Data!DZ24,IF(Data!AU24<>\"\",Data!AU24,\"\"))","v":""},{"$f":"IF(Data!$E24=30,Data!EA24,\"\")","v":""},{"$f":"IF(Data!$E24=30,Data!EB24,\"\")","v":""},{"$f":"IF(Data!$E24=30,Data!EC24,IF(Data!AV24<>\"\",Data!AV24,\"\"))","v":""},{"$f":"IF(Data!$E24=30,Data!ED24,\"\")","v":""},{"$f":"IF(Data!$E24=30,Data!EE24,\"\")","v":""},{"$f":"IF(Data!$E24=30,Data!EF24,IF(Data!AW24<>\"\",Data!AW24,\"\"))","v":""},{"$f":"IF(Data!$E24=30,Data!EG24,\"\")","v":""},{"$f":"IF(Data!$E24=30,Data!EH24,\"\")","v":""},{"$f":"IF(Data!$E24=30,Data!EI24,IF(Data!AX24<>\"\",Data!AX24,\"\"))","v":""},{"$f":"IF(Data!$E24=30,Data!EJ24,\"\")","v":""},{"$f":"IF(Data!$E24=30,Data!EK24,\"\")","v":""},{"$f":"IF(Data!$E24=30,Data!EL24,IF(Data!AY24<>\"\",Data!AY24,\"\"))","v":""},{"$f":"IF(Data!$E24=30,Data!EM24,\"\")","v":""},{"$f":"IF(Data!$E24=30,Data!EN24,\"\")","v":""},{"$f":"IF(Data!$E24=30,Data!EO24,IF(Data!AZ24<>\"\",Data!AZ24,\"\"))","v":""},{"$f":"IF(Data!$E24=30,Data!EP24,\"\")","v":""},{"$f":"IF(Data!$E24=30,Data!EQ24,\"\")","v":""},{"$f":"IF(Data!$E24=30,Data!ER24,IF(Data!BA24<>\"\",Data!BA24,\"\"))","v":""},{"$f":"IF(Data!$E24=30,Data!ES24,\"\")","v":""},{"$f":"IF(Data!$E24=30,Data!ET24,\"\")","v":""},{"$f":"IF(Data!$E24=30,Data!EU24,IF(Data!BB24<>\"\",Data!BB24,\"\"))","v":""},{"$f":"IF(Data!$E24=30,Data!EV24,\"\")","v":""},{"$f":"IF(Data!$E24=30,Data!EW24,\"\")","v":""},{"$f":"IF(Data!$E24=30,Data!EX24,IF(Data!Z24<>\"\",Data!BC24,\"\"))","v":""},{"$f":"IF(Data!$E24=30,Data!EY24,\"\")","v":""},null,null,null,{"$f":"IF(Data!$E24=30,Data!EZ24,\"\")","v":""},{"$f":"IF(Data!$E24=30,Data!FA24,IF(Data!BD24<>\"\",Data!BD24,\"\"))","v":""},{"$f":"IF(Data!$E24=30,Data!FB24,\"\")","v":""},{"$f":"IF(Data!$E24=30,Data!FC24,\"\")","v":""},{"$f":"IF(Data!$E24=30,Data!FD24,IF(Data!BE24<>\"\",Data!BE24,\"\"))","v":""},{"$f":"IF(Data!$E24=30,Data!FE24,\"\")","v":""},{"$f":"IF(Data!$E24=30,Data!FF24,\"\")","v":""},{"$f":"IF(Data!$E24=30,Data!FG24,IF(Data!BF24<>\"\",Data!BF24,\"\"))","v":""},{"$f":"IF(Data!$E24=30,Data!FH24,\"\")","v":""},{"$f":"IF(Data!$E24=30,Data!FI24,\"\")","v":""},{"$f":"IF(Data!$E24=30,Data!FJ24,IF(Data!BG24<>\"\",Data!BG24,\"\"))","v":""},{"$f":"IF(Data!$E24=30,Data!FK24,\"\")","v":""},{"$f":"IF(Data!$E24=30,Data!FL24,\"\")","v":""},{"$f":"IF(Data!$E24=30,Data!FM24,IF(Data!BH24<>\"\",Data!BH24,\"\"))","v":""},{"$f":"IF(Data!$E24=30,Data!FN24,\"\")","v":""},{"$f":"IF(Data!$E24=30,Data!FO24,\"\")","v":""},{"$f":"IF(Data!$E24=30,Data!FP24,IF(Data!BI24<>\"\",Data!BI24,\"\"))","v":""},{"$f":"IF(Data!$E24=30,Data!FQ24,\"\")","v":""},{"$f":"IF(Data!$E24=30,Data!FR24,\"\")","v":""},{"$f":"IF(Data!$E24=30,Data!FS24,IF(Data!BJ24<>\"\",Data!BJ24,\"\"))","v":""},{"$f":"IF(Data!$E24=30,Data!FT24,\"\")","v":""},{"$f":"IF(Data!$E24=30,Data!FU24,\"\")","v":""},{"$f":"IF(Data!$E24=30,Data!FV24,IF(Data!BK24<>\"\",Data!BK24,\"\"))","v":""},{"$f":"IF(Data!$E24=30,Data!FW24,\"\")","v":""},{"$f":"IF(Data!$E24=30,Data!FX24,\"\")","v":""},{"$f":"IF(Data!$E24=30,Data!FY24,IF(Data!BL24<>\"\",Data!BL24,\"\"))","v":""},{"$f":"IF(Data!$E24=30,Data!FZ24,\"\")","v":""},{"$f":"IF(Data!$E24=30,Data!GA24,\"\")","v":""},{"$f":"IF(Data!$E24=30,Data!GB24,IF(Data!BM24<>\"\",Data!BM24,\"\"))","v":""},{"$f":"IF(Data!$E24=30,Data!GC24,\"\")","v":""}]
[null,{"$f":"IF(Data!A25<>\"\",Data!A25,\"\")","v":""},{"$f":"IF(Data!$E25=30,Data!DV25,\"\")","v":""},{"$f":"IF(Data!$E25=30,Data!DW25,IF(Data!AT25<>\"\",Data!AT25,\"\"))","v":""},{"$f":"IF(Data!$E25=30,Data!DX25,\"\")","v":""},{"$f":"IF(Data!$E25=30,Data!DY25,\"\")","v":""},{"$f":"IF(Data!$E25=30,Data!DZ25,IF(Data!AU25<>\"\",Data!AU25,\"\"))","v":""},{"$f":"IF(Data!$E25=30,Data!EA25,\"\")","v":""},{"$f":"IF(Data!$E25=30,Data!EB25,\"\")","v":""},{"$f":"IF(Data!$E25=30,Data!EC25,IF(Data!AV25<>\"\",Data!AV25,\"\"))","v":""},{"$f":"IF(Data!$E25=30,Data!ED25,\"\")","v":""},{"$f":"IF(Data!$E25=30,Data!EE25,\"\")","v":""},{"$f":"IF(Data!$E25=30,Data!EF25,IF(Data!AW25<>\"\",Data!AW25,\"\"))","v":""},{"$f":"IF(Data!$E25=30,Data!EG25,\"\")","v":""},{"$f":"IF(Data!$E25=30,Data!EH25,\"\")","v":""},{"$f":"IF(Data!$E25=30,Data!EI25,IF(Data!AX25<>\"\",Data!AX25,\"\"))","v":""},{"$f":"IF(Data!$E25=30,Data!EJ25,\"\")","v":""},{"$f":"IF(Data!$E25=30,Data!EK25,\"\")","v":""},{"$f":"IF(Data!$E25=30,Data!EL25,IF(Data!AY25<>\"\",Data!AY25,\"\"))","v":""},{"$f":"IF(Data!$E25=30,Data!EM25,\"\")","v":""},{"$f":"IF(Data!$E25=30,Data!EN25,\"\")","v":""},{"$f":"IF(Data!$E25=30,Data!EO25,IF(Data!AZ25<>\"\",Data!AZ25,\"\"))","v":""},{"$f":"IF(Data!$E25=30,Data!EP25,\"\")","v":""},{"$f":"IF(Data!$E25=30,Data!EQ25,\"\")","v":""},{"$f":"IF(Data!$E25=30,Data!ER25,IF(Data!BA25<>\"\",Data!BA25,\"\"))","v":""},{"$f":"IF(Data!$E25=30,Data!ES25,\"\")","v":""},{"$f":"IF(Data!$E25=30,Data!ET25,\"\")","v":""},{"$f":"IF(Data!$E25=30,Data!EU25,IF(Data!BB25<>\"\",Data!BB25,\"\"))","v":""},{"$f":"IF(Data!$E25=30,Data!EV25,\"\")","v":""},{"$f":"IF(Data!$E25=30,Data!EW25,\"\")","v":""},{"$f":"IF(Data!$E25=30,Data!EX25,IF(Data!Z25<>\"\",Data!BC25,\"\"))","v":""},{"$f":"IF(Data!$E25=30,Data!EY25,\"\")","v":""},null,null,null,{"$f":"IF(Data!$E25=30,Data!EZ25,\"\")","v":""},{"$f":"IF(Data!$E25=30,Data!FA25,IF(Data!BD25<>\"\",Data!BD25,\"\"))","v":""},{"$f":"IF(Data!$E25=30,Data!FB25,\"\")","v":""},{"$f":"IF(Data!$E25=30,Data!FC25,\"\")","v":""},{"$f":"IF(Data!$E25=30,Data!FD25,IF(Data!BE25<>\"\",Data!BE25,\"\"))","v":""},{"$f":"IF(Data!$E25=30,Data!FE25,\"\")","v":""},{"$f":"IF(Data!$E25=30,Data!FF25,\"\")","v":""},{"$f":"IF(Data!$E25=30,Data!FG25,IF(Data!BF25<>\"\",Data!BF25,\"\"))","v":""},{"$f":"IF(Data!$E25=30,Data!FH25,\"\")","v":""},{"$f":"IF(Data!$E25=30,Data!FI25,\"\")","v":""},{"$f":"IF(Data!$E25=30,Data!FJ25,IF(Data!BG25<>\"\",Data!BG25,\"\"))","v":""},{"$f":"IF(Data!$E25=30,Data!FK25,\"\")","v":""},{"$f":"IF(Data!$E25=30,Data!FL25,\"\")","v":""},{"$f":"IF(Data!$E25=30,Data!FM25,IF(Data!BH25<>\"\",Data!BH25,\"\"))","v":""},{"$f":"IF(Data!$E25=30,Data!FN25,\"\")","v":""},{"$f":"IF(Data!$E25=30,Data!FO25,\"\")","v":""},{"$f":"IF(Data!$E25=30,Data!FP25,IF(Data!BI25<>\"\",Data!BI25,\"\"))","v":""},{"$f":"IF(Data!$E25=30,Data!FQ25,\"\")","v":""},{"$f":"IF(Data!$E25=30,Data!FR25,\"\")","v":""},{"$f":"IF(Data!$E25=30,Data!FS25,IF(Data!BJ25<>\"\",Data!BJ25,\"\"))","v":""},{"$f":"IF(Data!$E25=30,Data!FT25,\"\")","v":""},{"$f":"IF(Data!$E25=30,Data!FU25,\"\")","v":""},{"$f":"IF(Data!$E25=30,Data!FV25,IF(Data!BK25<>\"\",Data!BK25,\"\"))","v":""},{"$f":"IF(Data!$E25=30,Data!FW25,\"\")","v":""},{"$f":"IF(Data!$E25=30,Data!FX25,\"\")","v":""},{"$f":"IF(Data!$E25=30,Data!FY25,IF(Data!BL25<>\"\",Data!BL25,\"\"))","v":""},{"$f":"IF(Data!$E25=30,Data!FZ25,\"\")","v":""},{"$f":"IF(Data!$E25=30,Data!GA25,\"\")","v":""},{"$f":"IF(Data!$E25=30,Data!GB25,IF(Data!BM25<>\"\",Data!BM25,\"\"))","v":""},{"$f":"IF(Data!$E25=30,Data!GC25,\"\")","v":""}]
[null,{"$f":"IF(Data!A26<>\"\",Data!A26,\"\")","v":""},{"$f":"IF(Data!$E26=30,Data!DV26,\"\")","v":""},{"$f":"IF(Data!$E26=30,Data!DW26,IF(Data!AT26<>\"\",Data!AT26,\"\"))","v":""},{"$f":"IF(Data!$E26=30,Data!DX26,\"\")","v":""},{"$f":"IF(Data!$E26=30,Data!DY26,\"\")","v":""},{"$f":"IF(Data!$E26=30,Data!DZ26,IF(Data!AU26<>\"\",Data!AU26,\"\"))","v":""},{"$f":"IF(Data!$E26=30,Data!EA26,\"\")","v":""},{"$f":"IF(Data!$E26=30,Data!EB26,\"\")","v":""},{"$f":"IF(Data!$E26=30,Data!EC26,IF(Data!AV26<>\"\",Data!AV26,\"\"))","v":""},{"$f":"IF(Data!$E26=30,Data!ED26,\"\")","v":""},{"$f":"IF(Data!$E26=30,Data!EE26,\"\")","v":""},{"$f":"IF(Data!$E26=30,Data!EF26,IF(Data!AW26<>\"\",Data!AW26,\"\"))","v":""},{"$f":"IF(Data!$E26=30,Data!EG26,\"\")","v":""},{"$f":"IF(Data!$E26=30,Data!EH26,\"\")","v":""},{"$f":"IF(Data!$E26=30,Data!EI26,IF(Data!AX26<>\"\",Data!AX26,\"\"))","v":""},{"$f":"IF(Data!$E26=30,Data!EJ26,\"\")","v":""},{"$f":"IF(Data!$E26=30,Data!EK26,\"\")","v":""},{"$f":"IF(Data!$E26=30,Data!EL26,IF(Data!AY26<>\"\",Data!AY26,\"\"))","v":""},{"$f":"IF(Data!$E26=30,Data!EM26,\"\")","v":""},{"$f":"IF(Data!$E26=30,Data!EN26,\"\")","v":""},{"$f":"IF(Data!$E26=30,Data!EO26,IF(Data!AZ26<>\"\",Data!AZ26,\"\"))","v":""},{"$f":"IF(Data!$E26=30,Data!EP26,\"\")","v":""},{"$f":"IF(Data!$E26=30,Data!EQ26,\"\")","v":""},{"$f":"IF(Data!$E26=30,Data!ER26,IF(Data!BA26<>\"\",Data!BA26,\"\"))","v":""},{"$f":"IF(Data!$E26=30,Data!ES26,\"\")","v":""},{"$f":"IF(Data!$E26=30,Data!ET26,\"\")","v":""},{"$f":"IF(Data!$E26=30,Data!EU26,IF(Data!BB26<>\"\",Data!BB26,\"\"))","v":""},{"$f":"IF(Data!$E26=30,Data!EV26,\"\")","v":""},{"$f":"IF(Data!$E26=30,Data!EW26,\"\")","v":""},{"$f":"IF(Data!$E26=30,Data!EX26,IF(Data!Z26<>\"\",Data!BC26,\"\"))","v":""},{"$f":"IF(Data!$E26=30,Data!EY26,\"\")","v":""},null,null,null,{"$f":"IF(Data!$E26=30,Data!EZ26,\"\")","v":""},{"$f":"IF(Data!$E26=30,Data!FA26,IF(Data!BD26<>\"\",Data!BD26,\"\"))","v":""},{"$f":"IF(Data!$E26=30,Data!FB26,\"\")","v":""},{"$f":"IF(Data!$E26=30,Data!FC26,\"\")","v":""},{"$f":"IF(Data!$E26=30,Data!FD26,IF(Data!BE26<>\"\",Data!BE26,\"\"))","v":""},{"$f":"IF(Data!$E26=30,Data!FE26,\"\")","v":""},{"$f":"IF(Data!$E26=30,Data!FF26,\"\")","v":""},{"$f":"IF(Data!$E26=30,Data!FG26,IF(Data!BF26<>\"\",Data!BF26,\"\"))","v":""},{"$f":"IF(Data!$E26=30,Data!FH26,\"\")","v":""},{"$f":"IF(Data!$E26=30,Data!FI26,\"\")","v":""},{"$f":"IF(Data!$E26=30,Data!FJ26,IF(Data!BG26<>\"\",Data!BG26,\"\"))","v":""},{"$f":"IF(Data!$E26=30,Data!FK26,\"\")","v":""},{"$f":"IF(Data!$E26=30,Data!FL26,\"\")","v":""},{"$f":"IF(Data!$E26=30,Data!FM26,IF(Data!BH26<>\"\",Data!BH26,\"\"))","v":""},{"$f":"IF(Data!$E26=30,Data!FN26,\"\")","v":""},{"$f":"IF(Data!$E26=30,Data!FO26,\"\")","v":""},{"$f":"IF(Data!$E26=30,Data!FP26,IF(Data!BI26<>\"\",Data!BI26,\"\"))","v":""},{"$f":"IF(Data!$E26=30,Data!FQ26,\"\")","v":""},{"$f":"IF(Data!$E26=30,Data!FR26,\"\")","v":""},{"$f":"IF(Data!$E26=30,Data!FS26,IF(Data!BJ26<>\"\",Data!BJ26,\"\"))","v":""},{"$f":"IF(Data!$E26=30,Data!FT26,\"\")","v":""},{"$f":"IF(Data!$E26=30,Data!FU26,\"\")","v":""},{"$f":"IF(Data!$E26=30,Data!FV26,IF(Data!BK26<>\"\",Data!BK26,\"\"))","v":""},{"$f":"IF(Data!$E26=30,Data!FW26,\"\")","v":""},{"$f":"IF(Data!$E26=30,Data!FX26,\"\")","v":""},{"$f":"IF(Data!$E26=30,Data!FY26,IF(Data!BL26<>\"\",Data!BL26,\"\"))","v":""},{"$f":"IF(Data!$E26=30,Data!FZ26,\"\")","v":""},{"$f":"IF(Data!$E26=30,Data!GA26,\"\")","v":""},{"$f":"IF(Data!$E26=30,Data!GB26,IF(Data!BM26<>\"\",Data!BM26,\"\"))","v":""},{"$f":"IF(Data!$E26=30,Data!GC26,\"\")","v":""}]
[null,{"$f":"IF(Data!A27<>\"\",Data!A27,\"\")","v":""},{"$f":"IF(Data!$E27=30,Data!DV27,\"\")","v":""},{"$f":"IF(Data!$E27=30,Data!DW27,IF(Data!AT27<>\"\",Data!AT27,\"\"))","v":""},{"$f":"IF(Data!$E27=30,Data!DX27,\"\")","v":""},{"$f":"IF(Data!$E27=30,Data!DY27,\"\")","v":""},{"$f":"IF(Data!$E27=30,Data!DZ27,IF(Data!AU27<>\"\",Data!AU27,\"\"))","v":""},{"$f":"IF(Data!$E27=30,Data!EA27,\"\")","v":""},{"$f":"IF(Data!$E27=30,Data!EB27,\"\")","v":""},{"$f":"IF(Data!$E27=30,Data!EC27,IF(Data!AV27<>\"\",Data!AV27,\"\"))","v":""},{"$f":"IF(Data!$E27=30,Data!ED27,\"\")","v":""},{"$f":"IF(Data!$E27=30,Data!EE27,\"\")","v":""},{"$f":"IF(Data!$E27=30,Data!EF27,IF(Data!AW27<>\"\",Data!AW27,\"\"))","v":""},{"$f":"IF(Data!$E27=30,Data!EG27,\"\")","v":""},{"$f":"IF(Data!$E27=30,Data!EH27,\"\")","v":""},{"$f":"IF(Data!$E27=30,Data!EI27,IF(Data!AX27<>\"\",Data!AX27,\"\"))","v":""},{"$f":"IF(Data!$E27=30,Data!EJ27,\"\")","v":""},{"$f":"IF(Data!$E27=30,Data!EK27,\"\")","v":""},{"$f":"IF(Data!$E27=30,Data!EL27,IF(Data!AY27<>\"\",Data!AY27,\"\"))","v":""},{"$f":"IF(Data!$E27=30,Data!EM27,\"\")","v":""},{"$f":"IF(Data!$E27=30,Data!EN27,\"\")","v":""},{"$f":"IF(Data!$E27=30,Data!EO27,IF(Data!AZ27<>\"\",Data!AZ27,\"\"))","v":""},{"$f":"IF(Data!$E27=30,Data!EP27,\"\")","v":""},{"$f":"IF(Data!$E27=30,Data!EQ27,\"\")","v":""},{"$f":"IF(Data!$E27=30,Data!ER27,IF(Data!BA27<>\"\",Data!BA27,\"\"))","v":""},{"$f":"IF(Data!$E27=30,Data!ES27,\"\")","v":""},{"$f":"IF(Data!$E27=30,Data!ET27,\"\")","v":""},{"$f":"IF(Data!$E27=30,Data!EU27,IF(Data!BB27<>\"\",Data!BB27,\"\"))","v":""},{"$f":"IF(Data!$E27=30,Data!EV27,\"\")","v":""},{"$f":"IF(Data!$E27=30,Data!EW27,\"\")","v":""},{"$f":"IF(Data!$E27=30,Data!EX27,IF(Data!Z27<>\"\",Data!BC27,\"\"))","v":""},{"$f":"IF(Data!$E27=30,Data!EY27,\"\")","v":""},null,null,null,{"$f":"IF(Data!$E27=30,Data!EZ27,\"\")","v":""},{"$f":"IF(Data!$E27=30,Data!FA27,IF(Data!BD27<>\"\",Data!BD27,\"\"))","v":""},{"$f":"IF(Data!$E27=30,Data!FB27,\"\")","v":""},{"$f":"IF(Data!$E27=30,Data!FC27,\"\")","v":""},{"$f":"IF(Data!$E27=30,Data!FD27,IF(Data!BE27<>\"\",Data!BE27,\"\"))","v":""},{"$f":"IF(Data!$E27=30,Data!FE27,\"\")","v":""},{"$f":"IF(Data!$E27=30,Data!FF27,\"\")","v":""},{"$f":"IF(Data!$E27=30,Data!FG27,IF(Data!BF27<>\"\",Data!BF27,\"\"))","v":""},{"$f":"IF(Data!$E27=30,Data!FH27,\"\")","v":""},{"$f":"IF(Data!$E27=30,Data!FI27,\"\")","v":""},{"$f":"IF(Data!$E27=30,Data!FJ27,IF(Data!BG27<>\"\",Data!BG27,\"\"))","v":""},{"$f":"IF(Data!$E27=30,Data!FK27,\"\")","v":""},{"$f":"IF(Data!$E27=30,Data!FL27,\"\")","v":""},{"$f":"IF(Data!$E27=30,Data!FM27,IF(Data!BH27<>\"\",Data!BH27,\"\"))","v":""},{"$f":"IF(Data!$E27=30,Data!FN27,\"\")","v":""},{"$f":"IF(Data!$E27=30,Data!FO27,\"\")","v":""},{"$f":"IF(Data!$E27=30,Data!FP27,IF(Data!BI27<>\"\",Data!BI27,\"\"))","v":""},{"$f":"IF(Data!$E27=30,Data!FQ27,\"\")","v":""},{"$f":"IF(Data!$E27=30,Data!FR27,\"\")","v":""},{"$f":"IF(Data!$E27=30,Data!FS27,IF(Data!BJ27<>\"\",Data!BJ27,\"\"))","v":""},{"$f":"IF(Data!$E27=30,Data!FT27,\"\")","v":""},{"$f":"IF(Data!$E27=30,Data!FU27,\"\")","v":""},{"$f":"IF(Data!$E27=30,Data!FV27,IF(Data!BK27<>\"\",Data!BK27,\"\"))","v":""},{"$f":"IF(Data!$E27=30,Data!FW27,\"\")","v":""},{"$f":"IF(Data!$E27=30,Data!FX27,\"\")","v":""},{"$f":"IF(Data!$E27=30,Data!FY27,IF(Data!BL27<>\"\",Data!BL27,\"\"))","v":""},{"$f":"IF(Data!$E27=30,Data!FZ27,\"\")","v":""},{"$f":"IF(Data!$E27=30,Data!GA27,\"\")","v":""},{"$f":"IF(Data!$E27=30,Data!GB27,IF(Data!BM27<>\"\",Data!BM27,\"\"))","v":""},{"$f":"IF(Data!$E27=30,Data!GC27,\"\")","v":""}]
[null,{"$f":"IF(Data!A28<>\"\",Data!A28,\"\")","v":""},{"$f":"IF(Data!$E28=30,Data!DV28,\"\")","v":""},{"$f":"IF(Data!$E28=30,Data!DW28,IF(Data!AT28<>\"\",Data!AT28,\"\"))","v":""},{"$f":"IF(Data!$E28=30,Data!DX28,\"\")","v":""},{"$f":"IF(Data!$E28=30,Data!DY28,\"\")","v":""},{"$f":"IF(Data!$E28=30,Data!DZ28,IF(Data!AU28<>\"\",Data!AU28,\"\"))","v":""},{"$f":"IF(Data!$E28=30,Data!EA28,\"\")","v":""},{"$f":"IF(Data!$E28=30,Data!EB28,\"\")","v":""},{"$f":"IF(Data!$E28=30,Data!EC28,IF(Data!AV28<>\"\",Data!AV28,\"\"))","v":""},{"$f":"IF(Data!$E28=30,Data!ED28,\"\")","v":""},{"$f":"IF(Data!$E28=30,Data!EE28,\"\")","v":""},{"$f":"IF(Data!$E28=30,Data!EF28,IF(Data!AW28<>\"\",Data!AW28,\"\"))","v":""},{"$f":"IF(Data!$E28=30,Data!EG28,\"\")","v":""},{"$f":"IF(Data!$E28=30,Data!EH28,\"\")","v":""},{"$f":"IF(Data!$E28=30,Data!EI28,IF(Data!AX28<>\"\",Data!AX28,\"\"))","v":""},{"$f":"IF(Data!$E28=30,Data!EJ28,\"\")","v":""},{"$f":"IF(Data!$E28=30,Data!EK28,\"\")","v":""},{"$f":"IF(Data!$E28=30,Data!EL28,IF(Data!AY28<>\"\",Data!AY28,\"\"))","v":""},{"$f":"IF(Data!$E28=30,Data!EM28,\"\")","v":""},{"$f":"IF(Data!$E28=30,Data!EN28,\"\")","v":""},{"$f":"IF(Data!$E28=30,Data!EO28,IF(Data!AZ28<>\"\",Data!AZ28,\"\"))","v":""},{"$f":"IF(Data!$E28=30,Data!EP28,\"\")","v":""},{"$f":"IF(Data!$E28=30,Data!EQ28,\"\")","v":""},{"$f":"IF(Data!$E28=30,Data!ER28,IF(Data!BA28<>\"\",Data!BA28,\"\"))","v":""},{"$f":"IF(Data!$E28=30,Data!ES28,\"\")","v":""},{"$f":"IF(Data!$E28=30,Data!ET28,\"\")","v":""},{"$f":"IF(Data!$E28=30,Data!EU28,IF(Data!BB28<>\"\",Data!BB28,\"\"))","v":""},{"$f":"IF(Data!$E28=30,Data!EV28,\"\")","v":""},{"$f":"IF(Data!$E28=30,Data!EW28,\"\")","v":""},{"$f":"IF(Data!$E28=30,Data!EX28,IF(Data!Z28<>\"\",Data!BC28,\"\"))","v":""},{"$f":"IF(Data!$E28=30,Data!EY28,\"\")","v":""},null,null,null,{"$f":"IF(Data!$E28=30,Data!EZ28,\"\")","v":""},{"$f":"IF(Data!$E28=30,Data!FA28,IF(Data!BD28<>\"\",Data!BD28,\"\"))","v":""},{"$f":"IF(Data!$E28=30,Data!FB28,\"\")","v":""},{"$f":"IF(Data!$E28=30,Data!FC28,\"\")","v":""},{"$f":"IF(Data!$E28=30,Data!FD28,IF(Data!BE28<>\"\",Data!BE28,\"\"))","v":""},{"$f":"IF(Data!$E28=30,Data!FE28,\"\")","v":""},{"$f":"IF(Data!$E28=30,Data!FF28,\"\")","v":""},{"$f":"IF(Data!$E28=30,Data!FG28,IF(Data!BF28<>\"\",Data!BF28,\"\"))","v":""},{"$f":"IF(Data!$E28=30,Data!FH28,\"\")","v":""},{"$f":"IF(Data!$E28=30,Data!FI28,\"\")","v":""},{"$f":"IF(Data!$E28=30,Data!FJ28,IF(Data!BG28<>\"\",Data!BG28,\"\"))","v":""},{"$f":"IF(Data!$E28=30,Data!FK28,\"\")","v":""},{"$f":"IF(Data!$E28=30,Data!FL28,\"\")","v":""},{"$f":"IF(Data!$E28=30,Data!FM28,IF(Data!BH28<>\"\",Data!BH28,\"\"))","v":""},{"$f":"IF(Data!$E28=30,Data!FN28,\"\")","v":""},{"$f":"IF(Data!$E28=30,Data!FO28,\"\")","v":""},{"$f":"IF(Data!$E28=30,Data!FP28,IF(Data!BI28<>\"\",Data!BI28,\"\"))","v":""},{"$f":"IF(Data!$E28=30,Data!FQ28,\"\")","v":""},{"$f":"IF(Data!$E28=30,Data!FR28,\"\")","v":""},{"$f":"IF(Data!$E28=30,Data!FS28,IF(Data!BJ28<>\"\",Data!BJ28,\"\"))","v":""},{"$f":"IF(Data!$E28=30,Data!FT28,\"\")","v":""},{"$f":"IF(Data!$E28=30,Data!FU28,\"\")","v":""},{"$f":"IF(Data!$E28=30,Data!FV28,IF(Data!BK28<>\"\",Data!BK28,\"\"))","v":""},{"$f":"IF(Data!$E28=30,Data!FW28,\"\")","v":""},{"$f":"IF(Data!$E28=30,Data!FX28,\"\")","v":""},{"$f":"IF(Data!$E28=30,Data!FY28,IF(Data!BL28<>\"\",Data!BL28,\"\"))","v":""},{"$f":"IF(Data!$E28=30,Data!FZ28,\"\")","v":""},{"$f":"IF(Data!$E28=30,Data!GA28,\"\")","v":""},{"$f":"IF(Data!$E28=30,Data!GB28,IF(Data!BM28<>\"\",Data!BM28,\"\"))","v":""},{"$f":"IF(Data!$E28=30,Data!GC28,\"\")","v":""}]
[null,{"$f":"IF(Data!A29<>\"\",Data!A29,\"\")","v":""},{"$f":"IF(Data!$E29=30,Data!DV29,\"\")","v":""},{"$f":"IF(Data!$E29=30,Data!DW29,IF(Data!AT29<>\"\",Data!AT29,\"\"))","v":""},{"$f":"IF(Data!$E29=30,Data!DX29,\"\")","v":""},{"$f":"IF(Data!$E29=30,Data!DY29,\"\")","v":""},{"$f":"IF(Data!$E29=30,Data!DZ29,IF(Data!AU29<>\"\",Data!AU29,\"\"))","v":""},{"$f":"IF(Data!$E29=30,Data!EA29,\"\")","v":""},{"$f":"IF(Data!$E29=30,Data!EB29,\"\")","v":""},{"$f":"IF(Data!$E29=30,Data!EC29,IF(Data!AV29<>\"\",Data!AV29,\"\"))","v":""},{"$f":"IF(Data!$E29=30,Data!ED29,\"\")","v":""},{"$f":"IF(Data!$E29=30,Data!EE29,\"\")","v":""},{"$f":"IF(Data!$E29=30,Data!EF29,IF(Data!AW29<>\"\",Data!AW29,\"\"))","v":""},{"$f":"IF(Data!$E29=30,Data!EG29,\"\")","v":""},{"$f":"IF(Data!$E29=30,Data!EH29,\"\")","v":""},{"$f":"IF(Data!$E29=30,Data!EI29,IF(Data!AX29<>\"\",Data!AX29,\"\"))","v":""},{"$f":"IF(Data!$E29=30,Data!EJ29,\"\")","v":""},{"$f":"IF(Data!$E29=30,Data!EK29,\"\")","v":""},{"$f":"IF(Data!$E29=30,Data!EL29,IF(Data!AY29<>\"\",Data!AY29,\"\"))","v":""},{"$f":"IF(Data!$E29=30,Data!EM29,\"\")","v":""},{"$f":"IF(Data!$E29=30,Data!EN29,\"\")","v":""},{"$f":"IF(Data!$E29=30,Data!EO29,IF(Data!AZ29<>\"\",Data!AZ29,\"\"))","v":""},{"$f":"IF(Data!$E29=30,Data!EP29,\"\")","v":""},{"$f":"IF(Data!$E29=30,Data!EQ29,\"\")","v":""},{"$f":"IF(Data!$E29=30,Data!ER29,IF(Data!BA29<>\"\",Data!BA29,\"\"))","v":""},{"$f":"IF(Data!$E29=30,Data!ES29,\"\")","v":""},{"$f":"IF(Data!$E29=30,Data!ET29,\"\")","v":""},{"$f":"IF(Data!$E29=30,Data!EU29,IF(Data!BB29<>\"\",Data!BB29,\"\"))","v":""},{"$f":"IF(Data!$E29=30,Data!EV29,\"\")","v":""},{"$f":"IF(Data!$E29=30,Data!EW29,\"\")","v":""},{"$f":"IF(Data!$E29=30,Data!EX29,IF(Data!Z29<>\"\",Data!BC29,\"\"))","v":""},{"$f":"IF(Data!$E29=30,Data!EY29,\"\")","v":""},null,null,null,{"$f":"IF(Data!$E29=30,Data!EZ29,\"\")","v":""},{"$f":"IF(Data!$E29=30,Data!FA29,IF(Data!BD29<>\"\",Data!BD29,\"\"))","v":""},{"$f":"IF(Data!$E29=30,Data!FB29,\"\")","v":""},{"$f":"IF(Data!$E29=30,Data!FC29,\"\")","v":""},{"$f":"IF(Data!$E29=30,Data!FD29,IF(Data!BE29<>\"\",Data!BE29,\"\"))","v":""},{"$f":"IF(Data!$E29=30,Data!FE29,\"\")","v":""},{"$f":"IF(Data!$E29=30,Data!FF29,\"\")","v":""},{"$f":"IF(Data!$E29=30,Data!FG29,IF(Data!BF29<>\"\",Data!BF29,\"\"))","v":""},{"$f":"IF(Data!$E29=30,Data!FH29,\"\")","v":""},{"$f":"IF(Data!$E29=30,Data!FI29,\"\")","v":""},{"$f":"IF(Data!$E29=30,Data!FJ29,IF(Data!BG29<>\"\",Data!BG29,\"\"))","v":""},{"$f":"IF(Data!$E29=30,Data!FK29,\"\")","v":""},{"$f":"IF(Data!$E29=30,Data!FL29,\"\")","v":""},{"$f":"IF(Data!$E29=30,Data!FM29,IF(Data!BH29<>\"\",Data!BH29,\"\"))","v":""},{"$f":"IF(Data!$E29=30,Data!FN29,\"\")","v":""},{"$f":"IF(Data!$E29=30,Data!FO29,\"\")","v":""},{"$f":"IF(Data!$E29=30,Data!FP29,IF(Data!BI29<>\"\",Data!BI29,\"\"))","v":""},{"$f":"IF(Data!$E29=30,Data!FQ29,\"\")","v":""},{"$f":"IF(Data!$E29=30,Data!FR29,\"\")","v":""},{"$f":"IF(Data!$E29=30,Data!FS29,IF(Data!BJ29<>\"\",Data!BJ29,\"\"))","v":""},{"$f":"IF(Data!$E29=30,Data!FT29,\"\")","v":""},{"$f":"IF(Data!$E29=30,Data!FU29,\"\")","v":""},{"$f":"IF(Data!$E29=30,Data!FV29,IF(Data!BK29<>\"\",Data!BK29,\"\"))","v":""},{"$f":"IF(Data!$E29=30,Data!FW29,\"\")","v":""},{"$f":"IF(Data!$E29=30,Data!FX29,\"\")","v":""},{"$f":"IF(Data!$E29=30,Data!FY29,IF(Data!BL29<>\"\",Data!BL29,\"\"))","v":""},{"$f":"IF(Data!$E29=30,Data!FZ29,\"\")","v":""},{"$f":"IF(Data!$E29=30,Data!GA29,\"\")","v":""},{"$f":"IF(Data!$E29=30,Data!GB29,IF(Data!BM29<>\"\",Data!BM29,\"\"))","v":""},{"$f":"IF(Data!$E29=30,Data!GC29,\"\")","v":""}]
[null,{"$f":"IF(Data!A30<>\"\",Data!A30,\"\")","v":""},{"$f":"IF(Data!$E30=30,Data!DV30,\"\")","v":""},{"$f":"IF(Data!$E30=30,Data!DW30,IF(Data!AT30<>\"\",Data!AT30,\"\"))","v":""},{"$f":"IF(Data!$E30=30,Data!DX30,\"\")","v":""},{"$f":"IF(Data!$E30=30,Data!DY30,\"\")","v":""},{"$f":"IF(Data!$E30=30,Data!DZ30,IF(Data!AU30<>\"\",Data!AU30,\"\"))","v":""},{"$f":"IF(Data!$E30=30,Data!EA30,\"\")","v":""},{"$f":"IF(Data!$E30=30,Data!EB30,\"\")","v":""},{"$f":"IF(Data!$E30=30,Data!EC30,IF(Data!AV30<>\"\",Data!AV30,\"\"))","v":""},{"$f":"IF(Data!$E30=30,Data!ED30,\"\")","v":""},{"$f":"IF(Data!$E30=30,Data!EE30,\"\")","v":""},{"$f":"IF(Data!$E30=30,Data!EF30,IF(Data!AW30<>\"\",Data!AW30,\"\"))","v":""},{"$f":"IF(Data!$E30=30,Data!EG30,\"\")","v":""},{"$f":"IF(Data!$E30=30,Data!EH30,\"\")","v":""},{"$f":"IF(Data!$E30=30,Data!EI30,IF(Data!AX30<>\"\",Data!AX30,\"\"))","v":""},{"$f":"IF(Data!$E30=30,Data!EJ30,\"\")","v":""},{"$f":"IF(Data!$E30=30,Data!EK30,\"\")","v":""},{"$f":"IF(Data!$E30=30,Data!EL30,IF(Data!AY30<>\"\",Data!AY30,\"\"))","v":""},{"$f":"IF(Data!$E30=30,Data!EM30,\"\")","v":""},{"$f":"IF(Data!$E30=30,Data!EN30,\"\")","v":""},{"$f":"IF(Data!$E30=30,Data!EO30,IF(Data!AZ30<>\"\",Data!AZ30,\"\"))","v":""},{"$f":"IF(Data!$E30=30,Data!EP30,\"\")","v":""},{"$f":"IF(Data!$E30=30,Data!EQ30,\"\")","v":""},{"$f":"IF(Data!$E30=30,Data!ER30,IF(Data!BA30<>\"\",Data!BA30,\"\"))","v":""},{"$f":"IF(Data!$E30=30,Data!ES30,\"\")","v":""},{"$f":"IF(Data!$E30=30,Data!ET30,\"\")","v":""},{"$f":"IF(Data!$E30=30,Data!EU30,IF(Data!BB30<>\"\",Data!BB30,\"\"))","v":""},{"$f":"IF(Data!$E30=30,Data!EV30,\"\")","v":""},{"$f":"IF(Data!$E30=30,Data!EW30,\"\")","v":""},{"$f":"IF(Data!$E30=30,Data!EX30,IF(Data!Z30<>\"\",Data!BC30,\"\"))","v":""},{"$f":"IF(Data!$E30=30,Data!EY30,\"\")","v":""},null,null,null,{"$f":"IF(Data!$E30=30,Data!EZ30,\"\")","v":""},{"$f":"IF(Data!$E30=30,Data!FA30,IF(Data!BD30<>\"\",Data!BD30,\"\"))","v":""},{"$f":"IF(Data!$E30=30,Data!FB30,\"\")","v":""},{"$f":"IF(Data!$E30=30,Data!FC30,\"\")","v":""},{"$f":"IF(Data!$E30=30,Data!FD30,IF(Data!BE30<>\"\",Data!BE30,\"\"))","v":""},{"$f":"IF(Data!$E30=30,Data!FE30,\"\")","v":""},{"$f":"IF(Data!$E30=30,Data!FF30,\"\")","v":""},{"$f":"IF(Data!$E30=30,Data!FG30,IF(Data!BF30<>\"\",Data!BF30,\"\"))","v":""},{"$f":"IF(Data!$E30=30,Data!FH30,\"\")","v":""},{"$f":"IF(Data!$E30=30,Data!FI30,\"\")","v":""},{"$f":"IF(Data!$E30=30,Data!FJ30,IF(Data!BG30<>\"\",Data!BG30,\"\"))","v":""},{"$f":"IF(Data!$E30=30,Data!FK30,\"\")","v":""},{"$f":"IF(Data!$E30=30,Data!FL30,\"\")","v":""},{"$f":"IF(Data!$E30=30,Data!FM30,IF(Data!BH30<>\"\",Data!BH30,\"\"))","v":""},{"$f":"IF(Data!$E30=30,Data!FN30,\"\")","v":""},{"$f":"IF(Data!$E30=30,Data!FO30,\"\")","v":""},{"$f":"IF(Data!$E30=30,Data!FP30,IF(Data!BI30<>\"\",Data!BI30,\"\"))","v":""},{"$f":"IF(Data!$E30=30,Data!FQ30,\"\")","v":""},{"$f":"IF(Data!$E30=30,Data!FR30,\"\")","v":""},{"$f":"IF(Data!$E30=30,Data!FS30,IF(Data!BJ30<>\"\",Data!BJ30,\"\"))","v":""},{"$f":"IF(Data!$E30=30,Data!FT30,\"\")","v":""},{"$f":"IF(Data!$E30=30,Data!FU30,\"\")","v":""},{"$f":"IF(Data!$E30=30,Data!FV30,IF(Data!BK30<>\"\",Data!BK30,\"\"))","v":""},{"$f":"IF(Data!$E30=30,Data!FW30,\"\")","v":""},{"$f":"IF(Data!$E30=30,Data!FX30,\"\")","v":""},{"$f":"IF(Data!$E30=30,Data!FY30,IF(Data!BL30<>\"\",Data!BL30,\"\"))","v":""},{"$f":"IF(Data!$E30=30,Data!FZ30,\"\")","v":""},{"$f":"IF(Data!$E30=30,Data!GA30,\"\")","v":""},{"$f":"IF(Data!$E30=30,Data!GB30,IF(Data!BM30<>\"\",Data!BM30,\"\"))","v":""},{"$f":"IF(Data!$E30=30,Data!GC30,\"\")","v":""}]
[null,{"$f":"IF(Data!A31<>\"\",Data!A31,\"\")","v":""},{"$f":"IF(Data!$E31=30,Data!DV31,\"\")","v":""},{"$f":"IF(Data!$E31=30,Data!DW31,IF(Data!AT31<>\"\",Data!AT31,\"\"))","v":""},{"$f":"IF(Data!$E31=30,Data!DX31,\"\")","v":""},{"$f":"IF(Data!$E31=30,Data!DY31,\"\")","v":""},{"$f":"IF(Data!$E31=30,Data!DZ31,IF(Data!AU31<>\"\",Data!AU31,\"\"))","v":""},{"$f":"IF(Data!$E31=30,Data!EA31,\"\")","v":""},{"$f":"IF(Data!$E31=30,Data!EB31,\"\")","v":""},{"$f":"IF(Data!$E31=30,Data!EC31,IF(Data!AV31<>\"\",Data!AV31,\"\"))","v":""},{"$f":"IF(Data!$E31=30,Data!ED31,\"\")","v":""},{"$f":"IF(Data!$E31=30,Data!EE31,\"\")","v":""},{"$f":"IF(Data!$E31=30,Data!EF31,IF(Data!AW31<>\"\",Data!AW31,\"\"))","v":""},{"$f":"IF(Data!$E31=30,Data!EG31,\"\")","v":""},{"$f":"IF(Data!$E31=30,Data!EH31,\"\")","v":""},{"$f":"IF(Data!$E31=30,Data!EI31,IF(Data!AX31<>\"\",Data!AX31,\"\"))","v":""},{"$f":"IF(Data!$E31=30,Data!EJ31,\"\")","v":""},{"$f":"IF(Data!$E31=30,Data!EK31,\"\")","v":""},{"$f":"IF(Data!$E31=30,Data!EL31,IF(Data!AY31<>\"\",Data!AY31,\"\"))","v":""},{"$f":"IF(Data!$E31=30,Data!EM31,\"\")","v":""},{"$f":"IF(Data!$E31=30,Data!EN31,\"\")","v":""},{"$f":"IF(Data!$E31=30,Data!EO31,IF(Data!AZ31<>\"\",Data!AZ31,\"\"))","v":""},{"$f":"IF(Data!$E31=30,Data!EP31,\"\")","v":""},{"$f":"IF(Data!$E31=30,Data!EQ31,\"\")","v":""},{"$f":"IF(Data!$E31=30,Data!ER31,IF(Data!BA31<>\"\",Data!BA31,\"\"))","v":""},{"$f":"IF(Data!$E31=30,Data!ES31,\"\")","v":""},{"$f":"IF(Data!$E31=30,Data!ET31,\"\")","v":""},{"$f":"IF(Data!$E31=30,Data!EU31,IF(Data!BB31<>\"\",Data!BB31,\"\"))","v":""},{"$f":"IF(Data!$E31=30,Data!EV31,\"\")","v":""},{"$f":"IF(Data!$E31=30,Data!EW31,\"\")","v":""},{"$f":"IF(Data!$E31=30,Data!EX31,IF(Data!Z31<>\"\",Data!BC31,\"\"))","v":""},{"$f":"IF(Data!$E31=30,Data!EY31,\"\")","v":""},null,null,null,{"$f":"IF(Data!$E31=30,Data!EZ31,\"\")","v":""},{"$f":"IF(Data!$E31=30,Data!FA31,IF(Data!BD31<>\"\",Data!BD31,\"\"))","v":""},{"$f":"IF(Data!$E31=30,Data!FB31,\"\")","v":""},{"$f":"IF(Data!$E31=30,Data!FC31,\"\")","v":""},{"$f":"IF(Data!$E31=30,Data!FD31,IF(Data!BE31<>\"\",Data!BE31,\"\"))","v":""},{"$f":"IF(Data!$E31=30,Data!FE31,\"\")","v":""},{"$f":"IF(Data!$E31=30,Data!FF31,\"\")","v":""},{"$f":"IF(Data!$E31=30,Data!FG31,IF(Data!BF31<>\"\",Data!BF31,\"\"))","v":""},{"$f":"IF(Data!$E31=30,Data!FH31,\"\")","v":""},{"$f":"IF(Data!$E31=30,Data!FI31,\"\")","v":""},{"$f":"IF(Data!$E31=30,Data!FJ31,IF(Data!BG31<>\"\",Data!BG31,\"\"))","v":""},{"$f":"IF(Data!$E31=30,Data!FK31,\"\")","v":""},{"$f":"IF(Data!$E31=30,Data!FL31,\"\")","v":""},{"$f":"IF(Data!$E31=30,Data!FM31,IF(Data!BH31<>\"\",Data!BH31,\"\"))","v":""},{"$f":"IF(Data!$E31=30,Data!FN31,\"\")","v":""},{"$f":"IF(Data!$E31=30,Data!FO31,\"\")","v":""},{"$f":"IF(Data!$E31=30,Data!FP31,IF(Data!BI31<>\"\",Data!BI31,\"\"))","v":""},{"$f":"IF(Data!$E31=30,Data!FQ31,\"\")","v":""},{"$f":"IF(Data!$E31=30,Data!FR31,\"\")","v":""},{"$f":"IF(Data!$E31=30,Data!FS31,IF(Data!BJ31<>\"\",Data!BJ31,\"\"))","v":""},{"$f":"IF(Data!$E31=30,Data!FT31,\"\")","v":""},{"$f":"IF(Data!$E31=30,Data!FU31,\"\")","v":""},{"$f":"IF(Data!$E31=30,Data!FV31,IF(Data!BK31<>\"\",Data!BK31,\"\"))","v":""},{"$f":"IF(Data!$E31=30,Data!FW31,\"\")","v":""},{"$f":"IF(Data!$E31=30,Data!FX31,\"\")","v":""},{"$f":"IF(Data!$E31=30,Data!FY31,IF(Data!BL31<>\"\",Data!BL31,\"\"))","v":""},{"$f":"IF(Data!$E31=30,Data!FZ31,\"\")","v":""},{"$f":"IF(Data!$E31=30,Data!GA31,\"\")","v":""},{"$f":"IF(Data!$E31=30,Data!GB31,IF(Data!BM31<>\"\",Data!BM31,\"\"))","v":""},{"$f":"IF(Data!$E31=30,Data!GC31,\"\")","v":""}]
[null,{"$f":"IF(Data!A32<>\"\",Data!A32,\"\")","v":""},{"$f":"IF(Data!$E32=30,Data!DV32,\"\")","v":""},{"$f":"IF(Data!$E32=30,Data!DW32,IF(Data!AT32<>\"\",Data!AT32,\"\"))","v":""},{"$f":"IF(Data!$E32=30,Data!DX32,\"\")","v":""},{"$f":"IF(Data!$E32=30,Data!DY32,\"\")","v":""},{"$f":"IF(Data!$E32=30,Data!DZ32,IF(Data!AU32<>\"\",Data!AU32,\"\"))","v":""},{"$f":"IF(Data!$E32=30,Data!EA32,\"\")","v":""},{"$f":"IF(Data!$E32=30,Data!EB32,\"\")","v":""},{"$f":"IF(Data!$E32=30,Data!EC32,IF(Data!AV32<>\"\",Data!AV32,\"\"))","v":""},{"$f":"IF(Data!$E32=30,Data!ED32,\"\")","v":""},{"$f":"IF(Data!$E32=30,Data!EE32,\"\")","v":""},{"$f":"IF(Data!$E32=30,Data!EF32,IF(Data!AW32<>\"\",Data!AW32,\"\"))","v":""},{"$f":"IF(Data!$E32=30,Data!EG32,\"\")","v":""},{"$f":"IF(Data!$E32=30,Data!EH32,\"\")","v":""},{"$f":"IF(Data!$E32=30,Data!EI32,IF(Data!AX32<>\"\",Data!AX32,\"\"))","v":""},{"$f":"IF(Data!$E32=30,Data!EJ32,\"\")","v":""},{"$f":"IF(Data!$E32=30,Data!EK32,\"\")","v":""},{"$f":"IF(Data!$E32=30,Data!EL32,IF(Data!AY32<>\"\",Data!AY32,\"\"))","v":""},{"$f":"IF(Data!$E32=30,Data!EM32,\"\")","v":""},{"$f":"IF(Data!$E32=30,Data!EN32,\"\")","v":""},{"$f":"IF(Data!$E32=30,Data!EO32,IF(Data!AZ32<>\"\",Data!AZ32,\"\"))","v":""},{"$f":"IF(Data!$E32=30,Data!EP32,\"\")","v":""},{"$f":"IF(Data!$E32=30,Data!EQ32,\"\")","v":""},{"$f":"IF(Data!$E32=30,Data!ER32,IF(Data!BA32<>\"\",Data!BA32,\"\"))","v":""},{"$f":"IF(Data!$E32=30,Data!ES32,\"\")","v":""},{"$f":"IF(Data!$E32=30,Data!ET32,\"\")","v":""},{"$f":"IF(Data!$E32=30,Data!EU32,IF(Data!BB32<>\"\",Data!BB32,\"\"))","v":""},{"$f":"IF(Data!$E32=30,Data!EV32,\"\")","v":""},{"$f":"IF(Data!$E32=30,Data!EW32,\"\")","v":""},{"$f":"IF(Data!$E32=30,Data!EX32,IF(Data!Z32<>\"\",Data!BC32,\"\"))","v":""},{"$f":"IF(Data!$E32=30,Data!EY32,\"\")","v":""},null,null,null,{"$f":"IF(Data!$E32=30,Data!EZ32,\"\")","v":""},{"$f":"IF(Data!$E32=30,Data!FA32,IF(Data!BD32<>\"\",Data!BD32,\"\"))","v":""},{"$f":"IF(Data!$E32=30,Data!FB32,\"\")","v":""},{"$f":"IF(Data!$E32=30,Data!FC32,\"\")","v":""},{"$f":"IF(Data!$E32=30,Data!FD32,IF(Data!BE32<>\"\",Data!BE32,\"\"))","v":""},{"$f":"IF(Data!$E32=30,Data!FE32,\"\")","v":""},{"$f":"IF(Data!$E32=30,Data!FF32,\"\")","v":""},{"$f":"IF(Data!$E32=30,Data!FG32,IF(Data!BF32<>\"\",Data!BF32,\"\"))","v":""},{"$f":"IF(Data!$E32=30,Data!FH32,\"\")","v":""},{"$f":"IF(Data!$E32=30,Data!FI32,\"\")","v":""},{"$f":"IF(Data!$E32=30,Data!FJ32,IF(Data!BG32<>\"\",Data!BG32,\"\"))","v":""},{"$f":"IF(Data!$E32=30,Data!FK32,\"\")","v":""},{"$f":"IF(Data!$E32=30,Data!FL32,\"\")","v":""},{"$f":"IF(Data!$E32=30,Data!FM32,IF(Data!BH32<>\"\",Data!BH32,\"\"))","v":""},{"$f":"IF(Data!$E32=30,Data!FN32,\"\")","v":""},{"$f":"IF(Data!$E32=30,Data!FO32,\"\")","v":""},{"$f":"IF(Data!$E32=30,Data!FP32,IF(Data!BI32<>\"\",Data!BI32,\"\"))","v":""},{"$f":"IF(Data!$E32=30,Data!FQ32,\"\")","v":""},{"$f":"IF(Data!$E32=30,Data!FR32,\"\")","v":""},{"$f":"IF(Data!$E32=30,Data!FS32,IF(Data!BJ32<>\"\",Data!BJ32,\"\"))","v":""},{"$f":"IF(Data!$E32=30,Data!FT32,\"\")","v":""},{"$f":"IF(Data!$E32=30,Data!FU32,\"\")","v":""},{"$f":"IF(Data!$E32=30,Data!FV32,IF(Data!BK32<>\"\",Data!BK32,\"\"))","v":""},{"$f":"IF(Data!$E32=30,Data!FW32,\"\")","v":""},{"$f":"IF(Data!$E32=30,Data!FX32,\"\")","v":""},{"$f":"IF(Data!$E32=30,Data!FY32,IF(Data!BL32<>\"\",Data!BL32,\"\"))","v":""},{"$f":"IF(Data!$E32=30,Data!FZ32,\"\")","v":""},{"$f":"IF(Data!$E32=30,Data!GA32,\"\")","v":""},{"$f":"IF(Data!$E32=30,Data!GB32,IF(Data!BM32<>\"\",Data!BM32,\"\"))","v":""},{"$f":"IF(Data!$E32=30,Data!GC32,\"\")","v":""}]
[null,{"$f":"IF(Data!A33<>\"\",Data!A33,\"\")","v":""},{"$f":"IF(Data!$E33=30,Data!DV33,\"\")","v":""},{"$f":"IF(Data!$E33=30,Data!DW33,IF(Data!AT33<>\"\",Data!AT33,\"\"))","v":""},{"$f":"IF(Data!$E33=30,Data!DX33,\"\")","v":""},{"$f":"IF(Data!$E33=30,Data!DY33,\"\")","v":""},{"$f":"IF(Data!$E33=30,Data!DZ33,IF(Data!AU33<>\"\",Data!AU33,\"\"))","v":""},{"$f":"IF(Data!$E33=30,Data!EA33,\"\")","v":""},{"$f":"IF(Data!$E33=30,Data!EB33,\"\")","v":""},{"$f":"IF(Data!$E33=30,Data!EC33,IF(Data!AV33<>\"\",Data!AV33,\"\"))","v":""},{"$f":"IF(Data!$E33=30,Data!ED33,\"\")","v":""},{"$f":"IF(Data!$E33=30,Data!EE33,\"\")","v":""},{"$f":"IF(Data!$E33=30,Data!EF33,IF(Data!AW33<>\"\",Data!AW33,\"\"))","v":""},{"$f":"IF(Data!$E33=30,Data!EG33,\"\")","v":""},{"$f":"IF(Data!$E33=30,Data!EH33,\"\")","v":""},{"$f":"IF(Data!$E33=30,Data!EI33,IF(Data!AX33<>\"\",Data!AX33,\"\"))","v":""},{"$f":"IF(Data!$E33=30,Data!EJ33,\"\")","v":""},{"$f":"IF(Data!$E33=30,Data!EK33,\"\")","v":""},{"$f":"IF(Data!$E33=30,Data!EL33,IF(Data!AY33<>\"\",Data!AY33,\"\"))","v":""},{"$f":"IF(Data!$E33=30,Data!EM33,\"\")","v":""},{"$f":"IF(Data!$E33=30,Data!EN33,\"\")","v":""},{"$f":"IF(Data!$E33=30,Data!EO33,IF(Data!AZ33<>\"\",Data!AZ33,\"\"))","v":""},{"$f":"IF(Data!$E33=30,Data!EP33,\"\")","v":""},{"$f":"IF(Data!$E33=30,Data!EQ33,\"\")","v":""},{"$f":"IF(Data!$E33=30,Data!ER33,IF(Data!BA33<>\"\",Data!BA33,\"\"))","v":""},{"$f":"IF(Data!$E33=30,Data!ES33,\"\")","v":""},{"$f":"IF(Data!$E33=30,Data!ET33,\"\")","v":""},{"$f":"IF(Data!$E33=30,Data!EU33,IF(Data!BB33<>\"\",Data!BB33,\"\"))","v":""},{"$f":"IF(Data!$E33=30,Data!EV33,\"\")","v":""},{"$f":"IF(Data!$E33=30,Data!EW33,\"\")","v":""},{"$f":"IF(Data!$E33=30,Data!EX33,IF(Data!Z33<>\"\",Data!BC33,\"\"))","v":""},{"$f":"IF(Data!$E33=30,Data!EY33,\"\")","v":""},null,null,null,{"$f":"IF(Data!$E33=30,Data!EZ33,\"\")","v":""},{"$f":"IF(Data!$E33=30,Data!FA33,IF(Data!BD33<>\"\",Data!BD33,\"\"))","v":""},{"$f":"IF(Data!$E33=30,Data!FB33,\"\")","v":""},{"$f":"IF(Data!$E33=30,Data!FC33,\"\")","v":""},{"$f":"IF(Data!$E33=30,Data!FD33,IF(Data!BE33<>\"\",Data!BE33,\"\"))","v":""},{"$f":"IF(Data!$E33=30,Data!FE33,\"\")","v":""},{"$f":"IF(Data!$E33=30,Data!FF33,\"\")","v":""},{"$f":"IF(Data!$E33=30,Data!FG33,IF(Data!BF33<>\"\",Data!BF33,\"\"))","v":""},{"$f":"IF(Data!$E33=30,Data!FH33,\"\")","v":""},{"$f":"IF(Data!$E33=30,Data!FI33,\"\")","v":""},{"$f":"IF(Data!$E33=30,Data!FJ33,IF(Data!BG33<>\"\",Data!BG33,\"\"))","v":""},{"$f":"IF(Data!$E33=30,Data!FK33,\"\")","v":""},{"$f":"IF(Data!$E33=30,Data!FL33,\"\")","v":""},{"$f":"IF(Data!$E33=30,Data!FM33,IF(Data!BH33<>\"\",Data!BH33,\"\"))","v":""},{"$f":"IF(Data!$E33=30,Data!FN33,\"\")","v":""},{"$f":"IF(Data!$E33=30,Data!FO33,\"\")","v":""},{"$f":"IF(Data!$E33=30,Data!FP33,IF(Data!BI33<>\"\",Data!BI33,\"\"))","v":""},{"$f":"IF(Data!$E33=30,Data!FQ33,\"\")","v":""},{"$f":"IF(Data!$E33=30,Data!FR33,\"\")","v":""},{"$f":"IF(Data!$E33=30,Data!FS33,IF(Data!BJ33<>\"\",Data!BJ33,\"\"))","v":""},{"$f":"IF(Data!$E33=30,Data!FT33,\"\")","v":""},{"$f":"IF(Data!$E33=30,Data!FU33,\"\")","v":""},{"$f":"IF(Data!$E33=30,Data!FV33,IF(Data!BK33<>\"\",Data!BK33,\"\"))","v":""},{"$f":"IF(Data!$E33=30,Data!FW33,\"\")","v":""},{"$f":"IF(Data!$E33=30,Data!FX33,\"\")","v":""},{"$f":"IF(Data!$E33=30,Data!FY33,IF(Data!BL33<>\"\",Data!BL33,\"\"))","v":""},{"$f":"IF(Data!$E33=30,Data!FZ33,\"\")","v":""},{"$f":"IF(Data!$E33=30,Data!GA33,\"\")","v":""},{"$f":"IF(Data!$E33=30,Data!GB33,IF(Data!BM33<>\"\",Data!BM33,\"\"))","v":""},{"$f":"IF(Data!$E33=30,Data!GC33,\"\")","v":""}]
[null,{"$f":"IF(Data!A34<>\"\",Data!A34,\"\")","v":""},{"$f":"IF(Data!$E34=30,Data!DV34,\"\")","v":""},{"$f":"IF(Data!$E34=30,Data!DW34,IF(Data!AT34<>\"\",Data!AT34,\"\"))","v":""},{"$f":"IF(Data!$E34=30,Data!DX34,\"\")","v":""},{"$f":"IF(Data!$E34=30,Data!DY34,\"\")","v":""},{"$f":"IF(Data!$E34=30,Data!DZ34,IF(Data!AU34<>\"\",Data!AU34,\"\"))","v":""},{"$f":"IF(Data!$E34=30,Data!EA34,\"\")","v":""},{"$f":"IF(Data!$E34=30,Data!EB34,\"\")","v":""},{"$f":"IF(Data!$E34=30,Data!EC34,IF(Data!AV34<>\"\",Data!AV34,\"\"))","v":""},{"$f":"IF(Data!$E34=30,Data!ED34,\"\")","v":""},{"$f":"IF(Data!$E34=30,Data!EE34,\"\")","v":""},{"$f":"IF(Data!$E34=30,Data!EF34,IF(Data!AW34<>\"\",Data!AW34,\"\"))","v":""},{"$f":"IF(Data!$E34=30,Data!EG34,\"\")","v":""},{"$f":"IF(Data!$E34=30,Data!EH34,\"\")","v":""},{"$f":"IF(Data!$E34=30,Data!EI34,IF(Data!AX34<>\"\",Data!AX34,\"\"))","v":""},{"$f":"IF(Data!$E34=30,Data!EJ34,\"\")","v":""},{"$f":"IF(Data!$E34=30,Data!EK34,\"\")","v":""},{"$f":"IF(Data!$E34=30,Data!EL34,IF(Data!AY34<>\"\",Data!AY34,\"\"))","v":""},{"$f":"IF(Data!$E34=30,Data!EM34,\"\")","v":""},{"$f":"IF(Data!$E34=30,Data!EN34,\"\")","v":""},{"$f":"IF(Data!$E34=30,Data!EO34,IF(Data!AZ34<>\"\",Data!AZ34,\"\"))","v":""},{"$f":"IF(Data!$E34=30,Data!EP34,\"\")","v":""},{"$f":"IF(Data!$E34=30,Data!EQ34,\"\")","v":""},{"$f":"IF(Data!$E34=30,Data!ER34,IF(Data!BA34<>\"\",Data!BA34,\"\"))","v":""},{"$f":"IF(Data!$E34=30,Data!ES34,\"\")","v":""},{"$f":"IF(Data!$E34=30,Data!ET34,\"\")","v":""},{"$f":"IF(Data!$E34=30,Data!EU34,IF(Data!BB34<>\"\",Data!BB34,\"\"))","v":""},{"$f":"IF(Data!$E34=30,Data!EV34,\"\")","v":""},{"$f":"IF(Data!$E34=30,Data!EW34,\"\")","v":""},{"$f":"IF(Data!$E34=30,Data!EX34,IF(Data!Z34<>\"\",Data!BC34,\"\"))","v":""},{"$f":"IF(Data!$E34=30,Data!EY34,\"\")","v":""},null,null,null,{"$f":"IF(Data!$E34=30,Data!EZ34,\"\")","v":""},{"$f":"IF(Data!$E34=30,Data!FA34,IF(Data!BD34<>\"\",Data!BD34,\"\"))","v":""},{"$f":"IF(Data!$E34=30,Data!FB34,\"\")","v":""},{"$f":"IF(Data!$E34=30,Data!FC34,\"\")","v":""},{"$f":"IF(Data!$E34=30,Data!FD34,IF(Data!BE34<>\"\",Data!BE34,\"\"))","v":""},{"$f":"IF(Data!$E34=30,Data!FE34,\"\")","v":""},{"$f":"IF(Data!$E34=30,Data!FF34,\"\")","v":""},{"$f":"IF(Data!$E34=30,Data!FG34,IF(Data!BF34<>\"\",Data!BF34,\"\"))","v":""},{"$f":"IF(Data!$E34=30,Data!FH34,\"\")","v":""},{"$f":"IF(Data!$E34=30,Data!FI34,\"\")","v":""},{"$f":"IF(Data!$E34=30,Data!FJ34,IF(Data!BG34<>\"\",Data!BG34,\"\"))","v":""},{"$f":"IF(Data!$E34=30,Data!FK34,\"\")","v":""},{"$f":"IF(Data!$E34=30,Data!FL34,\"\")","v":""},{"$f":"IF(Data!$E34=30,Data!FM34,IF(Data!BH34<>\"\",Data!BH34,\"\"))","v":""},{"$f":"IF(Data!$E34=30,Data!FN34,\"\")","v":""},{"$f":"IF(Data!$E34=30,Data!FO34,\"\")","v":""},{"$f":"IF(Data!$E34=30,Data!FP34,IF(Data!BI34<>\"\",Data!BI34,\"\"))","v":""},{"$f":"IF(Data!$E34=30,Data!FQ34,\"\")","v":""},{"$f":"IF(Data!$E34=30,Data!FR34,\"\")","v":""},{"$f":"IF(Data!$E34=30,Data!FS34,IF(Data!BJ34<>\"\",Data!BJ34,\"\"))","v":""},{"$f":"IF(Data!$E34=30,Data!FT34,\"\")","v":""},{"$f":"IF(Data!$E34=30,Data!FU34,\"\")","v":""},{"$f":"IF(Data!$E34=30,Data!FV34,IF(Data!BK34<>\"\",Data!BK34,\"\"))","v":""},{"$f":"IF(Data!$E34=30,Data!FW34,\"\")","v":""},{"$f":"IF(Data!$E34=30,Data!FX34,\"\")","v":""},{"$f":"IF(Data!$E34=30,Data!FY34,IF(Data!BL34<>\"\",Data!BL34,\"\"))","v":""},{"$f":"IF(Data!$E34=30,Data!FZ34,\"\")","v":""},{"$f":"IF(Data!$E34=30,Data!GA34,\"\")","v":""},{"$f":"IF(Data!$E34=30,Data!GB34,IF(Data!BM34<>\"\",Data!BM34,\"\"))","v":""},{"$f":"IF(Data!$E34=30,Data!GC34,\"\")","v":""}]
[null,{"$f":"IF(Data!A35<>\"\",Data!A35,\"\")","v":""},{"$f":"IF(Data!$E35=30,Data!DV35,\"\")","v":""},{"$f":"IF(Data!$E35=30,Data!DW35,IF(Data!AT35<>\"\",Data!AT35,\"\"))","v":""},{"$f":"IF(Data!$E35=30,Data!DX35,\"\")","v":""},{"$f":"IF(Data!$E35=30,Data!DY35,\"\")","v":""},{"$f":"IF(Data!$E35=30,Data!DZ35,IF(Data!AU35<>\"\",Data!AU35,\"\"))","v":""},{"$f":"IF(Data!$E35=30,Data!EA35,\"\")","v":""},{"$f":"IF(Data!$E35=30,Data!EB35,\"\")","v":""},{"$f":"IF(Data!$E35=30,Data!EC35,IF(Data!AV35<>\"\",Data!AV35,\"\"))","v":""},{"$f":"IF(Data!$E35=30,Data!ED35,\"\")","v":""},{"$f":"IF(Data!$E35=30,Data!EE35,\"\")","v":""},{"$f":"IF(Data!$E35=30,Data!EF35,IF(Data!AW35<>\"\",Data!AW35,\"\"))","v":""},{"$f":"IF(Data!$E35=30,Data!EG35,\"\")","v":""},{"$f":"IF(Data!$E35=30,Data!EH35,\"\")","v":""},{"$f":"IF(Data!$E35=30,Data!EI35,IF(Data!AX35<>\"\",Data!AX35,\"\"))","v":""},{"$f":"IF(Data!$E35=30,Data!EJ35,\"\")","v":""},{"$f":"IF(Data!$E35=30,Data!EK35,\"\")","v":""},{"$f":"IF(Data!$E35=30,Data!EL35,IF(Data!AY35<>\"\",Data!AY35,\"\"))","v":""},{"$f":"IF(Data!$E35=30,Data!EM35,\"\")","v":""},{"$f":"IF(Data!$E35=30,Data!EN35,\"\")","v":""},{"$f":"IF(Data!$E35=30,Data!EO35,IF(Data!AZ35<>\"\",Data!AZ35,\"\"))","v":""},{"$f":"IF(Data!$E35=30,Data!EP35,\"\")","v":""},{"$f":"IF(Data!$E35=30,Data!EQ35,\"\")","v":""},{"$f":"IF(Data!$E35=30,Data!ER35,IF(Data!BA35<>\"\",Data!BA35,\"\"))","v":""},{"$f":"IF(Data!$E35=30,Data!ES35,\"\")","v":""},{"$f":"IF(Data!$E35=30,Data!ET35,\"\")","v":""},{"$f":"IF(Data!$E35=30,Data!EU35,IF(Data!BB35<>\"\",Data!BB35,\"\"))","v":""},{"$f":"IF(Data!$E35=30,Data!EV35,\"\")","v":""},{"$f":"IF(Data!$E35=30,Data!EW35,\"\")","v":""},{"$f":"IF(Data!$E35=30,Data!EX35,IF(Data!Z35<>\"\",Data!BC35,\"\"))","v":""},{"$f":"IF(Data!$E35=30,Data!EY35,\"\")","v":""},null,null,null,{"$f":"IF(Data!$E35=30,Data!EZ35,\"\")","v":""},{"$f":"IF(Data!$E35=30,Data!FA35,IF(Data!BD35<>\"\",Data!BD35,\"\"))","v":""},{"$f":"IF(Data!$E35=30,Data!FB35,\"\")","v":""},{"$f":"IF(Data!$E35=30,Data!FC35,\"\")","v":""},{"$f":"IF(Data!$E35=30,Data!FD35,IF(Data!BE35<>\"\",Data!BE35,\"\"))","v":""},{"$f":"IF(Data!$E35=30,Data!FE35,\"\")","v":""},{"$f":"IF(Data!$E35=30,Data!FF35,\"\")","v":""},{"$f":"IF(Data!$E35=30,Data!FG35,IF(Data!BF35<>\"\",Data!BF35,\"\"))","v":""},{"$f":"IF(Data!$E35=30,Data!FH35,\"\")","v":""},{"$f":"IF(Data!$E35=30,Data!FI35,\"\")","v":""},{"$f":"IF(Data!$E35=30,Data!FJ35,IF(Data!BG35<>\"\",Data!BG35,\"\"))","v":""},{"$f":"IF(Data!$E35=30,Data!FK35,\"\")","v":""},{"$f":"IF(Data!$E35=30,Data!FL35,\"\")","v":""},{"$f":"IF(Data!$E35=30,Data!FM35,IF(Data!BH35<>\"\",Data!BH35,\"\"))","v":""},{"$f":"IF(Data!$E35=30,Data!FN35,\"\")","v":""},{"$f":"IF(Data!$E35=30,Data!FO35,\"\")","v":""},{"$f":"IF(Data!$E35=30,Data!FP35,IF(Data!BI35<>\"\",Data!BI35,\"\"))","v":""},{"$f":"IF(Data!$E35=30,Data!FQ35,\"\")","v":""},{"$f":"IF(Data!$E35=30,Data!FR35,\"\")","v":""},{"$f":"IF(Data!$E35=30,Data!FS35,IF(Data!BJ35<>\"\",Data!BJ35,\"\"))","v":""},{"$f":"IF(Data!$E35=30,Data!FT35,\"\")","v":""},{"$f":"IF(Data!$E35=30,Data!FU35,\"\")","v":""},{"$f":"IF(Data!$E35=30,Data!FV35,IF(Data!BK35<>\"\",Data!BK35,\"\"))","v":""},{"$f":"IF(Data!$E35=30,Data!FW35,\"\")","v":""},{"$f":"IF(Data!$E35=30,Data!FX35,\"\")","v":""},{"$f":"IF(Data!$E35=30,Data!FY35,IF(Data!BL35<>\"\",Data!BL35,\"\"))","v":""},{"$f":"IF(Data!$E35=30,Data!FZ35,\"\")","v":""},{"$f":"IF(Data!$E35=30,Data!GA35,\"\")","v":""},{"$f":"IF(Data!$E35=30,Data!GB35,IF(Data!BM35<>\"\",Data!BM35,\"\"))","v":""},{"$f":"IF(Data!$E35=30,Data!GC35,\"\")","v":""}]
[null,{"$f":"IF(Data!A36<>\"\",Data!A36,\"\")","v":""},{"$f":"IF(Data!$E36=30,Data!DV36,\"\")","v":""},{"$f":"IF(Data!$E36=30,Data!DW36,IF(Data!AT36<>\"\",Data!AT36,\"\"))","v":""},{"$f":"IF(Data!$E36=30,Data!DX36,\"\")","v":""},{"$f":"IF(Data!$E36=30,Data!DY36,\"\")","v":""},{"$f":"IF(Data!$E36=30,Data!DZ36,IF(Data!AU36<>\"\",Data!AU36,\"\"))","v":""},{"$f":"IF(Data!$E36=30,Data!EA36,\"\")","v":""},{"$f":"IF(Data!$E36=30,Data!EB36,\"\")","v":""},{"$f":"IF(Data!$E36=30,Data!EC36,IF(Data!AV36<>\"\",Data!AV36,\"\"))","v":""},{"$f":"IF(Data!$E36=30,Data!ED36,\"\")","v":""},{"$f":"IF(Data!$E36=30,Data!EE36,\"\")","v":""},{"$f":"IF(Data!$E36=30,Data!EF36,IF(Data!AW36<>\"\",Data!AW36,\"\"))","v":""},{"$f":"IF(Data!$E36=30,Data!EG36,\"\")","v":""},{"$f":"IF(Data!$E36=30,Data!EH36,\"\")","v":""},{"$f":"IF(Data!$E36=30,Data!EI36,IF(Data!AX36<>\"\",Data!AX36,\"\"))","v":""},{"$f":"IF(Data!$E36=30,Data!EJ36,\"\")","v":""},{"$f":"IF(Data!$E36=30,Data!EK36,\"\")","v":""},{"$f":"IF(Data!$E36=30,Data!EL36,IF(Data!AY36<>\"\",Data!AY36,\"\"))","v":""},{"$f":"IF(Data!$E36=30,Data!EM36,\"\")","v":""},{"$f":"IF(Data!$E36=30,Data!EN36,\"\")","v":""},{"$f":"IF(Data!$E36=30,Data!EO36,IF(Data!AZ36<>\"\",Data!AZ36,\"\"))","v":""},{"$f":"IF(Data!$E36=30,Data!EP36,\"\")","v":""},{"$f":"IF(Data!$E36=30,Data!EQ36,\"\")","v":""},{"$f":"IF(Data!$E36=30,Data!ER36,IF(Data!BA36<>\"\",Data!BA36,\"\"))","v":""},{"$f":"IF(Data!$E36=30,Data!ES36,\"\")","v":""},{"$f":"IF(Data!$E36=30,Data!ET36,\"\")","v":""},{"$f":"IF(Data!$E36=30,Data!EU36,IF(Data!BB36<>\"\",Data!BB36,\"\"))","v":""},{"$f":"IF(Data!$E36=30,Data!EV36,\"\")","v":""},{"$f":"IF(Data!$E36=30,Data!EW36,\"\")","v":""},{"$f":"IF(Data!$E36=30,Data!EX36,IF(Data!Z36<>\"\",Data!BC36,\"\"))","v":""},{"$f":"IF(Data!$E36=30,Data!EY36,\"\")","v":""},null,null,null,{"$f":"IF(Data!$E36=30,Data!EZ36,\"\")","v":""},{"$f":"IF(Data!$E36=30,Data!FA36,IF(Data!BD36<>\"\",Data!BD36,\"\"))","v":""},{"$f":"IF(Data!$E36=30,Data!FB36,\"\")","v":""},{"$f":"IF(Data!$E36=30,Data!FC36,\"\")","v":""},{"$f":"IF(Data!$E36=30,Data!FD36,IF(Data!BE36<>\"\",Data!BE36,\"\"))","v":""},{"$f":"IF(Data!$E36=30,Data!FE36,\"\")","v":""},{"$f":"IF(Data!$E36=30,Data!FF36,\"\")","v":""},{"$f":"IF(Data!$E36=30,Data!FG36,IF(Data!BF36<>\"\",Data!BF36,\"\"))","v":""},{"$f":"IF(Data!$E36=30,Data!FH36,\"\")","v":""},{"$f":"IF(Data!$E36=30,Data!FI36,\"\")","v":""},{"$f":"IF(Data!$E36=30,Data!FJ36,IF(Data!BG36<>\"\",Data!BG36,\"\"))","v":""},{"$f":"IF(Data!$E36=30,Data!FK36,\"\")","v":""},{"$f":"IF(Data!$E36=30,Data!FL36,\"\")","v":""},{"$f":"IF(Data!$E36=30,Data!FM36,IF(Data!BH36<>\"\",Data!BH36,\"\"))","v":""},{"$f":"IF(Data!$E36=30,Data!FN36,\"\")","v":""},{"$f":"IF(Data!$E36=30,Data!FO36,\"\")","v":""},{"$f":"IF(Data!$E36=30,Data!FP36,IF(Data!BI36<>\"\",Data!BI36,\"\"))","v":""},{"$f":"IF(Data!$E36=30,Data!FQ36,\"\")","v":""},{"$f":"IF(Data!$E36=30,Data!FR36,\"\")","v":""},{"$f":"IF(Data!$E36=30,Data!FS36,IF(Data!BJ36<>\"\",Data!BJ36,\"\"))","v":""},{"$f":"IF(Data!$E36=30,Data!FT36,\"\")","v":""},{"$f":"IF(Data!$E36=30,Data!FU36,\"\")","v":""},{"$f":"IF(Data!$E36=30,Data!FV36,IF(Data!BK36<>\"\",Data!BK36,\"\"))","v":""},{"$f":"IF(Data!$E36=30,Data!FW36,\"\")","v":""},{"$f":"IF(Data!$E36=30,Data!FX36,\"\")","v":""},{"$f":"IF(Data!$E36=30,Data!FY36,IF(Data!BL36<>\"\",Data!BL36,\"\"))","v":""},{"$f":"IF(Data!$E36=30,Data!FZ36,\"\")","v":""},{"$f":"IF(Data!$E36=30,Data!GA36,\"\")","v":""},{"$f":"IF(Data!$E36=30,Data!GB36,IF(Data!BM36<>\"\",Data!BM36,\"\"))","v":""},{"$f":"IF(Data!$E36=30,Data!GC36,\"\")","v":""}]
[null,{"$f":"IF(Data!A37<>\"\",Data!A37,\"\")","v":""},{"$f":"IF(Data!$E37=30,Data!DV37,\"\")","v":""},{"$f":"IF(Data!$E37=30,Data!DW37,IF(Data!AT37<>\"\",Data!AT37,\"\"))","v":""},{"$f":"IF(Data!$E37=30,Data!DX37,\"\")","v":""},{"$f":"IF(Data!$E37=30,Data!DY37,\"\")","v":""},{"$f":"IF(Data!$E37=30,Data!DZ37,IF(Data!AU37<>\"\",Data!AU37,\"\"))","v":""},{"$f":"IF(Data!$E37=30,Data!EA37,\"\")","v":""},{"$f":"IF(Data!$E37=30,Data!EB37,\"\")","v":""},{"$f":"IF(Data!$E37=30,Data!EC37,IF(Data!AV37<>\"\",Data!AV37,\"\"))","v":""},{"$f":"IF(Data!$E37=30,Data!ED37,\"\")","v":""},{"$f":"IF(Data!$E37=30,Data!EE37,\"\")","v":""},{"$f":"IF(Data!$E37=30,Data!EF37,IF(Data!AW37<>\"\",Data!AW37,\"\"))","v":""},{"$f":"IF(Data!$E37=30,Data!EG37,\"\")","v":""},{"$f":"IF(Data!$E37=30,Data!EH37,\"\")","v":""},{"$f":"IF(Data!$E37=30,Data!EI37,IF(Data!AX37<>\"\",Data!AX37,\"\"))","v":""},{"$f":"IF(Data!$E37=30,Data!EJ37,\"\")","v":""},{"$f":"IF(Data!$E37=30,Data!EK37,\"\")","v":""},{"$f":"IF(Data!$E37=30,Data!EL37,IF(Data!AY37<>\"\",Data!AY37,\"\"))","v":""},{"$f":"IF(Data!$E37=30,Data!EM37,\"\")","v":""},{"$f":"IF(Data!$E37=30,Data!EN37,\"\")","v":""},{"$f":"IF(Data!$E37=30,Data!EO37,IF(Data!AZ37<>\"\",Data!AZ37,\"\"))","v":""},{"$f":"IF(Data!$E37=30,Data!EP37,\"\")","v":""},{"$f":"IF(Data!$E37=30,Data!EQ37,\"\")","v":""},{"$f":"IF(Data!$E37=30,Data!ER37,IF(Data!BA37<>\"\",Data!BA37,\"\"))","v":""},{"$f":"IF(Data!$E37=30,Data!ES37,\"\")","v":""},{"$f":"IF(Data!$E37=30,Data!ET37,\"\")","v":""},{"$f":"IF(Data!$E37=30,Data!EU37,IF(Data!BB37<>\"\",Data!BB37,\"\"))","v":""},{"$f":"IF(Data!$E37=30,Data!EV37,\"\")","v":""},{"$f":"IF(Data!$E37=30,Data!EW37,\"\")","v":""},{"$f":"IF(Data!$E37=30,Data!EX37,IF(Data!Z37<>\"\",Data!BC37,\"\"))","v":""},{"$f":"IF(Data!$E37=30,Data!EY37,\"\")","v":""},null,null,null,{"$f":"IF(Data!$E37=30,Data!EZ37,\"\")","v":""},{"$f":"IF(Data!$E37=30,Data!FA37,IF(Data!BD37<>\"\",Data!BD37,\"\"))","v":""},{"$f":"IF(Data!$E37=30,Data!FB37,\"\")","v":""},{"$f":"IF(Data!$E37=30,Data!FC37,\"\")","v":""},{"$f":"IF(Data!$E37=30,Data!FD37,IF(Data!BE37<>\"\",Data!BE37,\"\"))","v":""},{"$f":"IF(Data!$E37=30,Data!FE37,\"\")","v":""},{"$f":"IF(Data!$E37=30,Data!FF37,\"\")","v":""},{"$f":"IF(Data!$E37=30,Data!FG37,IF(Data!BF37<>\"\",Data!BF37,\"\"))","v":""},{"$f":"IF(Data!$E37=30,Data!FH37,\"\")","v":""},{"$f":"IF(Data!$E37=30,Data!FI37,\"\")","v":""},{"$f":"IF(Data!$E37=30,Data!FJ37,IF(Data!BG37<>\"\",Data!BG37,\"\"))","v":""},{"$f":"IF(Data!$E37=30,Data!FK37,\"\")","v":""},{"$f":"IF(Data!$E37=30,Data!FL37,\"\")","v":""},{"$f":"IF(Data!$E37=30,Data!FM37,IF(Data!BH37<>\"\",Data!BH37,\"\"))","v":""},{"$f":"IF(Data!$E37=30,Data!FN37,\"\")","v":""},{"$f":"IF(Data!$E37=30,Data!FO37,\"\")","v":""},{"$f":"IF(Data!$E37=30,Data!FP37,IF(Data!BI37<>\"\",Data!BI37,\"\"))","v":""},{"$f":"IF(Data!$E37=30,Data!FQ37,\"\")","v":""},{"$f":"IF(Data!$E37=30,Data!FR37,\"\")","v":""},{"$f":"IF(Data!$E37=30,Data!FS37,IF(Data!BJ37<>\"\",Data!BJ37,\"\"))","v":""},{"$f":"IF(Data!$E37=30,Data!FT37,\"\")","v":""},{"$f":"IF(Data!$E37=30,Data!FU37,\"\")","v":""},{"$f":"IF(Data!$E37=30,Data!FV37,IF(Data!BK37<>\"\",Data!BK37,\"\"))","v":""},{"$f":"IF(Data!$E37=30,Data!FW37,\"\")","v":""},{"$f":"IF(Data!$E37=30,Data!FX37,\"\")","v":""},{"$f":"IF(Data!$E37=30,Data!FY37,IF(Data!BL37<>\"\",Data!BL37,\"\"))","v":""},{"$f":"IF(Data!$E37=30,Data!FZ37,\"\")","v":""},{"$f":"IF(Data!$E37=30,Data!GA37,\"\")","v":""},{"$f":"IF(Data!$E37=30,Data!GB37,IF(Data!BM37<>\"\",Data!BM37,\"\"))","v":""},{"$f":"IF(Data!$E37=30,Data!GC37,\"\")","v":""}]
[null,{"$f":"IF(Data!A38<>\"\",Data!A38,\"\")","v":""},{"$f":"IF(Data!$E38=30,Data!DV38,\"\")","v":""},{"$f":"IF(Data!$E38=30,Data!DW38,IF(Data!AT38<>\"\",Data!AT38,\"\"))","v":""},{"$f":"IF(Data!$E38=30,Data!DX38,\"\")","v":""},{"$f":"IF(Data!$E38=30,Data!DY38,\"\")","v":""},{"$f":"IF(Data!$E38=30,Data!DZ38,IF(Data!AU38<>\"\",Data!AU38,\"\"))","v":""},{"$f":"IF(Data!$E38=30,Data!EA38,\"\")","v":""},{"$f":"IF(Data!$E38=30,Data!EB38,\"\")","v":""},{"$f":"IF(Data!$E38=30,Data!EC38,IF(Data!AV38<>\"\",Data!AV38,\"\"))","v":""},{"$f":"IF(Data!$E38=30,Data!ED38,\"\")","v":""},{"$f":"IF(Data!$E38=30,Data!EE38,\"\")","v":""},{"$f":"IF(Data!$E38=30,Data!EF38,IF(Data!AW38<>\"\",Data!AW38,\"\"))","v":""},{"$f":"IF(Data!$E38=30,Data!EG38,\"\")","v":""},{"$f":"IF(Data!$E38=30,Data!EH38,\"\")","v":""},{"$f":"IF(Data!$E38=30,Data!EI38,IF(Data!AX38<>\"\",Data!AX38,\"\"))","v":""},{"$f":"IF(Data!$E38=30,Data!EJ38,\"\")","v":""},{"$f":"IF(Data!$E38=30,Data!EK38,\"\")","v":""},{"$f":"IF(Data!$E38=30,Data!EL38,IF(Data!AY38<>\"\",Data!AY38,\"\"))","v":""},{"$f":"IF(Data!$E38=30,Data!EM38,\"\")","v":""},{"$f":"IF(Data!$E38=30,Data!EN38,\"\")","v":""},{"$f":"IF(Data!$E38=30,Data!EO38,IF(Data!AZ38<>\"\",Data!AZ38,\"\"))","v":""},{"$f":"IF(Data!$E38=30,Data!EP38,\"\")","v":""},{"$f":"IF(Data!$E38=30,Data!EQ38,\"\")","v":""},{"$f":"IF(Data!$E38=30,Data!ER38,IF(Data!BA38<>\"\",Data!BA38,\"\"))","v":""},{"$f":"IF(Data!$E38=30,Data!ES38,\"\")","v":""},{"$f":"IF(Data!$E38=30,Data!ET38,\"\")","v":""},{"$f":"IF(Data!$E38=30,Data!EU38,IF(Data!BB38<>\"\",Data!BB38,\"\"))","v":""},{"$f":"IF(Data!$E38=30,Data!EV38,\"\")","v":""},{"$f":"IF(Data!$E38=30,Data!EW38,\"\")","v":""},{"$f":"IF(Data!$E38=30,Data!EX38,IF(Data!Z38<>\"\",Data!BC38,\"\"))","v":""},{"$f":"IF(Data!$E38=30,Data!EY38,\"\")","v":""},null,null,null,{"$f":"IF(Data!$E38=30,Data!EZ38,\"\")","v":""},{"$f":"IF(Data!$E38=30,Data!FA38,IF(Data!BD38<>\"\",Data!BD38,\"\"))","v":""},{"$f":"IF(Data!$E38=30,Data!FB38,\"\")","v":""},{"$f":"IF(Data!$E38=30,Data!FC38,\"\")","v":""},{"$f":"IF(Data!$E38=30,Data!FD38,IF(Data!BE38<>\"\",Data!BE38,\"\"))","v":""},{"$f":"IF(Data!$E38=30,Data!FE38,\"\")","v":""},{"$f":"IF(Data!$E38=30,Data!FF38,\"\")","v":""},{"$f":"IF(Data!$E38=30,Data!FG38,IF(Data!BF38<>\"\",Data!BF38,\"\"))","v":""},{"$f":"IF(Data!$E38=30,Data!FH38,\"\")","v":""},{"$f":"IF(Data!$E38=30,Data!FI38,\"\")","v":""},{"$f":"IF(Data!$E38=30,Data!FJ38,IF(Data!BG38<>\"\",Data!BG38,\"\"))","v":""},{"$f":"IF(Data!$E38=30,Data!FK38,\"\")","v":""},{"$f":"IF(Data!$E38=30,Data!FL38,\"\")","v":""},{"$f":"IF(Data!$E38=30,Data!FM38,IF(Data!BH38<>\"\",Data!BH38,\"\"))","v":""},{"$f":"IF(Data!$E38=30,Data!FN38,\"\")","v":""},{"$f":"IF(Data!$E38=30,Data!FO38,\"\")","v":""},{"$f":"IF(Data!$E38=30,Data!FP38,IF(Data!BI38<>\"\",Data!BI38,\"\"))","v":""},{"$f":"IF(Data!$E38=30,Data!FQ38,\"\")","v":""},{"$f":"IF(Data!$E38=30,Data!FR38,\"\")","v":""},{"$f":"IF(Data!$E38=30,Data!FS38,IF(Data!BJ38<>\"\",Data!BJ38,\"\"))","v":""},{"$f":"IF(Data!$E38=30,Data!FT38,\"\")","v":""},{"$f":"IF(Data!$E38=30,Data!FU38,\"\")","v":""},{"$f":"IF(Data!$E38=30,Data!FV38,IF(Data!BK38<>\"\",Data!BK38,\"\"))","v":""},{"$f":"IF(Data!$E38=30,Data!FW38,\"\")","v":""},{"$f":"IF(Data!$E38=30,Data!FX38,\"\")","v":""},{"$f":"IF(Data!$E38=30,Data!FY38,IF(Data!BL38<>\"\",Data!BL38,\"\"))","v":""},{"$f":"IF(Data!$E38=30,Data!FZ38,\"\")","v":""},{"$f":"IF(Data!$E38=30,Data!GA38,\"\")","v":""},{"$f":"IF(Data!$E38=30,Data!GB38,IF(Data!BM38<>\"\",Data!BM38,\"\"))","v":""},{"$f":"IF(Data!$E38=30,Data!GC38,\"\")","v":""}]
[null,{"$f":"IF(Data!A39<>\"\",Data!A39,\"\")","v":""},{"$f":"IF(Data!$E39=30,Data!DV39,\"\")","v":""},{"$f":"IF(Data!$E39=30,Data!DW39,IF(Data!AT39<>\"\",Data!AT39,\"\"))","v":""},{"$f":"IF(Data!$E39=30,Data!DX39,\"\")","v":""},{"$f":"IF(Data!$E39=30,Data!DY39,\"\")","v":""},{"$f":"IF(Data!$E39=30,Data!DZ39,IF(Data!AU39<>\"\",Data!AU39,\"\"))","v":""},{"$f":"IF(Data!$E39=30,Data!EA39,\"\")","v":""},{"$f":"IF(Data!$E39=30,Data!EB39,\"\")","v":""},{"$f":"IF(Data!$E39=30,Data!EC39,IF(Data!AV39<>\"\",Data!AV39,\"\"))","v":""},{"$f":"IF(Data!$E39=30,Data!ED39,\"\")","v":""},{"$f":"IF(Data!$E39=30,Data!EE39,\"\")","v":""},{"$f":"IF(Data!$E39=30,Data!EF39,IF(Data!AW39<>\"\",Data!AW39,\"\"))","v":""},{"$f":"IF(Data!$E39=30,Data!EG39,\"\")","v":""},{"$f":"IF(Data!$E39=30,Data!EH39,\"\")","v":""},{"$f":"IF(Data!$E39=30,Data!EI39,IF(Data!AX39<>\"\",Data!AX39,\"\"))","v":""},{"$f":"IF(Data!$E39=30,Data!EJ39,\"\")","v":""},{"$f":"IF(Data!$E39=30,Data!EK39,\"\")","v":""},{"$f":"IF(Data!$E39=30,Data!EL39,IF(Data!AY39<>\"\",Data!AY39,\"\"))","v":""},{"$f":"IF(Data!$E39=30,Data!EM39,\"\")","v":""},{"$f":"IF(Data!$E39=30,Data!EN39,\"\")","v":""},{"$f":"IF(Data!$E39=30,Data!EO39,IF(Data!AZ39<>\"\",Data!AZ39,\"\"))","v":""},{"$f":"IF(Data!$E39=30,Data!EP39,\"\")","v":""},{"$f":"IF(Data!$E39=30,Data!EQ39,\"\")","v":""},{"$f":"IF(Data!$E39=30,Data!ER39,IF(Data!BA39<>\"\",Data!BA39,\"\"))","v":""},{"$f":"IF(Data!$E39=30,Data!ES39,\"\")","v":""},{"$f":"IF(Data!$E39=30,Data!ET39,\"\")","v":""},{"$f":"IF(Data!$E39=30,Data!EU39,IF(Data!BB39<>\"\",Data!BB39,\"\"))","v":""},{"$f":"IF(Data!$E39=30,Data!EV39,\"\")","v":""},{"$f":"IF(Data!$E39=30,Data!EW39,\"\")","v":""},{"$f":"IF(Data!$E39=30,Data!EX39,IF(Data!Z39<>\"\",Data!BC39,\"\"))","v":""},{"$f":"IF(Data!$E39=30,Data!EY39,\"\")","v":""},null,null,null,{"$f":"IF(Data!$E39=30,Data!EZ39,\"\")","v":""},{"$f":"IF(Data!$E39=30,Data!FA39,IF(Data!BD39<>\"\",Data!BD39,\"\"))","v":""},{"$f":"IF(Data!$E39=30,Data!FB39,\"\")","v":""},{"$f":"IF(Data!$E39=30,Data!FC39,\"\")","v":""},{"$f":"IF(Data!$E39=30,Data!FD39,IF(Data!BE39<>\"\",Data!BE39,\"\"))","v":""},{"$f":"IF(Data!$E39=30,Data!FE39,\"\")","v":""},{"$f":"IF(Data!$E39=30,Data!FF39,\"\")","v":""},{"$f":"IF(Data!$E39=30,Data!FG39,IF(Data!BF39<>\"\",Data!BF39,\"\"))","v":""},{"$f":"IF(Data!$E39=30,Data!FH39,\"\")","v":""},{"$f":"IF(Data!$E39=30,Data!FI39,\"\")","v":""},{"$f":"IF(Data!$E39=30,Data!FJ39,IF(Data!BG39<>\"\",Data!BG39,\"\"))","v":""},{"$f":"IF(Data!$E39=30,Data!FK39,\"\")","v":""},{"$f":"IF(Data!$E39=30,Data!FL39,\"\")","v":""},{"$f":"IF(Data!$E39=30,Data!FM39,IF(Data!BH39<>\"\",Data!BH39,\"\"))","v":""},{"$f":"IF(Data!$E39=30,Data!FN39,\"\")","v":""},{"$f":"IF(Data!$E39=30,Data!FO39,\"\")","v":""},{"$f":"IF(Data!$E39=30,Data!FP39,IF(Data!BI39<>\"\",Data!BI39,\"\"))","v":""},{"$f":"IF(Data!$E39=30,Data!FQ39,\"\")","v":""},{"$f":"IF(Data!$E39=30,Data!FR39,\"\")","v":""},{"$f":"IF(Data!$E39=30,Data!FS39,IF(Data!BJ39<>\"\",Data!BJ39,\"\"))","v":""},{"$f":"IF(Data!$E39=30,Data!FT39,\"\")","v":""},{"$f":"IF(Data!$E39=30,Data!FU39,\"\")","v":""},{"$f":"IF(Data!$E39=30,Data!FV39,IF(Data!BK39<>\"\",Data!BK39,\"\"))","v":""},{"$f":"IF(Data!$E39=30,Data!FW39,\"\")","v":""},{"$f":"IF(Data!$E39=30,Data!FX39,\"\")","v":""},{"$f":"IF(Data!$E39=30,Data!FY39,IF(Data!BL39<>\"\",Data!BL39,\"\"))","v":""},{"$f":"IF(Data!$E39=30,Data!FZ39,\"\")","v":""},{"$f":"IF(Data!$E39=30,Data!GA39,\"\")","v":""},{"$f":"IF(Data!$E39=30,Data!GB39,IF(Data!BM39<>\"\",Data!BM39,\"\"))","v":""},{"$f":"IF(Data!$E39=30,Data!GC39,\"\")","v":""}]
[null,{"$f":"IF(Data!A40<>\"\",Data!A40,\"\")","v":""},{"$f":"IF(Data!$E40=30,Data!DV40,\"\")","v":""},{"$f":"IF(Data!$E40=30,Data!DW40,IF(Data!AT40<>\"\",Data!AT40,\"\"))","v":""},{"$f":"IF(Data!$E40=30,Data!DX40,\"\")","v":""},{"$f":"IF(Data!$E40=30,Data!DY40,\"\")","v":""},{"$f":"IF(Data!$E40=30,Data!DZ40,IF(Data!AU40<>\"\",Data!AU40,\"\"))","v":""},{"$f":"IF(Data!$E40=30,Data!EA40,\"\")","v":""},{"$f":"IF(Data!$E40=30,Data!EB40,\"\")","v":""},{"$f":"IF(Data!$E40=30,Data!EC40,IF(Data!AV40<>\"\",Data!AV40,\"\"))","v":""},{"$f":"IF(Data!$E40=30,Data!ED40,\"\")","v":""},{"$f":"IF(Data!$E40=30,Data!EE40,\"\")","v":""},{"$f":"IF(Data!$E40=30,Data!EF40,IF(Data!AW40<>\"\",Data!AW40,\"\"))","v":""},{"$f":"IF(Data!$E40=30,Data!EG40,\"\")","v":""},{"$f":"IF(Data!$E40=30,Data!EH40,\"\")","v":""},{"$f":"IF(Data!$E40=30,Data!EI40,IF(Data!AX40<>\"\",Data!AX40,\"\"))","v":""},{"$f":"IF(Data!$E40=30,Data!EJ40,\"\")","v":""},{"$f":"IF(Data!$E40=30,Data!EK40,\"\")","v":""},{"$f":"IF(Data!$E40=30,Data!EL40,IF(Data!AY40<>\"\",Data!AY40,\"\"))","v":""},{"$f":"IF(Data!$E40=30,Data!EM40,\"\")","v":""},{"$f":"IF(Data!$E40=30,Data!EN40,\"\")","v":""},{"$f":"IF(Data!$E40=30,Data!EO40,IF(Data!AZ40<>\"\",Data!AZ40,\"\"))","v":""},{"$f":"IF(Data!$E40=30,Data!EP40,\"\")","v":""},{"$f":"IF(Data!$E40=30,Data!EQ40,\"\")","v":""},{"$f":"IF(Data!$E40=30,Data!ER40,IF(Data!BA40<>\"\",Data!BA40,\"\"))","v":""},{"$f":"IF(Data!$E40=30,Data!ES40,\"\")","v":""},{"$f":"IF(Data!$E40=30,Data!ET40,\"\")","v":""},{"$f":"IF(Data!$E40=30,Data!EU40,IF(Data!BB40<>\"\",Data!BB40,\"\"))","v":""},{"$f":"IF(Data!$E40=30,Data!EV40,\"\")","v":""},{"$f":"IF(Data!$E40=30,Data!EW40,\"\")","v":""},{"$f":"IF(Data!$E40=30,Data!EX40,IF(Data!Z40<>\"\",Data!BC40,\"\"))","v":""},{"$f":"IF(Data!$E40=30,Data!EY40,\"\")","v":""},null,null,null,{"$f":"IF(Data!$E40=30,Data!EZ40,\"\")","v":""},{"$f":"IF(Data!$E40=30,Data!FA40,IF(Data!BD40<>\"\",Data!BD40,\"\"))","v":""},{"$f":"IF(Data!$E40=30,Data!FB40,\"\")","v":""},{"$f":"IF(Data!$E40=30,Data!FC40,\"\")","v":""},{"$f":"IF(Data!$E40=30,Data!FD40,IF(Data!BE40<>\"\",Data!BE40,\"\"))","v":""},{"$f":"IF(Data!$E40=30,Data!FE40,\"\")","v":""},{"$f":"IF(Data!$E40=30,Data!FF40,\"\")","v":""},{"$f":"IF(Data!$E40=30,Data!FG40,IF(Data!BF40<>\"\",Data!BF40,\"\"))","v":""},{"$f":"IF(Data!$E40=30,Data!FH40,\"\")","v":""},{"$f":"IF(Data!$E40=30,Data!FI40,\"\")","v":""},{"$f":"IF(Data!$E40=30,Data!FJ40,IF(Data!BG40<>\"\",Data!BG40,\"\"))","v":""},{"$f":"IF(Data!$E40=30,Data!FK40,\"\")","v":""},{"$f":"IF(Data!$E40=30,Data!FL40,\"\")","v":""},{"$f":"IF(Data!$E40=30,Data!FM40,IF(Data!BH40<>\"\",Data!BH40,\"\"))","v":""},{"$f":"IF(Data!$E40=30,Data!FN40,\"\")","v":""},{"$f":"IF(Data!$E40=30,Data!FO40,\"\")","v":""},{"$f":"IF(Data!$E40=30,Data!FP40,IF(Data!BI40<>\"\",Data!BI40,\"\"))","v":""},{"$f":"IF(Data!$E40=30,Data!FQ40,\"\")","v":""},{"$f":"IF(Data!$E40=30,Data!FR40,\"\")","v":""},{"$f":"IF(Data!$E40=30,Data!FS40,IF(Data!BJ40<>\"\",Data!BJ40,\"\"))","v":""},{"$f":"IF(Data!$E40=30,Data!FT40,\"\")","v":""},{"$f":"IF(Data!$E40=30,Data!FU40,\"\")","v":""},{"$f":"IF(Data!$E40=30,Data!FV40,IF(Data!BK40<>\"\",Data!BK40,\"\"))","v":""},{"$f":"IF(Data!$E40=30,Data!FW40,\"\")","v":""},{"$f":"IF(Data!$E40=30,Data!FX40,\"\")","v":""},{"$f":"IF(Data!$E40=30,Data!FY40,IF(Data!BL40<>\"\",Data!BL40,\"\"))","v":""},{"$f":"IF(Data!$E40=30,Data!FZ40,\"\")","v":""},{"$f":"IF(Data!$E40=30,Data!GA40,\"\")","v":""},{"$f":"IF(Data!$E40=30,Data!GB40,IF(Data!BM40<>\"\",Data!BM40,\"\"))","v":""},{"$f":"IF(Data!$E40=30,Data!GC40,\"\")","v":""}]
[null,{"$f":"IF(Data!A41<>\"\",Data!A41,\"\")","v":""},{"$f":"IF(Data!$E41=30,Data!DV41,\"\")","v":""},{"$f":"IF(Data!$E41=30,Data!DW41,IF(Data!AT41<>\"\",Data!AT41,\"\"))","v":""},{"$f":"IF(Data!$E41=30,Data!DX41,\"\")","v":""},{"$f":"IF(Data!$E41=30,Data!DY41,\"\")","v":""},{"$f":"IF(Data!$E41=30,Data!DZ41,IF(Data!AU41<>\"\",Data!AU41,\"\"))","v":""},{"$f":"IF(Data!$E41=30,Data!EA41,\"\")","v":""},{"$f":"IF(Data!$E41=30,Data!EB41,\"\")","v":""},{"$f":"IF(Data!$E41=30,Data!EC41,IF(Data!AV41<>\"\",Data!AV41,\"\"))","v":""},{"$f":"IF(Data!$E41=30,Data!ED41,\"\")","v":""},{"$f":"IF(Data!$E41=30,Data!EE41,\"\")","v":""},{"$f":"IF(Data!$E41=30,Data!EF41,IF(Data!AW41<>\"\",Data!AW41,\"\"))","v":""},{"$f":"IF(Data!$E41=30,Data!EG41,\"\")","v":""},{"$f":"IF(Data!$E41=30,Data!EH41,\"\")","v":""},{"$f":"IF(Data!$E41=30,Data!EI41,IF(Data!AX41<>\"\",Data!AX41,\"\"))","v":""},{"$f":"IF(Data!$E41=30,Data!EJ41,\"\")","v":""},{"$f":"IF(Data!$E41=30,Data!EK41,\"\")","v":""},{"$f":"IF(Data!$E41=30,Data!EL41,IF(Data!AY41<>\"\",Data!AY41,\"\"))","v":""},{"$f":"IF(Data!$E41=30,Data!EM41,\"\")","v":""},{"$f":"IF(Data!$E41=30,Data!EN41,\"\")","v":""},{"$f":"IF(Data!$E41=30,Data!EO41,IF(Data!AZ41<>\"\",Data!AZ41,\"\"))","v":""},{"$f":"IF(Data!$E41=30,Data!EP41,\"\")","v":""},{"$f":"IF(Data!$E41=30,Data!EQ41,\"\")","v":""},{"$f":"IF(Data!$E41=30,Data!ER41,IF(Data!BA41<>\"\",Data!BA41,\"\"))","v":""},{"$f":"IF(Data!$E41=30,Data!ES41,\"\")","v":""},{"$f":"IF(Data!$E41=30,Data!ET41,\"\")","v":""},{"$f":"IF(Data!$E41=30,Data!EU41,IF(Data!BB41<>\"\",Data!BB41,\"\"))","v":""},{"$f":"IF(Data!$E41=30,Data!EV41,\"\")","v":""},{"$f":"IF(Data!$E41=30,Data!EW41,\"\")","v":""},{"$f":"IF(Data!$E41=30,Data!EX41,IF(Data!Z41<>\"\",Data!BC41,\"\"))","v":""},{"$f":"IF(Data!$E41=30,Data!EY41,\"\")","v":""},null,null,null,{"$f":"IF(Data!$E41=30,Data!EZ41,\"\")","v":""},{"$f":"IF(Data!$E41=30,Data!FA41,IF(Data!BD41<>\"\",Data!BD41,\"\"))","v":""},{"$f":"IF(Data!$E41=30,Data!FB41,\"\")","v":""},{"$f":"IF(Data!$E41=30,Data!FC41,\"\")","v":""},{"$f":"IF(Data!$E41=30,Data!FD41,IF(Data!BE41<>\"\",Data!BE41,\"\"))","v":""},{"$f":"IF(Data!$E41=30,Data!FE41,\"\")","v":""},{"$f":"IF(Data!$E41=30,Data!FF41,\"\")","v":""},{"$f":"IF(Data!$E41=30,Data!FG41,IF(Data!BF41<>\"\",Data!BF41,\"\"))","v":""},{"$f":"IF(Data!$E41=30,Data!FH41,\"\")","v":""},{"$f":"IF(Data!$E41=30,Data!FI41,\"\")","v":""},{"$f":"IF(Data!$E41=30,Data!FJ41,IF(Data!BG41<>\"\",Data!BG41,\"\"))","v":""},{"$f":"IF(Data!$E41=30,Data!FK41,\"\")","v":""},{"$f":"IF(Data!$E41=30,Data!FL41,\"\")","v":""},{"$f":"IF(Data!$E41=30,Data!FM41,IF(Data!BH41<>\"\",Data!BH41,\"\"))","v":""},{"$f":"IF(Data!$E41=30,Data!FN41,\"\")","v":""},{"$f":"IF(Data!$E41=30,Data!FO41,\"\")","v":""},{"$f":"IF(Data!$E41=30,Data!FP41,IF(Data!BI41<>\"\",Data!BI41,\"\"))","v":""},{"$f":"IF(Data!$E41=30,Data!FQ41,\"\")","v":""},{"$f":"IF(Data!$E41=30,Data!FR41,\"\")","v":""},{"$f":"IF(Data!$E41=30,Data!FS41,IF(Data!BJ41<>\"\",Data!BJ41,\"\"))","v":""},{"$f":"IF(Data!$E41=30,Data!FT41,\"\")","v":""},{"$f":"IF(Data!$E41=30,Data!FU41,\"\")","v":""},{"$f":"IF(Data!$E41=30,Data!FV41,IF(Data!BK41<>\"\",Data!BK41,\"\"))","v":""},{"$f":"IF(Data!$E41=30,Data!FW41,\"\")","v":""},{"$f":"IF(Data!$E41=30,Data!FX41,\"\")","v":""},{"$f":"IF(Data!$E41=30,Data!FY41,IF(Data!BL41<>\"\",Data!BL41,\"\"))","v":""},{"$f":"IF(Data!$E41=30,Data!FZ41,\"\")","v":""},{"$f":"IF(Data!$E41=30,Data!GA41,\"\")","v":""},{"$f":"IF(Data!$E41=30,Data!GB41,IF(Data!BM41<>\"\",Data!BM41,\"\"))","v":""},{"$f":"IF(Data!$E41=30,Data!GC41,\"\")","v":""}]
[null,{"$f":"IF(Data!A42<>\"\",Data!A42,\"\")","v":""},{"$f":"IF(Data!$E42=30,Data!DV42,\"\")","v":""},{"$f":"IF(Data!$E42=30,Data!DW42,IF(Data!AT42<>\"\",Data!AT42,\"\"))","v":""},{"$f":"IF(Data!$E42=30,Data!DX42,\"\")","v":""},{"$f":"IF(Data!$E42=30,Data!DY42,\"\")","v":""},{"$f":"IF(Data!$E42=30,Data!DZ42,IF(Data!AU42<>\"\",Data!AU42,\"\"))","v":""},{"$f":"IF(Data!$E42=30,Data!EA42,\"\")","v":""},{"$f":"IF(Data!$E42=30,Data!EB42,\"\")","v":""},{"$f":"IF(Data!$E42=30,Data!EC42,IF(Data!AV42<>\"\",Data!AV42,\"\"))","v":""},{"$f":"IF(Data!$E42=30,Data!ED42,\"\")","v":""},{"$f":"IF(Data!$E42=30,Data!EE42,\"\")","v":""},{"$f":"IF(Data!$E42=30,Data!EF42,IF(Data!AW42<>\"\",Data!AW42,\"\"))","v":""},{"$f":"IF(Data!$E42=30,Data!EG42,\"\")","v":""},{"$f":"IF(Data!$E42=30,Data!EH42,\"\")","v":""},{"$f":"IF(Data!$E42=30,Data!EI42,IF(Data!AX42<>\"\",Data!AX42,\"\"))","v":""},{"$f":"IF(Data!$E42=30,Data!EJ42,\"\")","v":""},{"$f":"IF(Data!$E42=30,Data!EK42,\"\")","v":""},{"$f":"IF(Data!$E42=30,Data!EL42,IF(Data!AY42<>\"\",Data!AY42,\"\"))","v":""},{"$f":"IF(Data!$E42=30,Data!EM42,\"\")","v":""},{"$f":"IF(Data!$E42=30,Data!EN42,\"\")","v":""},{"$f":"IF(Data!$E42=30,Data!EO42,IF(Data!AZ42<>\"\",Data!AZ42,\"\"))","v":""},{"$f":"IF(Data!$E42=30,Data!EP42,\"\")","v":""},{"$f":"IF(Data!$E42=30,Data!EQ42,\"\")","v":""},{"$f":"IF(Data!$E42=30,Data!ER42,IF(Data!BA42<>\"\",Data!BA42,\"\"))","v":""},{"$f":"IF(Data!$E42=30,Data!ES42,\"\")","v":""},{"$f":"IF(Data!$E42=30,Data!ET42,\"\")","v":""},{"$f":"IF(Data!$E42=30,Data!EU42,IF(Data!BB42<>\"\",Data!BB42,\"\"))","v":""},{"$f":"IF(Data!$E42=30,Data!EV42,\"\")","v":""},{"$f":"IF(Data!$E42=30,Data!EW42,\"\")","v":""},{"$f":"IF(Data!$E42=30,Data!EX42,IF(Data!Z42<>\"\",Data!BC42,\"\"))","v":""},{"$f":"IF(Data!$E42=30,Data!EY42,\"\")","v":""},null,null,null,{"$f":"IF(Data!$E42=30,Data!EZ42,\"\")","v":""},{"$f":"IF(Data!$E42=30,Data!FA42,IF(Data!BD42<>\"\",Data!BD42,\"\"))","v":""},{"$f":"IF(Data!$E42=30,Data!FB42,\"\")","v":""},{"$f":"IF(Data!$E42=30,Data!FC42,\"\")","v":""},{"$f":"IF(Data!$E42=30,Data!FD42,IF(Data!BE42<>\"\",Data!BE42,\"\"))","v":""},{"$f":"IF(Data!$E42=30,Data!FE42,\"\")","v":""},{"$f":"IF(Data!$E42=30,Data!FF42,\"\")","v":""},{"$f":"IF(Data!$E42=30,Data!FG42,IF(Data!BF42<>\"\",Data!BF42,\"\"))","v":""},{"$f":"IF(Data!$E42=30,Data!FH42,\"\")","v":""},{"$f":"IF(Data!$E42=30,Data!FI42,\"\")","v":""},{"$f":"IF(Data!$E42=30,Data!FJ42,IF(Data!BG42<>\"\",Data!BG42,\"\"))","v":""},{"$f":"IF(Data!$E42=30,Data!FK42,\"\")","v":""},{"$f":"IF(Data!$E42=30,Data!FL42,\"\")","v":""},{"$f":"IF(Data!$E42=30,Data!FM42,IF(Data!BH42<>\"\",Data!BH42,\"\"))","v":""},{"$f":"IF(Data!$E42=30,Data!FN42,\"\")","v":""},{"$f":"IF(Data!$E42=30,Data!FO42,\"\")","v":""},{"$f":"IF(Data!$E42=30,Data!FP42,IF(Data!BI42<>\"\",Data!BI42,\"\"))","v":""},{"$f":"IF(Data!$E42=30,Data!FQ42,\"\")","v":""},{"$f":"IF(Data!$E42=30,Data!FR42,\"\")","v":""},{"$f":"IF(Data!$E42=30,Data!FS42,IF(Data!BJ42<>\"\",Data!BJ42,\"\"))","v":""},{"$f":"IF(Data!$E42=30,Data!FT42,\"\")","v":""},{"$f":"IF(Data!$E42=30,Data!FU42,\"\")","v":""},{"$f":"IF(Data!$E42=30,Data!FV42,IF(Data!BK42<>\"\",Data!BK42,\"\"))","v":""},{"$f":"IF(Data!$E42=30,Data!FW42,\"\")","v":""},{"$f":"IF(Data!$E42=30,Data!FX42,\"\")","v":""},{"$f":"IF(Data!$E42=30,Data!FY42,IF(Data!BL42<>\"\",Data!BL42,\"\"))","v":""},{"$f":"IF(Data!$E42=30,Data!FZ42,\"\")","v":""},{"$f":"IF(Data!$E42=30,Data!GA42,\"\")","v":""},{"$f":"IF(Data!$E42=30,Data!GB42,IF(Data!BM42<>\"\",Data!BM42,\"\"))","v":""},{"$f":"IF(Data!$E42=30,Data!GC42,\"\")","v":""}]
[null,{"$f":"IF(Data!A43<>\"\",Data!A43,\"\")","v":""},{"$f":"IF(Data!$E43=30,Data!DV43,\"\")","v":""},{"$f":"IF(Data!$E43=30,Data!DW43,IF(Data!AT43<>\"\",Data!AT43,\"\"))","v":""},{"$f":"IF(Data!$E43=30,Data!DX43,\"\")","v":""},{"$f":"IF(Data!$E43=30,Data!DY43,\"\")","v":""},{"$f":"IF(Data!$E43=30,Data!DZ43,IF(Data!AU43<>\"\",Data!AU43,\"\"))","v":""},{"$f":"IF(Data!$E43=30,Data!EA43,\"\")","v":""},{"$f":"IF(Data!$E43=30,Data!EB43,\"\")","v":""},{"$f":"IF(Data!$E43=30,Data!EC43,IF(Data!AV43<>\"\",Data!AV43,\"\"))","v":""},{"$f":"IF(Data!$E43=30,Data!ED43,\"\")","v":""},{"$f":"IF(Data!$E43=30,Data!EE43,\"\")","v":""},{"$f":"IF(Data!$E43=30,Data!EF43,IF(Data!AW43<>\"\",Data!AW43,\"\"))","v":""},{"$f":"IF(Data!$E43=30,Data!EG43,\"\")","v":""},{"$f":"IF(Data!$E43=30,Data!EH43,\"\")","v":""},{"$f":"IF(Data!$E43=30,Data!EI43,IF(Data!AX43<>\"\",Data!AX43,\"\"))","v":""},{"$f":"IF(Data!$E43=30,Data!EJ43,\"\")","v":""},{"$f":"IF(Data!$E43=30,Data!EK43,\"\")","v":""},{"$f":"IF(Data!$E43=30,Data!EL43,IF(Data!AY43<>\"\",Data!AY43,\"\"))","v":""},{"$f":"IF(Data!$E43=30,Data!EM43,\"\")","v":""},{"$f":"IF(Data!$E43=30,Data!EN43,\"\")","v":""},{"$f":"IF(Data!$E43=30,Data!EO43,IF(Data!AZ43<>\"\",Data!AZ43,\"\"))","v":""},{"$f":"IF(Data!$E43=30,Data!EP43,\"\")","v":""},{"$f":"IF(Data!$E43=30,Data!EQ43,\"\")","v":""},{"$f":"IF(Data!$E43=30,Data!ER43,IF(Data!BA43<>\"\",Data!BA43,\"\"))","v":""},{"$f":"IF(Data!$E43=30,Data!ES43,\"\")","v":""},{"$f":"IF(Data!$E43=30,Data!ET43,\"\")","v":""},{"$f":"IF(Data!$E43=30,Data!EU43,IF(Data!BB43<>\"\",Data!BB43,\"\"))","v":""},{"$f":"IF(Data!$E43=30,Data!EV43,\"\")","v":""},{"$f":"IF(Data!$E43=30,Data!EW43,\"\")","v":""},{"$f":"IF(Data!$E43=30,Data!EX43,IF(Data!Z43<>\"\",Data!BC43,\"\"))","v":""},{"$f":"IF(Data!$E43=30,Data!EY43,\"\")","v":""},null,null,null,{"$f":"IF(Data!$E43=30,Data!EZ43,\"\")","v":""},{"$f":"IF(Data!$E43=30,Data!FA43,IF(Data!BD43<>\"\",Data!BD43,\"\"))","v":""},{"$f":"IF(Data!$E43=30,Data!FB43,\"\")","v":""},{"$f":"IF(Data!$E43=30,Data!FC43,\"\")","v":""},{"$f":"IF(Data!$E43=30,Data!FD43,IF(Data!BE43<>\"\",Data!BE43,\"\"))","v":""},{"$f":"IF(Data!$E43=30,Data!FE43,\"\")","v":""},{"$f":"IF(Data!$E43=30,Data!FF43,\"\")","v":""},{"$f":"IF(Data!$E43=30,Data!FG43,IF(Data!BF43<>\"\",Data!BF43,\"\"))","v":""},{"$f":"IF(Data!$E43=30,Data!FH43,\"\")","v":""},{"$f":"IF(Data!$E43=30,Data!FI43,\"\")","v":""},{"$f":"IF(Data!$E43=30,Data!FJ43,IF(Data!BG43<>\"\",Data!BG43,\"\"))","v":""},{"$f":"IF(Data!$E43=30,Data!FK43,\"\")","v":""},{"$f":"IF(Data!$E43=30,Data!FL43,\"\")","v":""},{"$f":"IF(Data!$E43=30,Data!FM43,IF(Data!BH43<>\"\",Data!BH43,\"\"))","v":""},{"$f":"IF(Data!$E43=30,Data!FN43,\"\")","v":""},{"$f":"IF(Data!$E43=30,Data!FO43,\"\")","v":""},{"$f":"IF(Data!$E43=30,Data!FP43,IF(Data!BI43<>\"\",Data!BI43,\"\"))","v":""},{"$f":"IF(Data!$E43=30,Data!FQ43,\"\")","v":""},{"$f":"IF(Data!$E43=30,Data!FR43,\"\")","v":""},{"$f":"IF(Data!$E43=30,Data!FS43,IF(Data!BJ43<>\"\",Data!BJ43,\"\"))","v":""},{"$f":"IF(Data!$E43=30,Data!FT43,\"\")","v":""},{"$f":"IF(Data!$E43=30,Data!FU43,\"\")","v":""},{"$f":"IF(Data!$E43=30,Data!FV43,IF(Data!BK43<>\"\",Data!BK43,\"\"))","v":""},{"$f":"IF(Data!$E43=30,Data!FW43,\"\")","v":""},{"$f":"IF(Data!$E43=30,Data!FX43,\"\")","v":""},{"$f":"IF(Data!$E43=30,Data!FY43,IF(Data!BL43<>\"\",Data!BL43,\"\"))","v":""},{"$f":"IF(Data!$E43=30,Data!FZ43,\"\")","v":""},{"$f":"IF(Data!$E43=30,Data!GA43,\"\")","v":""},{"$f":"IF(Data!$E43=30,Data!GB43,IF(Data!BM43<>\"\",Data!BM43,\"\"))","v":""},{"$f":"IF(Data!$E43=30,Data!GC43,\"\")","v":""}]
[null,{"$f":"IF(Data!A44<>\"\",Data!A44,\"\")","v":""},{"$f":"IF(Data!$E44=30,Data!DV44,\"\")","v":""},{"$f":"IF(Data!$E44=30,Data!DW44,IF(Data!AT44<>\"\",Data!AT44,\"\"))","v":""},{"$f":"IF(Data!$E44=30,Data!DX44,\"\")","v":""},{"$f":"IF(Data!$E44=30,Data!DY44,\"\")","v":""},{"$f":"IF(Data!$E44=30,Data!DZ44,IF(Data!AU44<>\"\",Data!AU44,\"\"))","v":""},{"$f":"IF(Data!$E44=30,Data!EA44,\"\")","v":""},{"$f":"IF(Data!$E44=30,Data!EB44,\"\")","v":""},{"$f":"IF(Data!$E44=30,Data!EC44,IF(Data!AV44<>\"\",Data!AV44,\"\"))","v":""},{"$f":"IF(Data!$E44=30,Data!ED44,\"\")","v":""},{"$f":"IF(Data!$E44=30,Data!EE44,\"\")","v":""},{"$f":"IF(Data!$E44=30,Data!EF44,IF(Data!AW44<>\"\",Data!AW44,\"\"))","v":""},{"$f":"IF(Data!$E44=30,Data!EG44,\"\")","v":""},{"$f":"IF(Data!$E44=30,Data!EH44,\"\")","v":""},{"$f":"IF(Data!$E44=30,Data!EI44,IF(Data!AX44<>\"\",Data!AX44,\"\"))","v":""},{"$f":"IF(Data!$E44=30,Data!EJ44,\"\")","v":""},{"$f":"IF(Data!$E44=30,Data!EK44,\"\")","v":""},{"$f":"IF(Data!$E44=30,Data!EL44,IF(Data!AY44<>\"\",Data!AY44,\"\"))","v":""},{"$f":"IF(Data!$E44=30,Data!EM44,\"\")","v":""},{"$f":"IF(Data!$E44=30,Data!EN44,\"\")","v":""},{"$f":"IF(Data!$E44=30,Data!EO44,IF(Data!AZ44<>\"\",Data!AZ44,\"\"))","v":""},{"$f":"IF(Data!$E44=30,Data!EP44,\"\")","v":""},{"$f":"IF(Data!$E44=30,Data!EQ44,\"\")","v":""},{"$f":"IF(Data!$E44=30,Data!ER44,IF(Data!BA44<>\"\",Data!BA44,\"\"))","v":""},{"$f":"IF(Data!$E44=30,Data!ES44,\"\")","v":""},{"$f":"IF(Data!$E44=30,Data!ET44,\"\")","v":""},{"$f":"IF(Data!$E44=30,Data!EU44,IF(Data!BB44<>\"\",Data!BB44,\"\"))","v":""},{"$f":"IF(Data!$E44=30,Data!EV44,\"\")","v":""},{"$f":"IF(Data!$E44=30,Data!EW44,\"\")","v":""},{"$f":"IF(Data!$E44=30,Data!EX44,IF(Data!Z44<>\"\",Data!BC44,\"\"))","v":""},{"$f":"IF(Data!$E44=30,Data!EY44,\"\")","v":""},null,null,null,{"$f":"IF(Data!$E44=30,Data!EZ44,\"\")","v":""},{"$f":"IF(Data!$E44=30,Data!FA44,IF(Data!BD44<>\"\",Data!BD44,\"\"))","v":""},{"$f":"IF(Data!$E44=30,Data!FB44,\"\")","v":""},{"$f":"IF(Data!$E44=30,Data!FC44,\"\")","v":""},{"$f":"IF(Data!$E44=30,Data!FD44,IF(Data!BE44<>\"\",Data!BE44,\"\"))","v":""},{"$f":"IF(Data!$E44=30,Data!FE44,\"\")","v":""},{"$f":"IF(Data!$E44=30,Data!FF44,\"\")","v":""},{"$f":"IF(Data!$E44=30,Data!FG44,IF(Data!BF44<>\"\",Data!BF44,\"\"))","v":""},{"$f":"IF(Data!$E44=30,Data!FH44,\"\")","v":""},{"$f":"IF(Data!$E44=30,Data!FI44,\"\")","v":""},{"$f":"IF(Data!$E44=30,Data!FJ44,IF(Data!BG44<>\"\",Data!BG44,\"\"))","v":""},{"$f":"IF(Data!$E44=30,Data!FK44,\"\")","v":""},{"$f":"IF(Data!$E44=30,Data!FL44,\"\")","v":""},{"$f":"IF(Data!$E44=30,Data!FM44,IF(Data!BH44<>\"\",Data!BH44,\"\"))","v":""},{"$f":"IF(Data!$E44=30,Data!FN44,\"\")","v":""},{"$f":"IF(Data!$E44=30,Data!FO44,\"\")","v":""},{"$f":"IF(Data!$E44=30,Data!FP44,IF(Data!BI44<>\"\",Data!BI44,\"\"))","v":""},{"$f":"IF(Data!$E44=30,Data!FQ44,\"\")","v":""},{"$f":"IF(Data!$E44=30,Data!FR44,\"\")","v":""},{"$f":"IF(Data!$E44=30,Data!FS44,IF(Data!BJ44<>\"\",Data!BJ44,\"\"))","v":""},{"$f":"IF(Data!$E44=30,Data!FT44,\"\")","v":""},{"$f":"IF(Data!$E44=30,Data!FU44,\"\")","v":""},{"$f":"IF(Data!$E44=30,Data!FV44,IF(Data!BK44<>\"\",Data!BK44,\"\"))","v":""},{"$f":"IF(Data!$E44=30,Data!FW44,\"\")","v":""},{"$f":"IF(Data!$E44=30,Data!FX44,\"\")","v":""},{"$f":"IF(Data!$E44=30,Data!FY44,IF(Data!BL44<>\"\",Data!BL44,\"\"))","v":""},{"$f":"IF(Data!$E44=30,Data!FZ44,\"\")","v":""},{"$f":"IF(Data!$E44=30,Data!GA44,\"\")","v":""},{"$f":"IF(Data!$E44=30,Data!GB44,IF(Data!BM44<>\"\",Data!BM44,\"\"))","v":""},{"$f":"IF(Data!$E44=30,Data!GC44,\"\")","v":""}]
[null,{"$f":"IF(Data!A45<>\"\",Data!A45,\"\")","v":""},{"$f":"IF(Data!$E45=30,Data!DV45,\"\")","v":""},{"$f":"IF(Data!$E45=30,Data!DW45,IF(Data!AT45<>\"\",Data!AT45,\"\"))","v":""},{"$f":"IF(Data!$E45=30,Data!DX45,\"\")","v":""},{"$f":"IF(Data!$E45=30,Data!DY45,\"\")","v":""},{"$f":"IF(Data!$E45=30,Data!DZ45,IF(Data!AU45<>\"\",Data!AU45,\"\"))","v":""},{"$f":"IF(Data!$E45=30,Data!EA45,\"\")","v":""},{"$f":"IF(Data!$E45=30,Data!EB45,\"\")","v":""},{"$f":"IF(Data!$E45=30,Data!EC45,IF(Data!AV45<>\"\",Data!AV45,\"\"))","v":""},{"$f":"IF(Data!$E45=30,Data!ED45,\"\")","v":""},{"$f":"IF(Data!$E45=30,Data!EE45,\"\")","v":""},{"$f":"IF(Data!$E45=30,Data!EF45,IF(Data!AW45<>\"\",Data!AW45,\"\"))","v":""},{"$f":"IF(Data!$E45=30,Data!EG45,\"\")","v":""},{"$f":"IF(Data!$E45=30,Data!EH45,\"\")","v":""},{"$f":"IF(Data!$E45=30,Data!EI45,IF(Data!AX45<>\"\",Data!AX45,\"\"))","v":""},{"$f":"IF(Data!$E45=30,Data!EJ45,\"\")","v":""},{"$f":"IF(Data!$E45=30,Data!EK45,\"\")","v":""},{"$f":"IF(Data!$E45=30,Data!EL45,IF(Data!AY45<>\"\",Data!AY45,\"\"))","v":""},{"$f":"IF(Data!$E45=30,Data!EM45,\"\")","v":""},{"$f":"IF(Data!$E45=30,Data!EN45,\"\")","v":""},{"$f":"IF(Data!$E45=30,Data!EO45,IF(Data!AZ45<>\"\",Data!AZ45,\"\"))","v":""},{"$f":"IF(Data!$E45=30,Data!EP45,\"\")","v":""},{"$f":"IF(Data!$E45=30,Data!EQ45,\"\")","v":""},{"$f":"IF(Data!$E45=30,Data!ER45,IF(Data!BA45<>\"\",Data!BA45,\"\"))","v":""},{"$f":"IF(Data!$E45=30,Data!ES45,\"\")","v":""},{"$f":"IF(Data!$E45=30,Data!ET45,\"\")","v":""},{"$f":"IF(Data!$E45=30,Data!EU45,IF(Data!BB45<>\"\",Data!BB45,\"\"))","v":""},{"$f":"IF(Data!$E45=30,Data!EV45,\"\")","v":""},{"$f":"IF(Data!$E45=30,Data!EW45,\"\")","v":""},{"$f":"IF(Data!$E45=30,Data!EX45,IF(Data!Z45<>\"\",Data!BC45,\"\"))","v":""},{"$f":"IF(Data!$E45=30,Data!EY45,\"\")","v":""},null,null,null,{"$f":"IF(Data!$E45=30,Data!EZ45,\"\")","v":""},{"$f":"IF(Data!$E45=30,Data!FA45,IF(Data!BD45<>\"\",Data!BD45,\"\"))","v":""},{"$f":"IF(Data!$E45=30,Data!FB45,\"\")","v":""},{"$f":"IF(Data!$E45=30,Data!FC45,\"\")","v":""},{"$f":"IF(Data!$E45=30,Data!FD45,IF(Data!BE45<>\"\",Data!BE45,\"\"))","v":""},{"$f":"IF(Data!$E45=30,Data!FE45,\"\")","v":""},{"$f":"IF(Data!$E45=30,Data!FF45,\"\")","v":""},{"$f":"IF(Data!$E45=30,Data!FG45,IF(Data!BF45<>\"\",Data!BF45,\"\"))","v":""},{"$f":"IF(Data!$E45=30,Data!FH45,\"\")","v":""},{"$f":"IF(Data!$E45=30,Data!FI45,\"\")","v":""},{"$f":"IF(Data!$E45=30,Data!FJ45,IF(Data!BG45<>\"\",Data!BG45,\"\"))","v":""},{"$f":"IF(Data!$E45=30,Data!FK45,\"\")","v":""},{"$f":"IF(Data!$E45=30,Data!FL45,\"\")","v":""},{"$f":"IF(Data!$E45=30,Data!FM45,IF(Data!BH45<>\"\",Data!BH45,\"\"))","v":""},{"$f":"IF(Data!$E45=30,Data!FN45,\"\")","v":""},{"$f":"IF(Data!$E45=30,Data!FO45,\"\")","v":""},{"$f":"IF(Data!$E45=30,Data!FP45,IF(Data!BI45<>\"\",Data!BI45,\"\"))","v":""},{"$f":"IF(Data!$E45=30,Data!FQ45,\"\")","v":""},{"$f":"IF(Data!$E45=30,Data!FR45,\"\")","v":""},{"$f":"IF(Data!$E45=30,Data!FS45,IF(Data!BJ45<>\"\",Data!BJ45,\"\"))","v":""},{"$f":"IF(Data!$E45=30,Data!FT45,\"\")","v":""},{"$f":"IF(Data!$E45=30,Data!FU45,\"\")","v":""},{"$f":"IF(Data!$E45=30,Data!FV45,IF(Data!BK45<>\"\",Data!BK45,\"\"))","v":""},{"$f":"IF(Data!$E45=30,Data!FW45,\"\")","v":""},{"$f":"IF(Data!$E45=30,Data!FX45,\"\")","v":""},{"$f":"IF(Data!$E45=30,Data!FY45,IF(Data!BL45<>\"\",Data!BL45,\"\"))","v":""},{"$f":"IF(Data!$E45=30,Data!FZ45,\"\")","v":""},{"$f":"IF(Data!$E45=30,Data!GA45,\"\")","v":""},{"$f":"IF(Data!$E45=30,Data!GB45,IF(Data!BM45<>\"\",Data!BM45,\"\"))","v":""},{"$f":"IF(Data!$E45=30,Data!GC45,\"\")","v":""}]
[null,{"$f":"IF(Data!A46<>\"\",Data!A46,\"\")","v":""},{"$f":"IF(Data!$E46=30,Data!DV46,\"\")","v":""},{"$f":"IF(Data!$E46=30,Data!DW46,IF(Data!AT46<>\"\",Data!AT46,\"\"))","v":""},{"$f":"IF(Data!$E46=30,Data!DX46,\"\")","v":""},{"$f":"IF(Data!$E46=30,Data!DY46,\"\")","v":""},{"$f":"IF(Data!$E46=30,Data!DZ46,IF(Data!AU46<>\"\",Data!AU46,\"\"))","v":""},{"$f":"IF(Data!$E46=30,Data!EA46,\"\")","v":""},{"$f":"IF(Data!$E46=30,Data!EB46,\"\")","v":""},{"$f":"IF(Data!$E46=30,Data!EC46,IF(Data!AV46<>\"\",Data!AV46,\"\"))","v":""},{"$f":"IF(Data!$E46=30,Data!ED46,\"\")","v":""},{"$f":"IF(Data!$E46=30,Data!EE46,\"\")","v":""},{"$f":"IF(Data!$E46=30,Data!EF46,IF(Data!AW46<>\"\",Data!AW46,\"\"))","v":""},{"$f":"IF(Data!$E46=30,Data!EG46,\"\")","v":""},{"$f":"IF(Data!$E46=30,Data!EH46,\"\")","v":""},{"$f":"IF(Data!$E46=30,Data!EI46,IF(Data!AX46<>\"\",Data!AX46,\"\"))","v":""},{"$f":"IF(Data!$E46=30,Data!EJ46,\"\")","v":""},{"$f":"IF(Data!$E46=30,Data!EK46,\"\")","v":""},{"$f":"IF(Data!$E46=30,Data!EL46,IF(Data!AY46<>\"\",Data!AY46,\"\"))","v":""},{"$f":"IF(Data!$E46=30,Data!EM46,\"\")","v":""},{"$f":"IF(Data!$E46=30,Data!EN46,\"\")","v":""},{"$f":"IF(Data!$E46=30,Data!EO46,IF(Data!AZ46<>\"\",Data!AZ46,\"\"))","v":""},{"$f":"IF(Data!$E46=30,Data!EP46,\"\")","v":""},{"$f":"IF(Data!$E46=30,Data!EQ46,\"\")","v":""},{"$f":"IF(Data!$E46=30,Data!ER46,IF(Data!BA46<>\"\",Data!BA46,\"\"))","v":""},{"$f":"IF(Data!$E46=30,Data!ES46,\"\")","v":""},{"$f":"IF(Data!$E46=30,Data!ET46,\"\")","v":""},{"$f":"IF(Data!$E46=30,Data!EU46,IF(Data!BB46<>\"\",Data!BB46,\"\"))","v":""},{"$f":"IF(Data!$E46=30,Data!EV46,\"\")","v":""},{"$f":"IF(Data!$E46=30,Data!EW46,\"\")","v":""},{"$f":"IF(Data!$E46=30,Data!EX46,IF(Data!Z46<>\"\",Data!BC46,\"\"))","v":""},{"$f":"IF(Data!$E46=30,Data!EY46,\"\")","v":""},null,null,null,{"$f":"IF(Data!$E46=30,Data!EZ46,\"\")","v":""},{"$f":"IF(Data!$E46=30,Data!FA46,IF(Data!BD46<>\"\",Data!BD46,\"\"))","v":""},{"$f":"IF(Data!$E46=30,Data!FB46,\"\")","v":""},{"$f":"IF(Data!$E46=30,Data!FC46,\"\")","v":""},{"$f":"IF(Data!$E46=30,Data!FD46,IF(Data!BE46<>\"\",Data!BE46,\"\"))","v":""},{"$f":"IF(Data!$E46=30,Data!FE46,\"\")","v":""},{"$f":"IF(Data!$E46=30,Data!FF46,\"\")","v":""},{"$f":"IF(Data!$E46=30,Data!FG46,IF(Data!BF46<>\"\",Data!BF46,\"\"))","v":""},{"$f":"IF(Data!$E46=30,Data!FH46,\"\")","v":""},{"$f":"IF(Data!$E46=30,Data!FI46,\"\")","v":""},{"$f":"IF(Data!$E46=30,Data!FJ46,IF(Data!BG46<>\"\",Data!BG46,\"\"))","v":""},{"$f":"IF(Data!$E46=30,Data!FK46,\"\")","v":""},{"$f":"IF(Data!$E46=30,Data!FL46,\"\")","v":""},{"$f":"IF(Data!$E46=30,Data!FM46,IF(Data!BH46<>\"\",Data!BH46,\"\"))","v":""},{"$f":"IF(Data!$E46=30,Data!FN46,\"\")","v":""},{"$f":"IF(Data!$E46=30,Data!FO46,\"\")","v":""},{"$f":"IF(Data!$E46=30,Data!FP46,IF(Data!BI46<>\"\",Data!BI46,\"\"))","v":""},{"$f":"IF(Data!$E46=30,Data!FQ46,\"\")","v":""},{"$f":"IF(Data!$E46=30,Data!FR46,\"\")","v":""},{"$f":"IF(Data!$E46=30,Data!FS46,IF(Data!BJ46<>\"\",Data!BJ46,\"\"))","v":""},{"$f":"IF(Data!$E46=30,Data!FT46,\"\")","v":""},{"$f":"IF(Data!$E46=30,Data!FU46,\"\")","v":""},{"$f":"IF(Data!$E46=30,Data!FV46,IF(Data!BK46<>\"\",Data!BK46,\"\"))","v":""},{"$f":"IF(Data!$E46=30,Data!FW46,\"\")","v":""},{"$f":"IF(Data!$E46=30,Data!FX46,\"\")","v":""},{"$f":"IF(Data!$E46=30,Data!FY46,IF(Data!BL46<>\"\",Data!BL46,\"\"))","v":""},{"$f":"IF(Data!$E46=30,Data!FZ46,\"\")","v":""},{"$f":"IF(Data!$E46=30,Data!GA46,\"\")","v":""},{"$f":"IF(Data!$E46=30,Data!GB46,IF(Data!BM46<>\"\",Data!BM46,\"\"))","v":""},{"$f":"IF(Data!$E46=30,Data!GC46,\"\")","v":""}]
[null,{"$f":"IF(Data!A47<>\"\",Data!A47,\"\")","v":""},{"$f":"IF(Data!$E47=30,Data!DV47,\"\")","v":""},{"$f":"IF(Data!$E47=30,Data!DW47,IF(Data!AT47<>\"\",Data!AT47,\"\"))","v":""},{"$f":"IF(Data!$E47=30,Data!DX47,\"\")","v":""},{"$f":"IF(Data!$E47=30,Data!DY47,\"\")","v":""},{"$f":"IF(Data!$E47=30,Data!DZ47,IF(Data!AU47<>\"\",Data!AU47,\"\"))","v":""},{"$f":"IF(Data!$E47=30,Data!EA47,\"\")","v":""},{"$f":"IF(Data!$E47=30,Data!EB47,\"\")","v":""},{"$f":"IF(Data!$E47=30,Data!EC47,IF(Data!AV47<>\"\",Data!AV47,\"\"))","v":""},{"$f":"IF(Data!$E47=30,Data!ED47,\"\")","v":""},{"$f":"IF(Data!$E47=30,Data!EE47,\"\")","v":""},{"$f":"IF(Data!$E47=30,Data!EF47,IF(Data!AW47<>\"\",Data!AW47,\"\"))","v":""},{"$f":"IF(Data!$E47=30,Data!EG47,\"\")","v":""},{"$f":"IF(Data!$E47=30,Data!EH47,\"\")","v":""},{"$f":"IF(Data!$E47=30,Data!EI47,IF(Data!AX47<>\"\",Data!AX47,\"\"))","v":""},{"$f":"IF(Data!$E47=30,Data!EJ47,\"\")","v":""},{"$f":"IF(Data!$E47=30,Data!EK47,\"\")","v":""},{"$f":"IF(Data!$E47=30,Data!EL47,IF(Data!AY47<>\"\",Data!AY47,\"\"))","v":""},{"$f":"IF(Data!$E47=30,Data!EM47,\"\")","v":""},{"$f":"IF(Data!$E47=30,Data!EN47,\"\")","v":""},{"$f":"IF(Data!$E47=30,Data!EO47,IF(Data!AZ47<>\"\",Data!AZ47,\"\"))","v":""},{"$f":"IF(Data!$E47=30,Data!EP47,\"\")","v":""},{"$f":"IF(Data!$E47=30,Data!EQ47,\"\")","v":""},{"$f":"IF(Data!$E47=30,Data!ER47,IF(Data!BA47<>\"\",Data!BA47,\"\"))","v":""},{"$f":"IF(Data!$E47=30,Data!ES47,\"\")","v":""},{"$f":"IF(Data!$E47=30,Data!ET47,\"\")","v":""},{"$f":"IF(Data!$E47=30,Data!EU47,IF(Data!BB47<>\"\",Data!BB47,\"\"))","v":""},{"$f":"IF(Data!$E47=30,Data!EV47,\"\")","v":""},{"$f":"IF(Data!$E47=30,Data!EW47,\"\")","v":""},{"$f":"IF(Data!$E47=30,Data!EX47,IF(Data!Z47<>\"\",Data!BC47,\"\"))","v":""},{"$f":"IF(Data!$E47=30,Data!EY47,\"\")","v":""},null,null,null,{"$f":"IF(Data!$E47=30,Data!EZ47,\"\")","v":""},{"$f":"IF(Data!$E47=30,Data!FA47,IF(Data!BD47<>\"\",Data!BD47,\"\"))","v":""},{"$f":"IF(Data!$E47=30,Data!FB47,\"\")","v":""},{"$f":"IF(Data!$E47=30,Data!FC47,\"\")","v":""},{"$f":"IF(Data!$E47=30,Data!FD47,IF(Data!BE47<>\"\",Data!BE47,\"\"))","v":""},{"$f":"IF(Data!$E47=30,Data!FE47,\"\")","v":""},{"$f":"IF(Data!$E47=30,Data!FF47,\"\")","v":""},{"$f":"IF(Data!$E47=30,Data!FG47,IF(Data!BF47<>\"\",Data!BF47,\"\"))","v":""},{"$f":"IF(Data!$E47=30,Data!FH47,\"\")","v":""},{"$f":"IF(Data!$E47=30,Data!FI47,\"\")","v":""},{"$f":"IF(Data!$E47=30,Data!FJ47,IF(Data!BG47<>\"\",Data!BG47,\"\"))","v":""},{"$f":"IF(Data!$E47=30,Data!FK47,\"\")","v":""},{"$f":"IF(Data!$E47=30,Data!FL47,\"\")","v":""},{"$f":"IF(Data!$E47=30,Data!FM47,IF(Data!BH47<>\"\",Data!BH47,\"\"))","v":""},{"$f":"IF(Data!$E47=30,Data!FN47,\"\")","v":""},{"$f":"IF(Data!$E47=30,Data!FO47,\"\")","v":""},{"$f":"IF(Data!$E47=30,Data!FP47,IF(Data!BI47<>\"\",Data!BI47,\"\"))","v":""},{"$f":"IF(Data!$E47=30,Data!FQ47,\"\")","v":""},{"$f":"IF(Data!$E47=30,Data!FR47,\"\")","v":""},{"$f":"IF(Data!$E47=30,Data!FS47,IF(Data!BJ47<>\"\",Data!BJ47,\"\"))","v":""},{"$f":"IF(Data!$E47=30,Data!FT47,\"\")","v":""},{"$f":"IF(Data!$E47=30,Data!FU47,\"\")","v":""},{"$f":"IF(Data!$E47=30,Data!FV47,IF(Data!BK47<>\"\",Data!BK47,\"\"))","v":""},{"$f":"IF(Data!$E47=30,Data!FW47,\"\")","v":""},{"$f":"IF(Data!$E47=30,Data!FX47,\"\")","v":""},{"$f":"IF(Data!$E47=30,Data!FY47,IF(Data!BL47<>\"\",Data!BL47,\"\"))","v":""},{"$f":"IF(Data!$E47=30,Data!FZ47,\"\")","v":""},{"$f":"IF(Data!$E47=30,Data!GA47,\"\")","v":""},{"$f":"IF(Data!$E47=30,Data!GB47,IF(Data!BM47<>\"\",Data!BM47,\"\"))","v":""},{"$f":"IF(Data!$E47=30,Data!GC47,\"\")","v":""}]
[null,{"$f":"IF(Data!A48<>\"\",Data!A48,\"\")","v":""},{"$f":"IF(Data!$E48=30,Data!DV48,\"\")","v":""},{"$f":"IF(Data!$E48=30,Data!DW48,IF(Data!AT48<>\"\",Data!AT48,\"\"))","v":""},{"$f":"IF(Data!$E48=30,Data!DX48,\"\")","v":""},{"$f":"IF(Data!$E48=30,Data!DY48,\"\")","v":""},{"$f":"IF(Data!$E48=30,Data!DZ48,IF(Data!AU48<>\"\",Data!AU48,\"\"))","v":""},{"$f":"IF(Data!$E48=30,Data!EA48,\"\")","v":""},{"$f":"IF(Data!$E48=30,Data!EB48,\"\")","v":""},{"$f":"IF(Data!$E48=30,Data!EC48,IF(Data!AV48<>\"\",Data!AV48,\"\"))","v":""},{"$f":"IF(Data!$E48=30,Data!ED48,\"\")","v":""},{"$f":"IF(Data!$E48=30,Data!EE48,\"\")","v":""},{"$f":"IF(Data!$E48=30,Data!EF48,IF(Data!AW48<>\"\",Data!AW48,\"\"))","v":""},{"$f":"IF(Data!$E48=30,Data!EG48,\"\")","v":""},{"$f":"IF(Data!$E48=30,Data!EH48,\"\")","v":""},{"$f":"IF(Data!$E48=30,Data!EI48,IF(Data!AX48<>\"\",Data!AX48,\"\"))","v":""},{"$f":"IF(Data!$E48=30,Data!EJ48,\"\")","v":""},{"$f":"IF(Data!$E48=30,Data!EK48,\"\")","v":""},{"$f":"IF(Data!$E48=30,Data!EL48,IF(Data!AY48<>\"\",Data!AY48,\"\"))","v":""},{"$f":"IF(Data!$E48=30,Data!EM48,\"\")","v":""},{"$f":"IF(Data!$E48=30,Data!EN48,\"\")","v":""},{"$f":"IF(Data!$E48=30,Data!EO48,IF(Data!AZ48<>\"\",Data!AZ48,\"\"))","v":""},{"$f":"IF(Data!$E48=30,Data!EP48,\"\")","v":""},{"$f":"IF(Data!$E48=30,Data!EQ48,\"\")","v":""},{"$f":"IF(Data!$E48=30,Data!ER48,IF(Data!BA48<>\"\",Data!BA48,\"\"))","v":""},{"$f":"IF(Data!$E48=30,Data!ES48,\"\")","v":""},{"$f":"IF(Data!$E48=30,Data!ET48,\"\")","v":""},{"$f":"IF(Data!$E48=30,Data!EU48,IF(Data!BB48<>\"\",Data!BB48,\"\"))","v":""},{"$f":"IF(Data!$E48=30,Data!EV48,\"\")","v":""},{"$f":"IF(Data!$E48=30,Data!EW48,\"\")","v":""},{"$f":"IF(Data!$E48=30,Data!EX48,IF(Data!Z48<>\"\",Data!BC48,\"\"))","v":""},{"$f":"IF(Data!$E48=30,Data!EY48,\"\")","v":""},null,null,null,{"$f":"IF(Data!$E48=30,Data!EZ48,\"\")","v":""},{"$f":"IF(Data!$E48=30,Data!FA48,IF(Data!BD48<>\"\",Data!BD48,\"\"))","v":""},{"$f":"IF(Data!$E48=30,Data!FB48,\"\")","v":""},{"$f":"IF(Data!$E48=30,Data!FC48,\"\")","v":""},{"$f":"IF(Data!$E48=30,Data!FD48,IF(Data!BE48<>\"\",Data!BE48,\"\"))","v":""},{"$f":"IF(Data!$E48=30,Data!FE48,\"\")","v":""},{"$f":"IF(Data!$E48=30,Data!FF48,\"\")","v":""},{"$f":"IF(Data!$E48=30,Data!FG48,IF(Data!BF48<>\"\",Data!BF48,\"\"))","v":""},{"$f":"IF(Data!$E48=30,Data!FH48,\"\")","v":""},{"$f":"IF(Data!$E48=30,Data!FI48,\"\")","v":""},{"$f":"IF(Data!$E48=30,Data!FJ48,IF(Data!BG48<>\"\",Data!BG48,\"\"))","v":""},{"$f":"IF(Data!$E48=30,Data!FK48,\"\")","v":""},{"$f":"IF(Data!$E48=30,Data!FL48,\"\")","v":""},{"$f":"IF(Data!$E48=30,Data!FM48,IF(Data!BH48<>\"\",Data!BH48,\"\"))","v":""},{"$f":"IF(Data!$E48=30,Data!FN48,\"\")","v":""},{"$f":"IF(Data!$E48=30,Data!FO48,\"\")","v":""},{"$f":"IF(Data!$E48=30,Data!FP48,IF(Data!BI48<>\"\",Data!BI48,\"\"))","v":""},{"$f":"IF(Data!$E48=30,Data!FQ48,\"\")","v":""},{"$f":"IF(Data!$E48=30,Data!FR48,\"\")","v":""},{"$f":"IF(Data!$E48=30,Data!FS48,IF(Data!BJ48<>\"\",Data!BJ48,\"\"))","v":""},{"$f":"IF(Data!$E48=30,Data!FT48,\"\")","v":""},{"$f":"IF(Data!$E48=30,Data!FU48,\"\")","v":""},{"$f":"IF(Data!$E48=30,Data!FV48,IF(Data!BK48<>\"\",Data!BK48,\"\"))","v":""},{"$f":"IF(Data!$E48=30,Data!FW48,\"\")","v":""},{"$f":"IF(Data!$E48=30,Data!FX48,\"\")","v":""},{"$f":"IF(Data!$E48=30,Data!FY48,IF(Data!BL48<>\"\",Data!BL48,\"\"))","v":""},{"$f":"IF(Data!$E48=30,Data!FZ48,\"\")","v":""},{"$f":"IF(Data!$E48=30,Data!GA48,\"\")","v":""},{"$f":"IF(Data!$E48=30,Data!GB48,IF(Data!BM48<>\"\",Data!BM48,\"\"))","v":""},{"$f":"IF(Data!$E48=30,Data!GC48,\"\")","v":""}]
[null,{"$f":"IF(Data!A49<>\"\",Data!A49,\"\")","v":""},{"$f":"IF(Data!$E49=30,Data!DV49,\"\")","v":""},{"$f":"IF(Data!$E49=30,Data!DW49,IF(Data!AT49<>\"\",Data!AT49,\"\"))","v":""},{"$f":"IF(Data!$E49=30,Data!DX49,\"\")","v":""},{"$f":"IF(Data!$E49=30,Data!DY49,\"\")","v":""},{"$f":"IF(Data!$E49=30,Data!DZ49,IF(Data!AU49<>\"\",Data!AU49,\"\"))","v":""},{"$f":"IF(Data!$E49=30,Data!EA49,\"\")","v":""},{"$f":"IF(Data!$E49=30,Data!EB49,\"\")","v":""},{"$f":"IF(Data!$E49=30,Data!EC49,IF(Data!AV49<>\"\",Data!AV49,\"\"))","v":""},{"$f":"IF(Data!$E49=30,Data!ED49,\"\")","v":""},{"$f":"IF(Data!$E49=30,Data!EE49,\"\")","v":""},{"$f":"IF(Data!$E49=30,Data!EF49,IF(Data!AW49<>\"\",Data!AW49,\"\"))","v":""},{"$f":"IF(Data!$E49=30,Data!EG49,\"\")","v":""},{"$f":"IF(Data!$E49=30,Data!EH49,\"\")","v":""},{"$f":"IF(Data!$E49=30,Data!EI49,IF(Data!AX49<>\"\",Data!AX49,\"\"))","v":""},{"$f":"IF(Data!$E49=30,Data!EJ49,\"\")","v":""},{"$f":"IF(Data!$E49=30,Data!EK49,\"\")","v":""},{"$f":"IF(Data!$E49=30,Data!EL49,IF(Data!AY49<>\"\",Data!AY49,\"\"))","v":""},{"$f":"IF(Data!$E49=30,Data!EM49,\"\")","v":""},{"$f":"IF(Data!$E49=30,Data!EN49,\"\")","v":""},{"$f":"IF(Data!$E49=30,Data!EO49,IF(Data!AZ49<>\"\",Data!AZ49,\"\"))","v":""},{"$f":"IF(Data!$E49=30,Data!EP49,\"\")","v":""},{"$f":"IF(Data!$E49=30,Data!EQ49,\"\")","v":""},{"$f":"IF(Data!$E49=30,Data!ER49,IF(Data!BA49<>\"\",Data!BA49,\"\"))","v":""},{"$f":"IF(Data!$E49=30,Data!ES49,\"\")","v":""},{"$f":"IF(Data!$E49=30,Data!ET49,\"\")","v":""},{"$f":"IF(Data!$E49=30,Data!EU49,IF(Data!BB49<>\"\",Data!BB49,\"\"))","v":""},{"$f":"IF(Data!$E49=30,Data!EV49,\"\")","v":""},{"$f":"IF(Data!$E49=30,Data!EW49,\"\")","v":""},{"$f":"IF(Data!$E49=30,Data!EX49,IF(Data!Z49<>\"\",Data!BC49,\"\"))","v":""},{"$f":"IF(Data!$E49=30,Data!EY49,\"\")","v":""},null,null,null,{"$f":"IF(Data!$E49=30,Data!EZ49,\"\")","v":""},{"$f":"IF(Data!$E49=30,Data!FA49,IF(Data!BD49<>\"\",Data!BD49,\"\"))","v":""},{"$f":"IF(Data!$E49=30,Data!FB49,\"\")","v":""},{"$f":"IF(Data!$E49=30,Data!FC49,\"\")","v":""},{"$f":"IF(Data!$E49=30,Data!FD49,IF(Data!BE49<>\"\",Data!BE49,\"\"))","v":""},{"$f":"IF(Data!$E49=30,Data!FE49,\"\")","v":""},{"$f":"IF(Data!$E49=30,Data!FF49,\"\")","v":""},{"$f":"IF(Data!$E49=30,Data!FG49,IF(Data!BF49<>\"\",Data!BF49,\"\"))","v":""},{"$f":"IF(Data!$E49=30,Data!FH49,\"\")","v":""},{"$f":"IF(Data!$E49=30,Data!FI49,\"\")","v":""},{"$f":"IF(Data!$E49=30,Data!FJ49,IF(Data!BG49<>\"\",Data!BG49,\"\"))","v":""},{"$f":"IF(Data!$E49=30,Data!FK49,\"\")","v":""},{"$f":"IF(Data!$E49=30,Data!FL49,\"\")","v":""},{"$f":"IF(Data!$E49=30,Data!FM49,IF(Data!BH49<>\"\",Data!BH49,\"\"))","v":""},{"$f":"IF(Data!$E49=30,Data!FN49,\"\")","v":""},{"$f":"IF(Data!$E49=30,Data!FO49,\"\")","v":""},{"$f":"IF(Data!$E49=30,Data!FP49,IF(Data!BI49<>\"\",Data!BI49,\"\"))","v":""},{"$f":"IF(Data!$E49=30,Data!FQ49,\"\")","v":""},{"$f":"IF(Data!$E49=30,Data!FR49,\"\")","v":""},{"$f":"IF(Data!$E49=30,Data!FS49,IF(Data!BJ49<>\"\",Data!BJ49,\"\"))","v":""},{"$f":"IF(Data!$E49=30,Data!FT49,\"\")","v":""},{"$f":"IF(Data!$E49=30,Data!FU49,\"\")","v":""},{"$f":"IF(Data!$E49=30,Data!FV49,IF(Data!BK49<>\"\",Data!BK49,\"\"))","v":""},{"$f":"IF(Data!$E49=30,Data!FW49,\"\")","v":""},{"$f":"IF(Data!$E49=30,Data!FX49,\"\")","v":""},{"$f":"IF(Data!$E49=30,Data!FY49,IF(Data!BL49<>\"\",Data!BL49,\"\"))","v":""},{"$f":"IF(Data!$E49=30,Data!FZ49,\"\")","v":""},{"$f":"IF(Data!$E49=30,Data!GA49,\"\")","v":""},{"$f":"IF(Data!$E49=30,Data!GB49,IF(Data!BM49<>\"\",Data!BM49,\"\"))","v":""},{"$f":"IF(Data!$E49=30,Data!GC49,\"\")","v":""}]
[null,{"$f":"IF(Data!A50<>\"\",Data!A50,\"\")","v":""},{"$f":"IF(Data!$E50=30,Data!DV50,\"\")","v":""},{"$f":"IF(Data!$E50=30,Data!DW50,IF(Data!AT50<>\"\",Data!AT50,\"\"))","v":""},{"$f":"IF(Data!$E50=30,Data!DX50,\"\")","v":""},{"$f":"IF(Data!$E50=30,Data!DY50,\"\")","v":""},{"$f":"IF(Data!$E50=30,Data!DZ50,IF(Data!AU50<>\"\",Data!AU50,\"\"))","v":""},{"$f":"IF(Data!$E50=30,Data!EA50,\"\")","v":""},{"$f":"IF(Data!$E50=30,Data!EB50,\"\")","v":""},{"$f":"IF(Data!$E50=30,Data!EC50,IF(Data!AV50<>\"\",Data!AV50,\"\"))","v":""},{"$f":"IF(Data!$E50=30,Data!ED50,\"\")","v":""},{"$f":"IF(Data!$E50=30,Data!EE50,\"\")","v":""},{"$f":"IF(Data!$E50=30,Data!EF50,IF(Data!AW50<>\"\",Data!AW50,\"\"))","v":""},{"$f":"IF(Data!$E50=30,Data!EG50,\"\")","v":""},{"$f":"IF(Data!$E50=30,Data!EH50,\"\")","v":""},{"$f":"IF(Data!$E50=30,Data!EI50,IF(Data!AX50<>\"\",Data!AX50,\"\"))","v":""},{"$f":"IF(Data!$E50=30,Data!EJ50,\"\")","v":""},{"$f":"IF(Data!$E50=30,Data!EK50,\"\")","v":""},{"$f":"IF(Data!$E50=30,Data!EL50,IF(Data!AY50<>\"\",Data!AY50,\"\"))","v":""},{"$f":"IF(Data!$E50=30,Data!EM50,\"\")","v":""},{"$f":"IF(Data!$E50=30,Data!EN50,\"\")","v":""},{"$f":"IF(Data!$E50=30,Data!EO50,IF(Data!AZ50<>\"\",Data!AZ50,\"\"))","v":""},{"$f":"IF(Data!$E50=30,Data!EP50,\"\")","v":""},{"$f":"IF(Data!$E50=30,Data!EQ50,\"\")","v":""},{"$f":"IF(Data!$E50=30,Data!ER50,IF(Data!BA50<>\"\",Data!BA50,\"\"))","v":""},{"$f":"IF(Data!$E50=30,Data!ES50,\"\")","v":""},{"$f":"IF(Data!$E50=30,Data!ET50,\"\")","v":""},{"$f":"IF(Data!$E50=30,Data!EU50,IF(Data!BB50<>\"\",Data!BB50,\"\"))","v":""},{"$f":"IF(Data!$E50=30,Data!EV50,\"\")","v":""},{"$f":"IF(Data!$E50=30,Data!EW50,\"\")","v":""},{"$f":"IF(Data!$E50=30,Data!EX50,IF(Data!Z50<>\"\",Data!BC50,\"\"))","v":""},{"$f":"IF(Data!$E50=30,Data!EY50,\"\")","v":""},null,null,null,{"$f":"IF(Data!$E50=30,Data!EZ50,\"\")","v":""},{"$f":"IF(Data!$E50=30,Data!FA50,IF(Data!BD50<>\"\",Data!BD50,\"\"))","v":""},{"$f":"IF(Data!$E50=30,Data!FB50,\"\")","v":""},{"$f":"IF(Data!$E50=30,Data!FC50,\"\")","v":""},{"$f":"IF(Data!$E50=30,Data!FD50,IF(Data!BE50<>\"\",Data!BE50,\"\"))","v":""},{"$f":"IF(Data!$E50=30,Data!FE50,\"\")","v":""},{"$f":"IF(Data!$E50=30,Data!FF50,\"\")","v":""},{"$f":"IF(Data!$E50=30,Data!FG50,IF(Data!BF50<>\"\",Data!BF50,\"\"))","v":""},{"$f":"IF(Data!$E50=30,Data!FH50,\"\")","v":""},{"$f":"IF(Data!$E50=30,Data!FI50,\"\")","v":""},{"$f":"IF(Data!$E50=30,Data!FJ50,IF(Data!BG50<>\"\",Data!BG50,\"\"))","v":""},{"$f":"IF(Data!$E50=30,Data!FK50,\"\")","v":""},{"$f":"IF(Data!$E50=30,Data!FL50,\"\")","v":""},{"$f":"IF(Data!$E50=30,Data!FM50,IF(Data!BH50<>\"\",Data!BH50,\"\"))","v":""},{"$f":"IF(Data!$E50=30,Data!FN50,\"\")","v":""},{"$f":"IF(Data!$E50=30,Data!FO50,\"\")","v":""},{"$f":"IF(Data!$E50=30,Data!FP50,IF(Data!BI50<>\"\",Data!BI50,\"\"))","v":""},{"$f":"IF(Data!$E50=30,Data!FQ50,\"\")","v":""},{"$f":"IF(Data!$E50=30,Data!FR50,\"\")","v":""},{"$f":"IF(Data!$E50=30,Data!FS50,IF(Data!BJ50<>\"\",Data!BJ50,\"\"))","v":""},{"$f":"IF(Data!$E50=30,Data!FT50,\"\")","v":""},{"$f":"IF(Data!$E50=30,Data!FU50,\"\")","v":""},{"$f":"IF(Data!$E50=30,Data!FV50,IF(Data!BK50<>\"\",Data!BK50,\"\"))","v":""},{"$f":"IF(Data!$E50=30,Data!FW50,\"\")","v":""},{"$f":"IF(Data!$E50=30,Data!FX50,\"\")","v":""},{"$f":"IF(Data!$E50=30,Data!FY50,IF(Data!BL50<>\"\",Data!BL50,\"\"))","v":""},{"$f":"IF(Data!$E50=30,Data!FZ50,\"\")","v":""},{"$f":"IF(Data!$E50=30,Data!GA50,\"\")","v":""},{"$f":"IF(Data!$E50=30,Data!GB50,IF(Data!BM50<>\"\",Data!BM50,\"\"))","v":""},{"$f":"IF(Data!$E50=30,Data!GC50,\"\")","v":""}]
[null,{"$f":"IF(Data!A51<>\"\",Data!A51,\"\")","v":""},{"$f":"IF(Data!$E51=30,Data!DV51,\"\")","v":""},{"$f":"IF(Data!$E51=30,Data!DW51,IF(Data!AT51<>\"\",Data!AT51,\"\"))","v":""},{"$f":"IF(Data!$E51=30,Data!DX51,\"\")","v":""},{"$f":"IF(Data!$E51=30,Data!DY51,\"\")","v":""},{"$f":"IF(Data!$E51=30,Data!DZ51,IF(Data!AU51<>\"\",Data!AU51,\"\"))","v":""},{"$f":"IF(Data!$E51=30,Data!EA51,\"\")","v":""},{"$f":"IF(Data!$E51=30,Data!EB51,\"\")","v":""},{"$f":"IF(Data!$E51=30,Data!EC51,IF(Data!AV51<>\"\",Data!AV51,\"\"))","v":""},{"$f":"IF(Data!$E51=30,Data!ED51,\"\")","v":""},{"$f":"IF(Data!$E51=30,Data!EE51,\"\")","v":""},{"$f":"IF(Data!$E51=30,Data!EF51,IF(Data!AW51<>\"\",Data!AW51,\"\"))","v":""},{"$f":"IF(Data!$E51=30,Data!EG51,\"\")","v":""},{"$f":"IF(Data!$E51=30,Data!EH51,\"\")","v":""},{"$f":"IF(Data!$E51=30,Data!EI51,IF(Data!AX51<>\"\",Data!AX51,\"\"))","v":""},{"$f":"IF(Data!$E51=30,Data!EJ51,\"\")","v":""},{"$f":"IF(Data!$E51=30,Data!EK51,\"\")","v":""},{"$f":"IF(Data!$E51=30,Data!EL51,IF(Data!AY51<>\"\",Data!AY51,\"\"))","v":""},{"$f":"IF(Data!$E51=30,Data!EM51,\"\")","v":""},{"$f":"IF(Data!$E51=30,Data!EN51,\"\")","v":""},{"$f":"IF(Data!$E51=30,Data!EO51,IF(Data!AZ51<>\"\",Data!AZ51,\"\"))","v":""},{"$f":"IF(Data!$E51=30,Data!EP51,\"\")","v":""},{"$f":"IF(Data!$E51=30,Data!EQ51,\"\")","v":""},{"$f":"IF(Data!$E51=30,Data!ER51,IF(Data!BA51<>\"\",Data!BA51,\"\"))","v":""},{"$f":"IF(Data!$E51=30,Data!ES51,\"\")","v":""},{"$f":"IF(Data!$E51=30,Data!ET51,\"\")","v":""},{"$f":"IF(Data!$E51=30,Data!EU51,IF(Data!BB51<>\"\",Data!BB51,\"\"))","v":""},{"$f":"IF(Data!$E51=30,Data!EV51,\"\")","v":""},{"$f":"IF(Data!$E51=30,Data!EW51,\"\")","v":""},{"$f":"IF(Data!$E51=30,Data!EX51,IF(Data!Z51<>\"\",Data!BC51,\"\"))","v":""},{"$f":"IF(Data!$E51=30,Data!EY51,\"\")","v":""},null,null,null,{"$f":"IF(Data!$E51=30,Data!EZ51,\"\")","v":""},{"$f":"IF(Data!$E51=30,Data!FA51,IF(Data!BD51<>\"\",Data!BD51,\"\"))","v":""},{"$f":"IF(Data!$E51=30,Data!FB51,\"\")","v":""},{"$f":"IF(Data!$E51=30,Data!FC51,\"\")","v":""},{"$f":"IF(Data!$E51=30,Data!FD51,IF(Data!BE51<>\"\",Data!BE51,\"\"))","v":""},{"$f":"IF(Data!$E51=30,Data!FE51,\"\")","v":""},{"$f":"IF(Data!$E51=30,Data!FF51,\"\")","v":""},{"$f":"IF(Data!$E51=30,Data!FG51,IF(Data!BF51<>\"\",Data!BF51,\"\"))","v":""},{"$f":"IF(Data!$E51=30,Data!FH51,\"\")","v":""},{"$f":"IF(Data!$E51=30,Data!FI51,\"\")","v":""},{"$f":"IF(Data!$E51=30,Data!FJ51,IF(Data!BG51<>\"\",Data!BG51,\"\"))","v":""},{"$f":"IF(Data!$E51=30,Data!FK51,\"\")","v":""},{"$f":"IF(Data!$E51=30,Data!FL51,\"\")","v":""},{"$f":"IF(Data!$E51=30,Data!FM51,IF(Data!BH51<>\"\",Data!BH51,\"\"))","v":""},{"$f":"IF(Data!$E51=30,Data!FN51,\"\")","v":""},{"$f":"IF(Data!$E51=30,Data!FO51,\"\")","v":""},{"$f":"IF(Data!$E51=30,Data!FP51,IF(Data!BI51<>\"\",Data!BI51,\"\"))","v":""},{"$f":"IF(Data!$E51=30,Data!FQ51,\"\")","v":""},{"$f":"IF(Data!$E51=30,Data!FR51,\"\")","v":""},{"$f":"IF(Data!$E51=30,Data!FS51,IF(Data!BJ51<>\"\",Data!BJ51,\"\"))","v":""},{"$f":"IF(Data!$E51=30,Data!FT51,\"\")","v":""},{"$f":"IF(Data!$E51=30,Data!FU51,\"\")","v":""},{"$f":"IF(Data!$E51=30,Data!FV51,IF(Data!BK51<>\"\",Data!BK51,\"\"))","v":""},{"$f":"IF(Data!$E51=30,Data!FW51,\"\")","v":""},{"$f":"IF(Data!$E51=30,Data!FX51,\"\")","v":""},{"$f":"IF(Data!$E51=30,Data!FY51,IF(Data!BL51<>\"\",Data!BL51,\"\"))","v":""},{"$f":"IF(Data!$E51=30,Data!FZ51,\"\")","v":""},{"$f":"IF(Data!$E51=30,Data!GA51,\"\")","v":""},{"$f":"IF(Data!$E51=30,Data!GB51,IF(Data!BM51<>\"\",Data!BM51,\"\"))","v":""},{"$f":"IF(Data!$E51=30,Data!GC51,\"\")","v":""}]
[null,{"$f":"IF(Data!A52<>\"\",Data!A52,\"\")","v":""},{"$f":"IF(Data!$E52=30,Data!DV52,\"\")","v":""},{"$f":"IF(Data!$E52=30,Data!DW52,IF(Data!AT52<>\"\",Data!AT52,\"\"))","v":""},{"$f":"IF(Data!$E52=30,Data!DX52,\"\")","v":""},{"$f":"IF(Data!$E52=30,Data!DY52,\"\")","v":""},{"$f":"IF(Data!$E52=30,Data!DZ52,IF(Data!AU52<>\"\",Data!AU52,\"\"))","v":""},{"$f":"IF(Data!$E52=30,Data!EA52,\"\")","v":""},{"$f":"IF(Data!$E52=30,Data!EB52,\"\")","v":""},{"$f":"IF(Data!$E52=30,Data!EC52,IF(Data!AV52<>\"\",Data!AV52,\"\"))","v":""},{"$f":"IF(Data!$E52=30,Data!ED52,\"\")","v":""},{"$f":"IF(Data!$E52=30,Data!EE52,\"\")","v":""},{"$f":"IF(Data!$E52=30,Data!EF52,IF(Data!AW52<>\"\",Data!AW52,\"\"))","v":""},{"$f":"IF(Data!$E52=30,Data!EG52,\"\")","v":""},{"$f":"IF(Data!$E52=30,Data!EH52,\"\")","v":""},{"$f":"IF(Data!$E52=30,Data!EI52,IF(Data!AX52<>\"\",Data!AX52,\"\"))","v":""},{"$f":"IF(Data!$E52=30,Data!EJ52,\"\")","v":""},{"$f":"IF(Data!$E52=30,Data!EK52,\"\")","v":""},{"$f":"IF(Data!$E52=30,Data!EL52,IF(Data!AY52<>\"\",Data!AY52,\"\"))","v":""},{"$f":"IF(Data!$E52=30,Data!EM52,\"\")","v":""},{"$f":"IF(Data!$E52=30,Data!EN52,\"\")","v":""},{"$f":"IF(Data!$E52=30,Data!EO52,IF(Data!AZ52<>\"\",Data!AZ52,\"\"))","v":""},{"$f":"IF(Data!$E52=30,Data!EP52,\"\")","v":""},{"$f":"IF(Data!$E52=30,Data!EQ52,\"\")","v":""},{"$f":"IF(Data!$E52=30,Data!ER52,IF(Data!BA52<>\"\",Data!BA52,\"\"))","v":""},{"$f":"IF(Data!$E52=30,Data!ES52,\"\")","v":""},{"$f":"IF(Data!$E52=30,Data!ET52,\"\")","v":""},{"$f":"IF(Data!$E52=30,Data!EU52,IF(Data!BB52<>\"\",Data!BB52,\"\"))","v":""},{"$f":"IF(Data!$E52=30,Data!EV52,\"\")","v":""},{"$f":"IF(Data!$E52=30,Data!EW52,\"\")","v":""},{"$f":"IF(Data!$E52=30,Data!EX52,IF(Data!Z52<>\"\",Data!BC52,\"\"))","v":""},{"$f":"IF(Data!$E52=30,Data!EY52,\"\")","v":""},null,null,null,{"$f":"IF(Data!$E52=30,Data!EZ52,\"\")","v":""},{"$f":"IF(Data!$E52=30,Data!FA52,IF(Data!BD52<>\"\",Data!BD52,\"\"))","v":""},{"$f":"IF(Data!$E52=30,Data!FB52,\"\")","v":""},{"$f":"IF(Data!$E52=30,Data!FC52,\"\")","v":""},{"$f":"IF(Data!$E52=30,Data!FD52,IF(Data!BE52<>\"\",Data!BE52,\"\"))","v":""},{"$f":"IF(Data!$E52=30,Data!FE52,\"\")","v":""},{"$f":"IF(Data!$E52=30,Data!FF52,\"\")","v":""},{"$f":"IF(Data!$E52=30,Data!FG52,IF(Data!BF52<>\"\",Data!BF52,\"\"))","v":""},{"$f":"IF(Data!$E52=30,Data!FH52,\"\")","v":""},{"$f":"IF(Data!$E52=30,Data!FI52,\"\")","v":""},{"$f":"IF(Data!$E52=30,Data!FJ52,IF(Data!BG52<>\"\",Data!BG52,\"\"))","v":""},{"$f":"IF(Data!$E52=30,Data!FK52,\"\")","v":""},{"$f":"IF(Data!$E52=30,Data!FL52,\"\")","v":""},{"$f":"IF(Data!$E52=30,Data!FM52,IF(Data!BH52<>\"\",Data!BH52,\"\"))","v":""},{"$f":"IF(Data!$E52=30,Data!FN52,\"\")","v":""},{"$f":"IF(Data!$E52=30,Data!FO52,\"\")","v":""},{"$f":"IF(Data!$E52=30,Data!FP52,IF(Data!BI52<>\"\",Data!BI52,\"\"))","v":""},{"$f":"IF(Data!$E52=30,Data!FQ52,\"\")","v":""},{"$f":"IF(Data!$E52=30,Data!FR52,\"\")","v":""},{"$f":"IF(Data!$E52=30,Data!FS52,IF(Data!BJ52<>\"\",Data!BJ52,\"\"))","v":""},{"$f":"IF(Data!$E52=30,Data!FT52,\"\")","v":""},{"$f":"IF(Data!$E52=30,Data!FU52,\"\")","v":""},{"$f":"IF(Data!$E52=30,Data!FV52,IF(Data!BK52<>\"\",Data!BK52,\"\"))","v":""},{"$f":"IF(Data!$E52=30,Data!FW52,\"\")","v":""},{"$f":"IF(Data!$E52=30,Data!FX52,\"\")","v":""},{"$f":"IF(Data!$E52=30,Data!FY52,IF(Data!BL52<>\"\",Data!BL52,\"\"))","v":""},{"$f":"IF(Data!$E52=30,Data!FZ52,\"\")","v":""},{"$f":"IF(Data!$E52=30,Data!GA52,\"\")","v":""},{"$f":"IF(Data!$E52=30,Data!GB52,IF(Data!BM52<>\"\",Data!BM52,\"\"))","v":""},{"$f":"IF(Data!$E52=30,Data!GC52,\"\")","v":""}]
[null,{"$f":"IF(Data!A53<>\"\",Data!A53,\"\")","v":""},{"$f":"IF(Data!$E53=30,Data!DV53,\"\")","v":""},{"$f":"IF(Data!$E53=30,Data!DW53,IF(Data!AT53<>\"\",Data!AT53,\"\"))","v":""},{"$f":"IF(Data!$E53=30,Data!DX53,\"\")","v":""},{"$f":"IF(Data!$E53=30,Data!DY53,\"\")","v":""},{"$f":"IF(Data!$E53=30,Data!DZ53,IF(Data!AU53<>\"\",Data!AU53,\"\"))","v":""},{"$f":"IF(Data!$E53=30,Data!EA53,\"\")","v":""},{"$f":"IF(Data!$E53=30,Data!EB53,\"\")","v":""},{"$f":"IF(Data!$E53=30,Data!EC53,IF(Data!AV53<>\"\",Data!AV53,\"\"))","v":""},{"$f":"IF(Data!$E53=30,Data!ED53,\"\")","v":""},{"$f":"IF(Data!$E53=30,Data!EE53,\"\")","v":""},{"$f":"IF(Data!$E53=30,Data!EF53,IF(Data!AW53<>\"\",Data!AW53,\"\"))","v":""},{"$f":"IF(Data!$E53=30,Data!EG53,\"\")","v":""},{"$f":"IF(Data!$E53=30,Data!EH53,\"\")","v":""},{"$f":"IF(Data!$E53=30,Data!EI53,IF(Data!AX53<>\"\",Data!AX53,\"\"))","v":""},{"$f":"IF(Data!$E53=30,Data!EJ53,\"\")","v":""},{"$f":"IF(Data!$E53=30,Data!EK53,\"\")","v":""},{"$f":"IF(Data!$E53=30,Data!EL53,IF(Data!AY53<>\"\",Data!AY53,\"\"))","v":""},{"$f":"IF(Data!$E53=30,Data!EM53,\"\")","v":""},{"$f":"IF(Data!$E53=30,Data!EN53,\"\")","v":""},{"$f":"IF(Data!$E53=30,Data!EO53,IF(Data!AZ53<>\"\",Data!AZ53,\"\"))","v":""},{"$f":"IF(Data!$E53=30,Data!EP53,\"\")","v":""},{"$f":"IF(Data!$E53=30,Data!EQ53,\"\")","v":""},{"$f":"IF(Data!$E53=30,Data!ER53,IF(Data!BA53<>\"\",Data!BA53,\"\"))","v":""},{"$f":"IF(Data!$E53=30,Data!ES53,\"\")","v":""},{"$f":"IF(Data!$E53=30,Data!ET53,\"\")","v":""},{"$f":"IF(Data!$E53=30,Data!EU53,IF(Data!BB53<>\"\",Data!BB53,\"\"))","v":""},{"$f":"IF(Data!$E53=30,Data!EV53,\"\")","v":""},{"$f":"IF(Data!$E53=30,Data!EW53,\"\")","v":""},{"$f":"IF(Data!$E53=30,Data!EX53,IF(Data!Z53<>\"\",Data!BC53,\"\"))","v":""},{"$f":"IF(Data!$E53=30,Data!EY53,\"\")","v":""},null,null,null,{"$f":"IF(Data!$E53=30,Data!EZ53,\"\")","v":""},{"$f":"IF(Data!$E53=30,Data!FA53,IF(Data!BD53<>\"\",Data!BD53,\"\"))","v":""},{"$f":"IF(Data!$E53=30,Data!FB53,\"\")","v":""},{"$f":"IF(Data!$E53=30,Data!FC53,\"\")","v":""},{"$f":"IF(Data!$E53=30,Data!FD53,IF(Data!BE53<>\"\",Data!BE53,\"\"))","v":""},{"$f":"IF(Data!$E53=30,Data!FE53,\"\")","v":""},{"$f":"IF(Data!$E53=30,Data!FF53,\"\")","v":""},{"$f":"IF(Data!$E53=30,Data!FG53,IF(Data!BF53<>\"\",Data!BF53,\"\"))","v":""},{"$f":"IF(Data!$E53=30,Data!FH53,\"\")","v":""},{"$f":"IF(Data!$E53=30,Data!FI53,\"\")","v":""},{"$f":"IF(Data!$E53=30,Data!FJ53,IF(Data!BG53<>\"\",Data!BG53,\"\"))","v":""},{"$f":"IF(Data!$E53=30,Data!FK53,\"\")","v":""},{"$f":"IF(Data!$E53=30,Data!FL53,\"\")","v":""},{"$f":"IF(Data!$E53=30,Data!FM53,IF(Data!BH53<>\"\",Data!BH53,\"\"))","v":""},{"$f":"IF(Data!$E53=30,Data!FN53,\"\")","v":""},{"$f":"IF(Data!$E53=30,Data!FO53,\"\")","v":""},{"$f":"IF(Data!$E53=30,Data!FP53,IF(Data!BI53<>\"\",Data!BI53,\"\"))","v":""},{"$f":"IF(Data!$E53=30,Data!FQ53,\"\")","v":""},{"$f":"IF(Data!$E53=30,Data!FR53,\"\")","v":""},{"$f":"IF(Data!$E53=30,Data!FS53,IF(Data!BJ53<>\"\",Data!BJ53,\"\"))","v":""},{"$f":"IF(Data!$E53=30,Data!FT53,\"\")","v":""},{"$f":"IF(Data!$E53=30,Data!FU53,\"\")","v":""},{"$f":"IF(Data!$E53=30,Data!FV53,IF(Data!BK53<>\"\",Data!BK53,\"\"))","v":""},{"$f":"IF(Data!$E53=30,Data!FW53,\"\")","v":""},{"$f":"IF(Data!$E53=30,Data!FX53,\"\")","v":""},{"$f":"IF(Data!$E53=30,Data!FY53,IF(Data!BL53<>\"\",Data!BL53,\"\"))","v":""},{"$f":"IF(Data!$E53=30,Data!FZ53,\"\")","v":""},{"$f":"IF(Data!$E53=30,Data!GA53,\"\")","v":""},{"$f":"IF(Data!$E53=30,Data!GB53,IF(Data!BM53<>\"\",Data!BM53,\"\"))","v":""},{"$f":"IF(Data!$E53=30,Data!GC53,\"\")","v":""}]
[null,{"$f":"IF(Data!A54<>\"\",Data!A54,\"\")","v":""},{"$f":"IF(Data!$E54=30,Data!DV54,\"\")","v":""},{"$f":"IF(Data!$E54=30,Data!DW54,IF(Data!AT54<>\"\",Data!AT54,\"\"))","v":""},{"$f":"IF(Data!$E54=30,Data!DX54,\"\")","v":""},{"$f":"IF(Data!$E54=30,Data!DY54,\"\")","v":""},{"$f":"IF(Data!$E54=30,Data!DZ54,IF(Data!AU54<>\"\",Data!AU54,\"\"))","v":""},{"$f":"IF(Data!$E54=30,Data!EA54,\"\")","v":""},{"$f":"IF(Data!$E54=30,Data!EB54,\"\")","v":""},{"$f":"IF(Data!$E54=30,Data!EC54,IF(Data!AV54<>\"\",Data!AV54,\"\"))","v":""},{"$f":"IF(Data!$E54=30,Data!ED54,\"\")","v":""},{"$f":"IF(Data!$E54=30,Data!EE54,\"\")","v":""},{"$f":"IF(Data!$E54=30,Data!EF54,IF(Data!AW54<>\"\",Data!AW54,\"\"))","v":""},{"$f":"IF(Data!$E54=30,Data!EG54,\"\")","v":""},{"$f":"IF(Data!$E54=30,Data!EH54,\"\")","v":""},{"$f":"IF(Data!$E54=30,Data!EI54,IF(Data!AX54<>\"\",Data!AX54,\"\"))","v":""},{"$f":"IF(Data!$E54=30,Data!EJ54,\"\")","v":""},{"$f":"IF(Data!$E54=30,Data!EK54,\"\")","v":""},{"$f":"IF(Data!$E54=30,Data!EL54,IF(Data!AY54<>\"\",Data!AY54,\"\"))","v":""},{"$f":"IF(Data!$E54=30,Data!EM54,\"\")","v":""},{"$f":"IF(Data!$E54=30,Data!EN54,\"\")","v":""},{"$f":"IF(Data!$E54=30,Data!EO54,IF(Data!AZ54<>\"\",Data!AZ54,\"\"))","v":""},{"$f":"IF(Data!$E54=30,Data!EP54,\"\")","v":""},{"$f":"IF(Data!$E54=30,Data!EQ54,\"\")","v":""},{"$f":"IF(Data!$E54=30,Data!ER54,IF(Data!BA54<>\"\",Data!BA54,\"\"))","v":""},{"$f":"IF(Data!$E54=30,Data!ES54,\"\")","v":""},{"$f":"IF(Data!$E54=30,Data!ET54,\"\")","v":""},{"$f":"IF(Data!$E54=30,Data!EU54,IF(Data!BB54<>\"\",Data!BB54,\"\"))","v":""},{"$f":"IF(Data!$E54=30,Data!EV54,\"\")","v":""},{"$f":"IF(Data!$E54=30,Data!EW54,\"\")","v":""},{"$f":"IF(Data!$E54=30,Data!EX54,IF(Data!Z54<>\"\",Data!BC54,\"\"))","v":""},{"$f":"IF(Data!$E54=30,Data!EY54,\"\")","v":""},null,null,null,{"$f":"IF(Data!$E54=30,Data!EZ54,\"\")","v":""},{"$f":"IF(Data!$E54=30,Data!FA54,IF(Data!BD54<>\"\",Data!BD54,\"\"))","v":""},{"$f":"IF(Data!$E54=30,Data!FB54,\"\")","v":""},{"$f":"IF(Data!$E54=30,Data!FC54,\"\")","v":""},{"$f":"IF(Data!$E54=30,Data!FD54,IF(Data!BE54<>\"\",Data!BE54,\"\"))","v":""},{"$f":"IF(Data!$E54=30,Data!FE54,\"\")","v":""},{"$f":"IF(Data!$E54=30,Data!FF54,\"\")","v":""},{"$f":"IF(Data!$E54=30,Data!FG54,IF(Data!BF54<>\"\",Data!BF54,\"\"))","v":""},{"$f":"IF(Data!$E54=30,Data!FH54,\"\")","v":""},{"$f":"IF(Data!$E54=30,Data!FI54,\"\")","v":""},{"$f":"IF(Data!$E54=30,Data!FJ54,IF(Data!BG54<>\"\",Data!BG54,\"\"))","v":""},{"$f":"IF(Data!$E54=30,Data!FK54,\"\")","v":""},{"$f":"IF(Data!$E54=30,Data!FL54,\"\")","v":""},{"$f":"IF(Data!$E54=30,Data!FM54,IF(Data!BH54<>\"\",Data!BH54,\"\"))","v":""},{"$f":"IF(Data!$E54=30,Data!FN54,\"\")","v":""},{"$f":"IF(Data!$E54=30,Data!FO54,\"\")","v":""},{"$f":"IF(Data!$E54=30,Data!FP54,IF(Data!BI54<>\"\",Data!BI54,\"\"))","v":""},{"$f":"IF(Data!$E54=30,Data!FQ54,\"\")","v":""},{"$f":"IF(Data!$E54=30,Data!FR54,\"\")","v":""},{"$f":"IF(Data!$E54=30,Data!FS54,IF(Data!BJ54<>\"\",Data!BJ54,\"\"))","v":""},{"$f":"IF(Data!$E54=30,Data!FT54,\"\")","v":""},{"$f":"IF(Data!$E54=30,Data!FU54,\"\")","v":""},{"$f":"IF(Data!$E54=30,Data!FV54,IF(Data!BK54<>\"\",Data!BK54,\"\"))","v":""},{"$f":"IF(Data!$E54=30,Data!FW54,\"\")","v":""},{"$f":"IF(Data!$E54=30,Data!FX54,\"\")","v":""},{"$f":"IF(Data!$E54=30,Data!FY54,IF(Data!BL54<>\"\",Data!BL54,\"\"))","v":""},{"$f":"IF(Data!$E54=30,Data!FZ54,\"\")","v":""},{"$f":"IF(Data!$E54=30,Data!GA54,\"\")","v":""},{"$f":"IF(Data!$E54=30,Data!GB54,IF(Data!BM54<>\"\",Data!BM54,\"\"))","v":""},{"$f":"IF(Data!$E54=30,Data!GC54,\"\")","v":""}]
[null,{"$f":"IF(Data!A55<>\"\",Data!A55,\"\")","v":""},{"$f":"IF(Data!$E55=30,Data!DV55,\"\")","v":""},{"$f":"IF(Data!$E55=30,Data!DW55,IF(Data!AT55<>\"\",Data!AT55,\"\"))","v":""},{"$f":"IF(Data!$E55=30,Data!DX55,\"\")","v":""},{"$f":"IF(Data!$E55=30,Data!DY55,\"\")","v":""},{"$f":"IF(Data!$E55=30,Data!DZ55,IF(Data!AU55<>\"\",Data!AU55,\"\"))","v":""},{"$f":"IF(Data!$E55=30,Data!EA55,\"\")","v":""},{"$f":"IF(Data!$E55=30,Data!EB55,\"\")","v":""},{"$f":"IF(Data!$E55=30,Data!EC55,IF(Data!AV55<>\"\",Data!AV55,\"\"))","v":""},{"$f":"IF(Data!$E55=30,Data!ED55,\"\")","v":""},{"$f":"IF(Data!$E55=30,Data!EE55,\"\")","v":""},{"$f":"IF(Data!$E55=30,Data!EF55,IF(Data!AW55<>\"\",Data!AW55,\"\"))","v":""},{"$f":"IF(Data!$E55=30,Data!EG55,\"\")","v":""},{"$f":"IF(Data!$E55=30,Data!EH55,\"\")","v":""},{"$f":"IF(Data!$E55=30,Data!EI55,IF(Data!AX55<>\"\",Data!AX55,\"\"))","v":""},{"$f":"IF(Data!$E55=30,Data!EJ55,\"\")","v":""},{"$f":"IF(Data!$E55=30,Data!EK55,\"\")","v":""},{"$f":"IF(Data!$E55=30,Data!EL55,IF(Data!AY55<>\"\",Data!AY55,\"\"))","v":""},{"$f":"IF(Data!$E55=30,Data!EM55,\"\")","v":""},{"$f":"IF(Data!$E55=30,Data!EN55,\"\")","v":""},{"$f":"IF(Data!$E55=30,Data!EO55,IF(Data!AZ55<>\"\",Data!AZ55,\"\"))","v":""},{"$f":"IF(Data!$E55=30,Data!EP55,\"\")","v":""},{"$f":"IF(Data!$E55=30,Data!EQ55,\"\")","v":""},{"$f":"IF(Data!$E55=30,Data!ER55,IF(Data!BA55<>\"\",Data!BA55,\"\"))","v":""},{"$f":"IF(Data!$E55=30,Data!ES55,\"\")","v":""},{"$f":"IF(Data!$E55=30,Data!ET55,\"\")","v":""},{"$f":"IF(Data!$E55=30,Data!EU55,IF(Data!BB55<>\"\",Data!BB55,\"\"))","v":""},{"$f":"IF(Data!$E55=30,Data!EV55,\"\")","v":""},{"$f":"IF(Data!$E55=30,Data!EW55,\"\")","v":""},{"$f":"IF(Data!$E55=30,Data!EX55,IF(Data!Z55<>\"\",Data!BC55,\"\"))","v":""},{"$f":"IF(Data!$E55=30,Data!EY55,\"\")","v":""},null,null,null,{"$f":"IF(Data!$E55=30,Data!EZ55,\"\")","v":""},{"$f":"IF(Data!$E55=30,Data!FA55,IF(Data!BD55<>\"\",Data!BD55,\"\"))","v":""},{"$f":"IF(Data!$E55=30,Data!FB55,\"\")","v":""},{"$f":"IF(Data!$E55=30,Data!FC55,\"\")","v":""},{"$f":"IF(Data!$E55=30,Data!FD55,IF(Data!BE55<>\"\",Data!BE55,\"\"))","v":""},{"$f":"IF(Data!$E55=30,Data!FE55,\"\")","v":""},{"$f":"IF(Data!$E55=30,Data!FF55,\"\")","v":""},{"$f":"IF(Data!$E55=30,Data!FG55,IF(Data!BF55<>\"\",Data!BF55,\"\"))","v":""},{"$f":"IF(Data!$E55=30,Data!FH55,\"\")","v":""},{"$f":"IF(Data!$E55=30,Data!FI55,\"\")","v":""},{"$f":"IF(Data!$E55=30,Data!FJ55,IF(Data!BG55<>\"\",Data!BG55,\"\"))","v":""},{"$f":"IF(Data!$E55=30,Data!FK55,\"\")","v":""},{"$f":"IF(Data!$E55=30,Data!FL55,\"\")","v":""},{"$f":"IF(Data!$E55=30,Data!FM55,IF(Data!BH55<>\"\",Data!BH55,\"\"))","v":""},{"$f":"IF(Data!$E55=30,Data!FN55,\"\")","v":""},{"$f":"IF(Data!$E55=30,Data!FO55,\"\")","v":""},{"$f":"IF(Data!$E55=30,Data!FP55,IF(Data!BI55<>\"\",Data!BI55,\"\"))","v":""},{"$f":"IF(Data!$E55=30,Data!FQ55,\"\")","v":""},{"$f":"IF(Data!$E55=30,Data!FR55,\"\")","v":""},{"$f":"IF(Data!$E55=30,Data!FS55,IF(Data!BJ55<>\"\",Data!BJ55,\"\"))","v":""},{"$f":"IF(Data!$E55=30,Data!FT55,\"\")","v":""},{"$f":"IF(Data!$E55=30,Data!FU55,\"\")","v":""},{"$f":"IF(Data!$E55=30,Data!FV55,IF(Data!BK55<>\"\",Data!BK55,\"\"))","v":""},{"$f":"IF(Data!$E55=30,Data!FW55,\"\")","v":""},{"$f":"IF(Data!$E55=30,Data!FX55,\"\")","v":""},{"$f":"IF(Data!$E55=30,Data!FY55,IF(Data!BL55<>\"\",Data!BL55,\"\"))","v":""},{"$f":"IF(Data!$E55=30,Data!FZ55,\"\")","v":""},{"$f":"IF(Data!$E55=30,Data!GA55,\"\")","v":""},{"$f":"IF(Data!$E55=30,Data!GB55,IF(Data!BM55<>\"\",Data!BM55,\"\"))","v":""},{"$f":"IF(Data!$E55=30,Data!GC55,\"\")","v":""}]
[null,{"$f":"IF(Data!A56<>\"\",Data!A56,\"\")","v":""},{"$f":"IF(Data!$E56=30,Data!DV56,\"\")","v":""},{"$f":"IF(Data!$E56=30,Data!DW56,IF(Data!AT56<>\"\",Data!AT56,\"\"))","v":""},{"$f":"IF(Data!$E56=30,Data!DX56,\"\")","v":""},{"$f":"IF(Data!$E56=30,Data!DY56,\"\")","v":""},{"$f":"IF(Data!$E56=30,Data!DZ56,IF(Data!AU56<>\"\",Data!AU56,\"\"))","v":""},{"$f":"IF(Data!$E56=30,Data!EA56,\"\")","v":""},{"$f":"IF(Data!$E56=30,Data!EB56,\"\")","v":""},{"$f":"IF(Data!$E56=30,Data!EC56,IF(Data!AV56<>\"\",Data!AV56,\"\"))","v":""},{"$f":"IF(Data!$E56=30,Data!ED56,\"\")","v":""},{"$f":"IF(Data!$E56=30,Data!EE56,\"\")","v":""},{"$f":"IF(Data!$E56=30,Data!EF56,IF(Data!AW56<>\"\",Data!AW56,\"\"))","v":""},{"$f":"IF(Data!$E56=30,Data!EG56,\"\")","v":""},{"$f":"IF(Data!$E56=30,Data!EH56,\"\")","v":""},{"$f":"IF(Data!$E56=30,Data!EI56,IF(Data!AX56<>\"\",Data!AX56,\"\"))","v":""},{"$f":"IF(Data!$E56=30,Data!EJ56,\"\")","v":""},{"$f":"IF(Data!$E56=30,Data!EK56,\"\")","v":""},{"$f":"IF(Data!$E56=30,Data!EL56,IF(Data!AY56<>\"\",Data!AY56,\"\"))","v":""},{"$f":"IF(Data!$E56=30,Data!EM56,\"\")","v":""},{"$f":"IF(Data!$E56=30,Data!EN56,\"\")","v":""},{"$f":"IF(Data!$E56=30,Data!EO56,IF(Data!AZ56<>\"\",Data!AZ56,\"\"))","v":""},{"$f":"IF(Data!$E56=30,Data!EP56,\"\")","v":""},{"$f":"IF(Data!$E56=30,Data!EQ56,\"\")","v":""},{"$f":"IF(Data!$E56=30,Data!ER56,IF(Data!BA56<>\"\",Data!BA56,\"\"))","v":""},{"$f":"IF(Data!$E56=30,Data!ES56,\"\")","v":""},{"$f":"IF(Data!$E56=30,Data!ET56,\"\")","v":""},{"$f":"IF(Data!$E56=30,Data!EU56,IF(Data!BB56<>\"\",Data!BB56,\"\"))","v":""},{"$f":"IF(Data!$E56=30,Data!EV56,\"\")","v":""},{"$f":"IF(Data!$E56=30,Data!EW56,\"\")","v":""},{"$f":"IF(Data!$E56=30,Data!EX56,IF(Data!Z56<>\"\",Data!BC56,\"\"))","v":""},{"$f":"IF(Data!$E56=30,Data!EY56,\"\")","v":""},null,null,null,{"$f":"IF(Data!$E56=30,Data!EZ56,\"\")","v":""},{"$f":"IF(Data!$E56=30,Data!FA56,IF(Data!BD56<>\"\",Data!BD56,\"\"))","v":""},{"$f":"IF(Data!$E56=30,Data!FB56,\"\")","v":""},{"$f":"IF(Data!$E56=30,Data!FC56,\"\")","v":""},{"$f":"IF(Data!$E56=30,Data!FD56,IF(Data!BE56<>\"\",Data!BE56,\"\"))","v":""},{"$f":"IF(Data!$E56=30,Data!FE56,\"\")","v":""},{"$f":"IF(Data!$E56=30,Data!FF56,\"\")","v":""},{"$f":"IF(Data!$E56=30,Data!FG56,IF(Data!BF56<>\"\",Data!BF56,\"\"))","v":""},{"$f":"IF(Data!$E56=30,Data!FH56,\"\")","v":""},{"$f":"IF(Data!$E56=30,Data!FI56,\"\")","v":""},{"$f":"IF(Data!$E56=30,Data!FJ56,IF(Data!BG56<>\"\",Data!BG56,\"\"))","v":""},{"$f":"IF(Data!$E56=30,Data!FK56,\"\")","v":""},{"$f":"IF(Data!$E56=30,Data!FL56,\"\")","v":""},{"$f":"IF(Data!$E56=30,Data!FM56,IF(Data!BH56<>\"\",Data!BH56,\"\"))","v":""},{"$f":"IF(Data!$E56=30,Data!FN56,\"\")","v":""},{"$f":"IF(Data!$E56=30,Data!FO56,\"\")","v":""},{"$f":"IF(Data!$E56=30,Data!FP56,IF(Data!BI56<>\"\",Data!BI56,\"\"))","v":""},{"$f":"IF(Data!$E56=30,Data!FQ56,\"\")","v":""},{"$f":"IF(Data!$E56=30,Data!FR56,\"\")","v":""},{"$f":"IF(Data!$E56=30,Data!FS56,IF(Data!BJ56<>\"\",Data!BJ56,\"\"))","v":""},{"$f":"IF(Data!$E56=30,Data!FT56,\"\")","v":""},{"$f":"IF(Data!$E56=30,Data!FU56,\"\")","v":""},{"$f":"IF(Data!$E56=30,Data!FV56,IF(Data!BK56<>\"\",Data!BK56,\"\"))","v":""},{"$f":"IF(Data!$E56=30,Data!FW56,\"\")","v":""},{"$f":"IF(Data!$E56=30,Data!FX56,\"\")","v":""},{"$f":"IF(Data!$E56=30,Data!FY56,IF(Data!BL56<>\"\",Data!BL56,\"\"))","v":""},{"$f":"IF(Data!$E56=30,Data!FZ56,\"\")","v":""},{"$f":"IF(Data!$E56=30,Data!GA56,\"\")","v":""},{"$f":"IF(Data!$E56=30,Data!GB56,IF(Data!BM56<>\"\",Data!BM56,\"\"))","v":""},{"$f":"IF(Data!$E56=30,Data!GC56,\"\")","v":""}]
[null,{"$f":"IF(Data!A57<>\"\",Data!A57,\"\")","v":""},{"$f":"IF(Data!$E57=30,Data!DV57,\"\")","v":""},{"$f":"IF(Data!$E57=30,Data!DW57,IF(Data!AT57<>\"\",Data!AT57,\"\"))","v":""},{"$f":"IF(Data!$E57=30,Data!DX57,\"\")","v":""},{"$f":"IF(Data!$E57=30,Data!DY57,\"\")","v":""},{"$f":"IF(Data!$E57=30,Data!DZ57,IF(Data!AU57<>\"\",Data!AU57,\"\"))","v":""},{"$f":"IF(Data!$E57=30,Data!EA57,\"\")","v":""},{"$f":"IF(Data!$E57=30,Data!EB57,\"\")","v":""},{"$f":"IF(Data!$E57=30,Data!EC57,IF(Data!AV57<>\"\",Data!AV57,\"\"))","v":""},{"$f":"IF(Data!$E57=30,Data!ED57,\"\")","v":""},{"$f":"IF(Data!$E57=30,Data!EE57,\"\")","v":""},{"$f":"IF(Data!$E57=30,Data!EF57,IF(Data!AW57<>\"\",Data!AW57,\"\"))","v":""},{"$f":"IF(Data!$E57=30,Data!EG57,\"\")","v":""},{"$f":"IF(Data!$E57=30,Data!EH57,\"\")","v":""},{"$f":"IF(Data!$E57=30,Data!EI57,IF(Data!AX57<>\"\",Data!AX57,\"\"))","v":""},{"$f":"IF(Data!$E57=30,Data!EJ57,\"\")","v":""},{"$f":"IF(Data!$E57=30,Data!EK57,\"\")","v":""},{"$f":"IF(Data!$E57=30,Data!EL57,IF(Data!AY57<>\"\",Data!AY57,\"\"))","v":""},{"$f":"IF(Data!$E57=30,Data!EM57,\"\")","v":""},{"$f":"IF(Data!$E57=30,Data!EN57,\"\")","v":""},{"$f":"IF(Data!$E57=30,Data!EO57,IF(Data!AZ57<>\"\",Data!AZ57,\"\"))","v":""},{"$f":"IF(Data!$E57=30,Data!EP57,\"\")","v":""},{"$f":"IF(Data!$E57=30,Data!EQ57,\"\")","v":""},{"$f":"IF(Data!$E57=30,Data!ER57,IF(Data!BA57<>\"\",Data!BA57,\"\"))","v":""},{"$f":"IF(Data!$E57=30,Data!ES57,\"\")","v":""},{"$f":"IF(Data!$E57=30,Data!ET57,\"\")","v":""},{"$f":"IF(Data!$E57=30,Data!EU57,IF(Data!BB57<>\"\",Data!BB57,\"\"))","v":""},{"$f":"IF(Data!$E57=30,Data!EV57,\"\")","v":""},{"$f":"IF(Data!$E57=30,Data!EW57,\"\")","v":""},{"$f":"IF(Data!$E57=30,Data!EX57,IF(Data!Z57<>\"\",Data!BC57,\"\"))","v":""},{"$f":"IF(Data!$E57=30,Data!EY57,\"\")","v":""},null,null,null,{"$f":"IF(Data!$E57=30,Data!EZ57,\"\")","v":""},{"$f":"IF(Data!$E57=30,Data!FA57,IF(Data!BD57<>\"\",Data!BD57,\"\"))","v":""},{"$f":"IF(Data!$E57=30,Data!FB57,\"\")","v":""},{"$f":"IF(Data!$E57=30,Data!FC57,\"\")","v":""},{"$f":"IF(Data!$E57=30,Data!FD57,IF(Data!BE57<>\"\",Data!BE57,\"\"))","v":""},{"$f":"IF(Data!$E57=30,Data!FE57,\"\")","v":""},{"$f":"IF(Data!$E57=30,Data!FF57,\"\")","v":""},{"$f":"IF(Data!$E57=30,Data!FG57,IF(Data!BF57<>\"\",Data!BF57,\"\"))","v":""},{"$f":"IF(Data!$E57=30,Data!FH57,\"\")","v":""},{"$f":"IF(Data!$E57=30,Data!FI57,\"\")","v":""},{"$f":"IF(Data!$E57=30,Data!FJ57,IF(Data!BG57<>\"\",Data!BG57,\"\"))","v":""},{"$f":"IF(Data!$E57=30,Data!FK57,\"\")","v":""},{"$f":"IF(Data!$E57=30,Data!FL57,\"\")","v":""},{"$f":"IF(Data!$E57=30,Data!FM57,IF(Data!BH57<>\"\",Data!BH57,\"\"))","v":""},{"$f":"IF(Data!$E57=30,Data!FN57,\"\")","v":""},{"$f":"IF(Data!$E57=30,Data!FO57,\"\")","v":""},{"$f":"IF(Data!$E57=30,Data!FP57,IF(Data!BI57<>\"\",Data!BI57,\"\"))","v":""},{"$f":"IF(Data!$E57=30,Data!FQ57,\"\")","v":""},{"$f":"IF(Data!$E57=30,Data!FR57,\"\")","v":""},{"$f":"IF(Data!$E57=30,Data!FS57,IF(Data!BJ57<>\"\",Data!BJ57,\"\"))","v":""},{"$f":"IF(Data!$E57=30,Data!FT57,\"\")","v":""},{"$f":"IF(Data!$E57=30,Data!FU57,\"\")","v":""},{"$f":"IF(Data!$E57=30,Data!FV57,IF(Data!BK57<>\"\",Data!BK57,\"\"))","v":""},{"$f":"IF(Data!$E57=30,Data!FW57,\"\")","v":""},{"$f":"IF(Data!$E57=30,Data!FX57,\"\")","v":""},{"$f":"IF(Data!$E57=30,Data!FY57,IF(Data!BL57<>\"\",Data!BL57,\"\"))","v":""},{"$f":"IF(Data!$E57=30,Data!FZ57,\"\")","v":""},{"$f":"IF(Data!$E57=30,Data!GA57,\"\")","v":""},{"$f":"IF(Data!$E57=30,Data!GB57,IF(Data!BM57<>\"\",Data!BM57,\"\"))","v":""},{"$f":"IF(Data!$E57=30,Data!GC57,\"\")","v":""}]
[null,{"$f":"IF(Data!A58<>\"\",Data!A58,\"\")","v":""},{"$f":"IF(Data!$E58=30,Data!DV58,\"\")","v":""},{"$f":"IF(Data!$E58=30,Data!DW58,IF(Data!AT58<>\"\",Data!AT58,\"\"))","v":""},{"$f":"IF(Data!$E58=30,Data!DX58,\"\")","v":""},{"$f":"IF(Data!$E58=30,Data!DY58,\"\")","v":""},{"$f":"IF(Data!$E58=30,Data!DZ58,IF(Data!AU58<>\"\",Data!AU58,\"\"))","v":""},{"$f":"IF(Data!$E58=30,Data!EA58,\"\")","v":""},{"$f":"IF(Data!$E58=30,Data!EB58,\"\")","v":""},{"$f":"IF(Data!$E58=30,Data!EC58,IF(Data!AV58<>\"\",Data!AV58,\"\"))","v":""},{"$f":"IF(Data!$E58=30,Data!ED58,\"\")","v":""},{"$f":"IF(Data!$E58=30,Data!EE58,\"\")","v":""},{"$f":"IF(Data!$E58=30,Data!EF58,IF(Data!AW58<>\"\",Data!AW58,\"\"))","v":""},{"$f":"IF(Data!$E58=30,Data!EG58,\"\")","v":""},{"$f":"IF(Data!$E58=30,Data!EH58,\"\")","v":""},{"$f":"IF(Data!$E58=30,Data!EI58,IF(Data!AX58<>\"\",Data!AX58,\"\"))","v":""},{"$f":"IF(Data!$E58=30,Data!EJ58,\"\")","v":""},{"$f":"IF(Data!$E58=30,Data!EK58,\"\")","v":""},{"$f":"IF(Data!$E58=30,Data!EL58,IF(Data!AY58<>\"\",Data!AY58,\"\"))","v":""},{"$f":"IF(Data!$E58=30,Data!EM58,\"\")","v":""},{"$f":"IF(Data!$E58=30,Data!EN58,\"\")","v":""},{"$f":"IF(Data!$E58=30,Data!EO58,IF(Data!AZ58<>\"\",Data!AZ58,\"\"))","v":""},{"$f":"IF(Data!$E58=30,Data!EP58,\"\")","v":""},{"$f":"IF(Data!$E58=30,Data!EQ58,\"\")","v":""},{"$f":"IF(Data!$E58=30,Data!ER58,IF(Data!BA58<>\"\",Data!BA58,\"\"))","v":""},{"$f":"IF(Data!$E58=30,Data!ES58,\"\")","v":""},{"$f":"IF(Data!$E58=30,Data!ET58,\"\")","v":""},{"$f":"IF(Data!$E58=30,Data!EU58,IF(Data!BB58<>\"\",Data!BB58,\"\"))","v":""},{"$f":"IF(Data!$E58=30,Data!EV58,\"\")","v":""},{"$f":"IF(Data!$E58=30,Data!EW58,\"\")","v":""},{"$f":"IF(Data!$E58=30,Data!EX58,IF(Data!Z58<>\"\",Data!BC58,\"\"))","v":""},{"$f":"IF(Data!$E58=30,Data!EY58,\"\")","v":""},null,null,null,{"$f":"IF(Data!$E58=30,Data!EZ58,\"\")","v":""},{"$f":"IF(Data!$E58=30,Data!FA58,IF(Data!BD58<>\"\",Data!BD58,\"\"))","v":""},{"$f":"IF(Data!$E58=30,Data!FB58,\"\")","v":""},{"$f":"IF(Data!$E58=30,Data!FC58,\"\")","v":""},{"$f":"IF(Data!$E58=30,Data!FD58,IF(Data!BE58<>\"\",Data!BE58,\"\"))","v":""},{"$f":"IF(Data!$E58=30,Data!FE58,\"\")","v":""},{"$f":"IF(Data!$E58=30,Data!FF58,\"\")","v":""},{"$f":"IF(Data!$E58=30,Data!FG58,IF(Data!BF58<>\"\",Data!BF58,\"\"))","v":""},{"$f":"IF(Data!$E58=30,Data!FH58,\"\")","v":""},{"$f":"IF(Data!$E58=30,Data!FI58,\"\")","v":""},{"$f":"IF(Data!$E58=30,Data!FJ58,IF(Data!BG58<>\"\",Data!BG58,\"\"))","v":""},{"$f":"IF(Data!$E58=30,Data!FK58,\"\")","v":""},{"$f":"IF(Data!$E58=30,Data!FL58,\"\")","v":""},{"$f":"IF(Data!$E58=30,Data!FM58,IF(Data!BH58<>\"\",Data!BH58,\"\"))","v":""},{"$f":"IF(Data!$E58=30,Data!FN58,\"\")","v":""},{"$f":"IF(Data!$E58=30,Data!FO58,\"\")","v":""},{"$f":"IF(Data!$E58=30,Data!FP58,IF(Data!BI58<>\"\",Data!BI58,\"\"))","v":""},{"$f":"IF(Data!$E58=30,Data!FQ58,\"\")","v":""},{"$f":"IF(Data!$E58=30,Data!FR58,\"\")","v":""},{"$f":"IF(Data!$E58=30,Data!FS58,IF(Data!BJ58<>\"\",Data!BJ58,\"\"))","v":""},{"$f":"IF(Data!$E58=30,Data!FT58,\"\")","v":""},{"$f":"IF(Data!$E58=30,Data!FU58,\"\")","v":""},{"$f":"IF(Data!$E58=30,Data!FV58,IF(Data!BK58<>\"\",Data!BK58,\"\"))","v":""},{"$f":"IF(Data!$E58=30,Data!FW58,\"\")","v":""},{"$f":"IF(Data!$E58=30,Data!FX58,\"\")","v":""},{"$f":"IF(Data!$E58=30,Data!FY58,IF(Data!BL58<>\"\",Data!BL58,\"\"))","v":""},{"$f":"IF(Data!$E58=30,Data!FZ58,\"\")","v":""},{"$f":"IF(Data!$E58=30,Data!GA58,\"\")","v":""},{"$f":"IF(Data!$E58=30,Data!GB58,IF(Data!BM58<>\"\",Data!BM58,\"\"))","v":""},{"$f":"IF(Data!$E58=30,Data!GC58,\"\")","v":""}]
[null,{"$f":"IF(Data!A59<>\"\",Data!A59,\"\")","v":""},{"$f":"IF(Data!$E59=30,Data!DV59,\"\")","v":""},{"$f":"IF(Data!$E59=30,Data!DW59,IF(Data!AT59<>\"\",Data!AT59,\"\"))","v":""},{"$f":"IF(Data!$E59=30,Data!DX59,\"\")","v":""},{"$f":"IF(Data!$E59=30,Data!DY59,\"\")","v":""},{"$f":"IF(Data!$E59=30,Data!DZ59,IF(Data!AU59<>\"\",Data!AU59,\"\"))","v":""},{"$f":"IF(Data!$E59=30,Data!EA59,\"\")","v":""},{"$f":"IF(Data!$E59=30,Data!EB59,\"\")","v":""},{"$f":"IF(Data!$E59=30,Data!EC59,IF(Data!AV59<>\"\",Data!AV59,\"\"))","v":""},{"$f":"IF(Data!$E59=30,Data!ED59,\"\")","v":""},{"$f":"IF(Data!$E59=30,Data!EE59,\"\")","v":""},{"$f":"IF(Data!$E59=30,Data!EF59,IF(Data!AW59<>\"\",Data!AW59,\"\"))","v":""},{"$f":"IF(Data!$E59=30,Data!EG59,\"\")","v":""},{"$f":"IF(Data!$E59=30,Data!EH59,\"\")","v":""},{"$f":"IF(Data!$E59=30,Data!EI59,IF(Data!AX59<>\"\",Data!AX59,\"\"))","v":""},{"$f":"IF(Data!$E59=30,Data!EJ59,\"\")","v":""},{"$f":"IF(Data!$E59=30,Data!EK59,\"\")","v":""},{"$f":"IF(Data!$E59=30,Data!EL59,IF(Data!AY59<>\"\",Data!AY59,\"\"))","v":""},{"$f":"IF(Data!$E59=30,Data!EM59,\"\")","v":""},{"$f":"IF(Data!$E59=30,Data!EN59,\"\")","v":""},{"$f":"IF(Data!$E59=30,Data!EO59,IF(Data!AZ59<>\"\",Data!AZ59,\"\"))","v":""},{"$f":"IF(Data!$E59=30,Data!EP59,\"\")","v":""},{"$f":"IF(Data!$E59=30,Data!EQ59,\"\")","v":""},{"$f":"IF(Data!$E59=30,Data!ER59,IF(Data!BA59<>\"\",Data!BA59,\"\"))","v":""},{"$f":"IF(Data!$E59=30,Data!ES59,\"\")","v":""},{"$f":"IF(Data!$E59=30,Data!ET59,\"\")","v":""},{"$f":"IF(Data!$E59=30,Data!EU59,IF(Data!BB59<>\"\",Data!BB59,\"\"))","v":""},{"$f":"IF(Data!$E59=30,Data!EV59,\"\")","v":""},{"$f":"IF(Data!$E59=30,Data!EW59,\"\")","v":""},{"$f":"IF(Data!$E59=30,Data!EX59,IF(Data!Z59<>\"\",Data!BC59,\"\"))","v":""},{"$f":"IF(Data!$E59=30,Data!EY59,\"\")","v":""},null,null,null,{"$f":"IF(Data!$E59=30,Data!EZ59,\"\")","v":""},{"$f":"IF(Data!$E59=30,Data!FA59,IF(Data!BD59<>\"\",Data!BD59,\"\"))","v":""},{"$f":"IF(Data!$E59=30,Data!FB59,\"\")","v":""},{"$f":"IF(Data!$E59=30,Data!FC59,\"\")","v":""},{"$f":"IF(Data!$E59=30,Data!FD59,IF(Data!BE59<>\"\",Data!BE59,\"\"))","v":""},{"$f":"IF(Data!$E59=30,Data!FE59,\"\")","v":""},{"$f":"IF(Data!$E59=30,Data!FF59,\"\")","v":""},{"$f":"IF(Data!$E59=30,Data!FG59,IF(Data!BF59<>\"\",Data!BF59,\"\"))","v":""},{"$f":"IF(Data!$E59=30,Data!FH59,\"\")","v":""},{"$f":"IF(Data!$E59=30,Data!FI59,\"\")","v":""},{"$f":"IF(Data!$E59=30,Data!FJ59,IF(Data!BG59<>\"\",Data!BG59,\"\"))","v":""},{"$f":"IF(Data!$E59=30,Data!FK59,\"\")","v":""},{"$f":"IF(Data!$E59=30,Data!FL59,\"\")","v":""},{"$f":"IF(Data!$E59=30,Data!FM59,IF(Data!BH59<>\"\",Data!BH59,\"\"))","v":""},{"$f":"IF(Data!$E59=30,Data!FN59,\"\")","v":""},{"$f":"IF(Data!$E59=30,Data!FO59,\"\")","v":""},{"$f":"IF(Data!$E59=30,Data!FP59,IF(Data!BI59<>\"\",Data!BI59,\"\"))","v":""},{"$f":"IF(Data!$E59=30,Data!FQ59,\"\")","v":""},{"$f":"IF(Data!$E59=30,Data!FR59,\"\")","v":""},{"$f":"IF(Data!$E59=30,Data!FS59,IF(Data!BJ59<>\"\",Data!BJ59,\"\"))","v":""},{"$f":"IF(Data!$E59=30,Data!FT59,\"\")","v":""},{"$f":"IF(Data!$E59=30,Data!FU59,\"\")","v":""},{"$f":"IF(Data!$E59=30,Data!FV59,IF(Data!BK59<>\"\",Data!BK59,\"\"))","v":""},{"$f":"IF(Data!$E59=30,Data!FW59,\"\")","v":""},{"$f":"IF(Data!$E59=30,Data!FX59,\"\")","v":""},{"$f":"IF(Data!$E59=30,Data!FY59,IF(Data!BL59<>\"\",Data!BL59,\"\"))","v":""},{"$f":"IF(Data!$E59=30,Data!FZ59,\"\")","v":""},{"$f":"IF(Data!$E59=30,Data!GA59,\"\")","v":""},{"$f":"IF(Data!$E59=30,Data!GB59,IF(Data!BM59<>\"\",Data!BM59,\"\"))","v":""},{"$f":"IF(Data!$E59=30,Data!GC59,\"\")","v":""}]
[null,{"$f":"IF(Data!A60<>\"\",Data!A60,\"\")","v":""},{"$f":"IF(Data!$E60=30,Data!DV60,\"\")","v":""},{"$f":"IF(Data!$E60=30,Data!DW60,IF(Data!AT60<>\"\",Data!AT60,\"\"))","v":""},{"$f":"IF(Data!$E60=30,Data!DX60,\"\")","v":""},{"$f":"IF(Data!$E60=30,Data!DY60,\"\")","v":""},{"$f":"IF(Data!$E60=30,Data!DZ60,IF(Data!AU60<>\"\",Data!AU60,\"\"))","v":""},{"$f":"IF(Data!$E60=30,Data!EA60,\"\")","v":""},{"$f":"IF(Data!$E60=30,Data!EB60,\"\")","v":""},{"$f":"IF(Data!$E60=30,Data!EC60,IF(Data!AV60<>\"\",Data!AV60,\"\"))","v":""},{"$f":"IF(Data!$E60=30,Data!ED60,\"\")","v":""},{"$f":"IF(Data!$E60=30,Data!EE60,\"\")","v":""},{"$f":"IF(Data!$E60=30,Data!EF60,IF(Data!AW60<>\"\",Data!AW60,\"\"))","v":""},{"$f":"IF(Data!$E60=30,Data!EG60,\"\")","v":""},{"$f":"IF(Data!$E60=30,Data!EH60,\"\")","v":""},{"$f":"IF(Data!$E60=30,Data!EI60,IF(Data!AX60<>\"\",Data!AX60,\"\"))","v":""},{"$f":"IF(Data!$E60=30,Data!EJ60,\"\")","v":""},{"$f":"IF(Data!$E60=30,Data!EK60,\"\")","v":""},{"$f":"IF(Data!$E60=30,Data!EL60,IF(Data!AY60<>\"\",Data!AY60,\"\"))","v":""},{"$f":"IF(Data!$E60=30,Data!EM60,\"\")","v":""},{"$f":"IF(Data!$E60=30,Data!EN60,\"\")","v":""},{"$f":"IF(Data!$E60=30,Data!EO60,IF(Data!AZ60<>\"\",Data!AZ60,\"\"))","v":""},{"$f":"IF(Data!$E60=30,Data!EP60,\"\")","v":""},{"$f":"IF(Data!$E60=30,Data!EQ60,\"\")","v":""},{"$f":"IF(Data!$E60=30,Data!ER60,IF(Data!BA60<>\"\",Data!BA60,\"\"))","v":""},{"$f":"IF(Data!$E60=30,Data!ES60,\"\")","v":""},{"$f":"IF(Data!$E60=30,Data!ET60,\"\")","v":""},{"$f":"IF(Data!$E60=30,Data!EU60,IF(Data!BB60<>\"\",Data!BB60,\"\"))","v":""},{"$f":"IF(Data!$E60=30,Data!EV60,\"\")","v":""},{"$f":"IF(Data!$E60=30,Data!EW60,\"\")","v":""},{"$f":"IF(Data!$E60=30,Data!EX60,IF(Data!Z60<>\"\",Data!BC60,\"\"))","v":""},{"$f":"IF(Data!$E60=30,Data!EY60,\"\")","v":""},null,null,null,{"$f":"IF(Data!$E60=30,Data!EZ60,\"\")","v":""},{"$f":"IF(Data!$E60=30,Data!FA60,IF(Data!BD60<>\"\",Data!BD60,\"\"))","v":""},{"$f":"IF(Data!$E60=30,Data!FB60,\"\")","v":""},{"$f":"IF(Data!$E60=30,Data!FC60,\"\")","v":""},{"$f":"IF(Data!$E60=30,Data!FD60,IF(Data!BE60<>\"\",Data!BE60,\"\"))","v":""},{"$f":"IF(Data!$E60=30,Data!FE60,\"\")","v":""},{"$f":"IF(Data!$E60=30,Data!FF60,\"\")","v":""},{"$f":"IF(Data!$E60=30,Data!FG60,IF(Data!BF60<>\"\",Data!BF60,\"\"))","v":""},{"$f":"IF(Data!$E60=30,Data!FH60,\"\")","v":""},{"$f":"IF(Data!$E60=30,Data!FI60,\"\")","v":""},{"$f":"IF(Data!$E60=30,Data!FJ60,IF(Data!BG60<>\"\",Data!BG60,\"\"))","v":""},{"$f":"IF(Data!$E60=30,Data!FK60,\"\")","v":""},{"$f":"IF(Data!$E60=30,Data!FL60,\"\")","v":""},{"$f":"IF(Data!$E60=30,Data!FM60,IF(Data!BH60<>\"\",Data!BH60,\"\"))","v":""},{"$f":"IF(Data!$E60=30,Data!FN60,\"\")","v":""},{"$f":"IF(Data!$E60=30,Data!FO60,\"\")","v":""},{"$f":"IF(Data!$E60=30,Data!FP60,IF(Data!BI60<>\"\",Data!BI60,\"\"))","v":""},{"$f":"IF(Data!$E60=30,Data!FQ60,\"\")","v":""},{"$f":"IF(Data!$E60=30,Data!FR60,\"\")","v":""},{"$f":"IF(Data!$E60=30,Data!FS60,IF(Data!BJ60<>\"\",Data!BJ60,\"\"))","v":""},{"$f":"IF(Data!$E60=30,Data!FT60,\"\")","v":""},{"$f":"IF(Data!$E60=30,Data!FU60,\"\")","v":""},{"$f":"IF(Data!$E60=30,Data!FV60,IF(Data!BK60<>\"\",Data!BK60,\"\"))","v":""},{"$f":"IF(Data!$E60=30,Data!FW60,\"\")","v":""},{"$f":"IF(Data!$E60=30,Data!FX60,\"\")","v":""},{"$f":"IF(Data!$E60=30,Data!FY60,IF(Data!BL60<>\"\",Data!BL60,\"\"))","v":""},{"$f":"IF(Data!$E60=30,Data!FZ60,\"\")","v":""},{"$f":"IF(Data!$E60=30,Data!GA60,\"\")","v":""},{"$f":"IF(Data!$E60=30,Data!GB60,IF(Data!BM60<>\"\",Data!BM60,\"\"))","v":""},{"$f":"IF(Data!$E60=30,Data!GC60,\"\")","v":""}]
[null,{"$f":"IF(Data!A61<>\"\",Data!A61,\"\")","v":""},{"$f":"IF(Data!$E61=30,Data!DV61,\"\")","v":""},{"$f":"IF(Data!$E61=30,Data!DW61,IF(Data!AT61<>\"\",Data!AT61,\"\"))","v":""},{"$f":"IF(Data!$E61=30,Data!DX61,\"\")","v":""},{"$f":"IF(Data!$E61=30,Data!DY61,\"\")","v":""},{"$f":"IF(Data!$E61=30,Data!DZ61,IF(Data!AU61<>\"\",Data!AU61,\"\"))","v":""},{"$f":"IF(Data!$E61=30,Data!EA61,\"\")","v":""},{"$f":"IF(Data!$E61=30,Data!EB61,\"\")","v":""},{"$f":"IF(Data!$E61=30,Data!EC61,IF(Data!AV61<>\"\",Data!AV61,\"\"))","v":""},{"$f":"IF(Data!$E61=30,Data!ED61,\"\")","v":""},{"$f":"IF(Data!$E61=30,Data!EE61,\"\")","v":""},{"$f":"IF(Data!$E61=30,Data!EF61,IF(Data!AW61<>\"\",Data!AW61,\"\"))","v":""},{"$f":"IF(Data!$E61=30,Data!EG61,\"\")","v":""},{"$f":"IF(Data!$E61=30,Data!EH61,\"\")","v":""},{"$f":"IF(Data!$E61=30,Data!EI61,IF(Data!AX61<>\"\",Data!AX61,\"\"))","v":""},{"$f":"IF(Data!$E61=30,Data!EJ61,\"\")","v":""},{"$f":"IF(Data!$E61=30,Data!EK61,\"\")","v":""},{"$f":"IF(Data!$E61=30,Data!EL61,IF(Data!AY61<>\"\",Data!AY61,\"\"))","v":""},{"$f":"IF(Data!$E61=30,Data!EM61,\"\")","v":""},{"$f":"IF(Data!$E61=30,Data!EN61,\"\")","v":""},{"$f":"IF(Data!$E61=30,Data!EO61,IF(Data!AZ61<>\"\",Data!AZ61,\"\"))","v":""},{"$f":"IF(Data!$E61=30,Data!EP61,\"\")","v":""},{"$f":"IF(Data!$E61=30,Data!EQ61,\"\")","v":""},{"$f":"IF(Data!$E61=30,Data!ER61,IF(Data!BA61<>\"\",Data!BA61,\"\"))","v":""},{"$f":"IF(Data!$E61=30,Data!ES61,\"\")","v":""},{"$f":"IF(Data!$E61=30,Data!ET61,\"\")","v":""},{"$f":"IF(Data!$E61=30,Data!EU61,IF(Data!BB61<>\"\",Data!BB61,\"\"))","v":""},{"$f":"IF(Data!$E61=30,Data!EV61,\"\")","v":""},{"$f":"IF(Data!$E61=30,Data!EW61,\"\")","v":""},{"$f":"IF(Data!$E61=30,Data!EX61,IF(Data!Z61<>\"\",Data!BC61,\"\"))","v":""},{"$f":"IF(Data!$E61=30,Data!EY61,\"\")","v":""},null,null,null,{"$f":"IF(Data!$E61=30,Data!EZ61,\"\")","v":""},{"$f":"IF(Data!$E61=30,Data!FA61,IF(Data!BD61<>\"\",Data!BD61,\"\"))","v":""},{"$f":"IF(Data!$E61=30,Data!FB61,\"\")","v":""},{"$f":"IF(Data!$E61=30,Data!FC61,\"\")","v":""},{"$f":"IF(Data!$E61=30,Data!FD61,IF(Data!BE61<>\"\",Data!BE61,\"\"))","v":""},{"$f":"IF(Data!$E61=30,Data!FE61,\"\")","v":""},{"$f":"IF(Data!$E61=30,Data!FF61,\"\")","v":""},{"$f":"IF(Data!$E61=30,Data!FG61,IF(Data!BF61<>\"\",Data!BF61,\"\"))","v":""},{"$f":"IF(Data!$E61=30,Data!FH61,\"\")","v":""},{"$f":"IF(Data!$E61=30,Data!FI61,\"\")","v":""},{"$f":"IF(Data!$E61=30,Data!FJ61,IF(Data!BG61<>\"\",Data!BG61,\"\"))","v":""},{"$f":"IF(Data!$E61=30,Data!FK61,\"\")","v":""},{"$f":"IF(Data!$E61=30,Data!FL61,\"\")","v":""},{"$f":"IF(Data!$E61=30,Data!FM61,IF(Data!BH61<>\"\",Data!BH61,\"\"))","v":""},{"$f":"IF(Data!$E61=30,Data!FN61,\"\")","v":""},{"$f":"IF(Data!$E61=30,Data!FO61,\"\")","v":""},{"$f":"IF(Data!$E61=30,Data!FP61,IF(Data!BI61<>\"\",Data!BI61,\"\"))","v":""},{"$f":"IF(Data!$E61=30,Data!FQ61,\"\")","v":""},{"$f":"IF(Data!$E61=30,Data!FR61,\"\")","v":""},{"$f":"IF(Data!$E61=30,Data!FS61,IF(Data!BJ61<>\"\",Data!BJ61,\"\"))","v":""},{"$f":"IF(Data!$E61=30,Data!FT61,\"\")","v":""},{"$f":"IF(Data!$E61=30,Data!FU61,\"\")","v":""},{"$f":"IF(Data!$E61=30,Data!FV61,IF(Data!BK61<>\"\",Data!BK61,\"\"))","v":""},{"$f":"IF(Data!$E61=30,Data!FW61,\"\")","v":""},{"$f":"IF(Data!$E61=30,Data!FX61,\"\")","v":""},{"$f":"IF(Data!$E61=30,Data!FY61,IF(Data!BL61<>\"\",Data!BL61,\"\"))","v":""},{"$f":"IF(Data!$E61=30,Data!FZ61,\"\")","v":""},{"$f":"IF(Data!$E61=30,Data!GA61,\"\")","v":""},{"$f":"IF(Data!$E61=30,Data!GB61,IF(Data!BM61<>\"\",Data!BM61,\"\"))","v":""},{"$f":"IF(Data!$E61=30,Data!GC61,\"\")","v":""}]
[null,{"$f":"IF(Data!A62<>\"\",Data!A62,\"\")","v":""},{"$f":"IF(Data!$E62=30,Data!DV62,\"\")","v":""},{"$f":"IF(Data!$E62=30,Data!DW62,IF(Data!AT62<>\"\",Data!AT62,\"\"))","v":""},{"$f":"IF(Data!$E62=30,Data!DX62,\"\")","v":""},{"$f":"IF(Data!$E62=30,Data!DY62,\"\")","v":""},{"$f":"IF(Data!$E62=30,Data!DZ62,IF(Data!AU62<>\"\",Data!AU62,\"\"))","v":""},{"$f":"IF(Data!$E62=30,Data!EA62,\"\")","v":""},{"$f":"IF(Data!$E62=30,Data!EB62,\"\")","v":""},{"$f":"IF(Data!$E62=30,Data!EC62,IF(Data!AV62<>\"\",Data!AV62,\"\"))","v":""},{"$f":"IF(Data!$E62=30,Data!ED62,\"\")","v":""},{"$f":"IF(Data!$E62=30,Data!EE62,\"\")","v":""},{"$f":"IF(Data!$E62=30,Data!EF62,IF(Data!AW62<>\"\",Data!AW62,\"\"))","v":""},{"$f":"IF(Data!$E62=30,Data!EG62,\"\")","v":""},{"$f":"IF(Data!$E62=30,Data!EH62,\"\")","v":""},{"$f":"IF(Data!$E62=30,Data!EI62,IF(Data!AX62<>\"\",Data!AX62,\"\"))","v":""},{"$f":"IF(Data!$E62=30,Data!EJ62,\"\")","v":""},{"$f":"IF(Data!$E62=30,Data!EK62,\"\")","v":""},{"$f":"IF(Data!$E62=30,Data!EL62,IF(Data!AY62<>\"\",Data!AY62,\"\"))","v":""},{"$f":"IF(Data!$E62=30,Data!EM62,\"\")","v":""},{"$f":"IF(Data!$E62=30,Data!EN62,\"\")","v":""},{"$f":"IF(Data!$E62=30,Data!EO62,IF(Data!AZ62<>\"\",Data!AZ62,\"\"))","v":""},{"$f":"IF(Data!$E62=30,Data!EP62,\"\")","v":""},{"$f":"IF(Data!$E62=30,Data!EQ62,\"\")","v":""},{"$f":"IF(Data!$E62=30,Data!ER62,IF(Data!BA62<>\"\",Data!BA62,\"\"))","v":""},{"$f":"IF(Data!$E62=30,Data!ES62,\"\")","v":""},{"$f":"IF(Data!$E62=30,Data!ET62,\"\")","v":""},{"$f":"IF(Data!$E62=30,Data!EU62,IF(Data!BB62<>\"\",Data!BB62,\"\"))","v":""},{"$f":"IF(Data!$E62=30,Data!EV62,\"\")","v":""},{"$f":"IF(Data!$E62=30,Data!EW62,\"\")","v":""},{"$f":"IF(Data!$E62=30,Data!EX62,IF(Data!Z62<>\"\",Data!BC62,\"\"))","v":""},{"$f":"IF(Data!$E62=30,Data!EY62,\"\")","v":""},null,null,null,{"$f":"IF(Data!$E62=30,Data!EZ62,\"\")","v":""},{"$f":"IF(Data!$E62=30,Data!FA62,IF(Data!BD62<>\"\",Data!BD62,\"\"))","v":""},{"$f":"IF(Data!$E62=30,Data!FB62,\"\")","v":""},{"$f":"IF(Data!$E62=30,Data!FC62,\"\")","v":""},{"$f":"IF(Data!$E62=30,Data!FD62,IF(Data!BE62<>\"\",Data!BE62,\"\"))","v":""},{"$f":"IF(Data!$E62=30,Data!FE62,\"\")","v":""},{"$f":"IF(Data!$E62=30,Data!FF62,\"\")","v":""},{"$f":"IF(Data!$E62=30,Data!FG62,IF(Data!BF62<>\"\",Data!BF62,\"\"))","v":""},{"$f":"IF(Data!$E62=30,Data!FH62,\"\")","v":""},{"$f":"IF(Data!$E62=30,Data!FI62,\"\")","v":""},{"$f":"IF(Data!$E62=30,Data!FJ62,IF(Data!BG62<>\"\",Data!BG62,\"\"))","v":""},{"$f":"IF(Data!$E62=30,Data!FK62,\"\")","v":""},{"$f":"IF(Data!$E62=30,Data!FL62,\"\")","v":""},{"$f":"IF(Data!$E62=30,Data!FM62,IF(Data!BH62<>\"\",Data!BH62,\"\"))","v":""},{"$f":"IF(Data!$E62=30,Data!FN62,\"\")","v":""},{"$f":"IF(Data!$E62=30,Data!FO62,\"\")","v":""},{"$f":"IF(Data!$E62=30,Data!FP62,IF(Data!BI62<>\"\",Data!BI62,\"\"))","v":""},{"$f":"IF(Data!$E62=30,Data!FQ62,\"\")","v":""},{"$f":"IF(Data!$E62=30,Data!FR62,\"\")","v":""},{"$f":"IF(Data!$E62=30,Data!FS62,IF(Data!BJ62<>\"\",Data!BJ62,\"\"))","v":""},{"$f":"IF(Data!$E62=30,Data!FT62,\"\")","v":""},{"$f":"IF(Data!$E62=30,Data!FU62,\"\")","v":""},{"$f":"IF(Data!$E62=30,Data!FV62,IF(Data!BK62<>\"\",Data!BK62,\"\"))","v":""},{"$f":"IF(Data!$E62=30,Data!FW62,\"\")","v":""},{"$f":"IF(Data!$E62=30,Data!FX62,\"\")","v":""},{"$f":"IF(Data!$E62=30,Data!FY62,IF(Data!BL62<>\"\",Data!BL62,\"\"))","v":""},{"$f":"IF(Data!$E62=30,Data!FZ62,\"\")","v":""},{"$f":"IF(Data!$E62=30,Data!GA62,\"\")","v":""},{"$f":"IF(Data!$E62=30,Data!GB62,IF(Data!BM62<>\"\",Data!BM62,\"\"))","v":""},{"$f":"IF(Data!$E62=30,Data!GC62,\"\")","v":""}]
[null,{"$f":"IF(Data!A63<>\"\",Data!A63,\"\")","v":""},{"$f":"IF(Data!$E63=30,Data!DV63,\"\")","v":""},{"$f":"IF(Data!$E63=30,Data!DW63,IF(Data!AT63<>\"\",Data!AT63,\"\"))","v":""},{"$f":"IF(Data!$E63=30,Data!DX63,\"\")","v":""},{"$f":"IF(Data!$E63=30,Data!DY63,\"\")","v":""},{"$f":"IF(Data!$E63=30,Data!DZ63,IF(Data!AU63<>\"\",Data!AU63,\"\"))","v":""},{"$f":"IF(Data!$E63=30,Data!EA63,\"\")","v":""},{"$f":"IF(Data!$E63=30,Data!EB63,\"\")","v":""},{"$f":"IF(Data!$E63=30,Data!EC63,IF(Data!AV63<>\"\",Data!AV63,\"\"))","v":""},{"$f":"IF(Data!$E63=30,Data!ED63,\"\")","v":""},{"$f":"IF(Data!$E63=30,Data!EE63,\"\")","v":""},{"$f":"IF(Data!$E63=30,Data!EF63,IF(Data!AW63<>\"\",Data!AW63,\"\"))","v":""},{"$f":"IF(Data!$E63=30,Data!EG63,\"\")","v":""},{"$f":"IF(Data!$E63=30,Data!EH63,\"\")","v":""},{"$f":"IF(Data!$E63=30,Data!EI63,IF(Data!AX63<>\"\",Data!AX63,\"\"))","v":""},{"$f":"IF(Data!$E63=30,Data!EJ63,\"\")","v":""},{"$f":"IF(Data!$E63=30,Data!EK63,\"\")","v":""},{"$f":"IF(Data!$E63=30,Data!EL63,IF(Data!AY63<>\"\",Data!AY63,\"\"))","v":""},{"$f":"IF(Data!$E63=30,Data!EM63,\"\")","v":""},{"$f":"IF(Data!$E63=30,Data!EN63,\"\")","v":""},{"$f":"IF(Data!$E63=30,Data!EO63,IF(Data!AZ63<>\"\",Data!AZ63,\"\"))","v":""},{"$f":"IF(Data!$E63=30,Data!EP63,\"\")","v":""},{"$f":"IF(Data!$E63=30,Data!EQ63,\"\")","v":""},{"$f":"IF(Data!$E63=30,Data!ER63,IF(Data!BA63<>\"\",Data!BA63,\"\"))","v":""},{"$f":"IF(Data!$E63=30,Data!ES63,\"\")","v":""},{"$f":"IF(Data!$E63=30,Data!ET63,\"\")","v":""},{"$f":"IF(Data!$E63=30,Data!EU63,IF(Data!BB63<>\"\",Data!BB63,\"\"))","v":""},{"$f":"IF(Data!$E63=30,Data!EV63,\"\")","v":""},{"$f":"IF(Data!$E63=30,Data!EW63,\"\")","v":""},{"$f":"IF(Data!$E63=30,Data!EX63,IF(Data!Z63<>\"\",Data!BC63,\"\"))","v":""},{"$f":"IF(Data!$E63=30,Data!EY63,\"\")","v":""},null,null,null,{"$f":"IF(Data!$E63=30,Data!EZ63,\"\")","v":""},{"$f":"IF(Data!$E63=30,Data!FA63,IF(Data!BD63<>\"\",Data!BD63,\"\"))","v":""},{"$f":"IF(Data!$E63=30,Data!FB63,\"\")","v":""},{"$f":"IF(Data!$E63=30,Data!FC63,\"\")","v":""},{"$f":"IF(Data!$E63=30,Data!FD63,IF(Data!BE63<>\"\",Data!BE63,\"\"))","v":""},{"$f":"IF(Data!$E63=30,Data!FE63,\"\")","v":""},{"$f":"IF(Data!$E63=30,Data!FF63,\"\")","v":""},{"$f":"IF(Data!$E63=30,Data!FG63,IF(Data!BF63<>\"\",Data!BF63,\"\"))","v":""},{"$f":"IF(Data!$E63=30,Data!FH63,\"\")","v":""},{"$f":"IF(Data!$E63=30,Data!FI63,\"\")","v":""},{"$f":"IF(Data!$E63=30,Data!FJ63,IF(Data!BG63<>\"\",Data!BG63,\"\"))","v":""},{"$f":"IF(Data!$E63=30,Data!FK63,\"\")","v":""},{"$f":"IF(Data!$E63=30,Data!FL63,\"\")","v":""},{"$f":"IF(Data!$E63=30,Data!FM63,IF(Data!BH63<>\"\",Data!BH63,\"\"))","v":""},{"$f":"IF(Data!$E63=30,Data!FN63,\"\")","v":""},{"$f":"IF(Data!$E63=30,Data!FO63,\"\")","v":""},{"$f":"IF(Data!$E63=30,Data!FP63,IF(Data!BI63<>\"\",Data!BI63,\"\"))","v":""},{"$f":"IF(Data!$E63=30,Data!FQ63,\"\")","v":""},{"$f":"IF(Data!$E63=30,Data!FR63,\"\")","v":""},{"$f":"IF(Data!$E63=30,Data!FS63,IF(Data!BJ63<>\"\",Data!BJ63,\"\"))","v":""},{"$f":"IF(Data!$E63=30,Data!FT63,\"\")","v":""},{"$f":"IF(Data!$E63=30,Data!FU63,\"\")","v":""},{"$f":"IF(Data!$E63=30,Data!FV63,IF(Data!BK63<>\"\",Data!BK63,\"\"))","v":""},{"$f":"IF(Data!$E63=30,Data!FW63,\"\")","v":""},{"$f":"IF(Data!$E63=30,Data!FX63,\"\")","v":""},{"$f":"IF(Data!$E63=30,Data!FY63,IF(Data!BL63<>\"\",Data!BL63,\"\"))","v":""},{"$f":"IF(Data!$E63=30,Data!FZ63,\"\")","v":""},{"$f":"IF(Data!$E63=30,Data!GA63,\"\")","v":""},{"$f":"IF(Data!$E63=30,Data!GB63,IF(Data!BM63<>\"\",Data!BM63,\"\"))","v":""},{"$f":"IF(Data!$E63=30,Data!GC63,\"\")","v":""}]
[null,{"$f":"IF(Data!A64<>\"\",Data!A64,\"\")","v":""},{"$f":"IF(Data!$E64=30,Data!DV64,\"\")","v":""},{"$f":"IF(Data!$E64=30,Data!DW64,IF(Data!AT64<>\"\",Data!AT64,\"\"))","v":""},{"$f":"IF(Data!$E64=30,Data!DX64,\"\")","v":""},{"$f":"IF(Data!$E64=30,Data!DY64,\"\")","v":""},{"$f":"IF(Data!$E64=30,Data!DZ64,IF(Data!AU64<>\"\",Data!AU64,\"\"))","v":""},{"$f":"IF(Data!$E64=30,Data!EA64,\"\")","v":""},{"$f":"IF(Data!$E64=30,Data!EB64,\"\")","v":""},{"$f":"IF(Data!$E64=30,Data!EC64,IF(Data!AV64<>\"\",Data!AV64,\"\"))","v":""},{"$f":"IF(Data!$E64=30,Data!ED64,\"\")","v":""},{"$f":"IF(Data!$E64=30,Data!EE64,\"\")","v":""},{"$f":"IF(Data!$E64=30,Data!EF64,IF(Data!AW64<>\"\",Data!AW64,\"\"))","v":""},{"$f":"IF(Data!$E64=30,Data!EG64,\"\")","v":""},{"$f":"IF(Data!$E64=30,Data!EH64,\"\")","v":""},{"$f":"IF(Data!$E64=30,Data!EI64,IF(Data!AX64<>\"\",Data!AX64,\"\"))","v":""},{"$f":"IF(Data!$E64=30,Data!EJ64,\"\")","v":""},{"$f":"IF(Data!$E64=30,Data!EK64,\"\")","v":""},{"$f":"IF(Data!$E64=30,Data!EL64,IF(Data!AY64<>\"\",Data!AY64,\"\"))","v":""},{"$f":"IF(Data!$E64=30,Data!EM64,\"\")","v":""},{"$f":"IF(Data!$E64=30,Data!EN64,\"\")","v":""},{"$f":"IF(Data!$E64=30,Data!EO64,IF(Data!AZ64<>\"\",Data!AZ64,\"\"))","v":""},{"$f":"IF(Data!$E64=30,Data!EP64,\"\")","v":""},{"$f":"IF(Data!$E64=30,Data!EQ64,\"\")","v":""},{"$f":"IF(Data!$E64=30,Data!ER64,IF(Data!BA64<>\"\",Data!BA64,\"\"))","v":""},{"$f":"IF(Data!$E64=30,Data!ES64,\"\")","v":""},{"$f":"IF(Data!$E64=30,Data!ET64,\"\")","v":""},{"$f":"IF(Data!$E64=30,Data!EU64,IF(Data!BB64<>\"\",Data!BB64,\"\"))","v":""},{"$f":"IF(Data!$E64=30,Data!EV64,\"\")","v":""},{"$f":"IF(Data!$E64=30,Data!EW64,\"\")","v":""},{"$f":"IF(Data!$E64=30,Data!EX64,IF(Data!Z64<>\"\",Data!BC64,\"\"))","v":""},{"$f":"IF(Data!$E64=30,Data!EY64,\"\")","v":""},null,null,null,{"$f":"IF(Data!$E64=30,Data!EZ64,\"\")","v":""},{"$f":"IF(Data!$E64=30,Data!FA64,IF(Data!BD64<>\"\",Data!BD64,\"\"))","v":""},{"$f":"IF(Data!$E64=30,Data!FB64,\"\")","v":""},{"$f":"IF(Data!$E64=30,Data!FC64,\"\")","v":""},{"$f":"IF(Data!$E64=30,Data!FD64,IF(Data!BE64<>\"\",Data!BE64,\"\"))","v":""},{"$f":"IF(Data!$E64=30,Data!FE64,\"\")","v":""},{"$f":"IF(Data!$E64=30,Data!FF64,\"\")","v":""},{"$f":"IF(Data!$E64=30,Data!FG64,IF(Data!BF64<>\"\",Data!BF64,\"\"))","v":""},{"$f":"IF(Data!$E64=30,Data!FH64,\"\")","v":""},{"$f":"IF(Data!$E64=30,Data!FI64,\"\")","v":""},{"$f":"IF(Data!$E64=30,Data!FJ64,IF(Data!BG64<>\"\",Data!BG64,\"\"))","v":""},{"$f":"IF(Data!$E64=30,Data!FK64,\"\")","v":""},{"$f":"IF(Data!$E64=30,Data!FL64,\"\")","v":""},{"$f":"IF(Data!$E64=30,Data!FM64,IF(Data!BH64<>\"\",Data!BH64,\"\"))","v":""},{"$f":"IF(Data!$E64=30,Data!FN64,\"\")","v":""},{"$f":"IF(Data!$E64=30,Data!FO64,\"\")","v":""},{"$f":"IF(Data!$E64=30,Data!FP64,IF(Data!BI64<>\"\",Data!BI64,\"\"))","v":""},{"$f":"IF(Data!$E64=30,Data!FQ64,\"\")","v":""},{"$f":"IF(Data!$E64=30,Data!FR64,\"\")","v":""},{"$f":"IF(Data!$E64=30,Data!FS64,IF(Data!BJ64<>\"\",Data!BJ64,\"\"))","v":""},{"$f":"IF(Data!$E64=30,Data!FT64,\"\")","v":""},{"$f":"IF(Data!$E64=30,Data!FU64,\"\")","v":""},{"$f":"IF(Data!$E64=30,Data!FV64,IF(Data!BK64<>\"\",Data!BK64,\"\"))","v":""},{"$f":"IF(Data!$E64=30,Data!FW64,\"\")","v":""},{"$f":"IF(Data!$E64=30,Data!FX64,\"\")","v":""},{"$f":"IF(Data!$E64=30,Data!FY64,IF(Data!BL64<>\"\",Data!BL64,\"\"))","v":""},{"$f":"IF(Data!$E64=30,Data!FZ64,\"\")","v":""},{"$f":"IF(Data!$E64=30,Data!GA64,\"\")","v":""},{"$f":"IF(Data!$E64=30,Data!GB64,IF(Data!BM64<>\"\",Data!BM64,\"\"))","v":""},{"$f":"IF(Data!$E64=30,Data!GC64,\"\")","v":""}]
[null,{"$f":"IF(Data!A65<>\"\",Data!A65,\"\")","v":""},{"$f":"IF(Data!$E65=30,Data!DV65,\"\")","v":""},{"$f":"IF(Data!$E65=30,Data!DW65,IF(Data!AT65<>\"\",Data!AT65,\"\"))","v":""},{"$f":"IF(Data!$E65=30,Data!DX65,\"\")","v":""},{"$f":"IF(Data!$E65=30,Data!DY65,\"\")","v":""},{"$f":"IF(Data!$E65=30,Data!DZ65,IF(Data!AU65<>\"\",Data!AU65,\"\"))","v":""},{"$f":"IF(Data!$E65=30,Data!EA65,\"\")","v":""},{"$f":"IF(Data!$E65=30,Data!EB65,\"\")","v":""},{"$f":"IF(Data!$E65=30,Data!EC65,IF(Data!AV65<>\"\",Data!AV65,\"\"))","v":""},{"$f":"IF(Data!$E65=30,Data!ED65,\"\")","v":""},{"$f":"IF(Data!$E65=30,Data!EE65,\"\")","v":""},{"$f":"IF(Data!$E65=30,Data!EF65,IF(Data!AW65<>\"\",Data!AW65,\"\"))","v":""},{"$f":"IF(Data!$E65=30,Data!EG65,\"\")","v":""},{"$f":"IF(Data!$E65=30,Data!EH65,\"\")","v":""},{"$f":"IF(Data!$E65=30,Data!EI65,IF(Data!AX65<>\"\",Data!AX65,\"\"))","v":""},{"$f":"IF(Data!$E65=30,Data!EJ65,\"\")","v":""},{"$f":"IF(Data!$E65=30,Data!EK65,\"\")","v":""},{"$f":"IF(Data!$E65=30,Data!EL65,IF(Data!AY65<>\"\",Data!AY65,\"\"))","v":""},{"$f":"IF(Data!$E65=30,Data!EM65,\"\")","v":""},{"$f":"IF(Data!$E65=30,Data!EN65,\"\")","v":""},{"$f":"IF(Data!$E65=30,Data!EO65,IF(Data!AZ65<>\"\",Data!AZ65,\"\"))","v":""},{"$f":"IF(Data!$E65=30,Data!EP65,\"\")","v":""},{"$f":"IF(Data!$E65=30,Data!EQ65,\"\")","v":""},{"$f":"IF(Data!$E65=30,Data!ER65,IF(Data!BA65<>\"\",Data!BA65,\"\"))","v":""},{"$f":"IF(Data!$E65=30,Data!ES65,\"\")","v":""},{"$f":"IF(Data!$E65=30,Data!ET65,\"\")","v":""},{"$f":"IF(Data!$E65=30,Data!EU65,IF(Data!BB65<>\"\",Data!BB65,\"\"))","v":""},{"$f":"IF(Data!$E65=30,Data!EV65,\"\")","v":""},{"$f":"IF(Data!$E65=30,Data!EW65,\"\")","v":""},{"$f":"IF(Data!$E65=30,Data!EX65,IF(Data!Z65<>\"\",Data!BC65,\"\"))","v":""},{"$f":"IF(Data!$E65=30,Data!EY65,\"\")","v":""},null,null,null,{"$f":"IF(Data!$E65=30,Data!EZ65,\"\")","v":""},{"$f":"IF(Data!$E65=30,Data!FA65,IF(Data!BD65<>\"\",Data!BD65,\"\"))","v":""},{"$f":"IF(Data!$E65=30,Data!FB65,\"\")","v":""},{"$f":"IF(Data!$E65=30,Data!FC65,\"\")","v":""},{"$f":"IF(Data!$E65=30,Data!FD65,IF(Data!BE65<>\"\",Data!BE65,\"\"))","v":""},{"$f":"IF(Data!$E65=30,Data!FE65,\"\")","v":""},{"$f":"IF(Data!$E65=30,Data!FF65,\"\")","v":""},{"$f":"IF(Data!$E65=30,Data!FG65,IF(Data!BF65<>\"\",Data!BF65,\"\"))","v":""},{"$f":"IF(Data!$E65=30,Data!FH65,\"\")","v":""},{"$f":"IF(Data!$E65=30,Data!FI65,\"\")","v":""},{"$f":"IF(Data!$E65=30,Data!FJ65,IF(Data!BG65<>\"\",Data!BG65,\"\"))","v":""},{"$f":"IF(Data!$E65=30,Data!FK65,\"\")","v":""},{"$f":"IF(Data!$E65=30,Data!FL65,\"\")","v":""},{"$f":"IF(Data!$E65=30,Data!FM65,IF(Data!BH65<>\"\",Data!BH65,\"\"))","v":""},{"$f":"IF(Data!$E65=30,Data!FN65,\"\")","v":""},{"$f":"IF(Data!$E65=30,Data!FO65,\"\")","v":""},{"$f":"IF(Data!$E65=30,Data!FP65,IF(Data!BI65<>\"\",Data!BI65,\"\"))","v":""},{"$f":"IF(Data!$E65=30,Data!FQ65,\"\")","v":""},{"$f":"IF(Data!$E65=30,Data!FR65,\"\")","v":""},{"$f":"IF(Data!$E65=30,Data!FS65,IF(Data!BJ65<>\"\",Data!BJ65,\"\"))","v":""},{"$f":"IF(Data!$E65=30,Data!FT65,\"\")","v":""},{"$f":"IF(Data!$E65=30,Data!FU65,\"\")","v":""},{"$f":"IF(Data!$E65=30,Data!FV65,IF(Data!BK65<>\"\",Data!BK65,\"\"))","v":""},{"$f":"IF(Data!$E65=30,Data!FW65,\"\")","v":""},{"$f":"IF(Data!$E65=30,Data!FX65,\"\")","v":""},{"$f":"IF(Data!$E65=30,Data!FY65,IF(Data!BL65<>\"\",Data!BL65,\"\"))","v":""},{"$f":"IF(Data!$E65=30,Data!FZ65,\"\")","v":""},{"$f":"IF(Data!$E65=30,Data!GA65,\"\")","v":""},{"$f":"IF(Data!$E65=30,Data!GB65,IF(Data!BM65<>\"\",Data!BM65,\"\"))","v":""},{"$f":"IF(Data!$E65=30,Data!GC65,\"\")","v":""}]
[null,{"$f":"IF(Data!A66<>\"\",Data!A66,\"\")","v":""},{"$f":"IF(Data!$E66=30,Data!DV66,\"\")","v":""},{"$f":"IF(Data!$E66=30,Data!DW66,IF(Data!AT66<>\"\",Data!AT66,\"\"))","v":""},{"$f":"IF(Data!$E66=30,Data!DX66,\"\")","v":""},{"$f":"IF(Data!$E66=30,Data!DY66,\"\")","v":""},{"$f":"IF(Data!$E66=30,Data!DZ66,IF(Data!AU66<>\"\",Data!AU66,\"\"))","v":""},{"$f":"IF(Data!$E66=30,Data!EA66,\"\")","v":""},{"$f":"IF(Data!$E66=30,Data!EB66,\"\")","v":""},{"$f":"IF(Data!$E66=30,Data!EC66,IF(Data!AV66<>\"\",Data!AV66,\"\"))","v":""},{"$f":"IF(Data!$E66=30,Data!ED66,\"\")","v":""},{"$f":"IF(Data!$E66=30,Data!EE66,\"\")","v":""},{"$f":"IF(Data!$E66=30,Data!EF66,IF(Data!AW66<>\"\",Data!AW66,\"\"))","v":""},{"$f":"IF(Data!$E66=30,Data!EG66,\"\")","v":""},{"$f":"IF(Data!$E66=30,Data!EH66,\"\")","v":""},{"$f":"IF(Data!$E66=30,Data!EI66,IF(Data!AX66<>\"\",Data!AX66,\"\"))","v":""},{"$f":"IF(Data!$E66=30,Data!EJ66,\"\")","v":""},{"$f":"IF(Data!$E66=30,Data!EK66,\"\")","v":""},{"$f":"IF(Data!$E66=30,Data!EL66,IF(Data!AY66<>\"\",Data!AY66,\"\"))","v":""},{"$f":"IF(Data!$E66=30,Data!EM66,\"\")","v":""},{"$f":"IF(Data!$E66=30,Data!EN66,\"\")","v":""},{"$f":"IF(Data!$E66=30,Data!EO66,IF(Data!AZ66<>\"\",Data!AZ66,\"\"))","v":""},{"$f":"IF(Data!$E66=30,Data!EP66,\"\")","v":""},{"$f":"IF(Data!$E66=30,Data!EQ66,\"\")","v":""},{"$f":"IF(Data!$E66=30,Data!ER66,IF(Data!BA66<>\"\",Data!BA66,\"\"))","v":""},{"$f":"IF(Data!$E66=30,Data!ES66,\"\")","v":""},{"$f":"IF(Data!$E66=30,Data!ET66,\"\")","v":""},{"$f":"IF(Data!$E66=30,Data!EU66,IF(Data!BB66<>\"\",Data!BB66,\"\"))","v":""},{"$f":"IF(Data!$E66=30,Data!EV66,\"\")","v":""},{"$f":"IF(Data!$E66=30,Data!EW66,\"\")","v":""},{"$f":"IF(Data!$E66=30,Data!EX66,IF(Data!Z66<>\"\",Data!BC66,\"\"))","v":""},{"$f":"IF(Data!$E66=30,Data!EY66,\"\")","v":""},null,null,null,{"$f":"IF(Data!$E66=30,Data!EZ66,\"\")","v":""},{"$f":"IF(Data!$E66=30,Data!FA66,IF(Data!BD66<>\"\",Data!BD66,\"\"))","v":""},{"$f":"IF(Data!$E66=30,Data!FB66,\"\")","v":""},{"$f":"IF(Data!$E66=30,Data!FC66,\"\")","v":""},{"$f":"IF(Data!$E66=30,Data!FD66,IF(Data!BE66<>\"\",Data!BE66,\"\"))","v":""},{"$f":"IF(Data!$E66=30,Data!FE66,\"\")","v":""},{"$f":"IF(Data!$E66=30,Data!FF66,\"\")","v":""},{"$f":"IF(Data!$E66=30,Data!FG66,IF(Data!BF66<>\"\",Data!BF66,\"\"))","v":""},{"$f":"IF(Data!$E66=30,Data!FH66,\"\")","v":""},{"$f":"IF(Data!$E66=30,Data!FI66,\"\")","v":""},{"$f":"IF(Data!$E66=30,Data!FJ66,IF(Data!BG66<>\"\",Data!BG66,\"\"))","v":""},{"$f":"IF(Data!$E66=30,Data!FK66,\"\")","v":""},{"$f":"IF(Data!$E66=30,Data!FL66,\"\")","v":""},{"$f":"IF(Data!$E66=30,Data!FM66,IF(Data!BH66<>\"\",Data!BH66,\"\"))","v":""},{"$f":"IF(Data!$E66=30,Data!FN66,\"\")","v":""},{"$f":"IF(Data!$E66=30,Data!FO66,\"\")","v":""},{"$f":"IF(Data!$E66=30,Data!FP66,IF(Data!BI66<>\"\",Data!BI66,\"\"))","v":""},{"$f":"IF(Data!$E66=30,Data!FQ66,\"\")","v":""},{"$f":"IF(Data!$E66=30,Data!FR66,\"\")","v":""},{"$f":"IF(Data!$E66=30,Data!FS66,IF(Data!BJ66<>\"\",Data!BJ66,\"\"))","v":""},{"$f":"IF(Data!$E66=30,Data!FT66,\"\")","v":""},{"$f":"IF(Data!$E66=30,Data!FU66,\"\")","v":""},{"$f":"IF(Data!$E66=30,Data!FV66,IF(Data!BK66<>\"\",Data!BK66,\"\"))","v":""},{"$f":"IF(Data!$E66=30,Data!FW66,\"\")","v":""},{"$f":"IF(Data!$E66=30,Data!FX66,\"\")","v":""},{"$f":"IF(Data!$E66=30,Data!FY66,IF(Data!BL66<>\"\",Data!BL66,\"\"))","v":""},{"$f":"IF(Data!$E66=30,Data!FZ66,\"\")","v":""},{"$f":"IF(Data!$E66=30,Data!GA66,\"\")","v":""},{"$f":"IF(Data!$E66=30,Data!GB66,IF(Data!BM66<>\"\",Data!BM66,\"\"))","v":""},{"$f":"IF(Data!$E66=30,Data!GC66,\"\")","v":""}]
[null,{"$f":"IF(Data!A67<>\"\",Data!A67,\"\")","v":""},{"$f":"IF(Data!$E67=30,Data!DV67,\"\")","v":""},{"$f":"IF(Data!$E67=30,Data!DW67,IF(Data!AT67<>\"\",Data!AT67,\"\"))","v":""},{"$f":"IF(Data!$E67=30,Data!DX67,\"\")","v":""},{"$f":"IF(Data!$E67=30,Data!DY67,\"\")","v":""},{"$f":"IF(Data!$E67=30,Data!DZ67,IF(Data!AU67<>\"\",Data!AU67,\"\"))","v":""},{"$f":"IF(Data!$E67=30,Data!EA67,\"\")","v":""},{"$f":"IF(Data!$E67=30,Data!EB67,\"\")","v":""},{"$f":"IF(Data!$E67=30,Data!EC67,IF(Data!AV67<>\"\",Data!AV67,\"\"))","v":""},{"$f":"IF(Data!$E67=30,Data!ED67,\"\")","v":""},{"$f":"IF(Data!$E67=30,Data!EE67,\"\")","v":""},{"$f":"IF(Data!$E67=30,Data!EF67,IF(Data!AW67<>\"\",Data!AW67,\"\"))","v":""},{"$f":"IF(Data!$E67=30,Data!EG67,\"\")","v":""},{"$f":"IF(Data!$E67=30,Data!EH67,\"\")","v":""},{"$f":"IF(Data!$E67=30,Data!EI67,IF(Data!AX67<>\"\",Data!AX67,\"\"))","v":""},{"$f":"IF(Data!$E67=30,Data!EJ67,\"\")","v":""},{"$f":"IF(Data!$E67=30,Data!EK67,\"\")","v":""},{"$f":"IF(Data!$E67=30,Data!EL67,IF(Data!AY67<>\"\",Data!AY67,\"\"))","v":""},{"$f":"IF(Data!$E67=30,Data!EM67,\"\")","v":""},{"$f":"IF(Data!$E67=30,Data!EN67,\"\")","v":""},{"$f":"IF(Data!$E67=30,Data!EO67,IF(Data!AZ67<>\"\",Data!AZ67,\"\"))","v":""},{"$f":"IF(Data!$E67=30,Data!EP67,\"\")","v":""},{"$f":"IF(Data!$E67=30,Data!EQ67,\"\")","v":""},{"$f":"IF(Data!$E67=30,Data!ER67,IF(Data!BA67<>\"\",Data!BA67,\"\"))","v":""},{"$f":"IF(Data!$E67=30,Data!ES67,\"\")","v":""},{"$f":"IF(Data!$E67=30,Data!ET67,\"\")","v":""},{"$f":"IF(Data!$E67=30,Data!EU67,IF(Data!BB67<>\"\",Data!BB67,\"\"))","v":""},{"$f":"IF(Data!$E67=30,Data!EV67,\"\")","v":""},{"$f":"IF(Data!$E67=30,Data!EW67,\"\")","v":""},{"$f":"IF(Data!$E67=30,Data!EX67,IF(Data!Z67<>\"\",Data!BC67,\"\"))","v":""},{"$f":"IF(Data!$E67=30,Data!EY67,\"\")","v":""},null,null,null,{"$f":"IF(Data!$E67=30,Data!EZ67,\"\")","v":""},{"$f":"IF(Data!$E67=30,Data!FA67,IF(Data!BD67<>\"\",Data!BD67,\"\"))","v":""},{"$f":"IF(Data!$E67=30,Data!FB67,\"\")","v":""},{"$f":"IF(Data!$E67=30,Data!FC67,\"\")","v":""},{"$f":"IF(Data!$E67=30,Data!FD67,IF(Data!BE67<>\"\",Data!BE67,\"\"))","v":""},{"$f":"IF(Data!$E67=30,Data!FE67,\"\")","v":""},{"$f":"IF(Data!$E67=30,Data!FF67,\"\")","v":""},{"$f":"IF(Data!$E67=30,Data!FG67,IF(Data!BF67<>\"\",Data!BF67,\"\"))","v":""},{"$f":"IF(Data!$E67=30,Data!FH67,\"\")","v":""},{"$f":"IF(Data!$E67=30,Data!FI67,\"\")","v":""},{"$f":"IF(Data!$E67=30,Data!FJ67,IF(Data!BG67<>\"\",Data!BG67,\"\"))","v":""},{"$f":"IF(Data!$E67=30,Data!FK67,\"\")","v":""},{"$f":"IF(Data!$E67=30,Data!FL67,\"\")","v":""},{"$f":"IF(Data!$E67=30,Data!FM67,IF(Data!BH67<>\"\",Data!BH67,\"\"))","v":""},{"$f":"IF(Data!$E67=30,Data!FN67,\"\")","v":""},{"$f":"IF(Data!$E67=30,Data!FO67,\"\")","v":""},{"$f":"IF(Data!$E67=30,Data!FP67,IF(Data!BI67<>\"\",Data!BI67,\"\"))","v":""},{"$f":"IF(Data!$E67=30,Data!FQ67,\"\")","v":""},{"$f":"IF(Data!$E67=30,Data!FR67,\"\")","v":""},{"$f":"IF(Data!$E67=30,Data!FS67,IF(Data!BJ67<>\"\",Data!BJ67,\"\"))","v":""},{"$f":"IF(Data!$E67=30,Data!FT67,\"\")","v":""},{"$f":"IF(Data!$E67=30,Data!FU67,\"\")","v":""},{"$f":"IF(Data!$E67=30,Data!FV67,IF(Data!BK67<>\"\",Data!BK67,\"\"))","v":""},{"$f":"IF(Data!$E67=30,Data!FW67,\"\")","v":""},{"$f":"IF(Data!$E67=30,Data!FX67,\"\")","v":""},{"$f":"IF(Data!$E67=30,Data!FY67,IF(Data!BL67<>\"\",Data!BL67,\"\"))","v":""},{"$f":"IF(Data!$E67=30,Data!FZ67,\"\")","v":""},{"$f":"IF(Data!$E67=30,Data!GA67,\"\")","v":""},{"$f":"IF(Data!$E67=30,Data!GB67,IF(Data!BM67<>\"\",Data!BM67,\"\"))","v":""},{"$f":"IF(Data!$E67=30,Data!GC67,\"\")","v":""}]
[null,{"$f":"IF(Data!A68<>\"\",Data!A68,\"\")","v":""},{"$f":"IF(Data!$E68=30,Data!DV68,\"\")","v":""},{"$f":"IF(Data!$E68=30,Data!DW68,IF(Data!AT68<>\"\",Data!AT68,\"\"))","v":""},{"$f":"IF(Data!$E68=30,Data!DX68,\"\")","v":""},{"$f":"IF(Data!$E68=30,Data!DY68,\"\")","v":""},{"$f":"IF(Data!$E68=30,Data!DZ68,IF(Data!AU68<>\"\",Data!AU68,\"\"))","v":""},{"$f":"IF(Data!$E68=30,Data!EA68,\"\")","v":""},{"$f":"IF(Data!$E68=30,Data!EB68,\"\")","v":""},{"$f":"IF(Data!$E68=30,Data!EC68,IF(Data!AV68<>\"\",Data!AV68,\"\"))","v":""},{"$f":"IF(Data!$E68=30,Data!ED68,\"\")","v":""},{"$f":"IF(Data!$E68=30,Data!EE68,\"\")","v":""},{"$f":"IF(Data!$E68=30,Data!EF68,IF(Data!AW68<>\"\",Data!AW68,\"\"))","v":""},{"$f":"IF(Data!$E68=30,Data!EG68,\"\")","v":""},{"$f":"IF(Data!$E68=30,Data!EH68,\"\")","v":""},{"$f":"IF(Data!$E68=30,Data!EI68,IF(Data!AX68<>\"\",Data!AX68,\"\"))","v":""},{"$f":"IF(Data!$E68=30,Data!EJ68,\"\")","v":""},{"$f":"IF(Data!$E68=30,Data!EK68,\"\")","v":""},{"$f":"IF(Data!$E68=30,Data!EL68,IF(Data!AY68<>\"\",Data!AY68,\"\"))","v":""},{"$f":"IF(Data!$E68=30,Data!EM68,\"\")","v":""},{"$f":"IF(Data!$E68=30,Data!EN68,\"\")","v":""},{"$f":"IF(Data!$E68=30,Data!EO68,IF(Data!AZ68<>\"\",Data!AZ68,\"\"))","v":""},{"$f":"IF(Data!$E68=30,Data!EP68,\"\")","v":""},{"$f":"IF(Data!$E68=30,Data!EQ68,\"\")","v":""},{"$f":"IF(Data!$E68=30,Data!ER68,IF(Data!BA68<>\"\",Data!BA68,\"\"))","v":""},{"$f":"IF(Data!$E68=30,Data!ES68,\"\")","v":""},{"$f":"IF(Data!$E68=30,Data!ET68,\"\")","v":""},{"$f":"IF(Data!$E68=30,Data!EU68,IF(Data!BB68<>\"\",Data!BB68,\"\"))","v":""},{"$f":"IF(Data!$E68=30,Data!EV68,\"\")","v":""},{"$f":"IF(Data!$E68=30,Data!EW68,\"\")","v":""},{"$f":"IF(Data!$E68=30,Data!EX68,IF(Data!Z68<>\"\",Data!BC68,\"\"))","v":""},{"$f":"IF(Data!$E68=30,Data!EY68,\"\")","v":""},null,null,null,{"$f":"IF(Data!$E68=30,Data!EZ68,\"\")","v":""},{"$f":"IF(Data!$E68=30,Data!FA68,IF(Data!BD68<>\"\",Data!BD68,\"\"))","v":""},{"$f":"IF(Data!$E68=30,Data!FB68,\"\")","v":""},{"$f":"IF(Data!$E68=30,Data!FC68,\"\")","v":""},{"$f":"IF(Data!$E68=30,Data!FD68,IF(Data!BE68<>\"\",Data!BE68,\"\"))","v":""},{"$f":"IF(Data!$E68=30,Data!FE68,\"\")","v":""},{"$f":"IF(Data!$E68=30,Data!FF68,\"\")","v":""},{"$f":"IF(Data!$E68=30,Data!FG68,IF(Data!BF68<>\"\",Data!BF68,\"\"))","v":""},{"$f":"IF(Data!$E68=30,Data!FH68,\"\")","v":""},{"$f":"IF(Data!$E68=30,Data!FI68,\"\")","v":""},{"$f":"IF(Data!$E68=30,Data!FJ68,IF(Data!BG68<>\"\",Data!BG68,\"\"))","v":""},{"$f":"IF(Data!$E68=30,Data!FK68,\"\")","v":""},{"$f":"IF(Data!$E68=30,Data!FL68,\"\")","v":""},{"$f":"IF(Data!$E68=30,Data!FM68,IF(Data!BH68<>\"\",Data!BH68,\"\"))","v":""},{"$f":"IF(Data!$E68=30,Data!FN68,\"\")","v":""},{"$f":"IF(Data!$E68=30,Data!FO68,\"\")","v":""},{"$f":"IF(Data!$E68=30,Data!FP68,IF(Data!BI68<>\"\",Data!BI68,\"\"))","v":""},{"$f":"IF(Data!$E68=30,Data!FQ68,\"\")","v":""},{"$f":"IF(Data!$E68=30,Data!FR68,\"\")","v":""},{"$f":"IF(Data!$E68=30,Data!FS68,IF(Data!BJ68<>\"\",Data!BJ68,\"\"))","v":""},{"$f":"IF(Data!$E68=30,Data!FT68,\"\")","v":""},{"$f":"IF(Data!$E68=30,Data!FU68,\"\")","v":""},{"$f":"IF(Data!$E68=30,Data!FV68,IF(Data!BK68<>\"\",Data!BK68,\"\"))","v":""},{"$f":"IF(Data!$E68=30,Data!FW68,\"\")","v":""},{"$f":"IF(Data!$E68=30,Data!FX68,\"\")","v":""},{"$f":"IF(Data!$E68=30,Data!FY68,IF(Data!BL68<>\"\",Data!BL68,\"\"))","v":""},{"$f":"IF(Data!$E68=30,Data!FZ68,\"\")","v":""},{"$f":"IF(Data!$E68=30,Data!GA68,\"\")","v":""},{"$f":"IF(Data!$E68=30,Data!GB68,IF(Data!BM68<>\"\",Data!BM68,\"\"))","v":""},{"$f":"IF(Data!$E68=30,Data!GC68,\"\")","v":""}]
[null,{"$f":"IF(Data!A69<>\"\",Data!A69,\"\")","v":""},{"$f":"IF(Data!$E69=30,Data!DV69,\"\")","v":""},{"$f":"IF(Data!$E69=30,Data!DW69,IF(Data!AT69<>\"\",Data!AT69,\"\"))","v":""},{"$f":"IF(Data!$E69=30,Data!DX69,\"\")","v":""},{"$f":"IF(Data!$E69=30,Data!DY69,\"\")","v":""},{"$f":"IF(Data!$E69=30,Data!DZ69,IF(Data!AU69<>\"\",Data!AU69,\"\"))","v":""},{"$f":"IF(Data!$E69=30,Data!EA69,\"\")","v":""},{"$f":"IF(Data!$E69=30,Data!EB69,\"\")","v":""},{"$f":"IF(Data!$E69=30,Data!EC69,IF(Data!AV69<>\"\",Data!AV69,\"\"))","v":""},{"$f":"IF(Data!$E69=30,Data!ED69,\"\")","v":""},{"$f":"IF(Data!$E69=30,Data!EE69,\"\")","v":""},{"$f":"IF(Data!$E69=30,Data!EF69,IF(Data!AW69<>\"\",Data!AW69,\"\"))","v":""},{"$f":"IF(Data!$E69=30,Data!EG69,\"\")","v":""},{"$f":"IF(Data!$E69=30,Data!EH69,\"\")","v":""},{"$f":"IF(Data!$E69=30,Data!EI69,IF(Data!AX69<>\"\",Data!AX69,\"\"))","v":""},{"$f":"IF(Data!$E69=30,Data!EJ69,\"\")","v":""},{"$f":"IF(Data!$E69=30,Data!EK69,\"\")","v":""},{"$f":"IF(Data!$E69=30,Data!EL69,IF(Data!AY69<>\"\",Data!AY69,\"\"))","v":""},{"$f":"IF(Data!$E69=30,Data!EM69,\"\")","v":""},{"$f":"IF(Data!$E69=30,Data!EN69,\"\")","v":""},{"$f":"IF(Data!$E69=30,Data!EO69,IF(Data!AZ69<>\"\",Data!AZ69,\"\"))","v":""},{"$f":"IF(Data!$E69=30,Data!EP69,\"\")","v":""},{"$f":"IF(Data!$E69=30,Data!EQ69,\"\")","v":""},{"$f":"IF(Data!$E69=30,Data!ER69,IF(Data!BA69<>\"\",Data!BA69,\"\"))","v":""},{"$f":"IF(Data!$E69=30,Data!ES69,\"\")","v":""},{"$f":"IF(Data!$E69=30,Data!ET69,\"\")","v":""},{"$f":"IF(Data!$E69=30,Data!EU69,IF(Data!BB69<>\"\",Data!BB69,\"\"))","v":""},{"$f":"IF(Data!$E69=30,Data!EV69,\"\")","v":""},{"$f":"IF(Data!$E69=30,Data!EW69,\"\")","v":""},{"$f":"IF(Data!$E69=30,Data!EX69,IF(Data!Z69<>\"\",Data!BC69,\"\"))","v":""},{"$f":"IF(Data!$E69=30,Data!EY69,\"\")","v":""},null,null,null,{"$f":"IF(Data!$E69=30,Data!EZ69,\"\")","v":""},{"$f":"IF(Data!$E69=30,Data!FA69,IF(Data!BD69<>\"\",Data!BD69,\"\"))","v":""},{"$f":"IF(Data!$E69=30,Data!FB69,\"\")","v":""},{"$f":"IF(Data!$E69=30,Data!FC69,\"\")","v":""},{"$f":"IF(Data!$E69=30,Data!FD69,IF(Data!BE69<>\"\",Data!BE69,\"\"))","v":""},{"$f":"IF(Data!$E69=30,Data!FE69,\"\")","v":""},{"$f":"IF(Data!$E69=30,Data!FF69,\"\")","v":""},{"$f":"IF(Data!$E69=30,Data!FG69,IF(Data!BF69<>\"\",Data!BF69,\"\"))","v":""},{"$f":"IF(Data!$E69=30,Data!FH69,\"\")","v":""},{"$f":"IF(Data!$E69=30,Data!FI69,\"\")","v":""},{"$f":"IF(Data!$E69=30,Data!FJ69,IF(Data!BG69<>\"\",Data!BG69,\"\"))","v":""},{"$f":"IF(Data!$E69=30,Data!FK69,\"\")","v":""},{"$f":"IF(Data!$E69=30,Data!FL69,\"\")","v":""},{"$f":"IF(Data!$E69=30,Data!FM69,IF(Data!BH69<>\"\",Data!BH69,\"\"))","v":""},{"$f":"IF(Data!$E69=30,Data!FN69,\"\")","v":""},{"$f":"IF(Data!$E69=30,Data!FO69,\"\")","v":""},{"$f":"IF(Data!$E69=30,Data!FP69,IF(Data!BI69<>\"\",Data!BI69,\"\"))","v":""},{"$f":"IF(Data!$E69=30,Data!FQ69,\"\")","v":""},{"$f":"IF(Data!$E69=30,Data!FR69,\"\")","v":""},{"$f":"IF(Data!$E69=30,Data!FS69,IF(Data!BJ69<>\"\",Data!BJ69,\"\"))","v":""},{"$f":"IF(Data!$E69=30,Data!FT69,\"\")","v":""},{"$f":"IF(Data!$E69=30,Data!FU69,\"\")","v":""},{"$f":"IF(Data!$E69=30,Data!FV69,IF(Data!BK69<>\"\",Data!BK69,\"\"))","v":""},{"$f":"IF(Data!$E69=30,Data!FW69,\"\")","v":""},{"$f":"IF(Data!$E69=30,Data!FX69,\"\")","v":""},{"$f":"IF(Data!$E69=30,Data!FY69,IF(Data!BL69<>\"\",Data!BL69,\"\"))","v":""},{"$f":"IF(Data!$E69=30,Data!FZ69,\"\")","v":""},{"$f":"IF(Data!$E69=30,Data!GA69,\"\")","v":""},{"$f":"IF(Data!$E69=30,Data!GB69,IF(Data!BM69<>\"\",Data!BM69,\"\"))","v":""},{"$f":"IF(Data!$E69=30,Data!GC69,\"\")","v":""}]
[null,{"$f":"IF(Data!A70<>\"\",Data!A70,\"\")","v":""},{"$f":"IF(Data!$E70=30,Data!DV70,\"\")","v":""},{"$f":"IF(Data!$E70=30,Data!DW70,IF(Data!AT70<>\"\",Data!AT70,\"\"))","v":""},{"$f":"IF(Data!$E70=30,Data!DX70,\"\")","v":""},{"$f":"IF(Data!$E70=30,Data!DY70,\"\")","v":""},{"$f":"IF(Data!$E70=30,Data!DZ70,IF(Data!AU70<>\"\",Data!AU70,\"\"))","v":""},{"$f":"IF(Data!$E70=30,Data!EA70,\"\")","v":""},{"$f":"IF(Data!$E70=30,Data!EB70,\"\")","v":""},{"$f":"IF(Data!$E70=30,Data!EC70,IF(Data!AV70<>\"\",Data!AV70,\"\"))","v":""},{"$f":"IF(Data!$E70=30,Data!ED70,\"\")","v":""},{"$f":"IF(Data!$E70=30,Data!EE70,\"\")","v":""},{"$f":"IF(Data!$E70=30,Data!EF70,IF(Data!AW70<>\"\",Data!AW70,\"\"))","v":""},{"$f":"IF(Data!$E70=30,Data!EG70,\"\")","v":""},{"$f":"IF(Data!$E70=30,Data!EH70,\"\")","v":""},{"$f":"IF(Data!$E70=30,Data!EI70,IF(Data!AX70<>\"\",Data!AX70,\"\"))","v":""},{"$f":"IF(Data!$E70=30,Data!EJ70,\"\")","v":""},{"$f":"IF(Data!$E70=30,Data!EK70,\"\")","v":""},{"$f":"IF(Data!$E70=30,Data!EL70,IF(Data!AY70<>\"\",Data!AY70,\"\"))","v":""},{"$f":"IF(Data!$E70=30,Data!EM70,\"\")","v":""},{"$f":"IF(Data!$E70=30,Data!EN70,\"\")","v":""},{"$f":"IF(Data!$E70=30,Data!EO70,IF(Data!AZ70<>\"\",Data!AZ70,\"\"))","v":""},{"$f":"IF(Data!$E70=30,Data!EP70,\"\")","v":""},{"$f":"IF(Data!$E70=30,Data!EQ70,\"\")","v":""},{"$f":"IF(Data!$E70=30,Data!ER70,IF(Data!BA70<>\"\",Data!BA70,\"\"))","v":""},{"$f":"IF(Data!$E70=30,Data!ES70,\"\")","v":""},{"$f":"IF(Data!$E70=30,Data!ET70,\"\")","v":""},{"$f":"IF(Data!$E70=30,Data!EU70,IF(Data!BB70<>\"\",Data!BB70,\"\"))","v":""},{"$f":"IF(Data!$E70=30,Data!EV70,\"\")","v":""},{"$f":"IF(Data!$E70=30,Data!EW70,\"\")","v":""},{"$f":"IF(Data!$E70=30,Data!EX70,IF(Data!Z70<>\"\",Data!BC70,\"\"))","v":""},{"$f":"IF(Data!$E70=30,Data!EY70,\"\")","v":""},null,null,null,{"$f":"IF(Data!$E70=30,Data!EZ70,\"\")","v":""},{"$f":"IF(Data!$E70=30,Data!FA70,IF(Data!BD70<>\"\",Data!BD70,\"\"))","v":""},{"$f":"IF(Data!$E70=30,Data!FB70,\"\")","v":""},{"$f":"IF(Data!$E70=30,Data!FC70,\"\")","v":""},{"$f":"IF(Data!$E70=30,Data!FD70,IF(Data!BE70<>\"\",Data!BE70,\"\"))","v":""},{"$f":"IF(Data!$E70=30,Data!FE70,\"\")","v":""},{"$f":"IF(Data!$E70=30,Data!FF70,\"\")","v":""},{"$f":"IF(Data!$E70=30,Data!FG70,IF(Data!BF70<>\"\",Data!BF70,\"\"))","v":""},{"$f":"IF(Data!$E70=30,Data!FH70,\"\")","v":""},{"$f":"IF(Data!$E70=30,Data!FI70,\"\")","v":""},{"$f":"IF(Data!$E70=30,Data!FJ70,IF(Data!BG70<>\"\",Data!BG70,\"\"))","v":""},{"$f":"IF(Data!$E70=30,Data!FK70,\"\")","v":""},{"$f":"IF(Data!$E70=30,Data!FL70,\"\")","v":""},{"$f":"IF(Data!$E70=30,Data!FM70,IF(Data!BH70<>\"\",Data!BH70,\"\"))","v":""},{"$f":"IF(Data!$E70=30,Data!FN70,\"\")","v":""},{"$f":"IF(Data!$E70=30,Data!FO70,\"\")","v":""},{"$f":"IF(Data!$E70=30,Data!FP70,IF(Data!BI70<>\"\",Data!BI70,\"\"))","v":""},{"$f":"IF(Data!$E70=30,Data!FQ70,\"\")","v":""},{"$f":"IF(Data!$E70=30,Data!FR70,\"\")","v":""},{"$f":"IF(Data!$E70=30,Data!FS70,IF(Data!BJ70<>\"\",Data!BJ70,\"\"))","v":""},{"$f":"IF(Data!$E70=30,Data!FT70,\"\")","v":""},{"$f":"IF(Data!$E70=30,Data!FU70,\"\")","v":""},{"$f":"IF(Data!$E70=30,Data!FV70,IF(Data!BK70<>\"\",Data!BK70,\"\"))","v":""},{"$f":"IF(Data!$E70=30,Data!FW70,\"\")","v":""},{"$f":"IF(Data!$E70=30,Data!FX70,\"\")","v":""},{"$f":"IF(Data!$E70=30,Data!FY70,IF(Data!BL70<>\"\",Data!BL70,\"\"))","v":""},{"$f":"IF(Data!$E70=30,Data!FZ70,\"\")","v":""},{"$f":"IF(Data!$E70=30,Data!GA70,\"\")","v":""},{"$f":"IF(Data!$E70=30,Data!GB70,IF(Data!BM70<>\"\",Data!BM70,\"\"))","v":""},{"$f":"IF(Data!$E70=30,Data!GC70,\"\")","v":""}]
[null,{"$f":"IF(Data!A71<>\"\",Data!A71,\"\")","v":""},{"$f":"IF(Data!$E71=30,Data!DV71,\"\")","v":""},{"$f":"IF(Data!$E71=30,Data!DW71,IF(Data!AT71<>\"\",Data!AT71,\"\"))","v":""},{"$f":"IF(Data!$E71=30,Data!DX71,\"\")","v":""},{"$f":"IF(Data!$E71=30,Data!DY71,\"\")","v":""},{"$f":"IF(Data!$E71=30,Data!DZ71,IF(Data!AU71<>\"\",Data!AU71,\"\"))","v":""},{"$f":"IF(Data!$E71=30,Data!EA71,\"\")","v":""},{"$f":"IF(Data!$E71=30,Data!EB71,\"\")","v":""},{"$f":"IF(Data!$E71=30,Data!EC71,IF(Data!AV71<>\"\",Data!AV71,\"\"))","v":""},{"$f":"IF(Data!$E71=30,Data!ED71,\"\")","v":""},{"$f":"IF(Data!$E71=30,Data!EE71,\"\")","v":""},{"$f":"IF(Data!$E71=30,Data!EF71,IF(Data!AW71<>\"\",Data!AW71,\"\"))","v":""},{"$f":"IF(Data!$E71=30,Data!EG71,\"\")","v":""},{"$f":"IF(Data!$E71=30,Data!EH71,\"\")","v":""},{"$f":"IF(Data!$E71=30,Data!EI71,IF(Data!AX71<>\"\",Data!AX71,\"\"))","v":""},{"$f":"IF(Data!$E71=30,Data!EJ71,\"\")","v":""},{"$f":"IF(Data!$E71=30,Data!EK71,\"\")","v":""},{"$f":"IF(Data!$E71=30,Data!EL71,IF(Data!AY71<>\"\",Data!AY71,\"\"))","v":""},{"$f":"IF(Data!$E71=30,Data!EM71,\"\")","v":""},{"$f":"IF(Data!$E71=30,Data!EN71,\"\")","v":""},{"$f":"IF(Data!$E71=30,Data!EO71,IF(Data!AZ71<>\"\",Data!AZ71,\"\"))","v":""},{"$f":"IF(Data!$E71=30,Data!EP71,\"\")","v":""},{"$f":"IF(Data!$E71=30,Data!EQ71,\"\")","v":""},{"$f":"IF(Data!$E71=30,Data!ER71,IF(Data!BA71<>\"\",Data!BA71,\"\"))","v":""},{"$f":"IF(Data!$E71=30,Data!ES71,\"\")","v":""},{"$f":"IF(Data!$E71=30,Data!ET71,\"\")","v":""},{"$f":"IF(Data!$E71=30,Data!EU71,IF(Data!BB71<>\"\",Data!BB71,\"\"))","v":""},{"$f":"IF(Data!$E71=30,Data!EV71,\"\")","v":""},{"$f":"IF(Data!$E71=30,Data!EW71,\"\")","v":""},{"$f":"IF(Data!$E71=30,Data!EX71,IF(Data!Z71<>\"\",Data!BC71,\"\"))","v":""},{"$f":"IF(Data!$E71=30,Data!EY71,\"\")","v":""},null,null,null,{"$f":"IF(Data!$E71=30,Data!EZ71,\"\")","v":""},{"$f":"IF(Data!$E71=30,Data!FA71,IF(Data!BD71<>\"\",Data!BD71,\"\"))","v":""},{"$f":"IF(Data!$E71=30,Data!FB71,\"\")","v":""},{"$f":"IF(Data!$E71=30,Data!FC71,\"\")","v":""},{"$f":"IF(Data!$E71=30,Data!FD71,IF(Data!BE71<>\"\",Data!BE71,\"\"))","v":""},{"$f":"IF(Data!$E71=30,Data!FE71,\"\")","v":""},{"$f":"IF(Data!$E71=30,Data!FF71,\"\")","v":""},{"$f":"IF(Data!$E71=30,Data!FG71,IF(Data!BF71<>\"\",Data!BF71,\"\"))","v":""},{"$f":"IF(Data!$E71=30,Data!FH71,\"\")","v":""},{"$f":"IF(Data!$E71=30,Data!FI71,\"\")","v":""},{"$f":"IF(Data!$E71=30,Data!FJ71,IF(Data!BG71<>\"\",Data!BG71,\"\"))","v":""},{"$f":"IF(Data!$E71=30,Data!FK71,\"\")","v":""},{"$f":"IF(Data!$E71=30,Data!FL71,\"\")","v":""},{"$f":"IF(Data!$E71=30,Data!FM71,IF(Data!BH71<>\"\",Data!BH71,\"\"))","v":""},{"$f":"IF(Data!$E71=30,Data!FN71,\"\")","v":""},{"$f":"IF(Data!$E71=30,Data!FO71,\"\")","v":""},{"$f":"IF(Data!$E71=30,Data!FP71,IF(Data!BI71<>\"\",Data!BI71,\"\"))","v":""},{"$f":"IF(Data!$E71=30,Data!FQ71,\"\")","v":""},{"$f":"IF(Data!$E71=30,Data!FR71,\"\")","v":""},{"$f":"IF(Data!$E71=30,Data!FS71,IF(Data!BJ71<>\"\",Data!BJ71,\"\"))","v":""},{"$f":"IF(Data!$E71=30,Data!FT71,\"\")","v":""},{"$f":"IF(Data!$E71=30,Data!FU71,\"\")","v":""},{"$f":"IF(Data!$E71=30,Data!FV71,IF(Data!BK71<>\"\",Data!BK71,\"\"))","v":""},{"$f":"IF(Data!$E71=30,Data!FW71,\"\")","v":""},{"$f":"IF(Data!$E71=30,Data!FX71,\"\")","v":""},{"$f":"IF(Data!$E71=30,Data!FY71,IF(Data!BL71<>\"\",Data!BL71,\"\"))","v":""},{"$f":"IF(Data!$E71=30,Data!FZ71,\"\")","v":""},{"$f":"IF(Data!$E71=30,Data!GA71,\"\")","v":""},{"$f":"IF(Data!$E71=30,Data!GB71,IF(Data!BM71<>\"\",Data!BM71,\"\"))","v":""},{"$f":"IF(Data!$E71=30,Data!GC71,\"\")","v":""}]
[null,{"$f":"IF(Data!A72<>\"\",Data!A72,\"\")","v":""},{"$f":"IF(Data!$E72=30,Data!DV72,\"\")","v":""},{"$f":"IF(Data!$E72=30,Data!DW72,IF(Data!AT72<>\"\",Data!AT72,\"\"))","v":""},{"$f":"IF(Data!$E72=30,Data!DX72,\"\")","v":""},{"$f":"IF(Data!$E72=30,Data!DY72,\"\")","v":""},{"$f":"IF(Data!$E72=30,Data!DZ72,IF(Data!AU72<>\"\",Data!AU72,\"\"))","v":""},{"$f":"IF(Data!$E72=30,Data!EA72,\"\")","v":""},{"$f":"IF(Data!$E72=30,Data!EB72,\"\")","v":""},{"$f":"IF(Data!$E72=30,Data!EC72,IF(Data!AV72<>\"\",Data!AV72,\"\"))","v":""},{"$f":"IF(Data!$E72=30,Data!ED72,\"\")","v":""},{"$f":"IF(Data!$E72=30,Data!EE72,\"\")","v":""},{"$f":"IF(Data!$E72=30,Data!EF72,IF(Data!AW72<>\"\",Data!AW72,\"\"))","v":""},{"$f":"IF(Data!$E72=30,Data!EG72,\"\")","v":""},{"$f":"IF(Data!$E72=30,Data!EH72,\"\")","v":""},{"$f":"IF(Data!$E72=30,Data!EI72,IF(Data!AX72<>\"\",Data!AX72,\"\"))","v":""},{"$f":"IF(Data!$E72=30,Data!EJ72,\"\")","v":""},{"$f":"IF(Data!$E72=30,Data!EK72,\"\")","v":""},{"$f":"IF(Data!$E72=30,Data!EL72,IF(Data!AY72<>\"\",Data!AY72,\"\"))","v":""},{"$f":"IF(Data!$E72=30,Data!EM72,\"\")","v":""},{"$f":"IF(Data!$E72=30,Data!EN72,\"\")","v":""},{"$f":"IF(Data!$E72=30,Data!EO72,IF(Data!AZ72<>\"\",Data!AZ72,\"\"))","v":""},{"$f":"IF(Data!$E72=30,Data!EP72,\"\")","v":""},{"$f":"IF(Data!$E72=30,Data!EQ72,\"\")","v":""},{"$f":"IF(Data!$E72=30,Data!ER72,IF(Data!BA72<>\"\",Data!BA72,\"\"))","v":""},{"$f":"IF(Data!$E72=30,Data!ES72,\"\")","v":""},{"$f":"IF(Data!$E72=30,Data!ET72,\"\")","v":""},{"$f":"IF(Data!$E72=30,Data!EU72,IF(Data!BB72<>\"\",Data!BB72,\"\"))","v":""},{"$f":"IF(Data!$E72=30,Data!EV72,\"\")","v":""},{"$f":"IF(Data!$E72=30,Data!EW72,\"\")","v":""},{"$f":"IF(Data!$E72=30,Data!EX72,IF(Data!Z72<>\"\",Data!BC72,\"\"))","v":""},{"$f":"IF(Data!$E72=30,Data!EY72,\"\")","v":""},null,null,null,{"$f":"IF(Data!$E72=30,Data!EZ72,\"\")","v":""},{"$f":"IF(Data!$E72=30,Data!FA72,IF(Data!BD72<>\"\",Data!BD72,\"\"))","v":""},{"$f":"IF(Data!$E72=30,Data!FB72,\"\")","v":""},{"$f":"IF(Data!$E72=30,Data!FC72,\"\")","v":""},{"$f":"IF(Data!$E72=30,Data!FD72,IF(Data!BE72<>\"\",Data!BE72,\"\"))","v":""},{"$f":"IF(Data!$E72=30,Data!FE72,\"\")","v":""},{"$f":"IF(Data!$E72=30,Data!FF72,\"\")","v":""},{"$f":"IF(Data!$E72=30,Data!FG72,IF(Data!BF72<>\"\",Data!BF72,\"\"))","v":""},{"$f":"IF(Data!$E72=30,Data!FH72,\"\")","v":""},{"$f":"IF(Data!$E72=30,Data!FI72,\"\")","v":""},{"$f":"IF(Data!$E72=30,Data!FJ72,IF(Data!BG72<>\"\",Data!BG72,\"\"))","v":""},{"$f":"IF(Data!$E72=30,Data!FK72,\"\")","v":""},{"$f":"IF(Data!$E72=30,Data!FL72,\"\")","v":""},{"$f":"IF(Data!$E72=30,Data!FM72,IF(Data!BH72<>\"\",Data!BH72,\"\"))","v":""},{"$f":"IF(Data!$E72=30,Data!FN72,\"\")","v":""},{"$f":"IF(Data!$E72=30,Data!FO72,\"\")","v":""},{"$f":"IF(Data!$E72=30,Data!FP72,IF(Data!BI72<>\"\",Data!BI72,\"\"))","v":""},{"$f":"IF(Data!$E72=30,Data!FQ72,\"\")","v":""},{"$f":"IF(Data!$E72=30,Data!FR72,\"\")","v":""},{"$f":"IF(Data!$E72=30,Data!FS72,IF(Data!BJ72<>\"\",Data!BJ72,\"\"))","v":""},{"$f":"IF(Data!$E72=30,Data!FT72,\"\")","v":""},{"$f":"IF(Data!$E72=30,Data!FU72,\"\")","v":""},{"$f":"IF(Data!$E72=30,Data!FV72,IF(Data!BK72<>\"\",Data!BK72,\"\"))","v":""},{"$f":"IF(Data!$E72=30,Data!FW72,\"\")","v":""},{"$f":"IF(Data!$E72=30,Data!FX72,\"\")","v":""},{"$f":"IF(Data!$E72=30,Data!FY72,IF(Data!BL72<>\"\",Data!BL72,\"\"))","v":""},{"$f":"IF(Data!$E72=30,Data!FZ72,\"\")","v":""},{"$f":"IF(Data!$E72=30,Data!GA72,\"\")","v":""},{"$f":"IF(Data!$E72=30,Data!GB72,IF(Data!BM72<>\"\",Data!BM72,\"\"))","v":""},{"$f":"IF(Data!$E72=30,Data!GC72,\"\")","v":""}]
[null,{"$f":"IF(Data!A73<>\"\",Data!A73,\"\")","v":""},{"$f":"IF(Data!$E73=30,Data!DV73,\"\")","v":""},{"$f":"IF(Data!$E73=30,Data!DW73,IF(Data!AT73<>\"\",Data!AT73,\"\"))","v":""},{"$f":"IF(Data!$E73=30,Data!DX73,\"\")","v":""},{"$f":"IF(Data!$E73=30,Data!DY73,\"\")","v":""},{"$f":"IF(Data!$E73=30,Data!DZ73,IF(Data!AU73<>\"\",Data!AU73,\"\"))","v":""},{"$f":"IF(Data!$E73=30,Data!EA73,\"\")","v":""},{"$f":"IF(Data!$E73=30,Data!EB73,\"\")","v":""},{"$f":"IF(Data!$E73=30,Data!EC73,IF(Data!AV73<>\"\",Data!AV73,\"\"))","v":""},{"$f":"IF(Data!$E73=30,Data!ED73,\"\")","v":""},{"$f":"IF(Data!$E73=30,Data!EE73,\"\")","v":""},{"$f":"IF(Data!$E73=30,Data!EF73,IF(Data!AW73<>\"\",Data!AW73,\"\"))","v":""},{"$f":"IF(Data!$E73=30,Data!EG73,\"\")","v":""},{"$f":"IF(Data!$E73=30,Data!EH73,\"\")","v":""},{"$f":"IF(Data!$E73=30,Data!EI73,IF(Data!AX73<>\"\",Data!AX73,\"\"))","v":""},{"$f":"IF(Data!$E73=30,Data!EJ73,\"\")","v":""},{"$f":"IF(Data!$E73=30,Data!EK73,\"\")","v":""},{"$f":"IF(Data!$E73=30,Data!EL73,IF(Data!AY73<>\"\",Data!AY73,\"\"))","v":""},{"$f":"IF(Data!$E73=30,Data!EM73,\"\")","v":""},{"$f":"IF(Data!$E73=30,Data!EN73,\"\")","v":""},{"$f":"IF(Data!$E73=30,Data!EO73,IF(Data!AZ73<>\"\",Data!AZ73,\"\"))","v":""},{"$f":"IF(Data!$E73=30,Data!EP73,\"\")","v":""},{"$f":"IF(Data!$E73=30,Data!EQ73,\"\")","v":""},{"$f":"IF(Data!$E73=30,Data!ER73,IF(Data!BA73<>\"\",Data!BA73,\"\"))","v":""},{"$f":"IF(Data!$E73=30,Data!ES73,\"\")","v":""},{"$f":"IF(Data!$E73=30,Data!ET73,\"\")","v":""},{"$f":"IF(Data!$E73=30,Data!EU73,IF(Data!BB73<>\"\",Data!BB73,\"\"))","v":""},{"$f":"IF(Data!$E73=30,Data!EV73,\"\")","v":""},{"$f":"IF(Data!$E73=30,Data!EW73,\"\")","v":""},{"$f":"IF(Data!$E73=30,Data!EX73,IF(Data!Z73<>\"\",Data!BC73,\"\"))","v":""},{"$f":"IF(Data!$E73=30,Data!EY73,\"\")","v":""},null,null,null,{"$f":"IF(Data!$E73=30,Data!EZ73,\"\")","v":""},{"$f":"IF(Data!$E73=30,Data!FA73,IF(Data!BD73<>\"\",Data!BD73,\"\"))","v":""},{"$f":"IF(Data!$E73=30,Data!FB73,\"\")","v":""},{"$f":"IF(Data!$E73=30,Data!FC73,\"\")","v":""},{"$f":"IF(Data!$E73=30,Data!FD73,IF(Data!BE73<>\"\",Data!BE73,\"\"))","v":""},{"$f":"IF(Data!$E73=30,Data!FE73,\"\")","v":""},{"$f":"IF(Data!$E73=30,Data!FF73,\"\")","v":""},{"$f":"IF(Data!$E73=30,Data!FG73,IF(Data!BF73<>\"\",Data!BF73,\"\"))","v":""},{"$f":"IF(Data!$E73=30,Data!FH73,\"\")","v":""},{"$f":"IF(Data!$E73=30,Data!FI73,\"\")","v":""},{"$f":"IF(Data!$E73=30,Data!FJ73,IF(Data!BG73<>\"\",Data!BG73,\"\"))","v":""},{"$f":"IF(Data!$E73=30,Data!FK73,\"\")","v":""},{"$f":"IF(Data!$E73=30,Data!FL73,\"\")","v":""},{"$f":"IF(Data!$E73=30,Data!FM73,IF(Data!BH73<>\"\",Data!BH73,\"\"))","v":""},{"$f":"IF(Data!$E73=30,Data!FN73,\"\")","v":""},{"$f":"IF(Data!$E73=30,Data!FO73,\"\")","v":""},{"$f":"IF(Data!$E73=30,Data!FP73,IF(Data!BI73<>\"\",Data!BI73,\"\"))","v":""},{"$f":"IF(Data!$E73=30,Data!FQ73,\"\")","v":""},{"$f":"IF(Data!$E73=30,Data!FR73,\"\")","v":""},{"$f":"IF(Data!$E73=30,Data!FS73,IF(Data!BJ73<>\"\",Data!BJ73,\"\"))","v":""},{"$f":"IF(Data!$E73=30,Data!FT73,\"\")","v":""},{"$f":"IF(Data!$E73=30,Data!FU73,\"\")","v":""},{"$f":"IF(Data!$E73=30,Data!FV73,IF(Data!BK73<>\"\",Data!BK73,\"\"))","v":""},{"$f":"IF(Data!$E73=30,Data!FW73,\"\")","v":""},{"$f":"IF(Data!$E73=30,Data!FX73,\"\")","v":""},{"$f":"IF(Data!$E73=30,Data!FY73,IF(Data!BL73<>\"\",Data!BL73,\"\"))","v":""},{"$f":"IF(Data!$E73=30,Data!FZ73,\"\")","v":""},{"$f":"IF(Data!$E73=30,Data!GA73,\"\")","v":""},{"$f":"IF(Data!$E73=30,Data!GB73,IF(Data!BM73<>\"\",Data!BM73,\"\"))","v":""},{"$f":"IF(Data!$E73=30,Data!GC73,\"\")","v":""}]
[null,{"$f":"IF(Data!A74<>\"\",Data!A74,\"\")","v":""},{"$f":"IF(Data!$E74=30,Data!DV74,\"\")","v":""},{"$f":"IF(Data!$E74=30,Data!DW74,IF(Data!AT74<>\"\",Data!AT74,\"\"))","v":""},{"$f":"IF(Data!$E74=30,Data!DX74,\"\")","v":""},{"$f":"IF(Data!$E74=30,Data!DY74,\"\")","v":""},{"$f":"IF(Data!$E74=30,Data!DZ74,IF(Data!AU74<>\"\",Data!AU74,\"\"))","v":""},{"$f":"IF(Data!$E74=30,Data!EA74,\"\")","v":""},{"$f":"IF(Data!$E74=30,Data!EB74,\"\")","v":""},{"$f":"IF(Data!$E74=30,Data!EC74,IF(Data!AV74<>\"\",Data!AV74,\"\"))","v":""},{"$f":"IF(Data!$E74=30,Data!ED74,\"\")","v":""},{"$f":"IF(Data!$E74=30,Data!EE74,\"\")","v":""},{"$f":"IF(Data!$E74=30,Data!EF74,IF(Data!AW74<>\"\",Data!AW74,\"\"))","v":""},{"$f":"IF(Data!$E74=30,Data!EG74,\"\")","v":""},{"$f":"IF(Data!$E74=30,Data!EH74,\"\")","v":""},{"$f":"IF(Data!$E74=30,Data!EI74,IF(Data!AX74<>\"\",Data!AX74,\"\"))","v":""},{"$f":"IF(Data!$E74=30,Data!EJ74,\"\")","v":""},{"$f":"IF(Data!$E74=30,Data!EK74,\"\")","v":""},{"$f":"IF(Data!$E74=30,Data!EL74,IF(Data!AY74<>\"\",Data!AY74,\"\"))","v":""},{"$f":"IF(Data!$E74=30,Data!EM74,\"\")","v":""},{"$f":"IF(Data!$E74=30,Data!EN74,\"\")","v":""},{"$f":"IF(Data!$E74=30,Data!EO74,IF(Data!AZ74<>\"\",Data!AZ74,\"\"))","v":""},{"$f":"IF(Data!$E74=30,Data!EP74,\"\")","v":""},{"$f":"IF(Data!$E74=30,Data!EQ74,\"\")","v":""},{"$f":"IF(Data!$E74=30,Data!ER74,IF(Data!BA74<>\"\",Data!BA74,\"\"))","v":""},{"$f":"IF(Data!$E74=30,Data!ES74,\"\")","v":""},{"$f":"IF(Data!$E74=30,Data!ET74,\"\")","v":""},{"$f":"IF(Data!$E74=30,Data!EU74,IF(Data!BB74<>\"\",Data!BB74,\"\"))","v":""},{"$f":"IF(Data!$E74=30,Data!EV74,\"\")","v":""},{"$f":"IF(Data!$E74=30,Data!EW74,\"\")","v":""},{"$f":"IF(Data!$E74=30,Data!EX74,IF(Data!Z74<>\"\",Data!BC74,\"\"))","v":""},{"$f":"IF(Data!$E74=30,Data!EY74,\"\")","v":""},null,null,null,{"$f":"IF(Data!$E74=30,Data!EZ74,\"\")","v":""},{"$f":"IF(Data!$E74=30,Data!FA74,IF(Data!BD74<>\"\",Data!BD74,\"\"))","v":""},{"$f":"IF(Data!$E74=30,Data!FB74,\"\")","v":""},{"$f":"IF(Data!$E74=30,Data!FC74,\"\")","v":""},{"$f":"IF(Data!$E74=30,Data!FD74,IF(Data!BE74<>\"\",Data!BE74,\"\"))","v":""},{"$f":"IF(Data!$E74=30,Data!FE74,\"\")","v":""},{"$f":"IF(Data!$E74=30,Data!FF74,\"\")","v":""},{"$f":"IF(Data!$E74=30,Data!FG74,IF(Data!BF74<>\"\",Data!BF74,\"\"))","v":""},{"$f":"IF(Data!$E74=30,Data!FH74,\"\")","v":""},{"$f":"IF(Data!$E74=30,Data!FI74,\"\")","v":""},{"$f":"IF(Data!$E74=30,Data!FJ74,IF(Data!BG74<>\"\",Data!BG74,\"\"))","v":""},{"$f":"IF(Data!$E74=30,Data!FK74,\"\")","v":""},{"$f":"IF(Data!$E74=30,Data!FL74,\"\")","v":""},{"$f":"IF(Data!$E74=30,Data!FM74,IF(Data!BH74<>\"\",Data!BH74,\"\"))","v":""},{"$f":"IF(Data!$E74=30,Data!FN74,\"\")","v":""},{"$f":"IF(Data!$E74=30,Data!FO74,\"\")","v":""},{"$f":"IF(Data!$E74=30,Data!FP74,IF(Data!BI74<>\"\",Data!BI74,\"\"))","v":""},{"$f":"IF(Data!$E74=30,Data!FQ74,\"\")","v":""},{"$f":"IF(Data!$E74=30,Data!FR74,\"\")","v":""},{"$f":"IF(Data!$E74=30,Data!FS74,IF(Data!BJ74<>\"\",Data!BJ74,\"\"))","v":""},{"$f":"IF(Data!$E74=30,Data!FT74,\"\")","v":""},{"$f":"IF(Data!$E74=30,Data!FU74,\"\")","v":""},{"$f":"IF(Data!$E74=30,Data!FV74,IF(Data!BK74<>\"\",Data!BK74,\"\"))","v":""},{"$f":"IF(Data!$E74=30,Data!FW74,\"\")","v":""},{"$f":"IF(Data!$E74=30,Data!FX74,\"\")","v":""},{"$f":"IF(Data!$E74=30,Data!FY74,IF(Data!BL74<>\"\",Data!BL74,\"\"))","v":""},{"$f":"IF(Data!$E74=30,Data!FZ74,\"\")","v":""},{"$f":"IF(Data!$E74=30,Data!GA74,\"\")","v":""},{"$f":"IF(Data!$E74=30,Data!GB74,IF(Data!BM74<>\"\",Data!BM74,\"\"))","v":""},{"$f":"IF(Data!$E74=30,Data!GC74,\"\")","v":""}]
[null,{"$f":"IF(Data!A75<>\"\",Data!A75,\"\")","v":""},{"$f":"IF(Data!$E75=30,Data!DV75,\"\")","v":""},{"$f":"IF(Data!$E75=30,Data!DW75,IF(Data!AT75<>\"\",Data!AT75,\"\"))","v":""},{"$f":"IF(Data!$E75=30,Data!DX75,\"\")","v":""},{"$f":"IF(Data!$E75=30,Data!DY75,\"\")","v":""},{"$f":"IF(Data!$E75=30,Data!DZ75,IF(Data!AU75<>\"\",Data!AU75,\"\"))","v":""},{"$f":"IF(Data!$E75=30,Data!EA75,\"\")","v":""},{"$f":"IF(Data!$E75=30,Data!EB75,\"\")","v":""},{"$f":"IF(Data!$E75=30,Data!EC75,IF(Data!AV75<>\"\",Data!AV75,\"\"))","v":""},{"$f":"IF(Data!$E75=30,Data!ED75,\"\")","v":""},{"$f":"IF(Data!$E75=30,Data!EE75,\"\")","v":""},{"$f":"IF(Data!$E75=30,Data!EF75,IF(Data!AW75<>\"\",Data!AW75,\"\"))","v":""},{"$f":"IF(Data!$E75=30,Data!EG75,\"\")","v":""},{"$f":"IF(Data!$E75=30,Data!EH75,\"\")","v":""},{"$f":"IF(Data!$E75=30,Data!EI75,IF(Data!AX75<>\"\",Data!AX75,\"\"))","v":""},{"$f":"IF(Data!$E75=30,Data!EJ75,\"\")","v":""},{"$f":"IF(Data!$E75=30,Data!EK75,\"\")","v":""},{"$f":"IF(Data!$E75=30,Data!EL75,IF(Data!AY75<>\"\",Data!AY75,\"\"))","v":""},{"$f":"IF(Data!$E75=30,Data!EM75,\"\")","v":""},{"$f":"IF(Data!$E75=30,Data!EN75,\"\")","v":""},{"$f":"IF(Data!$E75=30,Data!EO75,IF(Data!AZ75<>\"\",Data!AZ75,\"\"))","v":""},{"$f":"IF(Data!$E75=30,Data!EP75,\"\")","v":""},{"$f":"IF(Data!$E75=30,Data!EQ75,\"\")","v":""},{"$f":"IF(Data!$E75=30,Data!ER75,IF(Data!BA75<>\"\",Data!BA75,\"\"))","v":""},{"$f":"IF(Data!$E75=30,Data!ES75,\"\")","v":""},{"$f":"IF(Data!$E75=30,Data!ET75,\"\")","v":""},{"$f":"IF(Data!$E75=30,Data!EU75,IF(Data!BB75<>\"\",Data!BB75,\"\"))","v":""},{"$f":"IF(Data!$E75=30,Data!EV75,\"\")","v":""},{"$f":"IF(Data!$E75=30,Data!EW75,\"\")","v":""},{"$f":"IF(Data!$E75=30,Data!EX75,IF(Data!Z75<>\"\",Data!BC75,\"\"))","v":""},{"$f":"IF(Data!$E75=30,Data!EY75,\"\")","v":""},null,null,null,{"$f":"IF(Data!$E75=30,Data!EZ75,\"\")","v":""},{"$f":"IF(Data!$E75=30,Data!FA75,IF(Data!BD75<>\"\",Data!BD75,\"\"))","v":""},{"$f":"IF(Data!$E75=30,Data!FB75,\"\")","v":""},{"$f":"IF(Data!$E75=30,Data!FC75,\"\")","v":""},{"$f":"IF(Data!$E75=30,Data!FD75,IF(Data!BE75<>\"\",Data!BE75,\"\"))","v":""},{"$f":"IF(Data!$E75=30,Data!FE75,\"\")","v":""},{"$f":"IF(Data!$E75=30,Data!FF75,\"\")","v":""},{"$f":"IF(Data!$E75=30,Data!FG75,IF(Data!BF75<>\"\",Data!BF75,\"\"))","v":""},{"$f":"IF(Data!$E75=30,Data!FH75,\"\")","v":""},{"$f":"IF(Data!$E75=30,Data!FI75,\"\")","v":""},{"$f":"IF(Data!$E75=30,Data!FJ75,IF(Data!BG75<>\"\",Data!BG75,\"\"))","v":""},{"$f":"IF(Data!$E75=30,Data!FK75,\"\")","v":""},{"$f":"IF(Data!$E75=30,Data!FL75,\"\")","v":""},{"$f":"IF(Data!$E75=30,Data!FM75,IF(Data!BH75<>\"\",Data!BH75,\"\"))","v":""},{"$f":"IF(Data!$E75=30,Data!FN75,\"\")","v":""},{"$f":"IF(Data!$E75=30,Data!FO75,\"\")","v":""},{"$f":"IF(Data!$E75=30,Data!FP75,IF(Data!BI75<>\"\",Data!BI75,\"\"))","v":""},{"$f":"IF(Data!$E75=30,Data!FQ75,\"\")","v":""},{"$f":"IF(Data!$E75=30,Data!FR75,\"\")","v":""},{"$f":"IF(Data!$E75=30,Data!FS75,IF(Data!BJ75<>\"\",Data!BJ75,\"\"))","v":""},{"$f":"IF(Data!$E75=30,Data!FT75,\"\")","v":""},{"$f":"IF(Data!$E75=30,Data!FU75,\"\")","v":""},{"$f":"IF(Data!$E75=30,Data!FV75,IF(Data!BK75<>\"\",Data!BK75,\"\"))","v":""},{"$f":"IF(Data!$E75=30,Data!FW75,\"\")","v":""},{"$f":"IF(Data!$E75=30,Data!FX75,\"\")","v":""},{"$f":"IF(Data!$E75=30,Data!FY75,IF(Data!BL75<>\"\",Data!BL75,\"\"))","v":""},{"$f":"IF(Data!$E75=30,Data!FZ75,\"\")","v":""},{"$f":"IF(Data!$E75=30,Data!GA75,\"\")","v":""},{"$f":"IF(Data!$E75=30,Data!GB75,IF(Data!BM75<>\"\",Data!BM75,\"\"))","v":""},{"$f":"IF(Data!$E75=30,Data!GC75,\"\")","v":""}]
[null,{"$f":"IF(Data!A76<>\"\",Data!A76,\"\")","v":""},{"$f":"IF(Data!$E76=30,Data!DV76,\"\")","v":""},{"$f":"IF(Data!$E76=30,Data!DW76,IF(Data!AT76<>\"\",Data!AT76,\"\"))","v":""},{"$f":"IF(Data!$E76=30,Data!DX76,\"\")","v":""},{"$f":"IF(Data!$E76=30,Data!DY76,\"\")","v":""},{"$f":"IF(Data!$E76=30,Data!DZ76,IF(Data!AU76<>\"\",Data!AU76,\"\"))","v":""},{"$f":"IF(Data!$E76=30,Data!EA76,\"\")","v":""},{"$f":"IF(Data!$E76=30,Data!EB76,\"\")","v":""},{"$f":"IF(Data!$E76=30,Data!EC76,IF(Data!AV76<>\"\",Data!AV76,\"\"))","v":""},{"$f":"IF(Data!$E76=30,Data!ED76,\"\")","v":""},{"$f":"IF(Data!$E76=30,Data!EE76,\"\")","v":""},{"$f":"IF(Data!$E76=30,Data!EF76,IF(Data!AW76<>\"\",Data!AW76,\"\"))","v":""},{"$f":"IF(Data!$E76=30,Data!EG76,\"\")","v":""},{"$f":"IF(Data!$E76=30,Data!EH76,\"\")","v":""},{"$f":"IF(Data!$E76=30,Data!EI76,IF(Data!AX76<>\"\",Data!AX76,\"\"))","v":""},{"$f":"IF(Data!$E76=30,Data!EJ76,\"\")","v":""},{"$f":"IF(Data!$E76=30,Data!EK76,\"\")","v":""},{"$f":"IF(Data!$E76=30,Data!EL76,IF(Data!AY76<>\"\",Data!AY76,\"\"))","v":""},{"$f":"IF(Data!$E76=30,Data!EM76,\"\")","v":""},{"$f":"IF(Data!$E76=30,Data!EN76,\"\")","v":""},{"$f":"IF(Data!$E76=30,Data!EO76,IF(Data!AZ76<>\"\",Data!AZ76,\"\"))","v":""},{"$f":"IF(Data!$E76=30,Data!EP76,\"\")","v":""},{"$f":"IF(Data!$E76=30,Data!EQ76,\"\")","v":""},{"$f":"IF(Data!$E76=30,Data!ER76,IF(Data!BA76<>\"\",Data!BA76,\"\"))","v":""},{"$f":"IF(Data!$E76=30,Data!ES76,\"\")","v":""},{"$f":"IF(Data!$E76=30,Data!ET76,\"\")","v":""},{"$f":"IF(Data!$E76=30,Data!EU76,IF(Data!BB76<>\"\",Data!BB76,\"\"))","v":""},{"$f":"IF(Data!$E76=30,Data!EV76,\"\")","v":""},{"$f":"IF(Data!$E76=30,Data!EW76,\"\")","v":""},{"$f":"IF(Data!$E76=30,Data!EX76,IF(Data!Z76<>\"\",Data!BC76,\"\"))","v":""},{"$f":"IF(Data!$E76=30,Data!EY76,\"\")","v":""},null,null,null,{"$f":"IF(Data!$E76=30,Data!EZ76,\"\")","v":""},{"$f":"IF(Data!$E76=30,Data!FA76,IF(Data!BD76<>\"\",Data!BD76,\"\"))","v":""},{"$f":"IF(Data!$E76=30,Data!FB76,\"\")","v":""},{"$f":"IF(Data!$E76=30,Data!FC76,\"\")","v":""},{"$f":"IF(Data!$E76=30,Data!FD76,IF(Data!BE76<>\"\",Data!BE76,\"\"))","v":""},{"$f":"IF(Data!$E76=30,Data!FE76,\"\")","v":""},{"$f":"IF(Data!$E76=30,Data!FF76,\"\")","v":""},{"$f":"IF(Data!$E76=30,Data!FG76,IF(Data!BF76<>\"\",Data!BF76,\"\"))","v":""},{"$f":"IF(Data!$E76=30,Data!FH76,\"\")","v":""},{"$f":"IF(Data!$E76=30,Data!FI76,\"\")","v":""},{"$f":"IF(Data!$E76=30,Data!FJ76,IF(Data!BG76<>\"\",Data!BG76,\"\"))","v":""},{"$f":"IF(Data!$E76=30,Data!FK76,\"\")","v":""},{"$f":"IF(Data!$E76=30,Data!FL76,\"\")","v":""},{"$f":"IF(Data!$E76=30,Data!FM76,IF(Data!BH76<>\"\",Data!BH76,\"\"))","v":""},{"$f":"IF(Data!$E76=30,Data!FN76,\"\")","v":""},{"$f":"IF(Data!$E76=30,Data!FO76,\"\")","v":""},{"$f":"IF(Data!$E76=30,Data!FP76,IF(Data!BI76<>\"\",Data!BI76,\"\"))","v":""},{"$f":"IF(Data!$E76=30,Data!FQ76,\"\")","v":""},{"$f":"IF(Data!$E76=30,Data!FR76,\"\")","v":""},{"$f":"IF(Data!$E76=30,Data!FS76,IF(Data!BJ76<>\"\",Data!BJ76,\"\"))","v":""},{"$f":"IF(Data!$E76=30,Data!FT76,\"\")","v":""},{"$f":"IF(Data!$E76=30,Data!FU76,\"\")","v":""},{"$f":"IF(Data!$E76=30,Data!FV76,IF(Data!BK76<>\"\",Data!BK76,\"\"))","v":""},{"$f":"IF(Data!$E76=30,Data!FW76,\"\")","v":""},{"$f":"IF(Data!$E76=30,Data!FX76,\"\")","v":""},{"$f":"IF(Data!$E76=30,Data!FY76,IF(Data!BL76<>\"\",Data!BL76,\"\"))","v":""},{"$f":"IF(Data!$E76=30,Data!FZ76,\"\")","v":""},{"$f":"IF(Data!$E76=30,Data!GA76,\"\")","v":""},{"$f":"IF(Data!$E76=30,Data!GB76,IF(Data!BM76<>\"\",Data!BM76,\"\"))","v":""},{"$f":"IF(Data!$E76=30,Data!GC76,\"\")","v":""}]
[null,{"$f":"IF(Data!A77<>\"\",Data!A77,\"\")","v":""},{"$f":"IF(Data!$E77=30,Data!DV77,\"\")","v":""},{"$f":"IF(Data!$E77=30,Data!DW77,IF(Data!AT77<>\"\",Data!AT77,\"\"))","v":""},{"$f":"IF(Data!$E77=30,Data!DX77,\"\")","v":""},{"$f":"IF(Data!$E77=30,Data!DY77,\"\")","v":""},{"$f":"IF(Data!$E77=30,Data!DZ77,IF(Data!AU77<>\"\",Data!AU77,\"\"))","v":""},{"$f":"IF(Data!$E77=30,Data!EA77,\"\")","v":""},{"$f":"IF(Data!$E77=30,Data!EB77,\"\")","v":""},{"$f":"IF(Data!$E77=30,Data!EC77,IF(Data!AV77<>\"\",Data!AV77,\"\"))","v":""},{"$f":"IF(Data!$E77=30,Data!ED77,\"\")","v":""},{"$f":"IF(Data!$E77=30,Data!EE77,\"\")","v":""},{"$f":"IF(Data!$E77=30,Data!EF77,IF(Data!AW77<>\"\",Data!AW77,\"\"))","v":""},{"$f":"IF(Data!$E77=30,Data!EG77,\"\")","v":""},{"$f":"IF(Data!$E77=30,Data!EH77,\"\")","v":""},{"$f":"IF(Data!$E77=30,Data!EI77,IF(Data!AX77<>\"\",Data!AX77,\"\"))","v":""},{"$f":"IF(Data!$E77=30,Data!EJ77,\"\")","v":""},{"$f":"IF(Data!$E77=30,Data!EK77,\"\")","v":""},{"$f":"IF(Data!$E77=30,Data!EL77,IF(Data!AY77<>\"\",Data!AY77,\"\"))","v":""},{"$f":"IF(Data!$E77=30,Data!EM77,\"\")","v":""},{"$f":"IF(Data!$E77=30,Data!EN77,\"\")","v":""},{"$f":"IF(Data!$E77=30,Data!EO77,IF(Data!AZ77<>\"\",Data!AZ77,\"\"))","v":""},{"$f":"IF(Data!$E77=30,Data!EP77,\"\")","v":""},{"$f":"IF(Data!$E77=30,Data!EQ77,\"\")","v":""},{"$f":"IF(Data!$E77=30,Data!ER77,IF(Data!BA77<>\"\",Data!BA77,\"\"))","v":""},{"$f":"IF(Data!$E77=30,Data!ES77,\"\")","v":""},{"$f":"IF(Data!$E77=30,Data!ET77,\"\")","v":""},{"$f":"IF(Data!$E77=30,Data!EU77,IF(Data!BB77<>\"\",Data!BB77,\"\"))","v":""},{"$f":"IF(Data!$E77=30,Data!EV77,\"\")","v":""},{"$f":"IF(Data!$E77=30,Data!EW77,\"\")","v":""},{"$f":"IF(Data!$E77=30,Data!EX77,IF(Data!Z77<>\"\",Data!BC77,\"\"))","v":""},{"$f":"IF(Data!$E77=30,Data!EY77,\"\")","v":""},null,null,null,{"$f":"IF(Data!$E77=30,Data!EZ77,\"\")","v":""},{"$f":"IF(Data!$E77=30,Data!FA77,IF(Data!BD77<>\"\",Data!BD77,\"\"))","v":""},{"$f":"IF(Data!$E77=30,Data!FB77,\"\")","v":""},{"$f":"IF(Data!$E77=30,Data!FC77,\"\")","v":""},{"$f":"IF(Data!$E77=30,Data!FD77,IF(Data!BE77<>\"\",Data!BE77,\"\"))","v":""},{"$f":"IF(Data!$E77=30,Data!FE77,\"\")","v":""},{"$f":"IF(Data!$E77=30,Data!FF77,\"\")","v":""},{"$f":"IF(Data!$E77=30,Data!FG77,IF(Data!BF77<>\"\",Data!BF77,\"\"))","v":""},{"$f":"IF(Data!$E77=30,Data!FH77,\"\")","v":""},{"$f":"IF(Data!$E77=30,Data!FI77,\"\")","v":""},{"$f":"IF(Data!$E77=30,Data!FJ77,IF(Data!BG77<>\"\",Data!BG77,\"\"))","v":""},{"$f":"IF(Data!$E77=30,Data!FK77,\"\")","v":""},{"$f":"IF(Data!$E77=30,Data!FL77,\"\")","v":""},{"$f":"IF(Data!$E77=30,Data!FM77,IF(Data!BH77<>\"\",Data!BH77,\"\"))","v":""},{"$f":"IF(Data!$E77=30,Data!FN77,\"\")","v":""},{"$f":"IF(Data!$E77=30,Data!FO77,\"\")","v":""},{"$f":"IF(Data!$E77=30,Data!FP77,IF(Data!BI77<>\"\",Data!BI77,\"\"))","v":""},{"$f":"IF(Data!$E77=30,Data!FQ77,\"\")","v":""},{"$f":"IF(Data!$E77=30,Data!FR77,\"\")","v":""},{"$f":"IF(Data!$E77=30,Data!FS77,IF(Data!BJ77<>\"\",Data!BJ77,\"\"))","v":""},{"$f":"IF(Data!$E77=30,Data!FT77,\"\")","v":""},{"$f":"IF(Data!$E77=30,Data!FU77,\"\")","v":""},{"$f":"IF(Data!$E77=30,Data!FV77,IF(Data!BK77<>\"\",Data!BK77,\"\"))","v":""},{"$f":"IF(Data!$E77=30,Data!FW77,\"\")","v":""},{"$f":"IF(Data!$E77=30,Data!FX77,\"\")","v":""},{"$f":"IF(Data!$E77=30,Data!FY77,IF(Data!BL77<>\"\",Data!BL77,\"\"))","v":""},{"$f":"IF(Data!$E77=30,Data!FZ77,\"\")","v":""},{"$f":"IF(Data!$E77=30,Data!GA77,\"\")","v":""},{"$f":"IF(Data!$E77=30,Data!GB77,IF(Data!BM77<>\"\",Data!BM77,\"\"))","v":""},{"$f":"IF(Data!$E77=30,Data!GC77,\"\")","v":""}]
[null,{"$f":"IF(Data!A78<>\"\",Data!A78,\"\")","v":""},{"$f":"IF(Data!$E78=30,Data!DV78,\"\")","v":""},{"$f":"IF(Data!$E78=30,Data!DW78,IF(Data!AT78<>\"\",Data!AT78,\"\"))","v":""},{"$f":"IF(Data!$E78=30,Data!DX78,\"\")","v":""},{"$f":"IF(Data!$E78=30,Data!DY78,\"\")","v":""},{"$f":"IF(Data!$E78=30,Data!DZ78,IF(Data!AU78<>\"\",Data!AU78,\"\"))","v":""},{"$f":"IF(Data!$E78=30,Data!EA78,\"\")","v":""},{"$f":"IF(Data!$E78=30,Data!EB78,\"\")","v":""},{"$f":"IF(Data!$E78=30,Data!EC78,IF(Data!AV78<>\"\",Data!AV78,\"\"))","v":""},{"$f":"IF(Data!$E78=30,Data!ED78,\"\")","v":""},{"$f":"IF(Data!$E78=30,Data!EE78,\"\")","v":""},{"$f":"IF(Data!$E78=30,Data!EF78,IF(Data!AW78<>\"\",Data!AW78,\"\"))","v":""},{"$f":"IF(Data!$E78=30,Data!EG78,\"\")","v":""},{"$f":"IF(Data!$E78=30,Data!EH78,\"\")","v":""},{"$f":"IF(Data!$E78=30,Data!EI78,IF(Data!AX78<>\"\",Data!AX78,\"\"))","v":""},{"$f":"IF(Data!$E78=30,Data!EJ78,\"\")","v":""},{"$f":"IF(Data!$E78=30,Data!EK78,\"\")","v":""},{"$f":"IF(Data!$E78=30,Data!EL78,IF(Data!AY78<>\"\",Data!AY78,\"\"))","v":""},{"$f":"IF(Data!$E78=30,Data!EM78,\"\")","v":""},{"$f":"IF(Data!$E78=30,Data!EN78,\"\")","v":""},{"$f":"IF(Data!$E78=30,Data!EO78,IF(Data!AZ78<>\"\",Data!AZ78,\"\"))","v":""},{"$f":"IF(Data!$E78=30,Data!EP78,\"\")","v":""},{"$f":"IF(Data!$E78=30,Data!EQ78,\"\")","v":""},{"$f":"IF(Data!$E78=30,Data!ER78,IF(Data!BA78<>\"\",Data!BA78,\"\"))","v":""},{"$f":"IF(Data!$E78=30,Data!ES78,\"\")","v":""},{"$f":"IF(Data!$E78=30,Data!ET78,\"\")","v":""},{"$f":"IF(Data!$E78=30,Data!EU78,IF(Data!BB78<>\"\",Data!BB78,\"\"))","v":""},{"$f":"IF(Data!$E78=30,Data!EV78,\"\")","v":""},{"$f":"IF(Data!$E78=30,Data!EW78,\"\")","v":""},{"$f":"IF(Data!$E78=30,Data!EX78,IF(Data!Z78<>\"\",Data!BC78,\"\"))","v":""},{"$f":"IF(Data!$E78=30,Data!EY78,\"\")","v":""},null,null,null,{"$f":"IF(Data!$E78=30,Data!EZ78,\"\")","v":""},{"$f":"IF(Data!$E78=30,Data!FA78,IF(Data!BD78<>\"\",Data!BD78,\"\"))","v":""},{"$f":"IF(Data!$E78=30,Data!FB78,\"\")","v":""},{"$f":"IF(Data!$E78=30,Data!FC78,\"\")","v":""},{"$f":"IF(Data!$E78=30,Data!FD78,IF(Data!BE78<>\"\",Data!BE78,\"\"))","v":""},{"$f":"IF(Data!$E78=30,Data!FE78,\"\")","v":""},{"$f":"IF(Data!$E78=30,Data!FF78,\"\")","v":""},{"$f":"IF(Data!$E78=30,Data!FG78,IF(Data!BF78<>\"\",Data!BF78,\"\"))","v":""},{"$f":"IF(Data!$E78=30,Data!FH78,\"\")","v":""},{"$f":"IF(Data!$E78=30,Data!FI78,\"\")","v":""},{"$f":"IF(Data!$E78=30,Data!FJ78,IF(Data!BG78<>\"\",Data!BG78,\"\"))","v":""},{"$f":"IF(Data!$E78=30,Data!FK78,\"\")","v":""},{"$f":"IF(Data!$E78=30,Data!FL78,\"\")","v":""},{"$f":"IF(Data!$E78=30,Data!FM78,IF(Data!BH78<>\"\",Data!BH78,\"\"))","v":""},{"$f":"IF(Data!$E78=30,Data!FN78,\"\")","v":""},{"$f":"IF(Data!$E78=30,Data!FO78,\"\")","v":""},{"$f":"IF(Data!$E78=30,Data!FP78,IF(Data!BI78<>\"\",Data!BI78,\"\"))","v":""},{"$f":"IF(Data!$E78=30,Data!FQ78,\"\")","v":""},{"$f":"IF(Data!$E78=30,Data!FR78,\"\")","v":""},{"$f":"IF(Data!$E78=30,Data!FS78,IF(Data!BJ78<>\"\",Data!BJ78,\"\"))","v":""},{"$f":"IF(Data!$E78=30,Data!FT78,\"\")","v":""},{"$f":"IF(Data!$E78=30,Data!FU78,\"\")","v":""},{"$f":"IF(Data!$E78=30,Data!FV78,IF(Data!BK78<>\"\",Data!BK78,\"\"))","v":""},{"$f":"IF(Data!$E78=30,Data!FW78,\"\")","v":""},{"$f":"IF(Data!$E78=30,Data!FX78,\"\")","v":""},{"$f":"IF(Data!$E78=30,Data!FY78,IF(Data!BL78<>\"\",Data!BL78,\"\"))","v":""},{"$f":"IF(Data!$E78=30,Data!FZ78,\"\")","v":""},{"$f":"IF(Data!$E78=30,Data!GA78,\"\")","v":""},{"$f":"IF(Data!$E78=30,Data!GB78,IF(Data!BM78<>\"\",Data!BM78,\"\"))","v":""},{"$f":"IF(Data!$E78=30,Data!GC78,\"\")","v":""}]
[null,{"$f":"IF(Data!A79<>\"\",Data!A79,\"\")","v":""},{"$f":"IF(Data!$E79=30,Data!DV79,\"\")","v":""},{"$f":"IF(Data!$E79=30,Data!DW79,IF(Data!AT79<>\"\",Data!AT79,\"\"))","v":""},{"$f":"IF(Data!$E79=30,Data!DX79,\"\")","v":""},{"$f":"IF(Data!$E79=30,Data!DY79,\"\")","v":""},{"$f":"IF(Data!$E79=30,Data!DZ79,IF(Data!AU79<>\"\",Data!AU79,\"\"))","v":""},{"$f":"IF(Data!$E79=30,Data!EA79,\"\")","v":""},{"$f":"IF(Data!$E79=30,Data!EB79,\"\")","v":""},{"$f":"IF(Data!$E79=30,Data!EC79,IF(Data!AV79<>\"\",Data!AV79,\"\"))","v":""},{"$f":"IF(Data!$E79=30,Data!ED79,\"\")","v":""},{"$f":"IF(Data!$E79=30,Data!EE79,\"\")","v":""},{"$f":"IF(Data!$E79=30,Data!EF79,IF(Data!AW79<>\"\",Data!AW79,\"\"))","v":""},{"$f":"IF(Data!$E79=30,Data!EG79,\"\")","v":""},{"$f":"IF(Data!$E79=30,Data!EH79,\"\")","v":""},{"$f":"IF(Data!$E79=30,Data!EI79,IF(Data!AX79<>\"\",Data!AX79,\"\"))","v":""},{"$f":"IF(Data!$E79=30,Data!EJ79,\"\")","v":""},{"$f":"IF(Data!$E79=30,Data!EK79,\"\")","v":""},{"$f":"IF(Data!$E79=30,Data!EL79,IF(Data!AY79<>\"\",Data!AY79,\"\"))","v":""},{"$f":"IF(Data!$E79=30,Data!EM79,\"\")","v":""},{"$f":"IF(Data!$E79=30,Data!EN79,\"\")","v":""},{"$f":"IF(Data!$E79=30,Data!EO79,IF(Data!AZ79<>\"\",Data!AZ79,\"\"))","v":""},{"$f":"IF(Data!$E79=30,Data!EP79,\"\")","v":""},{"$f":"IF(Data!$E79=30,Data!EQ79,\"\")","v":""},{"$f":"IF(Data!$E79=30,Data!ER79,IF(Data!BA79<>\"\",Data!BA79,\"\"))","v":""},{"$f":"IF(Data!$E79=30,Data!ES79,\"\")","v":""},{"$f":"IF(Data!$E79=30,Data!ET79,\"\")","v":""},{"$f":"IF(Data!$E79=30,Data!EU79,IF(Data!BB79<>\"\",Data!BB79,\"\"))","v":""},{"$f":"IF(Data!$E79=30,Data!EV79,\"\")","v":""},{"$f":"IF(Data!$E79=30,Data!EW79,\"\")","v":""},{"$f":"IF(Data!$E79=30,Data!EX79,IF(Data!Z79<>\"\",Data!BC79,\"\"))","v":""},{"$f":"IF(Data!$E79=30,Data!EY79,\"\")","v":""},null,null,null,{"$f":"IF(Data!$E79=30,Data!EZ79,\"\")","v":""},{"$f":"IF(Data!$E79=30,Data!FA79,IF(Data!BD79<>\"\",Data!BD79,\"\"))","v":""},{"$f":"IF(Data!$E79=30,Data!FB79,\"\")","v":""},{"$f":"IF(Data!$E79=30,Data!FC79,\"\")","v":""},{"$f":"IF(Data!$E79=30,Data!FD79,IF(Data!BE79<>\"\",Data!BE79,\"\"))","v":""},{"$f":"IF(Data!$E79=30,Data!FE79,\"\")","v":""},{"$f":"IF(Data!$E79=30,Data!FF79,\"\")","v":""},{"$f":"IF(Data!$E79=30,Data!FG79,IF(Data!BF79<>\"\",Data!BF79,\"\"))","v":""},{"$f":"IF(Data!$E79=30,Data!FH79,\"\")","v":""},{"$f":"IF(Data!$E79=30,Data!FI79,\"\")","v":""},{"$f":"IF(Data!$E79=30,Data!FJ79,IF(Data!BG79<>\"\",Data!BG79,\"\"))","v":""},{"$f":"IF(Data!$E79=30,Data!FK79,\"\")","v":""},{"$f":"IF(Data!$E79=30,Data!FL79,\"\")","v":""},{"$f":"IF(Data!$E79=30,Data!FM79,IF(Data!BH79<>\"\",Data!BH79,\"\"))","v":""},{"$f":"IF(Data!$E79=30,Data!FN79,\"\")","v":""},{"$f":"IF(Data!$E79=30,Data!FO79,\"\")","v":""},{"$f":"IF(Data!$E79=30,Data!FP79,IF(Data!BI79<>\"\",Data!BI79,\"\"))","v":""},{"$f":"IF(Data!$E79=30,Data!FQ79,\"\")","v":""},{"$f":"IF(Data!$E79=30,Data!FR79,\"\")","v":""},{"$f":"IF(Data!$E79=30,Data!FS79,IF(Data!BJ79<>\"\",Data!BJ79,\"\"))","v":""},{"$f":"IF(Data!$E79=30,Data!FT79,\"\")","v":""},{"$f":"IF(Data!$E79=30,Data!FU79,\"\")","v":""},{"$f":"IF(Data!$E79=30,Data!FV79,IF(Data!BK79<>\"\",Data!BK79,\"\"))","v":""},{"$f":"IF(Data!$E79=30,Data!FW79,\"\")","v":""},{"$f":"IF(Data!$E79=30,Data!FX79,\"\")","v":""},{"$f":"IF(Data!$E79=30,Data!FY79,IF(Data!BL79<>\"\",Data!BL79,\"\"))","v":""},{"$f":"IF(Data!$E79=30,Data!FZ79,\"\")","v":""},{"$f":"IF(Data!$E79=30,Data!GA79,\"\")","v":""},{"$f":"IF(Data!$E79=30,Data!GB79,IF(Data!BM79<>\"\",Data!BM79,\"\"))","v":""},{"$f":"IF(Data!$E79=30,Data!GC79,\"\")","v":""}]
[null,{"$f":"IF(Data!A80<>\"\",Data!A80,\"\")","v":""},{"$f":"IF(Data!$E80=30,Data!DV80,\"\")","v":""},{"$f":"IF(Data!$E80=30,Data!DW80,IF(Data!AT80<>\"\",Data!AT80,\"\"))","v":""},{"$f":"IF(Data!$E80=30,Data!DX80,\"\")","v":""},{"$f":"IF(Data!$E80=30,Data!DY80,\"\")","v":""},{"$f":"IF(Data!$E80=30,Data!DZ80,IF(Data!AU80<>\"\",Data!AU80,\"\"))","v":""},{"$f":"IF(Data!$E80=30,Data!EA80,\"\")","v":""},{"$f":"IF(Data!$E80=30,Data!EB80,\"\")","v":""},{"$f":"IF(Data!$E80=30,Data!EC80,IF(Data!AV80<>\"\",Data!AV80,\"\"))","v":""},{"$f":"IF(Data!$E80=30,Data!ED80,\"\")","v":""},{"$f":"IF(Data!$E80=30,Data!EE80,\"\")","v":""},{"$f":"IF(Data!$E80=30,Data!EF80,IF(Data!AW80<>\"\",Data!AW80,\"\"))","v":""},{"$f":"IF(Data!$E80=30,Data!EG80,\"\")","v":""},{"$f":"IF(Data!$E80=30,Data!EH80,\"\")","v":""},{"$f":"IF(Data!$E80=30,Data!EI80,IF(Data!AX80<>\"\",Data!AX80,\"\"))","v":""},{"$f":"IF(Data!$E80=30,Data!EJ80,\"\")","v":""},{"$f":"IF(Data!$E80=30,Data!EK80,\"\")","v":""},{"$f":"IF(Data!$E80=30,Data!EL80,IF(Data!AY80<>\"\",Data!AY80,\"\"))","v":""},{"$f":"IF(Data!$E80=30,Data!EM80,\"\")","v":""},{"$f":"IF(Data!$E80=30,Data!EN80,\"\")","v":""},{"$f":"IF(Data!$E80=30,Data!EO80,IF(Data!AZ80<>\"\",Data!AZ80,\"\"))","v":""},{"$f":"IF(Data!$E80=30,Data!EP80,\"\")","v":""},{"$f":"IF(Data!$E80=30,Data!EQ80,\"\")","v":""},{"$f":"IF(Data!$E80=30,Data!ER80,IF(Data!BA80<>\"\",Data!BA80,\"\"))","v":""},{"$f":"IF(Data!$E80=30,Data!ES80,\"\")","v":""},{"$f":"IF(Data!$E80=30,Data!ET80,\"\")","v":""},{"$f":"IF(Data!$E80=30,Data!EU80,IF(Data!BB80<>\"\",Data!BB80,\"\"))","v":""},{"$f":"IF(Data!$E80=30,Data!EV80,\"\")","v":""},{"$f":"IF(Data!$E80=30,Data!EW80,\"\")","v":""},{"$f":"IF(Data!$E80=30,Data!EX80,IF(Data!Z80<>\"\",Data!BC80,\"\"))","v":""},{"$f":"IF(Data!$E80=30,Data!EY80,\"\")","v":""},null,null,null,{"$f":"IF(Data!$E80=30,Data!EZ80,\"\")","v":""},{"$f":"IF(Data!$E80=30,Data!FA80,IF(Data!BD80<>\"\",Data!BD80,\"\"))","v":""},{"$f":"IF(Data!$E80=30,Data!FB80,\"\")","v":""},{"$f":"IF(Data!$E80=30,Data!FC80,\"\")","v":""},{"$f":"IF(Data!$E80=30,Data!FD80,IF(Data!BE80<>\"\",Data!BE80,\"\"))","v":""},{"$f":"IF(Data!$E80=30,Data!FE80,\"\")","v":""},{"$f":"IF(Data!$E80=30,Data!FF80,\"\")","v":""},{"$f":"IF(Data!$E80=30,Data!FG80,IF(Data!BF80<>\"\",Data!BF80,\"\"))","v":""},{"$f":"IF(Data!$E80=30,Data!FH80,\"\")","v":""},{"$f":"IF(Data!$E80=30,Data!FI80,\"\")","v":""},{"$f":"IF(Data!$E80=30,Data!FJ80,IF(Data!BG80<>\"\",Data!BG80,\"\"))","v":""},{"$f":"IF(Data!$E80=30,Data!FK80,\"\")","v":""},{"$f":"IF(Data!$E80=30,Data!FL80,\"\")","v":""},{"$f":"IF(Data!$E80=30,Data!FM80,IF(Data!BH80<>\"\",Data!BH80,\"\"))","v":""},{"$f":"IF(Data!$E80=30,Data!FN80,\"\")","v":""},{"$f":"IF(Data!$E80=30,Data!FO80,\"\")","v":""},{"$f":"IF(Data!$E80=30,Data!FP80,IF(Data!BI80<>\"\",Data!BI80,\"\"))","v":""},{"$f":"IF(Data!$E80=30,Data!FQ80,\"\")","v":""},{"$f":"IF(Data!$E80=30,Data!FR80,\"\")","v":""},{"$f":"IF(Data!$E80=30,Data!FS80,IF(Data!BJ80<>\"\",Data!BJ80,\"\"))","v":""},{"$f":"IF(Data!$E80=30,Data!FT80,\"\")","v":""},{"$f":"IF(Data!$E80=30,Data!FU80,\"\")","v":""},{"$f":"IF(Data!$E80=30,Data!FV80,IF(Data!BK80<>\"\",Data!BK80,\"\"))","v":""},{"$f":"IF(Data!$E80=30,Data!FW80,\"\")","v":""},{"$f":"IF(Data!$E80=30,Data!FX80,\"\")","v":""},{"$f":"IF(Data!$E80=30,Data!FY80,IF(Data!BL80<>\"\",Data!BL80,\"\"))","v":""},{"$f":"IF(Data!$E80=30,Data!FZ80,\"\")","v":""},{"$f":"IF(Data!$E80=30,Data!GA80,\"\")","v":""},{"$f":"IF(Data!$E80=30,Data!GB80,IF(Data!BM80<>\"\",Data!BM80,\"\"))","v":""},{"$f":"IF(Data!$E80=30,Data!GC80,\"\")","v":""}]
[null,{"$f":"IF(Data!A81<>\"\",Data!A81,\"\")","v":""},{"$f":"IF(Data!$E81=30,Data!DV81,\"\")","v":""},{"$f":"IF(Data!$E81=30,Data!DW81,IF(Data!AT81<>\"\",Data!AT81,\"\"))","v":""},{"$f":"IF(Data!$E81=30,Data!DX81,\"\")","v":""},{"$f":"IF(Data!$E81=30,Data!DY81,\"\")","v":""},{"$f":"IF(Data!$E81=30,Data!DZ81,IF(Data!AU81<>\"\",Data!AU81,\"\"))","v":""},{"$f":"IF(Data!$E81=30,Data!EA81,\"\")","v":""},{"$f":"IF(Data!$E81=30,Data!EB81,\"\")","v":""},{"$f":"IF(Data!$E81=30,Data!EC81,IF(Data!AV81<>\"\",Data!AV81,\"\"))","v":""},{"$f":"IF(Data!$E81=30,Data!ED81,\"\")","v":""},{"$f":"IF(Data!$E81=30,Data!EE81,\"\")","v":""},{"$f":"IF(Data!$E81=30,Data!EF81,IF(Data!AW81<>\"\",Data!AW81,\"\"))","v":""},{"$f":"IF(Data!$E81=30,Data!EG81,\"\")","v":""},{"$f":"IF(Data!$E81=30,Data!EH81,\"\")","v":""},{"$f":"IF(Data!$E81=30,Data!EI81,IF(Data!AX81<>\"\",Data!AX81,\"\"))","v":""},{"$f":"IF(Data!$E81=30,Data!EJ81,\"\")","v":""},{"$f":"IF(Data!$E81=30,Data!EK81,\"\")","v":""},{"$f":"IF(Data!$E81=30,Data!EL81,IF(Data!AY81<>\"\",Data!AY81,\"\"))","v":""},{"$f":"IF(Data!$E81=30,Data!EM81,\"\")","v":""},{"$f":"IF(Data!$E81=30,Data!EN81,\"\")","v":""},{"$f":"IF(Data!$E81=30,Data!EO81,IF(Data!AZ81<>\"\",Data!AZ81,\"\"))","v":""},{"$f":"IF(Data!$E81=30,Data!EP81,\"\")","v":""},{"$f":"IF(Data!$E81=30,Data!EQ81,\"\")","v":""},{"$f":"IF(Data!$E81=30,Data!ER81,IF(Data!BA81<>\"\",Data!BA81,\"\"))","v":""},{"$f":"IF(Data!$E81=30,Data!ES81,\"\")","v":""},{"$f":"IF(Data!$E81=30,Data!ET81,\"\")","v":""},{"$f":"IF(Data!$E81=30,Data!EU81,IF(Data!BB81<>\"\",Data!BB81,\"\"))","v":""},{"$f":"IF(Data!$E81=30,Data!EV81,\"\")","v":""},{"$f":"IF(Data!$E81=30,Data!EW81,\"\")","v":""},{"$f":"IF(Data!$E81=30,Data!EX81,IF(Data!Z81<>\"\",Data!BC81,\"\"))","v":""},{"$f":"IF(Data!$E81=30,Data!EY81,\"\")","v":""},null,null,null,{"$f":"IF(Data!$E81=30,Data!EZ81,\"\")","v":""},{"$f":"IF(Data!$E81=30,Data!FA81,IF(Data!BD81<>\"\",Data!BD81,\"\"))","v":""},{"$f":"IF(Data!$E81=30,Data!FB81,\"\")","v":""},{"$f":"IF(Data!$E81=30,Data!FC81,\"\")","v":""},{"$f":"IF(Data!$E81=30,Data!FD81,IF(Data!BE81<>\"\",Data!BE81,\"\"))","v":""},{"$f":"IF(Data!$E81=30,Data!FE81,\"\")","v":""},{"$f":"IF(Data!$E81=30,Data!FF81,\"\")","v":""},{"$f":"IF(Data!$E81=30,Data!FG81,IF(Data!BF81<>\"\",Data!BF81,\"\"))","v":""},{"$f":"IF(Data!$E81=30,Data!FH81,\"\")","v":""},{"$f":"IF(Data!$E81=30,Data!FI81,\"\")","v":""},{"$f":"IF(Data!$E81=30,Data!FJ81,IF(Data!BG81<>\"\",Data!BG81,\"\"))","v":""},{"$f":"IF(Data!$E81=30,Data!FK81,\"\")","v":""},{"$f":"IF(Data!$E81=30,Data!FL81,\"\")","v":""},{"$f":"IF(Data!$E81=30,Data!FM81,IF(Data!BH81<>\"\",Data!BH81,\"\"))","v":""},{"$f":"IF(Data!$E81=30,Data!FN81,\"\")","v":""},{"$f":"IF(Data!$E81=30,Data!FO81,\"\")","v":""},{"$f":"IF(Data!$E81=30,Data!FP81,IF(Data!BI81<>\"\",Data!BI81,\"\"))","v":""},{"$f":"IF(Data!$E81=30,Data!FQ81,\"\")","v":""},{"$f":"IF(Data!$E81=30,Data!FR81,\"\")","v":""},{"$f":"IF(Data!$E81=30,Data!FS81,IF(Data!BJ81<>\"\",Data!BJ81,\"\"))","v":""},{"$f":"IF(Data!$E81=30,Data!FT81,\"\")","v":""},{"$f":"IF(Data!$E81=30,Data!FU81,\"\")","v":""},{"$f":"IF(Data!$E81=30,Data!FV81,IF(Data!BK81<>\"\",Data!BK81,\"\"))","v":""},{"$f":"IF(Data!$E81=30,Data!FW81,\"\")","v":""},{"$f":"IF(Data!$E81=30,Data!FX81,\"\")","v":""},{"$f":"IF(Data!$E81=30,Data!FY81,IF(Data!BL81<>\"\",Data!BL81,\"\"))","v":""},{"$f":"IF(Data!$E81=30,Data!FZ81,\"\")","v":""},{"$f":"IF(Data!$E81=30,Data!GA81,\"\")","v":""},{"$f":"IF(Data!$E81=30,Data!GB81,IF(Data!BM81<>\"\",Data!BM81,\"\"))","v":""},{"$f":"IF(Data!$E81=30,Data!GC81,\"\")","v":""}]
[null,{"$f":"IF(Data!A82<>\"\",Data!A82,\"\")","v":""},{"$f":"IF(Data!$E82=30,Data!DV82,\"\")","v":""},{"$f":"IF(Data!$E82=30,Data!DW82,IF(Data!AT82<>\"\",Data!AT82,\"\"))","v":""},{"$f":"IF(Data!$E82=30,Data!DX82,\"\")","v":""},{"$f":"IF(Data!$E82=30,Data!DY82,\"\")","v":""},{"$f":"IF(Data!$E82=30,Data!DZ82,IF(Data!AU82<>\"\",Data!AU82,\"\"))","v":""},{"$f":"IF(Data!$E82=30,Data!EA82,\"\")","v":""},{"$f":"IF(Data!$E82=30,Data!EB82,\"\")","v":""},{"$f":"IF(Data!$E82=30,Data!EC82,IF(Data!AV82<>\"\",Data!AV82,\"\"))","v":""},{"$f":"IF(Data!$E82=30,Data!ED82,\"\")","v":""},{"$f":"IF(Data!$E82=30,Data!EE82,\"\")","v":""},{"$f":"IF(Data!$E82=30,Data!EF82,IF(Data!AW82<>\"\",Data!AW82,\"\"))","v":""},{"$f":"IF(Data!$E82=30,Data!EG82,\"\")","v":""},{"$f":"IF(Data!$E82=30,Data!EH82,\"\")","v":""},{"$f":"IF(Data!$E82=30,Data!EI82,IF(Data!AX82<>\"\",Data!AX82,\"\"))","v":""},{"$f":"IF(Data!$E82=30,Data!EJ82,\"\")","v":""},{"$f":"IF(Data!$E82=30,Data!EK82,\"\")","v":""},{"$f":"IF(Data!$E82=30,Data!EL82,IF(Data!AY82<>\"\",Data!AY82,\"\"))","v":""},{"$f":"IF(Data!$E82=30,Data!EM82,\"\")","v":""},{"$f":"IF(Data!$E82=30,Data!EN82,\"\")","v":""},{"$f":"IF(Data!$E82=30,Data!EO82,IF(Data!AZ82<>\"\",Data!AZ82,\"\"))","v":""},{"$f":"IF(Data!$E82=30,Data!EP82,\"\")","v":""},{"$f":"IF(Data!$E82=30,Data!EQ82,\"\")","v":""},{"$f":"IF(Data!$E82=30,Data!ER82,IF(Data!BA82<>\"\",Data!BA82,\"\"))","v":""},{"$f":"IF(Data!$E82=30,Data!ES82,\"\")","v":""},{"$f":"IF(Data!$E82=30,Data!ET82,\"\")","v":""},{"$f":"IF(Data!$E82=30,Data!EU82,IF(Data!BB82<>\"\",Data!BB82,\"\"))","v":""},{"$f":"IF(Data!$E82=30,Data!EV82,\"\")","v":""},{"$f":"IF(Data!$E82=30,Data!EW82,\"\")","v":""},{"$f":"IF(Data!$E82=30,Data!EX82,IF(Data!Z82<>\"\",Data!BC82,\"\"))","v":""},{"$f":"IF(Data!$E82=30,Data!EY82,\"\")","v":""},null,null,null,{"$f":"IF(Data!$E82=30,Data!EZ82,\"\")","v":""},{"$f":"IF(Data!$E82=30,Data!FA82,IF(Data!BD82<>\"\",Data!BD82,\"\"))","v":""},{"$f":"IF(Data!$E82=30,Data!FB82,\"\")","v":""},{"$f":"IF(Data!$E82=30,Data!FC82,\"\")","v":""},{"$f":"IF(Data!$E82=30,Data!FD82,IF(Data!BE82<>\"\",Data!BE82,\"\"))","v":""},{"$f":"IF(Data!$E82=30,Data!FE82,\"\")","v":""},{"$f":"IF(Data!$E82=30,Data!FF82,\"\")","v":""},{"$f":"IF(Data!$E82=30,Data!FG82,IF(Data!BF82<>\"\",Data!BF82,\"\"))","v":""},{"$f":"IF(Data!$E82=30,Data!FH82,\"\")","v":""},{"$f":"IF(Data!$E82=30,Data!FI82,\"\")","v":""},{"$f":"IF(Data!$E82=30,Data!FJ82,IF(Data!BG82<>\"\",Data!BG82,\"\"))","v":""},{"$f":"IF(Data!$E82=30,Data!FK82,\"\")","v":""},{"$f":"IF(Data!$E82=30,Data!FL82,\"\")","v":""},{"$f":"IF(Data!$E82=30,Data!FM82,IF(Data!BH82<>\"\",Data!BH82,\"\"))","v":""},{"$f":"IF(Data!$E82=30,Data!FN82,\"\")","v":""},{"$f":"IF(Data!$E82=30,Data!FO82,\"\")","v":""},{"$f":"IF(Data!$E82=30,Data!FP82,IF(Data!BI82<>\"\",Data!BI82,\"\"))","v":""},{"$f":"IF(Data!$E82=30,Data!FQ82,\"\")","v":""},{"$f":"IF(Data!$E82=30,Data!FR82,\"\")","v":""},{"$f":"IF(Data!$E82=30,Data!FS82,IF(Data!BJ82<>\"\",Data!BJ82,\"\"))","v":""},{"$f":"IF(Data!$E82=30,Data!FT82,\"\")","v":""},{"$f":"IF(Data!$E82=30,Data!FU82,\"\")","v":""},{"$f":"IF(Data!$E82=30,Data!FV82,IF(Data!BK82<>\"\",Data!BK82,\"\"))","v":""},{"$f":"IF(Data!$E82=30,Data!FW82,\"\")","v":""},{"$f":"IF(Data!$E82=30,Data!FX82,\"\")","v":""},{"$f":"IF(Data!$E82=30,Data!FY82,IF(Data!BL82<>\"\",Data!BL82,\"\"))","v":""},{"$f":"IF(Data!$E82=30,Data!FZ82,\"\")","v":""},{"$f":"IF(Data!$E82=30,Data!GA82,\"\")","v":""},{"$f":"IF(Data!$E82=30,Data!GB82,IF(Data!BM82<>\"\",Data!BM82,\"\"))","v":""},{"$f":"IF(Data!$E82=30,Data!GC82,\"\")","v":""}]
[null,{"$f":"IF(Data!A83<>\"\",Data!A83,\"\")","v":""},{"$f":"IF(Data!$E83=30,Data!DV83,\"\")","v":""},{"$f":"IF(Data!$E83=30,Data!DW83,IF(Data!AT83<>\"\",Data!AT83,\"\"))","v":""},{"$f":"IF(Data!$E83=30,Data!DX83,\"\")","v":""},{"$f":"IF(Data!$E83=30,Data!DY83,\"\")","v":""},{"$f":"IF(Data!$E83=30,Data!DZ83,IF(Data!AU83<>\"\",Data!AU83,\"\"))","v":""},{"$f":"IF(Data!$E83=30,Data!EA83,\"\")","v":""},{"$f":"IF(Data!$E83=30,Data!EB83,\"\")","v":""},{"$f":"IF(Data!$E83=30,Data!EC83,IF(Data!AV83<>\"\",Data!AV83,\"\"))","v":""},{"$f":"IF(Data!$E83=30,Data!ED83,\"\")","v":""},{"$f":"IF(Data!$E83=30,Data!EE83,\"\")","v":""},{"$f":"IF(Data!$E83=30,Data!EF83,IF(Data!AW83<>\"\",Data!AW83,\"\"))","v":""},{"$f":"IF(Data!$E83=30,Data!EG83,\"\")","v":""},{"$f":"IF(Data!$E83=30,Data!EH83,\"\")","v":""},{"$f":"IF(Data!$E83=30,Data!EI83,IF(Data!AX83<>\"\",Data!AX83,\"\"))","v":""},{"$f":"IF(Data!$E83=30,Data!EJ83,\"\")","v":""},{"$f":"IF(Data!$E83=30,Data!EK83,\"\")","v":""},{"$f":"IF(Data!$E83=30,Data!EL83,IF(Data!AY83<>\"\",Data!AY83,\"\"))","v":""},{"$f":"IF(Data!$E83=30,Data!EM83,\"\")","v":""},{"$f":"IF(Data!$E83=30,Data!EN83,\"\")","v":""},{"$f":"IF(Data!$E83=30,Data!EO83,IF(Data!AZ83<>\"\",Data!AZ83,\"\"))","v":""},{"$f":"IF(Data!$E83=30,Data!EP83,\"\")","v":""},{"$f":"IF(Data!$E83=30,Data!EQ83,\"\")","v":""},{"$f":"IF(Data!$E83=30,Data!ER83,IF(Data!BA83<>\"\",Data!BA83,\"\"))","v":""},{"$f":"IF(Data!$E83=30,Data!ES83,\"\")","v":""},{"$f":"IF(Data!$E83=30,Data!ET83,\"\")","v":""},{"$f":"IF(Data!$E83=30,Data!EU83,IF(Data!BB83<>\"\",Data!BB83,\"\"))","v":""},{"$f":"IF(Data!$E83=30,Data!EV83,\"\")","v":""},{"$f":"IF(Data!$E83=30,Data!EW83,\"\")","v":""},{"$f":"IF(Data!$E83=30,Data!EX83,IF(Data!Z83<>\"\",Data!BC83,\"\"))","v":""},{"$f":"IF(Data!$E83=30,Data!EY83,\"\")","v":""},null,null,null,{"$f":"IF(Data!$E83=30,Data!EZ83,\"\")","v":""},{"$f":"IF(Data!$E83=30,Data!FA83,IF(Data!BD83<>\"\",Data!BD83,\"\"))","v":""},{"$f":"IF(Data!$E83=30,Data!FB83,\"\")","v":""},{"$f":"IF(Data!$E83=30,Data!FC83,\"\")","v":""},{"$f":"IF(Data!$E83=30,Data!FD83,IF(Data!BE83<>\"\",Data!BE83,\"\"))","v":""},{"$f":"IF(Data!$E83=30,Data!FE83,\"\")","v":""},{"$f":"IF(Data!$E83=30,Data!FF83,\"\")","v":""},{"$f":"IF(Data!$E83=30,Data!FG83,IF(Data!BF83<>\"\",Data!BF83,\"\"))","v":""},{"$f":"IF(Data!$E83=30,Data!FH83,\"\")","v":""},{"$f":"IF(Data!$E83=30,Data!FI83,\"\")","v":""},{"$f":"IF(Data!$E83=30,Data!FJ83,IF(Data!BG83<>\"\",Data!BG83,\"\"))","v":""},{"$f":"IF(Data!$E83=30,Data!FK83,\"\")","v":""},{"$f":"IF(Data!$E83=30,Data!FL83,\"\")","v":""},{"$f":"IF(Data!$E83=30,Data!FM83,IF(Data!BH83<>\"\",Data!BH83,\"\"))","v":""},{"$f":"IF(Data!$E83=30,Data!FN83,\"\")","v":""},{"$f":"IF(Data!$E83=30,Data!FO83,\"\")","v":""},{"$f":"IF(Data!$E83=30,Data!FP83,IF(Data!BI83<>\"\",Data!BI83,\"\"))","v":""},{"$f":"IF(Data!$E83=30,Data!FQ83,\"\")","v":""},{"$f":"IF(Data!$E83=30,Data!FR83,\"\")","v":""},{"$f":"IF(Data!$E83=30,Data!FS83,IF(Data!BJ83<>\"\",Data!BJ83,\"\"))","v":""},{"$f":"IF(Data!$E83=30,Data!FT83,\"\")","v":""},{"$f":"IF(Data!$E83=30,Data!FU83,\"\")","v":""},{"$f":"IF(Data!$E83=30,Data!FV83,IF(Data!BK83<>\"\",Data!BK83,\"\"))","v":""},{"$f":"IF(Data!$E83=30,Data!FW83,\"\")","v":""},{"$f":"IF(Data!$E83=30,Data!FX83,\"\")","v":""},{"$f":"IF(Data!$E83=30,Data!FY83,IF(Data!BL83<>\"\",Data!BL83,\"\"))","v":""},{"$f":"IF(Data!$E83=30,Data!FZ83,\"\")","v":""},{"$f":"IF(Data!$E83=30,Data!GA83,\"\")","v":""},{"$f":"IF(Data!$E83=30,Data!GB83,IF(Data!BM83<>\"\",Data!BM83,\"\"))","v":""},{"$f":"IF(Data!$E83=30,Data!GC83,\"\")","v":""}]
[null,{"$f":"IF(Data!A84<>\"\",Data!A84,\"\")","v":""},{"$f":"IF(Data!$E84=30,Data!DV84,\"\")","v":""},{"$f":"IF(Data!$E84=30,Data!DW84,IF(Data!AT84<>\"\",Data!AT84,\"\"))","v":""},{"$f":"IF(Data!$E84=30,Data!DX84,\"\")","v":""},{"$f":"IF(Data!$E84=30,Data!DY84,\"\")","v":""},{"$f":"IF(Data!$E84=30,Data!DZ84,IF(Data!AU84<>\"\",Data!AU84,\"\"))","v":""},{"$f":"IF(Data!$E84=30,Data!EA84,\"\")","v":""},{"$f":"IF(Data!$E84=30,Data!EB84,\"\")","v":""},{"$f":"IF(Data!$E84=30,Data!EC84,IF(Data!AV84<>\"\",Data!AV84,\"\"))","v":""},{"$f":"IF(Data!$E84=30,Data!ED84,\"\")","v":""},{"$f":"IF(Data!$E84=30,Data!EE84,\"\")","v":""},{"$f":"IF(Data!$E84=30,Data!EF84,IF(Data!AW84<>\"\",Data!AW84,\"\"))","v":""},{"$f":"IF(Data!$E84=30,Data!EG84,\"\")","v":""},{"$f":"IF(Data!$E84=30,Data!EH84,\"\")","v":""},{"$f":"IF(Data!$E84=30,Data!EI84,IF(Data!AX84<>\"\",Data!AX84,\"\"))","v":""},{"$f":"IF(Data!$E84=30,Data!EJ84,\"\")","v":""},{"$f":"IF(Data!$E84=30,Data!EK84,\"\")","v":""},{"$f":"IF(Data!$E84=30,Data!EL84,IF(Data!AY84<>\"\",Data!AY84,\"\"))","v":""},{"$f":"IF(Data!$E84=30,Data!EM84,\"\")","v":""},{"$f":"IF(Data!$E84=30,Data!EN84,\"\")","v":""},{"$f":"IF(Data!$E84=30,Data!EO84,IF(Data!AZ84<>\"\",Data!AZ84,\"\"))","v":""},{"$f":"IF(Data!$E84=30,Data!EP84,\"\")","v":""},{"$f":"IF(Data!$E84=30,Data!EQ84,\"\")","v":""},{"$f":"IF(Data!$E84=30,Data!ER84,IF(Data!BA84<>\"\",Data!BA84,\"\"))","v":""},{"$f":"IF(Data!$E84=30,Data!ES84,\"\")","v":""},{"$f":"IF(Data!$E84=30,Data!ET84,\"\")","v":""},{"$f":"IF(Data!$E84=30,Data!EU84,IF(Data!BB84<>\"\",Data!BB84,\"\"))","v":""},{"$f":"IF(Data!$E84=30,Data!EV84,\"\")","v":""},{"$f":"IF(Data!$E84=30,Data!EW84,\"\")","v":""},{"$f":"IF(Data!$E84=30,Data!EX84,IF(Data!Z84<>\"\",Data!BC84,\"\"))","v":""},{"$f":"IF(Data!$E84=30,Data!EY84,\"\")","v":""},null,null,null,{"$f":"IF(Data!$E84=30,Data!EZ84,\"\")","v":""},{"$f":"IF(Data!$E84=30,Data!FA84,IF(Data!BD84<>\"\",Data!BD84,\"\"))","v":""},{"$f":"IF(Data!$E84=30,Data!FB84,\"\")","v":""},{"$f":"IF(Data!$E84=30,Data!FC84,\"\")","v":""},{"$f":"IF(Data!$E84=30,Data!FD84,IF(Data!BE84<>\"\",Data!BE84,\"\"))","v":""},{"$f":"IF(Data!$E84=30,Data!FE84,\"\")","v":""},{"$f":"IF(Data!$E84=30,Data!FF84,\"\")","v":""},{"$f":"IF(Data!$E84=30,Data!FG84,IF(Data!BF84<>\"\",Data!BF84,\"\"))","v":""},{"$f":"IF(Data!$E84=30,Data!FH84,\"\")","v":""},{"$f":"IF(Data!$E84=30,Data!FI84,\"\")","v":""},{"$f":"IF(Data!$E84=30,Data!FJ84,IF(Data!BG84<>\"\",Data!BG84,\"\"))","v":""},{"$f":"IF(Data!$E84=30,Data!FK84,\"\")","v":""},{"$f":"IF(Data!$E84=30,Data!FL84,\"\")","v":""},{"$f":"IF(Data!$E84=30,Data!FM84,IF(Data!BH84<>\"\",Data!BH84,\"\"))","v":""},{"$f":"IF(Data!$E84=30,Data!FN84,\"\")","v":""},{"$f":"IF(Data!$E84=30,Data!FO84,\"\")","v":""},{"$f":"IF(Data!$E84=30,Data!FP84,IF(Data!BI84<>\"\",Data!BI84,\"\"))","v":""},{"$f":"IF(Data!$E84=30,Data!FQ84,\"\")","v":""},{"$f":"IF(Data!$E84=30,Data!FR84,\"\")","v":""},{"$f":"IF(Data!$E84=30,Data!FS84,IF(Data!BJ84<>\"\",Data!BJ84,\"\"))","v":""},{"$f":"IF(Data!$E84=30,Data!FT84,\"\")","v":""},{"$f":"IF(Data!$E84=30,Data!FU84,\"\")","v":""},{"$f":"IF(Data!$E84=30,Data!FV84,IF(Data!BK84<>\"\",Data!BK84,\"\"))","v":""},{"$f":"IF(Data!$E84=30,Data!FW84,\"\")","v":""},{"$f":"IF(Data!$E84=30,Data!FX84,\"\")","v":""},{"$f":"IF(Data!$E84=30,Data!FY84,IF(Data!BL84<>\"\",Data!BL84,\"\"))","v":""},{"$f":"IF(Data!$E84=30,Data!FZ84,\"\")","v":""},{"$f":"IF(Data!$E84=30,Data!GA84,\"\")","v":""},{"$f":"IF(Data!$E84=30,Data!GB84,IF(Data!BM84<>\"\",Data!BM84,\"\"))","v":""},{"$f":"IF(Data!$E84=30,Data!GC84,\"\")","v":""}]
[null,{"$f":"IF(Data!A85<>\"\",Data!A85,\"\")","v":""},{"$f":"IF(Data!$E85=30,Data!DV85,\"\")","v":""},{"$f":"IF(Data!$E85=30,Data!DW85,IF(Data!AT85<>\"\",Data!AT85,\"\"))","v":""},{"$f":"IF(Data!$E85=30,Data!DX85,\"\")","v":""},{"$f":"IF(Data!$E85=30,Data!DY85,\"\")","v":""},{"$f":"IF(Data!$E85=30,Data!DZ85,IF(Data!AU85<>\"\",Data!AU85,\"\"))","v":""},{"$f":"IF(Data!$E85=30,Data!EA85,\"\")","v":""},{"$f":"IF(Data!$E85=30,Data!EB85,\"\")","v":""},{"$f":"IF(Data!$E85=30,Data!EC85,IF(Data!AV85<>\"\",Data!AV85,\"\"))","v":""},{"$f":"IF(Data!$E85=30,Data!ED85,\"\")","v":""},{"$f":"IF(Data!$E85=30,Data!EE85,\"\")","v":""},{"$f":"IF(Data!$E85=30,Data!EF85,IF(Data!AW85<>\"\",Data!AW85,\"\"))","v":""},{"$f":"IF(Data!$E85=30,Data!EG85,\"\")","v":""},{"$f":"IF(Data!$E85=30,Data!EH85,\"\")","v":""},{"$f":"IF(Data!$E85=30,Data!EI85,IF(Data!AX85<>\"\",Data!AX85,\"\"))","v":""},{"$f":"IF(Data!$E85=30,Data!EJ85,\"\")","v":""},{"$f":"IF(Data!$E85=30,Data!EK85,\"\")","v":""},{"$f":"IF(Data!$E85=30,Data!EL85,IF(Data!AY85<>\"\",Data!AY85,\"\"))","v":""},{"$f":"IF(Data!$E85=30,Data!EM85,\"\")","v":""},{"$f":"IF(Data!$E85=30,Data!EN85,\"\")","v":""},{"$f":"IF(Data!$E85=30,Data!EO85,IF(Data!AZ85<>\"\",Data!AZ85,\"\"))","v":""},{"$f":"IF(Data!$E85=30,Data!EP85,\"\")","v":""},{"$f":"IF(Data!$E85=30,Data!EQ85,\"\")","v":""},{"$f":"IF(Data!$E85=30,Data!ER85,IF(Data!BA85<>\"\",Data!BA85,\"\"))","v":""},{"$f":"IF(Data!$E85=30,Data!ES85,\"\")","v":""},{"$f":"IF(Data!$E85=30,Data!ET85,\"\")","v":""},{"$f":"IF(Data!$E85=30,Data!EU85,IF(Data!BB85<>\"\",Data!BB85,\"\"))","v":""},{"$f":"IF(Data!$E85=30,Data!EV85,\"\")","v":""},{"$f":"IF(Data!$E85=30,Data!EW85,\"\")","v":""},{"$f":"IF(Data!$E85=30,Data!EX85,IF(Data!Z85<>\"\",Data!BC85,\"\"))","v":""},{"$f":"IF(Data!$E85=30,Data!EY85,\"\")","v":""},null,null,null,{"$f":"IF(Data!$E85=30,Data!EZ85,\"\")","v":""},{"$f":"IF(Data!$E85=30,Data!FA85,IF(Data!BD85<>\"\",Data!BD85,\"\"))","v":""},{"$f":"IF(Data!$E85=30,Data!FB85,\"\")","v":""},{"$f":"IF(Data!$E85=30,Data!FC85,\"\")","v":""},{"$f":"IF(Data!$E85=30,Data!FD85,IF(Data!BE85<>\"\",Data!BE85,\"\"))","v":""},{"$f":"IF(Data!$E85=30,Data!FE85,\"\")","v":""},{"$f":"IF(Data!$E85=30,Data!FF85,\"\")","v":""},{"$f":"IF(Data!$E85=30,Data!FG85,IF(Data!BF85<>\"\",Data!BF85,\"\"))","v":""},{"$f":"IF(Data!$E85=30,Data!FH85,\"\")","v":""},{"$f":"IF(Data!$E85=30,Data!FI85,\"\")","v":""},{"$f":"IF(Data!$E85=30,Data!FJ85,IF(Data!BG85<>\"\",Data!BG85,\"\"))","v":""},{"$f":"IF(Data!$E85=30,Data!FK85,\"\")","v":""},{"$f":"IF(Data!$E85=30,Data!FL85,\"\")","v":""},{"$f":"IF(Data!$E85=30,Data!FM85,IF(Data!BH85<>\"\",Data!BH85,\"\"))","v":""},{"$f":"IF(Data!$E85=30,Data!FN85,\"\")","v":""},{"$f":"IF(Data!$E85=30,Data!FO85,\"\")","v":""},{"$f":"IF(Data!$E85=30,Data!FP85,IF(Data!BI85<>\"\",Data!BI85,\"\"))","v":""},{"$f":"IF(Data!$E85=30,Data!FQ85,\"\")","v":""},{"$f":"IF(Data!$E85=30,Data!FR85,\"\")","v":""},{"$f":"IF(Data!$E85=30,Data!FS85,IF(Data!BJ85<>\"\",Data!BJ85,\"\"))","v":""},{"$f":"IF(Data!$E85=30,Data!FT85,\"\")","v":""},{"$f":"IF(Data!$E85=30,Data!FU85,\"\")","v":""},{"$f":"IF(Data!$E85=30,Data!FV85,IF(Data!BK85<>\"\",Data!BK85,\"\"))","v":""},{"$f":"IF(Data!$E85=30,Data!FW85,\"\")","v":""},{"$f":"IF(Data!$E85=30,Data!FX85,\"\")","v":""},{"$f":"IF(Data!$E85=30,Data!FY85,IF(Data!BL85<>\"\",Data!BL85,\"\"))","v":""},{"$f":"IF(Data!$E85=30,Data!FZ85,\"\")","v":""},{"$f":"IF(Data!$E85=30,Data!GA85,\"\")","v":""},{"$f":"IF(Data!$E85=30,Data!GB85,IF(Data!BM85<>\"\",Data!BM85,\"\"))","v":""},{"$f":"IF(Data!$E85=30,Data!GC85,\"\")","v":""}]
[null,{"$f":"IF(Data!A86<>\"\",Data!A86,\"\")","v":""},{"$f":"IF(Data!$E86=30,Data!DV86,\"\")","v":""},{"$f":"IF(Data!$E86=30,Data!DW86,IF(Data!AT86<>\"\",Data!AT86,\"\"))","v":""},{"$f":"IF(Data!$E86=30,Data!DX86,\"\")","v":""},{"$f":"IF(Data!$E86=30,Data!DY86,\"\")","v":""},{"$f":"IF(Data!$E86=30,Data!DZ86,IF(Data!AU86<>\"\",Data!AU86,\"\"))","v":""},{"$f":"IF(Data!$E86=30,Data!EA86,\"\")","v":""},{"$f":"IF(Data!$E86=30,Data!EB86,\"\")","v":""},{"$f":"IF(Data!$E86=30,Data!EC86,IF(Data!AV86<>\"\",Data!AV86,\"\"))","v":""},{"$f":"IF(Data!$E86=30,Data!ED86,\"\")","v":""},{"$f":"IF(Data!$E86=30,Data!EE86,\"\")","v":""},{"$f":"IF(Data!$E86=30,Data!EF86,IF(Data!AW86<>\"\",Data!AW86,\"\"))","v":""},{"$f":"IF(Data!$E86=30,Data!EG86,\"\")","v":""},{"$f":"IF(Data!$E86=30,Data!EH86,\"\")","v":""},{"$f":"IF(Data!$E86=30,Data!EI86,IF(Data!AX86<>\"\",Data!AX86,\"\"))","v":""},{"$f":"IF(Data!$E86=30,Data!EJ86,\"\")","v":""},{"$f":"IF(Data!$E86=30,Data!EK86,\"\")","v":""},{"$f":"IF(Data!$E86=30,Data!EL86,IF(Data!AY86<>\"\",Data!AY86,\"\"))","v":""},{"$f":"IF(Data!$E86=30,Data!EM86,\"\")","v":""},{"$f":"IF(Data!$E86=30,Data!EN86,\"\")","v":""},{"$f":"IF(Data!$E86=30,Data!EO86,IF(Data!AZ86<>\"\",Data!AZ86,\"\"))","v":""},{"$f":"IF(Data!$E86=30,Data!EP86,\"\")","v":""},{"$f":"IF(Data!$E86=30,Data!EQ86,\"\")","v":""},{"$f":"IF(Data!$E86=30,Data!ER86,IF(Data!BA86<>\"\",Data!BA86,\"\"))","v":""},{"$f":"IF(Data!$E86=30,Data!ES86,\"\")","v":""},{"$f":"IF(Data!$E86=30,Data!ET86,\"\")","v":""},{"$f":"IF(Data!$E86=30,Data!EU86,IF(Data!BB86<>\"\",Data!BB86,\"\"))","v":""},{"$f":"IF(Data!$E86=30,Data!EV86,\"\")","v":""},{"$f":"IF(Data!$E86=30,Data!EW86,\"\")","v":""},{"$f":"IF(Data!$E86=30,Data!EX86,IF(Data!Z86<>\"\",Data!BC86,\"\"))","v":""},{"$f":"IF(Data!$E86=30,Data!EY86,\"\")","v":""},null,null,null,{"$f":"IF(Data!$E86=30,Data!EZ86,\"\")","v":""},{"$f":"IF(Data!$E86=30,Data!FA86,IF(Data!BD86<>\"\",Data!BD86,\"\"))","v":""},{"$f":"IF(Data!$E86=30,Data!FB86,\"\")","v":""},{"$f":"IF(Data!$E86=30,Data!FC86,\"\")","v":""},{"$f":"IF(Data!$E86=30,Data!FD86,IF(Data!BE86<>\"\",Data!BE86,\"\"))","v":""},{"$f":"IF(Data!$E86=30,Data!FE86,\"\")","v":""},{"$f":"IF(Data!$E86=30,Data!FF86,\"\")","v":""},{"$f":"IF(Data!$E86=30,Data!FG86,IF(Data!BF86<>\"\",Data!BF86,\"\"))","v":""},{"$f":"IF(Data!$E86=30,Data!FH86,\"\")","v":""},{"$f":"IF(Data!$E86=30,Data!FI86,\"\")","v":""},{"$f":"IF(Data!$E86=30,Data!FJ86,IF(Data!BG86<>\"\",Data!BG86,\"\"))","v":""},{"$f":"IF(Data!$E86=30,Data!FK86,\"\")","v":""},{"$f":"IF(Data!$E86=30,Data!FL86,\"\")","v":""},{"$f":"IF(Data!$E86=30,Data!FM86,IF(Data!BH86<>\"\",Data!BH86,\"\"))","v":""},{"$f":"IF(Data!$E86=30,Data!FN86,\"\")","v":""},{"$f":"IF(Data!$E86=30,Data!FO86,\"\")","v":""},{"$f":"IF(Data!$E86=30,Data!FP86,IF(Data!BI86<>\"\",Data!BI86,\"\"))","v":""},{"$f":"IF(Data!$E86=30,Data!FQ86,\"\")","v":""},{"$f":"IF(Data!$E86=30,Data!FR86,\"\")","v":""},{"$f":"IF(Data!$E86=30,Data!FS86,IF(Data!BJ86<>\"\",Data!BJ86,\"\"))","v":""},{"$f":"IF(Data!$E86=30,Data!FT86,\"\")","v":""},{"$f":"IF(Data!$E86=30,Data!FU86,\"\")","v":""},{"$f":"IF(Data!$E86=30,Data!FV86,IF(Data!BK86<>\"\",Data!BK86,\"\"))","v":""},{"$f":"IF(Data!$E86=30,Data!FW86,\"\")","v":""},{"$f":"IF(Data!$E86=30,Data!FX86,\"\")","v":""},{"$f":"IF(Data!$E86=30,Data!FY86,IF(Data!BL86<>\"\",Data!BL86,\"\"))","v":""},{"$f":"IF(Data!$E86=30,Data!FZ86,\"\")","v":""},{"$f":"IF(Data!$E86=30,Data!GA86,\"\")","v":""},{"$f":"IF(Data!$E86=30,Data!GB86,IF(Data!BM86<>\"\",Data!BM86,\"\"))","v":""},{"$f":"IF(Data!$E86=30,Data!GC86,\"\")","v":""}]
[null,{"$f":"IF(Data!A87<>\"\",Data!A87,\"\")","v":""},{"$f":"IF(Data!$E87=30,Data!DV87,\"\")","v":""},{"$f":"IF(Data!$E87=30,Data!DW87,IF(Data!AT87<>\"\",Data!AT87,\"\"))","v":""},{"$f":"IF(Data!$E87=30,Data!DX87,\"\")","v":""},{"$f":"IF(Data!$E87=30,Data!DY87,\"\")","v":""},{"$f":"IF(Data!$E87=30,Data!DZ87,IF(Data!AU87<>\"\",Data!AU87,\"\"))","v":""},{"$f":"IF(Data!$E87=30,Data!EA87,\"\")","v":""},{"$f":"IF(Data!$E87=30,Data!EB87,\"\")","v":""},{"$f":"IF(Data!$E87=30,Data!EC87,IF(Data!AV87<>\"\",Data!AV87,\"\"))","v":""},{"$f":"IF(Data!$E87=30,Data!ED87,\"\")","v":""},{"$f":"IF(Data!$E87=30,Data!EE87,\"\")","v":""},{"$f":"IF(Data!$E87=30,Data!EF87,IF(Data!AW87<>\"\",Data!AW87,\"\"))","v":""},{"$f":"IF(Data!$E87=30,Data!EG87,\"\")","v":""},{"$f":"IF(Data!$E87=30,Data!EH87,\"\")","v":""},{"$f":"IF(Data!$E87=30,Data!EI87,IF(Data!AX87<>\"\",Data!AX87,\"\"))","v":""},{"$f":"IF(Data!$E87=30,Data!EJ87,\"\")","v":""},{"$f":"IF(Data!$E87=30,Data!EK87,\"\")","v":""},{"$f":"IF(Data!$E87=30,Data!EL87,IF(Data!AY87<>\"\",Data!AY87,\"\"))","v":""},{"$f":"IF(Data!$E87=30,Data!EM87,\"\")","v":""},{"$f":"IF(Data!$E87=30,Data!EN87,\"\")","v":""},{"$f":"IF(Data!$E87=30,Data!EO87,IF(Data!AZ87<>\"\",Data!AZ87,\"\"))","v":""},{"$f":"IF(Data!$E87=30,Data!EP87,\"\")","v":""},{"$f":"IF(Data!$E87=30,Data!EQ87,\"\")","v":""},{"$f":"IF(Data!$E87=30,Data!ER87,IF(Data!BA87<>\"\",Data!BA87,\"\"))","v":""},{"$f":"IF(Data!$E87=30,Data!ES87,\"\")","v":""},{"$f":"IF(Data!$E87=30,Data!ET87,\"\")","v":""},{"$f":"IF(Data!$E87=30,Data!EU87,IF(Data!BB87<>\"\",Data!BB87,\"\"))","v":""},{"$f":"IF(Data!$E87=30,Data!EV87,\"\")","v":""},{"$f":"IF(Data!$E87=30,Data!EW87,\"\")","v":""},{"$f":"IF(Data!$E87=30,Data!EX87,IF(Data!Z87<>\"\",Data!BC87,\"\"))","v":""},{"$f":"IF(Data!$E87=30,Data!EY87,\"\")","v":""},null,null,null,{"$f":"IF(Data!$E87=30,Data!EZ87,\"\")","v":""},{"$f":"IF(Data!$E87=30,Data!FA87,IF(Data!BD87<>\"\",Data!BD87,\"\"))","v":""},{"$f":"IF(Data!$E87=30,Data!FB87,\"\")","v":""},{"$f":"IF(Data!$E87=30,Data!FC87,\"\")","v":""},{"$f":"IF(Data!$E87=30,Data!FD87,IF(Data!BE87<>\"\",Data!BE87,\"\"))","v":""},{"$f":"IF(Data!$E87=30,Data!FE87,\"\")","v":""},{"$f":"IF(Data!$E87=30,Data!FF87,\"\")","v":""},{"$f":"IF(Data!$E87=30,Data!FG87,IF(Data!BF87<>\"\",Data!BF87,\"\"))","v":""},{"$f":"IF(Data!$E87=30,Data!FH87,\"\")","v":""},{"$f":"IF(Data!$E87=30,Data!FI87,\"\")","v":""},{"$f":"IF(Data!$E87=30,Data!FJ87,IF(Data!BG87<>\"\",Data!BG87,\"\"))","v":""},{"$f":"IF(Data!$E87=30,Data!FK87,\"\")","v":""},{"$f":"IF(Data!$E87=30,Data!FL87,\"\")","v":""},{"$f":"IF(Data!$E87=30,Data!FM87,IF(Data!BH87<>\"\",Data!BH87,\"\"))","v":""},{"$f":"IF(Data!$E87=30,Data!FN87,\"\")","v":""},{"$f":"IF(Data!$E87=30,Data!FO87,\"\")","v":""},{"$f":"IF(Data!$E87=30,Data!FP87,IF(Data!BI87<>\"\",Data!BI87,\"\"))","v":""},{"$f":"IF(Data!$E87=30,Data!FQ87,\"\")","v":""},{"$f":"IF(Data!$E87=30,Data!FR87,\"\")","v":""},{"$f":"IF(Data!$E87=30,Data!FS87,IF(Data!BJ87<>\"\",Data!BJ87,\"\"))","v":""},{"$f":"IF(Data!$E87=30,Data!FT87,\"\")","v":""},{"$f":"IF(Data!$E87=30,Data!FU87,\"\")","v":""},{"$f":"IF(Data!$E87=30,Data!FV87,IF(Data!BK87<>\"\",Data!BK87,\"\"))","v":""},{"$f":"IF(Data!$E87=30,Data!FW87,\"\")","v":""},{"$f":"IF(Data!$E87=30,Data!FX87,\"\")","v":""},{"$f":"IF(Data!$E87=30,Data!FY87,IF(Data!BL87<>\"\",Data!BL87,\"\"))","v":""},{"$f":"IF(Data!$E87=30,Data!FZ87,\"\")","v":""},{"$f":"IF(Data!$E87=30,Data!GA87,\"\")","v":""},{"$f":"IF(Data!$E87=30,Data!GB87,IF(Data!BM87<>\"\",Data!BM87,\"\"))","v":""},{"$f":"IF(Data!$E87=30,Data!GC87,\"\")","v":""}]
[null,{"$f":"IF(Data!A88<>\"\",Data!A88,\"\")","v":""},{"$f":"IF(Data!$E88=30,Data!DV88,\"\")","v":""},{"$f":"IF(Data!$E88=30,Data!DW88,IF(Data!AT88<>\"\",Data!AT88,\"\"))","v":""},{"$f":"IF(Data!$E88=30,Data!DX88,\"\")","v":""},{"$f":"IF(Data!$E88=30,Data!DY88,\"\")","v":""},{"$f":"IF(Data!$E88=30,Data!DZ88,IF(Data!AU88<>\"\",Data!AU88,\"\"))","v":""},{"$f":"IF(Data!$E88=30,Data!EA88,\"\")","v":""},{"$f":"IF(Data!$E88=30,Data!EB88,\"\")","v":""},{"$f":"IF(Data!$E88=30,Data!EC88,IF(Data!AV88<>\"\",Data!AV88,\"\"))","v":""},{"$f":"IF(Data!$E88=30,Data!ED88,\"\")","v":""},{"$f":"IF(Data!$E88=30,Data!EE88,\"\")","v":""},{"$f":"IF(Data!$E88=30,Data!EF88,IF(Data!AW88<>\"\",Data!AW88,\"\"))","v":""},{"$f":"IF(Data!$E88=30,Data!EG88,\"\")","v":""},{"$f":"IF(Data!$E88=30,Data!EH88,\"\")","v":""},{"$f":"IF(Data!$E88=30,Data!EI88,IF(Data!AX88<>\"\",Data!AX88,\"\"))","v":""},{"$f":"IF(Data!$E88=30,Data!EJ88,\"\")","v":""},{"$f":"IF(Data!$E88=30,Data!EK88,\"\")","v":""},{"$f":"IF(Data!$E88=30,Data!EL88,IF(Data!AY88<>\"\",Data!AY88,\"\"))","v":""},{"$f":"IF(Data!$E88=30,Data!EM88,\"\")","v":""},{"$f":"IF(Data!$E88=30,Data!EN88,\"\")","v":""},{"$f":"IF(Data!$E88=30,Data!EO88,IF(Data!AZ88<>\"\",Data!AZ88,\"\"))","v":""},{"$f":"IF(Data!$E88=30,Data!EP88,\"\")","v":""},{"$f":"IF(Data!$E88=30,Data!EQ88,\"\")","v":""},{"$f":"IF(Data!$E88=30,Data!ER88,IF(Data!BA88<>\"\",Data!BA88,\"\"))","v":""},{"$f":"IF(Data!$E88=30,Data!ES88,\"\")","v":""},{"$f":"IF(Data!$E88=30,Data!ET88,\"\")","v":""},{"$f":"IF(Data!$E88=30,Data!EU88,IF(Data!BB88<>\"\",Data!BB88,\"\"))","v":""},{"$f":"IF(Data!$E88=30,Data!EV88,\"\")","v":""},{"$f":"IF(Data!$E88=30,Data!EW88,\"\")","v":""},{"$f":"IF(Data!$E88=30,Data!EX88,IF(Data!Z88<>\"\",Data!BC88,\"\"))","v":""},{"$f":"IF(Data!$E88=30,Data!EY88,\"\")","v":""},null,null,null,{"$f":"IF(Data!$E88=30,Data!EZ88,\"\")","v":""},{"$f":"IF(Data!$E88=30,Data!FA88,IF(Data!BD88<>\"\",Data!BD88,\"\"))","v":""},{"$f":"IF(Data!$E88=30,Data!FB88,\"\")","v":""},{"$f":"IF(Data!$E88=30,Data!FC88,\"\")","v":""},{"$f":"IF(Data!$E88=30,Data!FD88,IF(Data!BE88<>\"\",Data!BE88,\"\"))","v":""},{"$f":"IF(Data!$E88=30,Data!FE88,\"\")","v":""},{"$f":"IF(Data!$E88=30,Data!FF88,\"\")","v":""},{"$f":"IF(Data!$E88=30,Data!FG88,IF(Data!BF88<>\"\",Data!BF88,\"\"))","v":""},{"$f":"IF(Data!$E88=30,Data!FH88,\"\")","v":""},{"$f":"IF(Data!$E88=30,Data!FI88,\"\")","v":""},{"$f":"IF(Data!$E88=30,Data!FJ88,IF(Data!BG88<>\"\",Data!BG88,\"\"))","v":""},{"$f":"IF(Data!$E88=30,Data!FK88,\"\")","v":""},{"$f":"IF(Data!$E88=30,Data!FL88,\"\")","v":""},{"$f":"IF(Data!$E88=30,Data!FM88,IF(Data!BH88<>\"\",Data!BH88,\"\"))","v":""},{"$f":"IF(Data!$E88=30,Data!FN88,\"\")","v":""},{"$f":"IF(Data!$E88=30,Data!FO88,\"\")","v":""},{"$f":"IF(Data!$E88=30,Data!FP88,IF(Data!BI88<>\"\",Data!BI88,\"\"))","v":""},{"$f":"IF(Data!$E88=30,Data!FQ88,\"\")","v":""},{"$f":"IF(Data!$E88=30,Data!FR88,\"\")","v":""},{"$f":"IF(Data!$E88=30,Data!FS88,IF(Data!BJ88<>\"\",Data!BJ88,\"\"))","v":""},{"$f":"IF(Data!$E88=30,Data!FT88,\"\")","v":""},{"$f":"IF(Data!$E88=30,Data!FU88,\"\")","v":""},{"$f":"IF(Data!$E88=30,Data!FV88,IF(Data!BK88<>\"\",Data!BK88,\"\"))","v":""},{"$f":"IF(Data!$E88=30,Data!FW88,\"\")","v":""},{"$f":"IF(Data!$E88=30,Data!FX88,\"\")","v":""},{"$f":"IF(Data!$E88=30,Data!FY88,IF(Data!BL88<>\"\",Data!BL88,\"\"))","v":""},{"$f":"IF(Data!$E88=30,Data!FZ88,\"\")","v":""},{"$f":"IF(Data!$E88=30,Data!GA88,\"\")","v":""},{"$f":"IF(Data!$E88=30,Data!GB88,IF(Data!BM88<>\"\",Data!BM88,\"\"))","v":""},{"$f":"IF(Data!$E88=30,Data!GC88,\"\")","v":""}]
[null,{"$f":"IF(Data!A89<>\"\",Data!A89,\"\")","v":""},{"$f":"IF(Data!$E89=30,Data!DV89,\"\")","v":""},{"$f":"IF(Data!$E89=30,Data!DW89,IF(Data!AT89<>\"\",Data!AT89,\"\"))","v":""},{"$f":"IF(Data!$E89=30,Data!DX89,\"\")","v":""},{"$f":"IF(Data!$E89=30,Data!DY89,\"\")","v":""},{"$f":"IF(Data!$E89=30,Data!DZ89,IF(Data!AU89<>\"\",Data!AU89,\"\"))","v":""},{"$f":"IF(Data!$E89=30,Data!EA89,\"\")","v":""},{"$f":"IF(Data!$E89=30,Data!EB89,\"\")","v":""},{"$f":"IF(Data!$E89=30,Data!EC89,IF(Data!AV89<>\"\",Data!AV89,\"\"))","v":""},{"$f":"IF(Data!$E89=30,Data!ED89,\"\")","v":""},{"$f":"IF(Data!$E89=30,Data!EE89,\"\")","v":""},{"$f":"IF(Data!$E89=30,Data!EF89,IF(Data!AW89<>\"\",Data!AW89,\"\"))","v":""},{"$f":"IF(Data!$E89=30,Data!EG89,\"\")","v":""},{"$f":"IF(Data!$E89=30,Data!EH89,\"\")","v":""},{"$f":"IF(Data!$E89=30,Data!EI89,IF(Data!AX89<>\"\",Data!AX89,\"\"))","v":""},{"$f":"IF(Data!$E89=30,Data!EJ89,\"\")","v":""},{"$f":"IF(Data!$E89=30,Data!EK89,\"\")","v":""},{"$f":"IF(Data!$E89=30,Data!EL89,IF(Data!AY89<>\"\",Data!AY89,\"\"))","v":""},{"$f":"IF(Data!$E89=30,Data!EM89,\"\")","v":""},{"$f":"IF(Data!$E89=30,Data!EN89,\"\")","v":""},{"$f":"IF(Data!$E89=30,Data!EO89,IF(Data!AZ89<>\"\",Data!AZ89,\"\"))","v":""},{"$f":"IF(Data!$E89=30,Data!EP89,\"\")","v":""},{"$f":"IF(Data!$E89=30,Data!EQ89,\"\")","v":""},{"$f":"IF(Data!$E89=30,Data!ER89,IF(Data!BA89<>\"\",Data!BA89,\"\"))","v":""},{"$f":"IF(Data!$E89=30,Data!ES89,\"\")","v":""},{"$f":"IF(Data!$E89=30,Data!ET89,\"\")","v":""},{"$f":"IF(Data!$E89=30,Data!EU89,IF(Data!BB89<>\"\",Data!BB89,\"\"))","v":""},{"$f":"IF(Data!$E89=30,Data!EV89,\"\")","v":""},{"$f":"IF(Data!$E89=30,Data!EW89,\"\")","v":""},{"$f":"IF(Data!$E89=30,Data!EX89,IF(Data!Z89<>\"\",Data!BC89,\"\"))","v":""},{"$f":"IF(Data!$E89=30,Data!EY89,\"\")","v":""},null,null,null,{"$f":"IF(Data!$E89=30,Data!EZ89,\"\")","v":""},{"$f":"IF(Data!$E89=30,Data!FA89,IF(Data!BD89<>\"\",Data!BD89,\"\"))","v":""},{"$f":"IF(Data!$E89=30,Data!FB89,\"\")","v":""},{"$f":"IF(Data!$E89=30,Data!FC89,\"\")","v":""},{"$f":"IF(Data!$E89=30,Data!FD89,IF(Data!BE89<>\"\",Data!BE89,\"\"))","v":""},{"$f":"IF(Data!$E89=30,Data!FE89,\"\")","v":""},{"$f":"IF(Data!$E89=30,Data!FF89,\"\")","v":""},{"$f":"IF(Data!$E89=30,Data!FG89,IF(Data!BF89<>\"\",Data!BF89,\"\"))","v":""},{"$f":"IF(Data!$E89=30,Data!FH89,\"\")","v":""},{"$f":"IF(Data!$E89=30,Data!FI89,\"\")","v":""},{"$f":"IF(Data!$E89=30,Data!FJ89,IF(Data!BG89<>\"\",Data!BG89,\"\"))","v":""},{"$f":"IF(Data!$E89=30,Data!FK89,\"\")","v":""},{"$f":"IF(Data!$E89=30,Data!FL89,\"\")","v":""},{"$f":"IF(Data!$E89=30,Data!FM89,IF(Data!BH89<>\"\",Data!BH89,\"\"))","v":""},{"$f":"IF(Data!$E89=30,Data!FN89,\"\")","v":""},{"$f":"IF(Data!$E89=30,Data!FO89,\"\")","v":""},{"$f":"IF(Data!$E89=30,Data!FP89,IF(Data!BI89<>\"\",Data!BI89,\"\"))","v":""},{"$f":"IF(Data!$E89=30,Data!FQ89,\"\")","v":""},{"$f":"IF(Data!$E89=30,Data!FR89,\"\")","v":""},{"$f":"IF(Data!$E89=30,Data!FS89,IF(Data!BJ89<>\"\",Data!BJ89,\"\"))","v":""},{"$f":"IF(Data!$E89=30,Data!FT89,\"\")","v":""},{"$f":"IF(Data!$E89=30,Data!FU89,\"\")","v":""},{"$f":"IF(Data!$E89=30,Data!FV89,IF(Data!BK89<>\"\",Data!BK89,\"\"))","v":""},{"$f":"IF(Data!$E89=30,Data!FW89,\"\")","v":""},{"$f":"IF(Data!$E89=30,Data!FX89,\"\")","v":""},{"$f":"IF(Data!$E89=30,Data!FY89,IF(Data!BL89<>\"\",Data!BL89,\"\"))","v":""},{"$f":"IF(Data!$E89=30,Data!FZ89,\"\")","v":""},{"$f":"IF(Data!$E89=30,Data!GA89,\"\")","v":""},{"$f":"IF(Data!$E89=30,Data!GB89,IF(Data!BM89<>\"\",Data!BM89,\"\"))","v":""},{"$f":"IF(Data!$E89=30,Data!GC89,\"\")","v":""}]
[null,{"$f":"IF(Data!A90<>\"\",Data!A90,\"\")","v":""},{"$f":"IF(Data!$E90=30,Data!DV90,\"\")","v":""},{"$f":"IF(Data!$E90=30,Data!DW90,IF(Data!AT90<>\"\",Data!AT90,\"\"))","v":""},{"$f":"IF(Data!$E90=30,Data!DX90,\"\")","v":""},{"$f":"IF(Data!$E90=30,Data!DY90,\"\")","v":""},{"$f":"IF(Data!$E90=30,Data!DZ90,IF(Data!AU90<>\"\",Data!AU90,\"\"))","v":""},{"$f":"IF(Data!$E90=30,Data!EA90,\"\")","v":""},{"$f":"IF(Data!$E90=30,Data!EB90,\"\")","v":""},{"$f":"IF(Data!$E90=30,Data!EC90,IF(Data!AV90<>\"\",Data!AV90,\"\"))","v":""},{"$f":"IF(Data!$E90=30,Data!ED90,\"\")","v":""},{"$f":"IF(Data!$E90=30,Data!EE90,\"\")","v":""},{"$f":"IF(Data!$E90=30,Data!EF90,IF(Data!AW90<>\"\",Data!AW90,\"\"))","v":""},{"$f":"IF(Data!$E90=30,Data!EG90,\"\")","v":""},{"$f":"IF(Data!$E90=30,Data!EH90,\"\")","v":""},{"$f":"IF(Data!$E90=30,Data!EI90,IF(Data!AX90<>\"\",Data!AX90,\"\"))","v":""},{"$f":"IF(Data!$E90=30,Data!EJ90,\"\")","v":""},{"$f":"IF(Data!$E90=30,Data!EK90,\"\")","v":""},{"$f":"IF(Data!$E90=30,Data!EL90,IF(Data!AY90<>\"\",Data!AY90,\"\"))","v":""},{"$f":"IF(Data!$E90=30,Data!EM90,\"\")","v":""},{"$f":"IF(Data!$E90=30,Data!EN90,\"\")","v":""},{"$f":"IF(Data!$E90=30,Data!EO90,IF(Data!AZ90<>\"\",Data!AZ90,\"\"))","v":""},{"$f":"IF(Data!$E90=30,Data!EP90,\"\")","v":""},{"$f":"IF(Data!$E90=30,Data!EQ90,\"\")","v":""},{"$f":"IF(Data!$E90=30,Data!ER90,IF(Data!BA90<>\"\",Data!BA90,\"\"))","v":""},{"$f":"IF(Data!$E90=30,Data!ES90,\"\")","v":""},{"$f":"IF(Data!$E90=30,Data!ET90,\"\")","v":""},{"$f":"IF(Data!$E90=30,Data!EU90,IF(Data!BB90<>\"\",Data!BB90,\"\"))","v":""},{"$f":"IF(Data!$E90=30,Data!EV90,\"\")","v":""},{"$f":"IF(Data!$E90=30,Data!EW90,\"\")","v":""},{"$f":"IF(Data!$E90=30,Data!EX90,IF(Data!Z90<>\"\",Data!BC90,\"\"))","v":""},{"$f":"IF(Data!$E90=30,Data!EY90,\"\")","v":""},null,null,null,{"$f":"IF(Data!$E90=30,Data!EZ90,\"\")","v":""},{"$f":"IF(Data!$E90=30,Data!FA90,IF(Data!BD90<>\"\",Data!BD90,\"\"))","v":""},{"$f":"IF(Data!$E90=30,Data!FB90,\"\")","v":""},{"$f":"IF(Data!$E90=30,Data!FC90,\"\")","v":""},{"$f":"IF(Data!$E90=30,Data!FD90,IF(Data!BE90<>\"\",Data!BE90,\"\"))","v":""},{"$f":"IF(Data!$E90=30,Data!FE90,\"\")","v":""},{"$f":"IF(Data!$E90=30,Data!FF90,\"\")","v":""},{"$f":"IF(Data!$E90=30,Data!FG90,IF(Data!BF90<>\"\",Data!BF90,\"\"))","v":""},{"$f":"IF(Data!$E90=30,Data!FH90,\"\")","v":""},{"$f":"IF(Data!$E90=30,Data!FI90,\"\")","v":""},{"$f":"IF(Data!$E90=30,Data!FJ90,IF(Data!BG90<>\"\",Data!BG90,\"\"))","v":""},{"$f":"IF(Data!$E90=30,Data!FK90,\"\")","v":""},{"$f":"IF(Data!$E90=30,Data!FL90,\"\")","v":""},{"$f":"IF(Data!$E90=30,Data!FM90,IF(Data!BH90<>\"\",Data!BH90,\"\"))","v":""},{"$f":"IF(Data!$E90=30,Data!FN90,\"\")","v":""},{"$f":"IF(Data!$E90=30,Data!FO90,\"\")","v":""},{"$f":"IF(Data!$E90=30,Data!FP90,IF(Data!BI90<>\"\",Data!BI90,\"\"))","v":""},{"$f":"IF(Data!$E90=30,Data!FQ90,\"\")","v":""},{"$f":"IF(Data!$E90=30,Data!FR90,\"\")","v":""},{"$f":"IF(Data!$E90=30,Data!FS90,IF(Data!BJ90<>\"\",Data!BJ90,\"\"))","v":""},{"$f":"IF(Data!$E90=30,Data!FT90,\"\")","v":""},{"$f":"IF(Data!$E90=30,Data!FU90,\"\")","v":""},{"$f":"IF(Data!$E90=30,Data!FV90,IF(Data!BK90<>\"\",Data!BK90,\"\"))","v":""},{"$f":"IF(Data!$E90=30,Data!FW90,\"\")","v":""},{"$f":"IF(Data!$E90=30,Data!FX90,\"\")","v":""},{"$f":"IF(Data!$E90=30,Data!FY90,IF(Data!BL90<>\"\",Data!BL90,\"\"))","v":""},{"$f":"IF(Data!$E90=30,Data!FZ90,\"\")","v":""},{"$f":"IF(Data!$E90=30,Data!GA90,\"\")","v":""},{"$f":"IF(Data!$E90=30,Data!GB90,IF(Data!BM90<>\"\",Data!BM90,\"\"))","v":""},{"$f":"IF(Data!$E90=30,Data!GC90,\"\")","v":""}]
[null,{"$f":"IF(Data!A91<>\"\",Data!A91,\"\")","v":""},{"$f":"IF(Data!$E91=30,Data!DV91,\"\")","v":""},{"$f":"IF(Data!$E91=30,Data!DW91,IF(Data!AT91<>\"\",Data!AT91,\"\"))","v":""},{"$f":"IF(Data!$E91=30,Data!DX91,\"\")","v":""},{"$f":"IF(Data!$E91=30,Data!DY91,\"\")","v":""},{"$f":"IF(Data!$E91=30,Data!DZ91,IF(Data!AU91<>\"\",Data!AU91,\"\"))","v":""},{"$f":"IF(Data!$E91=30,Data!EA91,\"\")","v":""},{"$f":"IF(Data!$E91=30,Data!EB91,\"\")","v":""},{"$f":"IF(Data!$E91=30,Data!EC91,IF(Data!AV91<>\"\",Data!AV91,\"\"))","v":""},{"$f":"IF(Data!$E91=30,Data!ED91,\"\")","v":""},{"$f":"IF(Data!$E91=30,Data!EE91,\"\")","v":""},{"$f":"IF(Data!$E91=30,Data!EF91,IF(Data!AW91<>\"\",Data!AW91,\"\"))","v":""},{"$f":"IF(Data!$E91=30,Data!EG91,\"\")","v":""},{"$f":"IF(Data!$E91=30,Data!EH91,\"\")","v":""},{"$f":"IF(Data!$E91=30,Data!EI91,IF(Data!AX91<>\"\",Data!AX91,\"\"))","v":""},{"$f":"IF(Data!$E91=30,Data!EJ91,\"\")","v":""},{"$f":"IF(Data!$E91=30,Data!EK91,\"\")","v":""},{"$f":"IF(Data!$E91=30,Data!EL91,IF(Data!AY91<>\"\",Data!AY91,\"\"))","v":""},{"$f":"IF(Data!$E91=30,Data!EM91,\"\")","v":""},{"$f":"IF(Data!$E91=30,Data!EN91,\"\")","v":""},{"$f":"IF(Data!$E91=30,Data!EO91,IF(Data!AZ91<>\"\",Data!AZ91,\"\"))","v":""},{"$f":"IF(Data!$E91=30,Data!EP91,\"\")","v":""},{"$f":"IF(Data!$E91=30,Data!EQ91,\"\")","v":""},{"$f":"IF(Data!$E91=30,Data!ER91,IF(Data!BA91<>\"\",Data!BA91,\"\"))","v":""},{"$f":"IF(Data!$E91=30,Data!ES91,\"\")","v":""},{"$f":"IF(Data!$E91=30,Data!ET91,\"\")","v":""},{"$f":"IF(Data!$E91=30,Data!EU91,IF(Data!BB91<>\"\",Data!BB91,\"\"))","v":""},{"$f":"IF(Data!$E91=30,Data!EV91,\"\")","v":""},{"$f":"IF(Data!$E91=30,Data!EW91,\"\")","v":""},{"$f":"IF(Data!$E91=30,Data!EX91,IF(Data!Z91<>\"\",Data!BC91,\"\"))","v":""},{"$f":"IF(Data!$E91=30,Data!EY91,\"\")","v":""},null,null,null,{"$f":"IF(Data!$E91=30,Data!EZ91,\"\")","v":""},{"$f":"IF(Data!$E91=30,Data!FA91,IF(Data!BD91<>\"\",Data!BD91,\"\"))","v":""},{"$f":"IF(Data!$E91=30,Data!FB91,\"\")","v":""},{"$f":"IF(Data!$E91=30,Data!FC91,\"\")","v":""},{"$f":"IF(Data!$E91=30,Data!FD91,IF(Data!BE91<>\"\",Data!BE91,\"\"))","v":""},{"$f":"IF(Data!$E91=30,Data!FE91,\"\")","v":""},{"$f":"IF(Data!$E91=30,Data!FF91,\"\")","v":""},{"$f":"IF(Data!$E91=30,Data!FG91,IF(Data!BF91<>\"\",Data!BF91,\"\"))","v":""},{"$f":"IF(Data!$E91=30,Data!FH91,\"\")","v":""},{"$f":"IF(Data!$E91=30,Data!FI91,\"\")","v":""},{"$f":"IF(Data!$E91=30,Data!FJ91,IF(Data!BG91<>\"\",Data!BG91,\"\"))","v":""},{"$f":"IF(Data!$E91=30,Data!FK91,\"\")","v":""},{"$f":"IF(Data!$E91=30,Data!FL91,\"\")","v":""},{"$f":"IF(Data!$E91=30,Data!FM91,IF(Data!BH91<>\"\",Data!BH91,\"\"))","v":""},{"$f":"IF(Data!$E91=30,Data!FN91,\"\")","v":""},{"$f":"IF(Data!$E91=30,Data!FO91,\"\")","v":""},{"$f":"IF(Data!$E91=30,Data!FP91,IF(Data!BI91<>\"\",Data!BI91,\"\"))","v":""},{"$f":"IF(Data!$E91=30,Data!FQ91,\"\")","v":""},{"$f":"IF(Data!$E91=30,Data!FR91,\"\")","v":""},{"$f":"IF(Data!$E91=30,Data!FS91,IF(Data!BJ91<>\"\",Data!BJ91,\"\"))","v":""},{"$f":"IF(Data!$E91=30,Data!FT91,\"\")","v":""},{"$f":"IF(Data!$E91=30,Data!FU91,\"\")","v":""},{"$f":"IF(Data!$E91=30,Data!FV91,IF(Data!BK91<>\"\",Data!BK91,\"\"))","v":""},{"$f":"IF(Data!$E91=30,Data!FW91,\"\")","v":""},{"$f":"IF(Data!$E91=30,Data!FX91,\"\")","v":""},{"$f":"IF(Data!$E91=30,Data!FY91,IF(Data!BL91<>\"\",Data!BL91,\"\"))","v":""},{"$f":"IF(Data!$E91=30,Data!FZ91,\"\")","v":""},{"$f":"IF(Data!$E91=30,Data!GA91,\"\")","v":""},{"$f":"IF(Data!$E91=30,Data!GB91,IF(Data!BM91<>\"\",Data!BM91,\"\"))","v":""},{"$f":"IF(Data!$E91=30,Data!GC91,\"\")","v":""}]
[null,{"$f":"IF(Data!A92<>\"\",Data!A92,\"\")","v":""},{"$f":"IF(Data!$E92=30,Data!DV92,\"\")","v":""},{"$f":"IF(Data!$E92=30,Data!DW92,IF(Data!AT92<>\"\",Data!AT92,\"\"))","v":""},{"$f":"IF(Data!$E92=30,Data!DX92,\"\")","v":""},{"$f":"IF(Data!$E92=30,Data!DY92,\"\")","v":""},{"$f":"IF(Data!$E92=30,Data!DZ92,IF(Data!AU92<>\"\",Data!AU92,\"\"))","v":""},{"$f":"IF(Data!$E92=30,Data!EA92,\"\")","v":""},{"$f":"IF(Data!$E92=30,Data!EB92,\"\")","v":""},{"$f":"IF(Data!$E92=30,Data!EC92,IF(Data!AV92<>\"\",Data!AV92,\"\"))","v":""},{"$f":"IF(Data!$E92=30,Data!ED92,\"\")","v":""},{"$f":"IF(Data!$E92=30,Data!EE92,\"\")","v":""},{"$f":"IF(Data!$E92=30,Data!EF92,IF(Data!AW92<>\"\",Data!AW92,\"\"))","v":""},{"$f":"IF(Data!$E92=30,Data!EG92,\"\")","v":""},{"$f":"IF(Data!$E92=30,Data!EH92,\"\")","v":""},{"$f":"IF(Data!$E92=30,Data!EI92,IF(Data!AX92<>\"\",Data!AX92,\"\"))","v":""},{"$f":"IF(Data!$E92=30,Data!EJ92,\"\")","v":""},{"$f":"IF(Data!$E92=30,Data!EK92,\"\")","v":""},{"$f":"IF(Data!$E92=30,Data!EL92,IF(Data!AY92<>\"\",Data!AY92,\"\"))","v":""},{"$f":"IF(Data!$E92=30,Data!EM92,\"\")","v":""},{"$f":"IF(Data!$E92=30,Data!EN92,\"\")","v":""},{"$f":"IF(Data!$E92=30,Data!EO92,IF(Data!AZ92<>\"\",Data!AZ92,\"\"))","v":""},{"$f":"IF(Data!$E92=30,Data!EP92,\"\")","v":""},{"$f":"IF(Data!$E92=30,Data!EQ92,\"\")","v":""},{"$f":"IF(Data!$E92=30,Data!ER92,IF(Data!BA92<>\"\",Data!BA92,\"\"))","v":""},{"$f":"IF(Data!$E92=30,Data!ES92,\"\")","v":""},{"$f":"IF(Data!$E92=30,Data!ET92,\"\")","v":""},{"$f":"IF(Data!$E92=30,Data!EU92,IF(Data!BB92<>\"\",Data!BB92,\"\"))","v":""},{"$f":"IF(Data!$E92=30,Data!EV92,\"\")","v":""},{"$f":"IF(Data!$E92=30,Data!EW92,\"\")","v":""},{"$f":"IF(Data!$E92=30,Data!EX92,IF(Data!Z92<>\"\",Data!BC92,\"\"))","v":""},{"$f":"IF(Data!$E92=30,Data!EY92,\"\")","v":""},null,null,null,{"$f":"IF(Data!$E92=30,Data!EZ92,\"\")","v":""},{"$f":"IF(Data!$E92=30,Data!FA92,IF(Data!BD92<>\"\",Data!BD92,\"\"))","v":""},{"$f":"IF(Data!$E92=30,Data!FB92,\"\")","v":""},{"$f":"IF(Data!$E92=30,Data!FC92,\"\")","v":""},{"$f":"IF(Data!$E92=30,Data!FD92,IF(Data!BE92<>\"\",Data!BE92,\"\"))","v":""},{"$f":"IF(Data!$E92=30,Data!FE92,\"\")","v":""},{"$f":"IF(Data!$E92=30,Data!FF92,\"\")","v":""},{"$f":"IF(Data!$E92=30,Data!FG92,IF(Data!BF92<>\"\",Data!BF92,\"\"))","v":""},{"$f":"IF(Data!$E92=30,Data!FH92,\"\")","v":""},{"$f":"IF(Data!$E92=30,Data!FI92,\"\")","v":""},{"$f":"IF(Data!$E92=30,Data!FJ92,IF(Data!BG92<>\"\",Data!BG92,\"\"))","v":""},{"$f":"IF(Data!$E92=30,Data!FK92,\"\")","v":""},{"$f":"IF(Data!$E92=30,Data!FL92,\"\")","v":""},{"$f":"IF(Data!$E92=30,Data!FM92,IF(Data!BH92<>\"\",Data!BH92,\"\"))","v":""},{"$f":"IF(Data!$E92=30,Data!FN92,\"\")","v":""},{"$f":"IF(Data!$E92=30,Data!FO92,\"\")","v":""},{"$f":"IF(Data!$E92=30,Data!FP92,IF(Data!BI92<>\"\",Data!BI92,\"\"))","v":""},{"$f":"IF(Data!$E92=30,Data!FQ92,\"\")","v":""},{"$f":"IF(Data!$E92=30,Data!FR92,\"\")","v":""},{"$f":"IF(Data!$E92=30,Data!FS92,IF(Data!BJ92<>\"\",Data!BJ92,\"\"))","v":""},{"$f":"IF(Data!$E92=30,Data!FT92,\"\")","v":""},{"$f":"IF(Data!$E92=30,Data!FU92,\"\")","v":""},{"$f":"IF(Data!$E92=30,Data!FV92,IF(Data!BK92<>\"\",Data!BK92,\"\"))","v":""},{"$f":"IF(Data!$E92=30,Data!FW92,\"\")","v":""},{"$f":"IF(Data!$E92=30,Data!FX92,\"\")","v":""},{"$f":"IF(Data!$E92=30,Data!FY92,IF(Data!BL92<>\"\",Data!BL92,\"\"))","v":""},{"$f":"IF(Data!$E92=30,Data!FZ92,\"\")","v":""},{"$f":"IF(Data!$E92=30,Data!GA92,\"\")","v":""},{"$f":"IF(Data!$E92=30,Data!GB92,IF(Data!BM92<>\"\",Data!BM92,\"\"))","v":""},{"$f":"IF(Data!$E92=30,Data!GC92,\"\")","v":""}]
[null,{"$f":"IF(Data!A93<>\"\",Data!A93,\"\")","v":""},{"$f":"IF(Data!$E93=30,Data!DV93,\"\")","v":""},{"$f":"IF(Data!$E93=30,Data!DW93,IF(Data!AT93<>\"\",Data!AT93,\"\"))","v":""},{"$f":"IF(Data!$E93=30,Data!DX93,\"\")","v":""},{"$f":"IF(Data!$E93=30,Data!DY93,\"\")","v":""},{"$f":"IF(Data!$E93=30,Data!DZ93,IF(Data!AU93<>\"\",Data!AU93,\"\"))","v":""},{"$f":"IF(Data!$E93=30,Data!EA93,\"\")","v":""},{"$f":"IF(Data!$E93=30,Data!EB93,\"\")","v":""},{"$f":"IF(Data!$E93=30,Data!EC93,IF(Data!AV93<>\"\",Data!AV93,\"\"))","v":""},{"$f":"IF(Data!$E93=30,Data!ED93,\"\")","v":""},{"$f":"IF(Data!$E93=30,Data!EE93,\"\")","v":""},{"$f":"IF(Data!$E93=30,Data!EF93,IF(Data!AW93<>\"\",Data!AW93,\"\"))","v":""},{"$f":"IF(Data!$E93=30,Data!EG93,\"\")","v":""},{"$f":"IF(Data!$E93=30,Data!EH93,\"\")","v":""},{"$f":"IF(Data!$E93=30,Data!EI93,IF(Data!AX93<>\"\",Data!AX93,\"\"))","v":""},{"$f":"IF(Data!$E93=30,Data!EJ93,\"\")","v":""},{"$f":"IF(Data!$E93=30,Data!EK93,\"\")","v":""},{"$f":"IF(Data!$E93=30,Data!EL93,IF(Data!AY93<>\"\",Data!AY93,\"\"))","v":""},{"$f":"IF(Data!$E93=30,Data!EM93,\"\")","v":""},{"$f":"IF(Data!$E93=30,Data!EN93,\"\")","v":""},{"$f":"IF(Data!$E93=30,Data!EO93,IF(Data!AZ93<>\"\",Data!AZ93,\"\"))","v":""},{"$f":"IF(Data!$E93=30,Data!EP93,\"\")","v":""},{"$f":"IF(Data!$E93=30,Data!EQ93,\"\")","v":""},{"$f":"IF(Data!$E93=30,Data!ER93,IF(Data!BA93<>\"\",Data!BA93,\"\"))","v":""},{"$f":"IF(Data!$E93=30,Data!ES93,\"\")","v":""},{"$f":"IF(Data!$E93=30,Data!ET93,\"\")","v":""},{"$f":"IF(Data!$E93=30,Data!EU93,IF(Data!BB93<>\"\",Data!BB93,\"\"))","v":""},{"$f":"IF(Data!$E93=30,Data!EV93,\"\")","v":""},{"$f":"IF(Data!$E93=30,Data!EW93,\"\")","v":""},{"$f":"IF(Data!$E93=30,Data!EX93,IF(Data!Z93<>\"\",Data!BC93,\"\"))","v":""},{"$f":"IF(Data!$E93=30,Data!EY93,\"\")","v":""},null,null,null,{"$f":"IF(Data!$E93=30,Data!EZ93,\"\")","v":""},{"$f":"IF(Data!$E93=30,Data!FA93,IF(Data!BD93<>\"\",Data!BD93,\"\"))","v":""},{"$f":"IF(Data!$E93=30,Data!FB93,\"\")","v":""},{"$f":"IF(Data!$E93=30,Data!FC93,\"\")","v":""},{"$f":"IF(Data!$E93=30,Data!FD93,IF(Data!BE93<>\"\",Data!BE93,\"\"))","v":""},{"$f":"IF(Data!$E93=30,Data!FE93,\"\")","v":""},{"$f":"IF(Data!$E93=30,Data!FF93,\"\")","v":""},{"$f":"IF(Data!$E93=30,Data!FG93,IF(Data!BF93<>\"\",Data!BF93,\"\"))","v":""},{"$f":"IF(Data!$E93=30,Data!FH93,\"\")","v":""},{"$f":"IF(Data!$E93=30,Data!FI93,\"\")","v":""},{"$f":"IF(Data!$E93=30,Data!FJ93,IF(Data!BG93<>\"\",Data!BG93,\"\"))","v":""},{"$f":"IF(Data!$E93=30,Data!FK93,\"\")","v":""},{"$f":"IF(Data!$E93=30,Data!FL93,\"\")","v":""},{"$f":"IF(Data!$E93=30,Data!FM93,IF(Data!BH93<>\"\",Data!BH93,\"\"))","v":""},{"$f":"IF(Data!$E93=30,Data!FN93,\"\")","v":""},{"$f":"IF(Data!$E93=30,Data!FO93,\"\")","v":""},{"$f":"IF(Data!$E93=30,Data!FP93,IF(Data!BI93<>\"\",Data!BI93,\"\"))","v":""},{"$f":"IF(Data!$E93=30,Data!FQ93,\"\")","v":""},{"$f":"IF(Data!$E93=30,Data!FR93,\"\")","v":""},{"$f":"IF(Data!$E93=30,Data!FS93,IF(Data!BJ93<>\"\",Data!BJ93,\"\"))","v":""},{"$f":"IF(Data!$E93=30,Data!FT93,\"\")","v":""},{"$f":"IF(Data!$E93=30,Data!FU93,\"\")","v":""},{"$f":"IF(Data!$E93=30,Data!FV93,IF(Data!BK93<>\"\",Data!BK93,\"\"))","v":""},{"$f":"IF(Data!$E93=30,Data!FW93,\"\")","v":""},{"$f":"IF(Data!$E93=30,Data!FX93,\"\")","v":""},{"$f":"IF(Data!$E93=30,Data!FY93,IF(Data!BL93<>\"\",Data!BL93,\"\"))","v":""},{"$f":"IF(Data!$E93=30,Data!FZ93,\"\")","v":""},{"$f":"IF(Data!$E93=30,Data!GA93,\"\")","v":""},{"$f":"IF(Data!$E93=30,Data!GB93,IF(Data!BM93<>\"\",Data!BM93,\"\"))","v":""},{"$f":"IF(Data!$E93=30,Data!GC93,\"\")","v":""}]
[null,{"$f":"IF(Data!A94<>\"\",Data!A94,\"\")","v":""},{"$f":"IF(Data!$E94=30,Data!DV94,\"\")","v":""},{"$f":"IF(Data!$E94=30,Data!DW94,IF(Data!AT94<>\"\",Data!AT94,\"\"))","v":""},{"$f":"IF(Data!$E94=30,Data!DX94,\"\")","v":""},{"$f":"IF(Data!$E94=30,Data!DY94,\"\")","v":""},{"$f":"IF(Data!$E94=30,Data!DZ94,IF(Data!AU94<>\"\",Data!AU94,\"\"))","v":""},{"$f":"IF(Data!$E94=30,Data!EA94,\"\")","v":""},{"$f":"IF(Data!$E94=30,Data!EB94,\"\")","v":""},{"$f":"IF(Data!$E94=30,Data!EC94,IF(Data!AV94<>\"\",Data!AV94,\"\"))","v":""},{"$f":"IF(Data!$E94=30,Data!ED94,\"\")","v":""},{"$f":"IF(Data!$E94=30,Data!EE94,\"\")","v":""},{"$f":"IF(Data!$E94=30,Data!EF94,IF(Data!AW94<>\"\",Data!AW94,\"\"))","v":""},{"$f":"IF(Data!$E94=30,Data!EG94,\"\")","v":""},{"$f":"IF(Data!$E94=30,Data!EH94,\"\")","v":""},{"$f":"IF(Data!$E94=30,Data!EI94,IF(Data!AX94<>\"\",Data!AX94,\"\"))","v":""},{"$f":"IF(Data!$E94=30,Data!EJ94,\"\")","v":""},{"$f":"IF(Data!$E94=30,Data!EK94,\"\")","v":""},{"$f":"IF(Data!$E94=30,Data!EL94,IF(Data!AY94<>\"\",Data!AY94,\"\"))","v":""},{"$f":"IF(Data!$E94=30,Data!EM94,\"\")","v":""},{"$f":"IF(Data!$E94=30,Data!EN94,\"\")","v":""},{"$f":"IF(Data!$E94=30,Data!EO94,IF(Data!AZ94<>\"\",Data!AZ94,\"\"))","v":""},{"$f":"IF(Data!$E94=30,Data!EP94,\"\")","v":""},{"$f":"IF(Data!$E94=30,Data!EQ94,\"\")","v":""},{"$f":"IF(Data!$E94=30,Data!ER94,IF(Data!BA94<>\"\",Data!BA94,\"\"))","v":""},{"$f":"IF(Data!$E94=30,Data!ES94,\"\")","v":""},{"$f":"IF(Data!$E94=30,Data!ET94,\"\")","v":""},{"$f":"IF(Data!$E94=30,Data!EU94,IF(Data!BB94<>\"\",Data!BB94,\"\"))","v":""},{"$f":"IF(Data!$E94=30,Data!EV94,\"\")","v":""},{"$f":"IF(Data!$E94=30,Data!EW94,\"\")","v":""},{"$f":"IF(Data!$E94=30,Data!EX94,IF(Data!Z94<>\"\",Data!BC94,\"\"))","v":""},{"$f":"IF(Data!$E94=30,Data!EY94,\"\")","v":""},null,null,null,{"$f":"IF(Data!$E94=30,Data!EZ94,\"\")","v":""},{"$f":"IF(Data!$E94=30,Data!FA94,IF(Data!BD94<>\"\",Data!BD94,\"\"))","v":""},{"$f":"IF(Data!$E94=30,Data!FB94,\"\")","v":""},{"$f":"IF(Data!$E94=30,Data!FC94,\"\")","v":""},{"$f":"IF(Data!$E94=30,Data!FD94,IF(Data!BE94<>\"\",Data!BE94,\"\"))","v":""},{"$f":"IF(Data!$E94=30,Data!FE94,\"\")","v":""},{"$f":"IF(Data!$E94=30,Data!FF94,\"\")","v":""},{"$f":"IF(Data!$E94=30,Data!FG94,IF(Data!BF94<>\"\",Data!BF94,\"\"))","v":""},{"$f":"IF(Data!$E94=30,Data!FH94,\"\")","v":""},{"$f":"IF(Data!$E94=30,Data!FI94,\"\")","v":""},{"$f":"IF(Data!$E94=30,Data!FJ94,IF(Data!BG94<>\"\",Data!BG94,\"\"))","v":""},{"$f":"IF(Data!$E94=30,Data!FK94,\"\")","v":""},{"$f":"IF(Data!$E94=30,Data!FL94,\"\")","v":""},{"$f":"IF(Data!$E94=30,Data!FM94,IF(Data!BH94<>\"\",Data!BH94,\"\"))","v":""},{"$f":"IF(Data!$E94=30,Data!FN94,\"\")","v":""},{"$f":"IF(Data!$E94=30,Data!FO94,\"\")","v":""},{"$f":"IF(Data!$E94=30,Data!FP94,IF(Data!BI94<>\"\",Data!BI94,\"\"))","v":""},{"$f":"IF(Data!$E94=30,Data!FQ94,\"\")","v":""},{"$f":"IF(Data!$E94=30,Data!FR94,\"\")","v":""},{"$f":"IF(Data!$E94=30,Data!FS94,IF(Data!BJ94<>\"\",Data!BJ94,\"\"))","v":""},{"$f":"IF(Data!$E94=30,Data!FT94,\"\")","v":""},{"$f":"IF(Data!$E94=30,Data!FU94,\"\")","v":""},{"$f":"IF(Data!$E94=30,Data!FV94,IF(Data!BK94<>\"\",Data!BK94,\"\"))","v":""},{"$f":"IF(Data!$E94=30,Data!FW94,\"\")","v":""},{"$f":"IF(Data!$E94=30,Data!FX94,\"\")","v":""},{"$f":"IF(Data!$E94=30,Data!FY94,IF(Data!BL94<>\"\",Data!BL94,\"\"))","v":""},{"$f":"IF(Data!$E94=30,Data!FZ94,\"\")","v":""},{"$f":"IF(Data!$E94=30,Data!GA94,\"\")","v":""},{"$f":"IF(Data!$E94=30,Data!GB94,IF(Data!BM94<>\"\",Data!BM94,\"\"))","v":""},{"$f":"IF(Data!$E94=30,Data!GC94,\"\")","v":""}]
[null,{"$f":"IF(Data!A95<>\"\",Data!A95,\"\")","v":""},{"$f":"IF(Data!$E95=30,Data!DV95,\"\")","v":""},{"$f":"IF(Data!$E95=30,Data!DW95,IF(Data!AT95<>\"\",Data!AT95,\"\"))","v":""},{"$f":"IF(Data!$E95=30,Data!DX95,\"\")","v":""},{"$f":"IF(Data!$E95=30,Data!DY95,\"\")","v":""},{"$f":"IF(Data!$E95=30,Data!DZ95,IF(Data!AU95<>\"\",Data!AU95,\"\"))","v":""},{"$f":"IF(Data!$E95=30,Data!EA95,\"\")","v":""},{"$f":"IF(Data!$E95=30,Data!EB95,\"\")","v":""},{"$f":"IF(Data!$E95=30,Data!EC95,IF(Data!AV95<>\"\",Data!AV95,\"\"))","v":""},{"$f":"IF(Data!$E95=30,Data!ED95,\"\")","v":""},{"$f":"IF(Data!$E95=30,Data!EE95,\"\")","v":""},{"$f":"IF(Data!$E95=30,Data!EF95,IF(Data!AW95<>\"\",Data!AW95,\"\"))","v":""},{"$f":"IF(Data!$E95=30,Data!EG95,\"\")","v":""},{"$f":"IF(Data!$E95=30,Data!EH95,\"\")","v":""},{"$f":"IF(Data!$E95=30,Data!EI95,IF(Data!AX95<>\"\",Data!AX95,\"\"))","v":""},{"$f":"IF(Data!$E95=30,Data!EJ95,\"\")","v":""},{"$f":"IF(Data!$E95=30,Data!EK95,\"\")","v":""},{"$f":"IF(Data!$E95=30,Data!EL95,IF(Data!AY95<>\"\",Data!AY95,\"\"))","v":""},{"$f":"IF(Data!$E95=30,Data!EM95,\"\")","v":""},{"$f":"IF(Data!$E95=30,Data!EN95,\"\")","v":""},{"$f":"IF(Data!$E95=30,Data!EO95,IF(Data!AZ95<>\"\",Data!AZ95,\"\"))","v":""},{"$f":"IF(Data!$E95=30,Data!EP95,\"\")","v":""},{"$f":"IF(Data!$E95=30,Data!EQ95,\"\")","v":""},{"$f":"IF(Data!$E95=30,Data!ER95,IF(Data!BA95<>\"\",Data!BA95,\"\"))","v":""},{"$f":"IF(Data!$E95=30,Data!ES95,\"\")","v":""},{"$f":"IF(Data!$E95=30,Data!ET95,\"\")","v":""},{"$f":"IF(Data!$E95=30,Data!EU95,IF(Data!BB95<>\"\",Data!BB95,\"\"))","v":""},{"$f":"IF(Data!$E95=30,Data!EV95,\"\")","v":""},{"$f":"IF(Data!$E95=30,Data!EW95,\"\")","v":""},{"$f":"IF(Data!$E95=30,Data!EX95,IF(Data!Z95<>\"\",Data!BC95,\"\"))","v":""},{"$f":"IF(Data!$E95=30,Data!EY95,\"\")","v":""},null,null,null,{"$f":"IF(Data!$E95=30,Data!EZ95,\"\")","v":""},{"$f":"IF(Data!$E95=30,Data!FA95,IF(Data!BD95<>\"\",Data!BD95,\"\"))","v":""},{"$f":"IF(Data!$E95=30,Data!FB95,\"\")","v":""},{"$f":"IF(Data!$E95=30,Data!FC95,\"\")","v":""},{"$f":"IF(Data!$E95=30,Data!FD95,IF(Data!BE95<>\"\",Data!BE95,\"\"))","v":""},{"$f":"IF(Data!$E95=30,Data!FE95,\"\")","v":""},{"$f":"IF(Data!$E95=30,Data!FF95,\"\")","v":""},{"$f":"IF(Data!$E95=30,Data!FG95,IF(Data!BF95<>\"\",Data!BF95,\"\"))","v":""},{"$f":"IF(Data!$E95=30,Data!FH95,\"\")","v":""},{"$f":"IF(Data!$E95=30,Data!FI95,\"\")","v":""},{"$f":"IF(Data!$E95=30,Data!FJ95,IF(Data!BG95<>\"\",Data!BG95,\"\"))","v":""},{"$f":"IF(Data!$E95=30,Data!FK95,\"\")","v":""},{"$f":"IF(Data!$E95=30,Data!FL95,\"\")","v":""},{"$f":"IF(Data!$E95=30,Data!FM95,IF(Data!BH95<>\"\",Data!BH95,\"\"))","v":""},{"$f":"IF(Data!$E95=30,Data!FN95,\"\")","v":""},{"$f":"IF(Data!$E95=30,Data!FO95,\"\")","v":""},{"$f":"IF(Data!$E95=30,Data!FP95,IF(Data!BI95<>\"\",Data!BI95,\"\"))","v":""},{"$f":"IF(Data!$E95=30,Data!FQ95,\"\")","v":""},{"$f":"IF(Data!$E95=30,Data!FR95,\"\")","v":""},{"$f":"IF(Data!$E95=30,Data!FS95,IF(Data!BJ95<>\"\",Data!BJ95,\"\"))","v":""},{"$f":"IF(Data!$E95=30,Data!FT95,\"\")","v":""},{"$f":"IF(Data!$E95=30,Data!FU95,\"\")","v":""},{"$f":"IF(Data!$E95=30,Data!FV95,IF(Data!BK95<>\"\",Data!BK95,\"\"))","v":""},{"$f":"IF(Data!$E95=30,Data!FW95,\"\")","v":""},{"$f":"IF(Data!$E95=30,Data!FX95,\"\")","v":""},{"$f":"IF(Data!$E95=30,Data!FY95,IF(Data!BL95<>\"\",Data!BL95,\"\"))","v":""},{"$f":"IF(Data!$E95=30,Data!FZ95,\"\")","v":""},{"$f":"IF(Data!$E95=30,Data!GA95,\"\")","v":""},{"$f":"IF(Data!$E95=30,Data!GB95,IF(Data!BM95<>\"\",Data!BM95,\"\"))","v":""},{"$f":"IF(Data!$E95=30,Data!GC95,\"\")","v":""}]
[null,{"$f":"IF(Data!A96<>\"\",Data!A96,\"\")","v":""},{"$f":"IF(Data!$E96=30,Data!DV96,\"\")","v":""},{"$f":"IF(Data!$E96=30,Data!DW96,IF(Data!AT96<>\"\",Data!AT96,\"\"))","v":""},{"$f":"IF(Data!$E96=30,Data!DX96,\"\")","v":""},{"$f":"IF(Data!$E96=30,Data!DY96,\"\")","v":""},{"$f":"IF(Data!$E96=30,Data!DZ96,IF(Data!AU96<>\"\",Data!AU96,\"\"))","v":""},{"$f":"IF(Data!$E96=30,Data!EA96,\"\")","v":""},{"$f":"IF(Data!$E96=30,Data!EB96,\"\")","v":""},{"$f":"IF(Data!$E96=30,Data!EC96,IF(Data!AV96<>\"\",Data!AV96,\"\"))","v":""},{"$f":"IF(Data!$E96=30,Data!ED96,\"\")","v":""},{"$f":"IF(Data!$E96=30,Data!EE96,\"\")","v":""},{"$f":"IF(Data!$E96=30,Data!EF96,IF(Data!AW96<>\"\",Data!AW96,\"\"))","v":""},{"$f":"IF(Data!$E96=30,Data!EG96,\"\")","v":""},{"$f":"IF(Data!$E96=30,Data!EH96,\"\")","v":""},{"$f":"IF(Data!$E96=30,Data!EI96,IF(Data!AX96<>\"\",Data!AX96,\"\"))","v":""},{"$f":"IF(Data!$E96=30,Data!EJ96,\"\")","v":""},{"$f":"IF(Data!$E96=30,Data!EK96,\"\")","v":""},{"$f":"IF(Data!$E96=30,Data!EL96,IF(Data!AY96<>\"\",Data!AY96,\"\"))","v":""},{"$f":"IF(Data!$E96=30,Data!EM96,\"\")","v":""},{"$f":"IF(Data!$E96=30,Data!EN96,\"\")","v":""},{"$f":"IF(Data!$E96=30,Data!EO96,IF(Data!AZ96<>\"\",Data!AZ96,\"\"))","v":""},{"$f":"IF(Data!$E96=30,Data!EP96,\"\")","v":""},{"$f":"IF(Data!$E96=30,Data!EQ96,\"\")","v":""},{"$f":"IF(Data!$E96=30,Data!ER96,IF(Data!BA96<>\"\",Data!BA96,\"\"))","v":""},{"$f":"IF(Data!$E96=30,Data!ES96,\"\")","v":""},{"$f":"IF(Data!$E96=30,Data!ET96,\"\")","v":""},{"$f":"IF(Data!$E96=30,Data!EU96,IF(Data!BB96<>\"\",Data!BB96,\"\"))","v":""},{"$f":"IF(Data!$E96=30,Data!EV96,\"\")","v":""},{"$f":"IF(Data!$E96=30,Data!EW96,\"\")","v":""},{"$f":"IF(Data!$E96=30,Data!EX96,IF(Data!Z96<>\"\",Data!BC96,\"\"))","v":""},{"$f":"IF(Data!$E96=30,Data!EY96,\"\")","v":""},null,null,null,{"$f":"IF(Data!$E96=30,Data!EZ96,\"\")","v":""},{"$f":"IF(Data!$E96=30,Data!FA96,IF(Data!BD96<>\"\",Data!BD96,\"\"))","v":""},{"$f":"IF(Data!$E96=30,Data!FB96,\"\")","v":""},{"$f":"IF(Data!$E96=30,Data!FC96,\"\")","v":""},{"$f":"IF(Data!$E96=30,Data!FD96,IF(Data!BE96<>\"\",Data!BE96,\"\"))","v":""},{"$f":"IF(Data!$E96=30,Data!FE96,\"\")","v":""},{"$f":"IF(Data!$E96=30,Data!FF96,\"\")","v":""},{"$f":"IF(Data!$E96=30,Data!FG96,IF(Data!BF96<>\"\",Data!BF96,\"\"))","v":""},{"$f":"IF(Data!$E96=30,Data!FH96,\"\")","v":""},{"$f":"IF(Data!$E96=30,Data!FI96,\"\")","v":""},{"$f":"IF(Data!$E96=30,Data!FJ96,IF(Data!BG96<>\"\",Data!BG96,\"\"))","v":""},{"$f":"IF(Data!$E96=30,Data!FK96,\"\")","v":""},{"$f":"IF(Data!$E96=30,Data!FL96,\"\")","v":""},{"$f":"IF(Data!$E96=30,Data!FM96,IF(Data!BH96<>\"\",Data!BH96,\"\"))","v":""},{"$f":"IF(Data!$E96=30,Data!FN96,\"\")","v":""},{"$f":"IF(Data!$E96=30,Data!FO96,\"\")","v":""},{"$f":"IF(Data!$E96=30,Data!FP96,IF(Data!BI96<>\"\",Data!BI96,\"\"))","v":""},{"$f":"IF(Data!$E96=30,Data!FQ96,\"\")","v":""},{"$f":"IF(Data!$E96=30,Data!FR96,\"\")","v":""},{"$f":"IF(Data!$E96=30,Data!FS96,IF(Data!BJ96<>\"\",Data!BJ96,\"\"))","v":""},{"$f":"IF(Data!$E96=30,Data!FT96,\"\")","v":""},{"$f":"IF(Data!$E96=30,Data!FU96,\"\")","v":""},{"$f":"IF(Data!$E96=30,Data!FV96,IF(Data!BK96<>\"\",Data!BK96,\"\"))","v":""},{"$f":"IF(Data!$E96=30,Data!FW96,\"\")","v":""},{"$f":"IF(Data!$E96=30,Data!FX96,\"\")","v":""},{"$f":"IF(Data!$E96=30,Data!FY96,IF(Data!BL96<>\"\",Data!BL96,\"\"))","v":""},{"$f":"IF(Data!$E96=30,Data!FZ96,\"\")","v":""},{"$f":"IF(Data!$E96=30,Data!GA96,\"\")","v":""},{"$f":"IF(Data!$E96=30,Data!GB96,IF(Data!BM96<>\"\",Data!BM96,\"\"))","v":""},{"$f":"IF(Data!$E96=30,Data!GC96,\"\")","v":""}]
[null,{"$f":"IF(Data!A97<>\"\",Data!A97,\"\")","v":""},{"$f":"IF(Data!$E97=30,Data!DV97,\"\")","v":""},{"$f":"IF(Data!$E97=30,Data!DW97,IF(Data!AT97<>\"\",Data!AT97,\"\"))","v":""},{"$f":"IF(Data!$E97=30,Data!DX97,\"\")","v":""},{"$f":"IF(Data!$E97=30,Data!DY97,\"\")","v":""},{"$f":"IF(Data!$E97=30,Data!DZ97,IF(Data!AU97<>\"\",Data!AU97,\"\"))","v":""},{"$f":"IF(Data!$E97=30,Data!EA97,\"\")","v":""},{"$f":"IF(Data!$E97=30,Data!EB97,\"\")","v":""},{"$f":"IF(Data!$E97=30,Data!EC97,IF(Data!AV97<>\"\",Data!AV97,\"\"))","v":""},{"$f":"IF(Data!$E97=30,Data!ED97,\"\")","v":""},{"$f":"IF(Data!$E97=30,Data!EE97,\"\")","v":""},{"$f":"IF(Data!$E97=30,Data!EF97,IF(Data!AW97<>\"\",Data!AW97,\"\"))","v":""},{"$f":"IF(Data!$E97=30,Data!EG97,\"\")","v":""},{"$f":"IF(Data!$E97=30,Data!EH97,\"\")","v":""},{"$f":"IF(Data!$E97=30,Data!EI97,IF(Data!AX97<>\"\",Data!AX97,\"\"))","v":""},{"$f":"IF(Data!$E97=30,Data!EJ97,\"\")","v":""},{"$f":"IF(Data!$E97=30,Data!EK97,\"\")","v":""},{"$f":"IF(Data!$E97=30,Data!EL97,IF(Data!AY97<>\"\",Data!AY97,\"\"))","v":""},{"$f":"IF(Data!$E97=30,Data!EM97,\"\")","v":""},{"$f":"IF(Data!$E97=30,Data!EN97,\"\")","v":""},{"$f":"IF(Data!$E97=30,Data!EO97,IF(Data!AZ97<>\"\",Data!AZ97,\"\"))","v":""},{"$f":"IF(Data!$E97=30,Data!EP97,\"\")","v":""},{"$f":"IF(Data!$E97=30,Data!EQ97,\"\")","v":""},{"$f":"IF(Data!$E97=30,Data!ER97,IF(Data!BA97<>\"\",Data!BA97,\"\"))","v":""},{"$f":"IF(Data!$E97=30,Data!ES97,\"\")","v":""},{"$f":"IF(Data!$E97=30,Data!ET97,\"\")","v":""},{"$f":"IF(Data!$E97=30,Data!EU97,IF(Data!BB97<>\"\",Data!BB97,\"\"))","v":""},{"$f":"IF(Data!$E97=30,Data!EV97,\"\")","v":""},{"$f":"IF(Data!$E97=30,Data!EW97,\"\")","v":""},{"$f":"IF(Data!$E97=30,Data!EX97,IF(Data!Z97<>\"\",Data!BC97,\"\"))","v":""},{"$f":"IF(Data!$E97=30,Data!EY97,\"\")","v":""},null,null,null,{"$f":"IF(Data!$E97=30,Data!EZ97,\"\")","v":""},{"$f":"IF(Data!$E97=30,Data!FA97,IF(Data!BD97<>\"\",Data!BD97,\"\"))","v":""},{"$f":"IF(Data!$E97=30,Data!FB97,\"\")","v":""},{"$f":"IF(Data!$E97=30,Data!FC97,\"\")","v":""},{"$f":"IF(Data!$E97=30,Data!FD97,IF(Data!BE97<>\"\",Data!BE97,\"\"))","v":""},{"$f":"IF(Data!$E97=30,Data!FE97,\"\")","v":""},{"$f":"IF(Data!$E97=30,Data!FF97,\"\")","v":""},{"$f":"IF(Data!$E97=30,Data!FG97,IF(Data!BF97<>\"\",Data!BF97,\"\"))","v":""},{"$f":"IF(Data!$E97=30,Data!FH97,\"\")","v":""},{"$f":"IF(Data!$E97=30,Data!FI97,\"\")","v":""},{"$f":"IF(Data!$E97=30,Data!FJ97,IF(Data!BG97<>\"\",Data!BG97,\"\"))","v":""},{"$f":"IF(Data!$E97=30,Data!FK97,\"\")","v":""},{"$f":"IF(Data!$E97=30,Data!FL97,\"\")","v":""},{"$f":"IF(Data!$E97=30,Data!FM97,IF(Data!BH97<>\"\",Data!BH97,\"\"))","v":""},{"$f":"IF(Data!$E97=30,Data!FN97,\"\")","v":""},{"$f":"IF(Data!$E97=30,Data!FO97,\"\")","v":""},{"$f":"IF(Data!$E97=30,Data!FP97,IF(Data!BI97<>\"\",Data!BI97,\"\"))","v":""},{"$f":"IF(Data!$E97=30,Data!FQ97,\"\")","v":""},{"$f":"IF(Data!$E97=30,Data!FR97,\"\")","v":""},{"$f":"IF(Data!$E97=30,Data!FS97,IF(Data!BJ97<>\"\",Data!BJ97,\"\"))","v":""},{"$f":"IF(Data!$E97=30,Data!FT97,\"\")","v":""},{"$f":"IF(Data!$E97=30,Data!FU97,\"\")","v":""},{"$f":"IF(Data!$E97=30,Data!FV97,IF(Data!BK97<>\"\",Data!BK97,\"\"))","v":""},{"$f":"IF(Data!$E97=30,Data!FW97,\"\")","v":""},{"$f":"IF(Data!$E97=30,Data!FX97,\"\")","v":""},{"$f":"IF(Data!$E97=30,Data!FY97,IF(Data!BL97<>\"\",Data!BL97,\"\"))","v":""},{"$f":"IF(Data!$E97=30,Data!FZ97,\"\")","v":""},{"$f":"IF(Data!$E97=30,Data!GA97,\"\")","v":""},{"$f":"IF(Data!$E97=30,Data!GB97,IF(Data!BM97<>\"\",Data!BM97,\"\"))","v":""},{"$f":"IF(Data!$E97=30,Data!GC97,\"\")","v":""}]
[null,{"$f":"IF(Data!A98<>\"\",Data!A98,\"\")","v":""},{"$f":"IF(Data!$E98=30,Data!DV98,\"\")","v":""},{"$f":"IF(Data!$E98=30,Data!DW98,IF(Data!AT98<>\"\",Data!AT98,\"\"))","v":""},{"$f":"IF(Data!$E98=30,Data!DX98,\"\")","v":""},{"$f":"IF(Data!$E98=30,Data!DY98,\"\")","v":""},{"$f":"IF(Data!$E98=30,Data!DZ98,IF(Data!AU98<>\"\",Data!AU98,\"\"))","v":""},{"$f":"IF(Data!$E98=30,Data!EA98,\"\")","v":""},{"$f":"IF(Data!$E98=30,Data!EB98,\"\")","v":""},{"$f":"IF(Data!$E98=30,Data!EC98,IF(Data!AV98<>\"\",Data!AV98,\"\"))","v":""},{"$f":"IF(Data!$E98=30,Data!ED98,\"\")","v":""},{"$f":"IF(Data!$E98=30,Data!EE98,\"\")","v":""},{"$f":"IF(Data!$E98=30,Data!EF98,IF(Data!AW98<>\"\",Data!AW98,\"\"))","v":""},{"$f":"IF(Data!$E98=30,Data!EG98,\"\")","v":""},{"$f":"IF(Data!$E98=30,Data!EH98,\"\")","v":""},{"$f":"IF(Data!$E98=30,Data!EI98,IF(Data!AX98<>\"\",Data!AX98,\"\"))","v":""},{"$f":"IF(Data!$E98=30,Data!EJ98,\"\")","v":""},{"$f":"IF(Data!$E98=30,Data!EK98,\"\")","v":""},{"$f":"IF(Data!$E98=30,Data!EL98,IF(Data!AY98<>\"\",Data!AY98,\"\"))","v":""},{"$f":"IF(Data!$E98=30,Data!EM98,\"\")","v":""},{"$f":"IF(Data!$E98=30,Data!EN98,\"\")","v":""},{"$f":"IF(Data!$E98=30,Data!EO98,IF(Data!AZ98<>\"\",Data!AZ98,\"\"))","v":""},{"$f":"IF(Data!$E98=30,Data!EP98,\"\")","v":""},{"$f":"IF(Data!$E98=30,Data!EQ98,\"\")","v":""},{"$f":"IF(Data!$E98=30,Data!ER98,IF(Data!BA98<>\"\",Data!BA98,\"\"))","v":""},{"$f":"IF(Data!$E98=30,Data!ES98,\"\")","v":""},{"$f":"IF(Data!$E98=30,Data!ET98,\"\")","v":""},{"$f":"IF(Data!$E98=30,Data!EU98,IF(Data!BB98<>\"\",Data!BB98,\"\"))","v":""},{"$f":"IF(Data!$E98=30,Data!EV98,\"\")","v":""},{"$f":"IF(Data!$E98=30,Data!EW98,\"\")","v":""},{"$f":"IF(Data!$E98=30,Data!EX98,IF(Data!Z98<>\"\",Data!BC98,\"\"))","v":""},{"$f":"IF(Data!$E98=30,Data!EY98,\"\")","v":""},null,null,null,{"$f":"IF(Data!$E98=30,Data!EZ98,\"\")","v":""},{"$f":"IF(Data!$E98=30,Data!FA98,IF(Data!BD98<>\"\",Data!BD98,\"\"))","v":""},{"$f":"IF(Data!$E98=30,Data!FB98,\"\")","v":""},{"$f":"IF(Data!$E98=30,Data!FC98,\"\")","v":""},{"$f":"IF(Data!$E98=30,Data!FD98,IF(Data!BE98<>\"\",Data!BE98,\"\"))","v":""},{"$f":"IF(Data!$E98=30,Data!FE98,\"\")","v":""},{"$f":"IF(Data!$E98=30,Data!FF98,\"\")","v":""},{"$f":"IF(Data!$E98=30,Data!FG98,IF(Data!BF98<>\"\",Data!BF98,\"\"))","v":""},{"$f":"IF(Data!$E98=30,Data!FH98,\"\")","v":""},{"$f":"IF(Data!$E98=30,Data!FI98,\"\")","v":""},{"$f":"IF(Data!$E98=30,Data!FJ98,IF(Data!BG98<>\"\",Data!BG98,\"\"))","v":""},{"$f":"IF(Data!$E98=30,Data!FK98,\"\")","v":""},{"$f":"IF(Data!$E98=30,Data!FL98,\"\")","v":""},{"$f":"IF(Data!$E98=30,Data!FM98,IF(Data!BH98<>\"\",Data!BH98,\"\"))","v":""},{"$f":"IF(Data!$E98=30,Data!FN98,\"\")","v":""},{"$f":"IF(Data!$E98=30,Data!FO98,\"\")","v":""},{"$f":"IF(Data!$E98=30,Data!FP98,IF(Data!BI98<>\"\",Data!BI98,\"\"))","v":""},{"$f":"IF(Data!$E98=30,Data!FQ98,\"\")","v":""},{"$f":"IF(Data!$E98=30,Data!FR98,\"\")","v":""},{"$f":"IF(Data!$E98=30,Data!FS98,IF(Data!BJ98<>\"\",Data!BJ98,\"\"))","v":""},{"$f":"IF(Data!$E98=30,Data!FT98,\"\")","v":""},{"$f":"IF(Data!$E98=30,Data!FU98,\"\")","v":""},{"$f":"IF(Data!$E98=30,Data!FV98,IF(Data!BK98<>\"\",Data!BK98,\"\"))","v":""},{"$f":"IF(Data!$E98=30,Data!FW98,\"\")","v":""},{"$f":"IF(Data!$E98=30,Data!FX98,\"\")","v":""},{"$f":"IF(Data!$E98=30,Data!FY98,IF(Data!BL98<>\"\",Data!BL98,\"\"))","v":""},{"$f":"IF(Data!$E98=30,Data!FZ98,\"\")","v":""},{"$f":"IF(Data!$E98=30,Data!GA98,\"\")","v":""},{"$f":"IF(Data!$E98=30,Data!GB98,IF(Data!BM98<>\"\",Data!BM98,\"\"))","v":""},{"$f":"IF(Data!$E98=30,Data!GC98,\"\")","v":""}]
[null,{"$f":"IF(Data!A99<>\"\",Data!A99,\"\")","v":""},{"$f":"IF(Data!$E99=30,Data!DV99,\"\")","v":""},{"$f":"IF(Data!$E99=30,Data!DW99,IF(Data!AT99<>\"\",Data!AT99,\"\"))","v":""},{"$f":"IF(Data!$E99=30,Data!DX99,\"\")","v":""},{"$f":"IF(Data!$E99=30,Data!DY99,\"\")","v":""},{"$f":"IF(Data!$E99=30,Data!DZ99,IF(Data!AU99<>\"\",Data!AU99,\"\"))","v":""},{"$f":"IF(Data!$E99=30,Data!EA99,\"\")","v":""},{"$f":"IF(Data!$E99=30,Data!EB99,\"\")","v":""},{"$f":"IF(Data!$E99=30,Data!EC99,IF(Data!AV99<>\"\",Data!AV99,\"\"))","v":""},{"$f":"IF(Data!$E99=30,Data!ED99,\"\")","v":""},{"$f":"IF(Data!$E99=30,Data!EE99,\"\")","v":""},{"$f":"IF(Data!$E99=30,Data!EF99,IF(Data!AW99<>\"\",Data!AW99,\"\"))","v":""},{"$f":"IF(Data!$E99=30,Data!EG99,\"\")","v":""},{"$f":"IF(Data!$E99=30,Data!EH99,\"\")","v":""},{"$f":"IF(Data!$E99=30,Data!EI99,IF(Data!AX99<>\"\",Data!AX99,\"\"))","v":""},{"$f":"IF(Data!$E99=30,Data!EJ99,\"\")","v":""},{"$f":"IF(Data!$E99=30,Data!EK99,\"\")","v":""},{"$f":"IF(Data!$E99=30,Data!EL99,IF(Data!AY99<>\"\",Data!AY99,\"\"))","v":""},{"$f":"IF(Data!$E99=30,Data!EM99,\"\")","v":""},{"$f":"IF(Data!$E99=30,Data!EN99,\"\")","v":""},{"$f":"IF(Data!$E99=30,Data!EO99,IF(Data!AZ99<>\"\",Data!AZ99,\"\"))","v":""},{"$f":"IF(Data!$E99=30,Data!EP99,\"\")","v":""},{"$f":"IF(Data!$E99=30,Data!EQ99,\"\")","v":""},{"$f":"IF(Data!$E99=30,Data!ER99,IF(Data!BA99<>\"\",Data!BA99,\"\"))","v":""},{"$f":"IF(Data!$E99=30,Data!ES99,\"\")","v":""},{"$f":"IF(Data!$E99=30,Data!ET99,\"\")","v":""},{"$f":"IF(Data!$E99=30,Data!EU99,IF(Data!BB99<>\"\",Data!BB99,\"\"))","v":""},{"$f":"IF(Data!$E99=30,Data!EV99,\"\")","v":""},{"$f":"IF(Data!$E99=30,Data!EW99,\"\")","v":""},{"$f":"IF(Data!$E99=30,Data!EX99,IF(Data!Z99<>\"\",Data!BC99,\"\"))","v":""},{"$f":"IF(Data!$E99=30,Data!EY99,\"\")","v":""},null,null,null,{"$f":"IF(Data!$E99=30,Data!EZ99,\"\")","v":""},{"$f":"IF(Data!$E99=30,Data!FA99,IF(Data!BD99<>\"\",Data!BD99,\"\"))","v":""},{"$f":"IF(Data!$E99=30,Data!FB99,\"\")","v":""},{"$f":"IF(Data!$E99=30,Data!FC99,\"\")","v":""},{"$f":"IF(Data!$E99=30,Data!FD99,IF(Data!BE99<>\"\",Data!BE99,\"\"))","v":""},{"$f":"IF(Data!$E99=30,Data!FE99,\"\")","v":""},{"$f":"IF(Data!$E99=30,Data!FF99,\"\")","v":""},{"$f":"IF(Data!$E99=30,Data!FG99,IF(Data!BF99<>\"\",Data!BF99,\"\"))","v":""},{"$f":"IF(Data!$E99=30,Data!FH99,\"\")","v":""},{"$f":"IF(Data!$E99=30,Data!FI99,\"\")","v":""},{"$f":"IF(Data!$E99=30,Data!FJ99,IF(Data!BG99<>\"\",Data!BG99,\"\"))","v":""},{"$f":"IF(Data!$E99=30,Data!FK99,\"\")","v":""},{"$f":"IF(Data!$E99=30,Data!FL99,\"\")","v":""},{"$f":"IF(Data!$E99=30,Data!FM99,IF(Data!BH99<>\"\",Data!BH99,\"\"))","v":""},{"$f":"IF(Data!$E99=30,Data!FN99,\"\")","v":""},{"$f":"IF(Data!$E99=30,Data!FO99,\"\")","v":""},{"$f":"IF(Data!$E99=30,Data!FP99,IF(Data!BI99<>\"\",Data!BI99,\"\"))","v":""},{"$f":"IF(Data!$E99=30,Data!FQ99,\"\")","v":""},{"$f":"IF(Data!$E99=30,Data!FR99,\"\")","v":""},{"$f":"IF(Data!$E99=30,Data!FS99,IF(Data!BJ99<>\"\",Data!BJ99,\"\"))","v":""},{"$f":"IF(Data!$E99=30,Data!FT99,\"\")","v":""},{"$f":"IF(Data!$E99=30,Data!FU99,\"\")","v":""},{"$f":"IF(Data!$E99=30,Data!FV99,IF(Data!BK99<>\"\",Data!BK99,\"\"))","v":""},{"$f":"IF(Data!$E99=30,Data!FW99,\"\")","v":""},{"$f":"IF(Data!$E99=30,Data!FX99,\"\")","v":""},{"$f":"IF(Data!$E99=30,Data!FY99,IF(Data!BL99<>\"\",Data!BL99,\"\"))","v":""},{"$f":"IF(Data!$E99=30,Data!FZ99,\"\")","v":""},{"$f":"IF(Data!$E99=30,Data!GA99,\"\")","v":""},{"$f":"IF(Data!$E99=30,Data!GB99,IF(Data!BM99<>\"\",Data!BM99,\"\"))","v":""},{"$f":"IF(Data!$E99=30,Data!GC99,\"\")","v":""}]
[null,{"$f":"IF(Data!A100<>\"\",Data!A100,\"\")","v":""},{"$f":"IF(Data!$E100=30,Data!DV100,\"\")","v":""},{"$f":"IF(Data!$E100=30,Data!DW100,IF(Data!AT100<>\"\",Data!AT100,\"\"))","v":""},{"$f":"IF(Data!$E100=30,Data!DX100,\"\")","v":""},{"$f":"IF(Data!$E100=30,Data!DY100,\"\")","v":""},{"$f":"IF(Data!$E100=30,Data!DZ100,IF(Data!AU100<>\"\",Data!AU100,\"\"))","v":""},{"$f":"IF(Data!$E100=30,Data!EA100,\"\")","v":""},{"$f":"IF(Data!$E100=30,Data!EB100,\"\")","v":""},{"$f":"IF(Data!$E100=30,Data!EC100,IF(Data!AV100<>\"\",Data!AV100,\"\"))","v":""},{"$f":"IF(Data!$E100=30,Data!ED100,\"\")","v":""},{"$f":"IF(Data!$E100=30,Data!EE100,\"\")","v":""},{"$f":"IF(Data!$E100=30,Data!EF100,IF(Data!AW100<>\"\",Data!AW100,\"\"))","v":""},{"$f":"IF(Data!$E100=30,Data!EG100,\"\")","v":""},{"$f":"IF(Data!$E100=30,Data!EH100,\"\")","v":""},{"$f":"IF(Data!$E100=30,Data!EI100,IF(Data!AX100<>\"\",Data!AX100,\"\"))","v":""},{"$f":"IF(Data!$E100=30,Data!EJ100,\"\")","v":""},{"$f":"IF(Data!$E100=30,Data!EK100,\"\")","v":""},{"$f":"IF(Data!$E100=30,Data!EL100,IF(Data!AY100<>\"\",Data!AY100,\"\"))","v":""},{"$f":"IF(Data!$E100=30,Data!EM100,\"\")","v":""},{"$f":"IF(Data!$E100=30,Data!EN100,\"\")","v":""},{"$f":"IF(Data!$E100=30,Data!EO100,IF(Data!AZ100<>\"\",Data!AZ100,\"\"))","v":""},{"$f":"IF(Data!$E100=30,Data!EP100,\"\")","v":""},{"$f":"IF(Data!$E100=30,Data!EQ100,\"\")","v":""},{"$f":"IF(Data!$E100=30,Data!ER100,IF(Data!BA100<>\"\",Data!BA100,\"\"))","v":""},{"$f":"IF(Data!$E100=30,Data!ES100,\"\")","v":""},{"$f":"IF(Data!$E100=30,Data!ET100,\"\")","v":""},{"$f":"IF(Data!$E100=30,Data!EU100,IF(Data!BB100<>\"\",Data!BB100,\"\"))","v":""},{"$f":"IF(Data!$E100=30,Data!EV100,\"\")","v":""},{"$f":"IF(Data!$E100=30,Data!EW100,\"\")","v":""},{"$f":"IF(Data!$E100=30,Data!EX100,IF(Data!Z100<>\"\",Data!BC100,\"\"))","v":""},{"$f":"IF(Data!$E100=30,Data!EY100,\"\")","v":""},null,null,null,{"$f":"IF(Data!$E100=30,Data!EZ100,\"\")","v":""},{"$f":"IF(Data!$E100=30,Data!FA100,IF(Data!BD100<>\"\",Data!BD100,\"\"))","v":""},{"$f":"IF(Data!$E100=30,Data!FB100,\"\")","v":""},{"$f":"IF(Data!$E100=30,Data!FC100,\"\")","v":""},{"$f":"IF(Data!$E100=30,Data!FD100,IF(Data!BE100<>\"\",Data!BE100,\"\"))","v":""},{"$f":"IF(Data!$E100=30,Data!FE100,\"\")","v":""},{"$f":"IF(Data!$E100=30,Data!FF100,\"\")","v":""},{"$f":"IF(Data!$E100=30,Data!FG100,IF(Data!BF100<>\"\",Data!BF100,\"\"))","v":""},{"$f":"IF(Data!$E100=30,Data!FH100,\"\")","v":""},{"$f":"IF(Data!$E100=30,Data!FI100,\"\")","v":""},{"$f":"IF(Data!$E100=30,Data!FJ100,IF(Data!BG100<>\"\",Data!BG100,\"\"))","v":""},{"$f":"IF(Data!$E100=30,Data!FK100,\"\")","v":""},{"$f":"IF(Data!$E100=30,Data!FL100,\"\")","v":""},{"$f":"IF(Data!$E100=30,Data!FM100,IF(Data!BH100<>\"\",Data!BH100,\"\"))","v":""},{"$f":"IF(Data!$E100=30,Data!FN100,\"\")","v":""},{"$f":"IF(Data!$E100=30,Data!FO100,\"\")","v":""},{"$f":"IF(Data!$E100=30,Data!FP100,IF(Data!BI100<>\"\",Data!BI100,\"\"))","v":""},{"$f":"IF(Data!$E100=30,Data!FQ100,\"\")","v":""},{"$f":"IF(Data!$E100=30,Data!FR100,\"\")","v":""},{"$f":"IF(Data!$E100=30,Data!FS100,IF(Data!BJ100<>\"\",Data!BJ100,\"\"))","v":""},{"$f":"IF(Data!$E100=30,Data!FT100,\"\")","v":""},{"$f":"IF(Data!$E100=30,Data!FU100,\"\")","v":""},{"$f":"IF(Data!$E100=30,Data!FV100,IF(Data!BK100<>\"\",Data!BK100,\"\"))","v":""},{"$f":"IF(Data!$E100=30,Data!FW100,\"\")","v":""},{"$f":"IF(Data!$E100=30,Data!FX100,\"\")","v":""},{"$f":"IF(Data!$E100=30,Data!FY100,IF(Data!BL100<>\"\",Data!BL100,\"\"))","v":""},{"$f":"IF(Data!$E100=30,Data!FZ100,\"\")","v":""},{"$f":"IF(Data!$E100=30,Data!GA100,\"\")","v":""},{"$f":"IF(Data!$E100=30,Data!GB100,IF(Data!BM100<>\"\",Data!BM100,\"\"))","v":""},{"$f":"IF(Data!$E100=30,Data!GC100,\"\")","v":""}]

{"sheet":"Data","index":5,"n_rows":2,"n_cols":185,"rows_kept":2,"cut":false,"hidden":false,"merged":[]}
[null,"date","time","measurements","bandCount","EDT_values_25","EDT_values_31.5","EDT_values_40","EDT_values_50","EDT_values_63","EDT_values_80","EDT_values_100","EDT_values_125","EDT_values_160","EDT_values_200","EDT_values_250","EDT_values_315","EDT_values_400","EDT_values_500","EDT_values_625","EDT_values_800","EDT_values_1000","EDT_values_1250","EDT_values_1600","EDT_values_2000","EDT_values_2500","EDT_values_3150","EDT_values_4000","EDT_values_5000","EDT_values_6250","EDT_values_8000","EDT_values_10000","EDT_values_12500","EDT_values_16000","EDT_values_20000","EDT_status_25","EDT_status_31.5","EDT_status_40","EDT_status_50","EDT_status_63","EDT_status_80","EDT_status_100","EDT_status_125","EDT_status_160","EDT_status_200","EDT_status_250","EDT_status_315","EDT_status_400","EDT_status_500","EDT_status_625","EDT_status_800","EDT_status_1000","EDT_status_1250","EDT_status_1600","EDT_status_2000","EDT_status_2500","EDT_status_3150","EDT_status_4000","EDT_status_5000","EDT_status_6250","EDT_status_8000","EDT_status_10000","EDT_status_12500","EDT_status_16000","EDT_status_20000","T20_values_25","T20_values_31.5","T20_values_40","T20_values_50","T20_values_63","T20_values_80","T20_values_100","T20_values_125","T20_values_160","T20_values_200","T20_values_250","T20_values_315","T20_values_400","T20_values_500","T20_values_625","T20_values_800","T20_values_1000","T20_values_1250","T20_values_1600","T20_values_2000","T20_values_2500","T20_values_3150","T20_values_4000","T20_values_5000","T20_values_6250","T20_values_8000","T20_values_10000","T20_values_12500","T20_values_16000","T20_values_20000","T20_status_25","T20_status_31.5","T20_status_40","T20_status_50","T20_status_63","T20_status_80","T20_status_100","T20_status_125","T20_status_160","T20_status_200","T20_status_250","T20_status_315","T20_status_400","T20_status_500","T20_status_625","T20_status_800","T20_status_1000","T20_status_1250","T20_status_1600","T20_status_2000","T20_status_2500","T20_status_3150","T20_status_4000","T20_status_5000","T20_status_6250","T20_status_8000","T20_status_10000","T20_status_12500","T20_status_16000","T20_status_20000","T30_values_25","T30_values_31.5","T30_values_40","T30_values_50","T30_values_63","T30_values_80","T30_values_100","T30_values_125","T30_values_160","T30_values_200","T30_values_250","T30_values_315","T30_values_400","T30_values_500","T30_values_625","T30_values_800","T30_values_1000","T30_values_1250","T30_values_1600","T30_values_2000","T30_values_2500","T30_values_3150","T30_values_4000","T30_values_5000","T30_values_6250","T30_values_8000","T30_values_10000","T30_values_12500","T30_values_16000","T30_values_20000","T30_status_25","T30_status_31.5","T30_status_40","T30_status_50","T30_status_63","T30_status_80","T30_status_100","T30_status_125","T30_status_160","T30_status_200","T30_status_250","T30_status_315","T30_status_400","T30_status_500","T30_status_625","T30_status_800","T30_status_1000","T30_status_1250","T30_status_1600","T30_status_2000","T30_status_2500","T30_status_3150","T30_status_4000","T30_status_5000","T30_status_6250","T30_status_8000","T30_status_10000","T30_status_12500","T30_status_16000","T30_status_20000"]
[null,"date","time","measurements","bandCount","EDT_values_31.5","EDT_values_63","EDT_values_125","EDT_values_250","EDT_values_500","EDT_values_1000","EDT_values_2000","EDT_values_4000","EDT_values_8000","EDT_values_16000","EDT_status_31.5","EDT_status_63","EDT_status_125","EDT_status_250","EDT_status_500","EDT_status_1000","EDT_status_2000","EDT_status_4000","EDT_status_8000","EDT_status_16000","T20_values_31.5","T20_values_63","T20_values_125","T20_values_250","T20_values_500","T20_values_1000","T20_values_2000","T20_values_4000","T20_values_8000","T20_values_16000","T20_status_31.5","T20_status_63","T20_status_125","T20_status_250","T20_status_500","T20_status_1000","T20_status_2000","T20_status_4000","T20_status_8000","T20_status_16000","T30_values_31.5","T30_values_63","T30_values_125","T30_values_250","T30_values_500","T30_values_1000","T30_values_2000","T30_values_4000","T30_values_8000","T30_values_16000","T30_status_31.5","T30_status_63","T30_status_125","T30_status_250","T30_status_500","T30_status_1000","T30_status_2000","T30_status_4000","T30_status_8000","T30_status_16000"]

{"sheet":"Notes","index":6,"n_rows":0,"n_cols":0,"rows_kept":0,"cut":false,"hidden":false,"merged":[]}