{"text_format":"1","workbook":"xlsx","n_sheets":4,"sheets":["Import","View","Data","Notes"],"not_rendered":{"charts":1,"images":1,"macros":1,"external_links":0,"defined_names":3,"comments":0,"pivot_tables":0},"unopened":[],"bounds":{"document_bytes":16777216,"sheet_cells":100000,"rows_first":2000,"rows_last":500,"rows_between":2000,"halvings":0,"cell_chars":16384,"cell_head_chars":4096},"cells_cut":0,"cells_raw":0,"read":"whole","date_system":"1900"}

{"sheet":"Import","index":0,"n_rows":21,"n_cols":1,"rows_kept":21,"cut":false,"hidden":false,"merged":[]}
["FFT Data import"]
[]
[]
[]
[]
["How does this worksheet work?"]
["This worksheet allows you to import FFT measurements stored on the Bedrock SMxx. Make sure that the FFT result files are copied onto your computer, or that the instrument is attached to USB and accessible as a mass storage device. Then press the button below (\"Import FFT\"). You can now select the measurement data files that you wish to import. NOTE: by using SHIFT and CTRL you can select multiple files for opening. The measurements are imported into the sheet named \"Data.\" Use the sheet named \"View\" to browse through these measurements, or copy data directly from the \"Data\" sheet to your own Worksheet for further calculations. Note that importing data changes this worksheet, overwriting earlier data imports. We recommend that you keep the original version of this worksheet in a safe location, and that you use a new copy of this original file for each new project."]
[]
["Note: change the fields \"Min frequency displayed\" and \"Max frequency displayed\" to zoom in."]
[]
["For support or to download the latest version of this file, please refer to our website"]
["www.bedrock-audio.com"]
[]
["Version 2.6.0"]
[]
[]
["COPYRIGHT (C) Embedded Acoustics BV, 2020"]
["ALL RIGHTS RESERVED. This worksheet contains material protected under International and Federal Copyright Laws and Treaties. Any unauthorized use of this material is prohibited. No part of this worksheet may be reproduced or transmitted in any form or by any means, electronic or mechanical, including photocopying, recording, or by any information storage and retrieval system without express written permission from the author. "]
[" "]
["DISCLAIMER"]
["THIS DOCUMENT IS PROVIDED \"AS IS\", WITHOUT WARRANTY OF ANY KIND, EXPRESS OR IMPLIED, INCLUDING BUT NOT LIMITED TO THE WARRANTIES OF MERCHANTABILITY, FITNESS FOR A PARTICULAR PURPOSE AND NONINFRINGEMENT. IN NO EVENT SHALL THE AUTHORS OR COPYRIGHT HOLDERS BE LIABLE FOR ANY CLAIM, DAMAGES OR OTHER LIABILITY, WHETHER IN AN ACTION OF CONTRACT, TORT OR OTHERWISE, ARISING FROM, OUT OF OR IN CONNECTION WITH THE SOFTWARE OR THE USE OR OTHER DEALINGS IN THE SOFTWARE"]

{"sheet":"View","index":1,"n_rows":202,"n_cols":14,"rows_kept":202,"cut":false,"hidden":false,"merged":[]}
["FFT measurement",null,null,null,null,null,null,null,"Window types",null,"Display bin","Data bin","Frequency","Spectrum"]
[null,null,null,null,null,null,null,null,"Blackman",null,0,{"$f":" ROUND(($B$12 + K2*($B$13-$B$12)/200)*$B$7/$B$9,0)","v":0},{"$f":" L2*$B$9/$B$7","v":0},{"$f":"IF(OFFSET(Data!$B$8,L2,(View!$B$27-1))<>\"\",OFFSET(Data!$B$8,L2,(View!$B$27-1)),#N/A)","v":{"$error":"#N/A"}}]
["Date",{"$f":"OFFSET(Data!B2,0,(View!$B$27-1))","v":"00:00:00"},null,null,null,null,null,null,"Blackman - Harris",null,1,{"$f":" ROUND(($B$12 + K3*($B$13-$B$12)/200)*$B$7/$B$9,0)","v":1},{"$f":" L3*$B$9/$B$7","v":187.5},{"$f":"IF(OFFSET(Data!$B$8,L3,(View!$B$27-1))<>\"\",OFFSET(Data!$B$8,L3,(View!$B$27-1)),#N/A)","v":{"$error":"#N/A"}}]
["Time",{"$f":"OFFSET(Data!B3,0,(View!$B$27-1))","v":"00:00:00"},null,null,null,null,null,null,"Blackman - Nuttall",null,2,1,187.5,{"$f":"IF(OFFSET(Data!$B$8,L4,(View!$B$27-1))<>\"\",OFFSET(Data!$B$8,L4,(View!$B$27-1)),#N/A)","v":{"$error":"#N/A"}}]
["Duration",{"$f":"OFFSET(Data!B4,0,(View!$B$27-1))","v":0},null,null,null,null,null,null,"Flat top",null,3,2,375,{"$f":"IF(OFFSET(Data!$B$8,L5,(View!$B$27-1))<>\"\",OFFSET(Data!$B$8,L5,(View!$B$27-1)),#N/A)","v":{"$error":"#N/A"}}]
[null,null,null,null,null,null,null,null,"Hamming",null,4,3,562.5,{"$f":"IF(OFFSET(Data!$B$8,L6,(View!$B$27-1))<>\"\",OFFSET(Data!$B$8,L6,(View!$B$27-1)),#N/A)","v":{"$error":"#N/A"}}]
["Window size",{"$f":"IF(OFFSET(Data!B5,0,(View!$B$27-1))>0,OFFSET(Data!B5,0,(View!$B$27-1)),256)","v":256},null,null,null,null,null,null,"Hanning (Hahn)",null,5,3,562.5,{"$f":"IF(OFFSET(Data!$B$8,L7,(View!$B$27-1))<>\"\",OFFSET(Data!$B$8,L7,(View!$B$27-1)),#N/A)","v":{"$error":"#N/A"}}]
["Window type",{"$f":"OFFSET(View!I2, OFFSET(Data!B6,0,(View!$B$27-1)),0)","v":"Blackman"},null,null,null,null,null,null,"Nuttall",null,6,4,750,{"$f":"IF(OFFSET(Data!$B$8,L8,(View!$B$27-1))<>\"\",OFFSET(Data!$B$8,L8,(View!$B$27-1)),#N/A)","v":{"$error":"#N/A"}}]
["Sample rate",{"$f":"IF(OFFSET(Data!B7,0,(View!$B$27-1))>0,OFFSET(Data!B7,0,(View!$B$27-1)),48000)","v":48000},null,null,null,null,null,null,"Rectangular",null,7,4,750,{"$f":"IF(OFFSET(Data!$B$8,L9,(View!$B$27-1))<>\"\",OFFSET(Data!$B$8,L9,(View!$B$27-1)),#N/A)","v":{"$error":"#N/A"}}]
[null,null,null,null,null,null,null,null,"Triangular",null,8,5,937.5,{"$f":"IF(OFFSET(Data!$B$8,L10,(View!$B$27-1))<>\"\",OFFSET(Data!$B$8,L10,(View!$B$27-1)),#N/A)","v":{"$error":"#N/A"}}]
[null,null,null,null,null,null,null,null,"Welch",null,9,6,1125,{"$f":"IF(OFFSET(Data!$B$8,L11,(View!$B$27-1))<>\"\",OFFSET(Data!$B$8,L11,(View!$B$27-1)),#N/A)","v":{"$error":"#N/A"}}]
["Min frequency displayed",0,null,null,null,null,null,null,null,null,10,6,1125,{"$f":"IF(OFFSET(Data!$B$8,L12,(View!$B$27-1))<>\"\",OFFSET(Data!$B$8,L12,(View!$B$27-1)),#N/A)","v":{"$error":"#N/A"}}]
["Max frequency displayed",24000,null,null,null,null,null,null,null,null,11,7,1312.5,{"$f":"IF(OFFSET(Data!$B$8,L13,(View!$B$27-1))<>\"\",OFFSET(Data!$B$8,L13,(View!$B$27-1)),#N/A)","v":{"$error":"#N/A"}}]
[null,null,null,null,null,null,null,null,null,null,12,8,1500,{"$f":"IF(OFFSET(Data!$B$8,L14,(View!$B$27-1))<>\"\",OFFSET(Data!$B$8,L14,(View!$B$27-1)),#N/A)","v":{"$error":"#N/A"}}]
[null,null,null,null,null,null,null,null,null,null,13,8,1500,{"$f":"IF(OFFSET(Data!$B$8,L15,(View!$B$27-1))<>\"\",OFFSET(Data!$B$8,L15,(View!$B$27-1)),#N/A)","v":{"$error":"#N/A"}}]
[null,null,null,null,null,null,null,null,null,null,14,9,1687.5,{"$f":"IF(OFFSET(Data!$B$8,L16,(View!$B$27-1))<>\"\",OFFSET(Data!$B$8,L16,(View!$B$27-1)),#N/A)","v":{"$error":"#N/A"}}]
[null,null,null,null,null,null,null,null,null,null,15,10,1875,{"$f":"IF(OFFSET(Data!$B$8,L17,(View!$B$27-1))<>\"\",OFFSET(Data!$B$8,L17,(View!$B$27-1)),#N/A)","v":{"$error":"#N/A"}}]
[null,null,null,null,null,null,null,null,null,null,16,10,1875,{"$f":"IF(OFFSET(Data!$B$8,L18,(View!$B$27-1))<>\"\",OFFSET(Data!$B$8,L18,(View!$B$27-1)),#N/A)","v":{"$error":"#N/A"}}]
[null,null,null,null,null,null,null,null,null,null,17,11,2062.5,{"$f":"IF(OFFSET(Data!$B$8,L19,(View!$B$27-1))<>\"\",OFFSET(Data!$B$8,L19,(View!$B$27-1)),#N/A)","v":{"$error":"#N/A"}}]
[null,null,null,null,null,null,null,null,null,null,18,12,2250,{"$f":"IF(OFFSET(Data!$B$8,L20,(View!$B$27-1))<>\"\",OFFSET(Data!$B$8,L20,(View!$B$27-1)),#N/A)","v":{"$error":"#N/A"}}]
[null,null,null,null,null,null,null,null,null,null,19,12,2250,{"$f":"IF(OFFSET(Data!$B$8,L21,(View!$B$27-1))<>\"\",OFFSET(Data!$B$8,L21,(View!$B$27-1)),#N/A)","v":{"$error":"#N/A"}}]
[null,null,null,null,null,null,null,null,null,null,20,13,2437.5,{"$f":"IF(OFFSET(Data!$B$8,L22,(View!$B$27-1))<>\"\",OFFSET(Data!$B$8,L22,(View!$B$27-1)),#N/A)","v":{"$error":"#N/A"}}]
[null,null,null,null,null,null,null,null,null,null,21,13,2437.5,{"$f":"IF(OFFSET(Data!$B$8,L23,(View!$B$27-1))<>\"\",OFFSET(Data!$B$8,L23,(View!$B$27-1)),#N/A)","v":{"$error":"#N/A"}}]
[null,null,null,null,null,null,null,null,null,null,22,14,2625,{"$f":"IF(OFFSET(Data!$B$8,L24,(View!$B$27-1))<>\"\",OFFSET(Data!$B$8,L24,(View!$B$27-1)),#N/A)","v":{"$error":"#N/A"}}]
[null,null,null,null,null,null,null,null,null,null,23,15,2812.5,{"$f":"IF(OFFSET(Data!$B$8,L25,(View!$B$27-1))<>\"\",OFFSET(Data!$B$8,L25,(View!$B$27-1)),#N/A)","v":{"$error":"#N/A"}}]
["Filename",{"$f":"OFFSET(Data!A1,0,(View!$B$27))&\"\"","v":""},null,null,null,null,null,null,null,null,24,15,2812.5,{"$f":"IF(OFFSET(Data!$B$8,L26,(View!$B$27-1))<>\"\",OFFSET(Data!$B$8,L26,(View!$B$27-1)),#N/A)","v":{"$error":"#N/A"}}]
["Index",1,null,null,null,null,null,null,null,null,25,16,3000,{"$f":"IF(OFFSET(Data!$B$8,L27,(View!$B$27-1))<>\"\",OFFSET(Data!$B$8,L27,(View!$B$27-1)),#N/A)","v":{"$error":"#N/A"}}]
["Note",{"$f":"OFFSET(Notes!B1,(View!$B$27),0)&\"\"","v":""},null,null,null,null,null,null,null,null,26,17,3187.5,{"$f":"IF(OFFSET(Data!$B$8,L28,(View!$B$27-1))<>\"\",OFFSET(Data!$B$8,L28,(View!$B$27-1)),#N/A)","v":{"$error":"#N/A"}}]
[null,null,null,null,null,null,null,null,null,null,27,17,3187.5,{"$f":"IF(OFFSET(Data!$B$8,L29,(View!$B$27-1))<>\"\",OFFSET(Data!$B$8,L29,(View!$B$27-1)),#N/A)","v":{"$error":"#N/A"}}]
[null,null,null,null,null,null,null,null,null,null,28,18,3375,{"$f":"IF(OFFSET(Data!$B$8,L30,(View!$B$27-1))<>\"\",OFFSET(Data!$B$8,L30,(View!$B$27-1)),#N/A)","v":{"$error":"#N/A"}}]
[null,null,null,null,null,null,null,null,null,null,29,19,3562.5,{"$f":"IF(OFFSET(Data!$B$8,L31,(View!$B$27-1))<>\"\",OFFSET(Data!$B$8,L31,(View!$B$27-1)),#N/A)","v":{"$error":"#N/A"}}]
[null,{"$f":"OFFSET(Data!N1,View!$B$27,0)","v":0},null,null,null,null,null,null,null,null,30,19,3562.5,{"$f":"IF(OFFSET(Data!$B$8,L32,(View!$B$27-1))<>\"\",OFFSET(Data!$B$8,L32,(View!$B$27-1)),#N/A)","v":{"$error":"#N/A"}}]
[null,{"$f":"OFFSET(Data!O1,View!$B$27,0)","v":0},null,null,null,null,null,null,null,null,31,20,3750,{"$f":"IF(OFFSET(Data!$B$8,L33,(View!$B$27-1))<>\"\",OFFSET(Data!$B$8,L33,(View!$B$27-1)),#N/A)","v":{"$error":"#N/A"}}]
[null,null,null,null,null,null,null,null,null,null,32,20,3750,{"$f":"IF(OFFSET(Data!$B$8,L34,(View!$B$27-1))<>\"\",OFFSET(Data!$B$8,L34,(View!$B$27-1)),#N/A)","v":{"$error":"#N/A"}}]
[null,null,null,null,null,null,null,null,null,null,33,21,3937.5,{"$f":"IF(OFFSET(Data!$B$8,L35,(View!$B$27-1))<>\"\",OFFSET(Data!$B$8,L35,(View!$B$27-1)),#N/A)","v":{"$error":"#N/A"}}]
[null,null,null,null,null,null,null,null,null,null,34,22,4125,{"$f":"IF(OFFSET(Data!$B$8,L36,(View!$B$27-1))<>\"\",OFFSET(Data!$B$8,L36,(View!$B$27-1)),#N/A)","v":{"$error":"#N/A"}}]
[null,null,null,null,null,null,null,null,null,null,35,22,4125,{"$f":"IF(OFFSET(Data!$B$8,L37,(View!$B$27-1))<>\"\",OFFSET(Data!$B$8,L37,(View!$B$27-1)),#N/A)","v":{"$error":"#N/A"}}]
[null,null,null,null,null,null,null,null,null,null,36,23,4312.5,{"$f":"IF(OFFSET(Data!$B$8,L38,(View!$B$27-1))<>\"\",OFFSET(Data!$B$8,L38,(View!$B$27-1)),#N/A)","v":{"$error":"#N/A"}}]
[null,null,null,null,null,null,null,null,null,null,37,24,4500,{"$f":"IF(OFFSET(Data!$B$8,L39,(View!$B$27-1))<>\"\",OFFSET(Data!$B$8,L39,(View!$B$27-1)),#N/A)","v":{"$error":"#N/A"}}]
[null,null,null,null,null,null,null,null,null,null,38,24,4500,{"$f":"IF(OFFSET(Data!$B$8,L40,(View!$B$27-1))<>\"\",OFFSET(Data!$B$8,L40,(View!$B$27-1)),#N/A)","v":{"$error":"#N/A"}}]
[null,null,null,null,null,null,null,null,null,null,39,25,4687.5,{"$f":"IF(OFFSET(Data!$B$8,L41,(View!$B$27-1))<>\"\",OFFSET(Data!$B$8,L41,(View!$B$27-1)),#N/A)","v":{"$error":"#N/A"}}]
[null,null,null,null,null,null,null,null,null,null,40,26,4875,{"$f":"IF(OFFSET(Data!$B$8,L42,(View!$B$27-1))<>\"\",OFFSET(Data!$B$8,L42,(View!$B$27-1)),#N/A)","v":{"$error":"#N/A"}}]
[null,null,null,null,null,null,null,null,null,null,41,26,4875,{"$f":"IF(OFFSET(Data!$B$8,L43,(View!$B$27-1))<>\"\",OFFSET(Data!$B$8,L43,(View!$B$27-1)),#N/A)","v":{"$error":"#N/A"}}]
[null,null,null,null,null,null,null,null,null,null,42,27,5062.5,{"$f":"IF(OFFSET(Data!$B$8,L44,(View!$B$27-1))<>\"\",OFFSET(Data!$B$8,L44,(View!$B$27-1)),#N/A)","v":{"$error":"#N/A"}}]
[null,null,null,null,null,null,null,null,null,null,43,28,5250,{"$f":"IF(OFFSET(Data!$B$8,L45,(View!$B$27-1))<>\"\",OFFSET(Data!$B$8,L45,(View!$B$27-1)),#N/A)","v":{"$error":"#N/A"}}]
[null,null,null,null,null,null,null,null,null,null,44,28,5250,{"$f":"IF(OFFSET(Data!$B$8,L46,(View!$B$27-1))<>\"\",OFFSET(Data!$B$8,L46,(View!$B$27-1)),#N/A)","v":{"$error":"#N/A"}}]
[null,null,null,null,null,null,null,null,null,null,45,29,5437.5,{"$f":"IF(OFFSET(Data!$B$8,L47,(View!$B$27-1))<>\"\",OFFSET(Data!$B$8,L47,(View!$B$27-1)),#N/A)","v":{"$error":"#N/A"}}]
[null,null,null,null,null,null,null,null,null,null,46,29,5437.5,{"$f":"IF(OFFSET(Data!$B$8,L48,(View!$B$27-1))<>\"\",OFFSET(Data!$B$8,L48,(View!$B$27-1)),#N/A)","v":{"$error":"#N/A"}}]
[null,null,null,null,null,null,null,null,null,null,47,30,5625,{"$f":"IF(OFFSET(Data!$B$8,L49,(View!$B$27-1))<>\"\",OFFSET(Data!$B$8,L49,(View!$B$27-1)),#N/A)","v":{"$error":"#N/A"}}]
[null,null,null,null,null,null,null,null,null,null,48,31,5812.5,{"$f":"IF(OFFSET(Data!$B$8,L50,(View!$B$27-1))<>\"\",OFFSET(Data!$B$8,L50,(View!$B$27-1)),#N/A)","v":{"$error":"#N/A"}}]
[null,null,null,null,null,null,null,null,null,null,49,31,5812.5,{"$f":"IF(OFFSET(Data!$B$8,L51,(View!$B$27-1))<>\"\",OFFSET(Data!$B$8,L51,(View!$B$27-1)),#N/A)","v":{"$error":"#N/A"}}]
[null,null,null,null,null,null,null,null,null,null,50,32,6000,{"$f":"IF(OFFSET(Data!$B$8,L52,(View!$B$27-1))<>\"\",OFFSET(Data!$B$8,L52,(View!$B$27-1)),#N/A)","v":{"$error":"#N/A"}}]
[null,null,null,null,null,null,null,null,null,null,51,33,6187.5,{"$f":"IF(OFFSET(Data!$B$8,L53,(View!$B$27-1))<>\"\",OFFSET(Data!$B$8,L53,(View!$B$27-1)),#N/A)","v":{"$error":"#N/A"}}]
[null,null,null,null,null,null,null,null,null,null,52,33,6187.5,{"$f":"IF(OFFSET(Data!$B$8,L54,(View!$B$27-1))<>\"\",OFFSET(Data!$B$8,L54,(View!$B$27-1)),#N/A)","v":{"$error":"#N/A"}}]
[null,null,null,null,null,null,null,null,null,null,53,34,6375,{"$f":"IF(OFFSET(Data!$B$8,L55,(View!$B$27-1))<>\"\",OFFSET(Data!$B$8,L55,(View!$B$27-1)),#N/A)","v":{"$error":"#N/A"}}]
[null,null,null,null,null,null,null,null,null,null,54,35,6562.5,{"$f":"IF(OFFSET(Data!$B$8,L56,(View!$B$27-1))<>\"\",OFFSET(Data!$B$8,L56,(View!$B$27-1)),#N/A)","v":{"$error":"#N/A"}}]
[null,null,null,null,null,null,null,null,null,null,55,35,6562.5,{"$f":"IF(OFFSET(Data!$B$8,L57,(View!$B$27-1))<>\"\",OFFSET(Data!$B$8,L57,(View!$B$27-1)),#N/A)","v":{"$error":"#N/A"}}]
[null,null,null,null,null,null,null,null,null,null,56,36,6750,{"$f":"IF(OFFSET(Data!$B$8,L58,(View!$B$27-1))<>\"\",OFFSET(Data!$B$8,L58,(View!$B$27-1)),#N/A)","v":{"$error":"#N/A"}}]
[null,null,null,null,null,null,null,null,null,null,57,36,6750,{"$f":"IF(OFFSET(Data!$B$8,L59,(View!$B$27-1))<>\"\",OFFSET(Data!$B$8,L59,(View!$B$27-1)),#N/A)","v":{"$error":"#N/A"}}]
[null,null,null,null,null,null,null,null,null,null,58,37,6937.5,{"$f":"IF(OFFSET(Data!$B$8,L60,(View!$B$27-1))<>\"\",OFFSET(Data!$B$8,L60,(View!$B$27-1)),#N/A)","v":{"$error":"#N/A"}}]
[null,null,null,null,null,null,null,null,null,null,59,38,7125,{"$f":"IF(OFFSET(Data!$B$8,L61,(View!$B$27-1))<>\"\",OFFSET(Data!$B$8,L61,(View!$B$27-1)),#N/A)","v":{"$error":"#N/A"}}]
[null,null,null,null,null,null,null,null,null,null,60,38,7125,{"$f":"IF(OFFSET(Data!$B$8,L62,(View!$B$27-1))<>\"\",OFFSET(Data!$B$8,L62,(View!$B$27-1)),#N/A)","v":{"$error":"#N/A"}}]
[null,null,null,null,null,null,null,null,null,null,61,39,7312.5,{"$f":"IF(OFFSET(Data!$B$8,L63,(View!$B$27-1))<>\"\",OFFSET(Data!$B$8,L63,(View!$B$27-1)),#N/A)","v":{"$error":"#N/A"}}]
[null,null,null,null,null,null,null,null,null,null,62,40,7500,{"$f":"IF(OFFSET(Data!$B$8,L64,(View!$B$27-1))<>\"\",OFFSET(Data!$B$8,L64,(View!$B$27-1)),#N/A)","v":{"$error":"#N/A"}}]
[null,null,null,null,null,null,null,null,null,null,63,40,7500,{"$f":"IF(OFFSET(Data!$B$8,L65,(View!$B$27-1))<>\"\",OFFSET(Data!$B$8,L65,(View!$B$27-1)),#N/A)","v":{"$error":"#N/A"}}]
[null,null,null,null,null,null,null,null,null,null,64,41,7687.5,{"$f":"IF(OFFSET(Data!$B$8,L66,(View!$B$27-1))<>\"\",OFFSET(Data!$B$8,L66,(View!$B$27-1)),#N/A)","v":{"$error":"#N/A"}}]
[null,null,null,null,null,null,null,null,null,null,65,{"$f":" ROUND(($B$12 + K67*($B$13-$B$12)/200)*$B$7/$B$9,0)","v":42},{"$f":" L67*$B$9/$B$7","v":7875},{"$f":"IF(OFFSET(Data!$B$8,L67,(View!$B$27-1))<>\"\",OFFSET(Data!$B$8,L67,(View!$B$27-1)),#N/A)","v":{"$error":"#N/A"}}]
[null,null,null,null,null,null,null,null,null,null,66,42,7875,{"$f":"IF(OFFSET(Data!$B$8,L68,(View!$B$27-1))<>\"\",OFFSET(Data!$B$8,L68,(View!$B$27-1)),#N/A)","v":{"$error":"#N/A"}}]
[null,null,null,null,null,null,null,null,null,null,67,43,8062.5,{"$f":"IF(OFFSET(Data!$B$8,L69,(View!$B$27-1))<>\"\",OFFSET(Data!$B$8,L69,(View!$B$27-1)),#N/A)","v":{"$error":"#N/A"}}]
[null,null,null,null,null,null,null,null,null,null,68,44,8250,{"$f":"IF(OFFSET(Data!$B$8,L70,(View!$B$27-1))<>\"\",OFFSET(Data!$B$8,L70,(View!$B$27-1)),#N/A)","v":{"$error":"#N/A"}}]
[null,null,null,null,null,null,null,null,null,null,69,44,8250,{"$f":"IF(OFFSET(Data!$B$8,L71,(View!$B$27-1))<>\"\",OFFSET(Data!$B$8,L71,(View!$B$27-1)),#N/A)","v":{"$error":"#N/A"}}]
[null,null,null,null,null,null,null,null,null,null,70,45,8437.5,{"$f":"IF(OFFSET(Data!$B$8,L72,(View!$B$27-1))<>\"\",OFFSET(Data!$B$8,L72,(View!$B$27-1)),#N/A)","v":{"$error":"#N/A"}}]
[null,null,null,null,null,null,null,null,null,null,71,45,8437.5,{"$f":"IF(OFFSET(Data!$B$8,L73,(View!$B$27-1))<>\"\",OFFSET(Data!$B$8,L73,(View!$B$27-1)),#N/A)","v":{"$error":"#N/A"}}]
[null,null,null,null,null,null,null,null,null,null,72,46,8625,{"$f":"IF(OFFSET(Data!$B$8,L74,(View!$B$27-1))<>\"\",OFFSET(Data!$B$8,L74,(View!$B$27-1)),#N/A)","v":{"$error":"#N/A"}}]
[null,null,null,null,null,null,null,null,null,null,73,47,8812.5,{"$f":"IF(OFFSET(Data!$B$8,L75,(View!$B$27-1))<>\"\",OFFSET(Data!$B$8,L75,(View!$B$27-1)),#N/A)","v":{"$error":"#N/A"}}]
[null,null,null,null,null,null,null,null,null,null,74,47,8812.5,{"$f":"IF(OFFSET(Data!$B$8,L76,(View!$B$27-1))<>\"\",OFFSET(Data!$B$8,L76,(View!$B$27-1)),#N/A)","v":{"$error":"#N/A"}}]
[null,null,null,null,null,null,null,null,null,null,75,48,9000,{"$f":"IF(OFFSET(Data!$B$8,L77,(View!$B$27-1))<>\"\",OFFSET(Data!$B$8,L77,(View!$B$27-1)),#N/A)","v":{"$error":"#N/A"}}]
[null,null,null,null,null,null,null,null,null,null,76,49,9187.5,{"$f":"IF(OFFSET(Data!$B$8,L78,(View!$B$27-1))<>\"\",OFFSET(Data!$B$8,L78,(View!$B$27-1)),#N/A)","v":{"$error":"#N/A"}}]
[null,null,null,null,null,null,null,null,null,null,77,49,9187.5,{"$f":"IF(OFFSET(Data!$B$8,L79,(View!$B$27-1))<>\"\",OFFSET(Data!$B$8,L79,(View!$B$27-1)),#N/A)","v":{"$error":"#N/A"}}]
[null,null,null,null,null,null,null,null,null,null,78,50,9375,{"$f":"IF(OFFSET(Data!$B$8,L80,(View!$B$27-1))<>\"\",OFFSET(Data!$B$8,L80,(View!$B$27-1)),#N/A)","v":{"$error":"#N/A"}}]
[null,null,null,null,null,null,null,null,null,null,79,51,9562.5,{"$f":"IF(OFFSET(Data!$B$8,L81,(View!$B$27-1))<>\"\",OFFSET(Data!$B$8,L81,(View!$B$27-1)),#N/A)","v":{"$error":"#N/A"}}]
[null,null,null,null,null,null,null,null,null,null,80,51,9562.5,{"$f":"IF(OFFSET(Data!$B$8,L82,(View!$B$27-1))<>\"\",OFFSET(Data!$B$8,L82,(View!$B$27-1)),#N/A)","v":{"$error":"#N/A"}}]
[null,null,null,null,null,null,null,null,null,null,81,52,9750,{"$f":"IF(OFFSET(Data!$B$8,L83,(View!$B$27-1))<>\"\",OFFSET(Data!$B$8,L83,(View!$B$27-1)),#N/A)","v":{"$error":"#N/A"}}]
[null,null,null,null,null,null,null,null,null,null,82,52,9750,{"$f":"IF(OFFSET(Data!$B$8,L84,(View!$B$27-1))<>\"\",OFFSET(Data!$B$8,L84,(View!$B$27-1)),#N/A)","v":{"$error":"#N/A"}}]
[null,null,null,null,null,null,null,null,null,null,83,53,9937.5,{"$f":"IF(OFFSET(Data!$B$8,L85,(View!$B$27-1))<>\"\",OFFSET(Data!$B$8,L85,(View!$B$27-1)),#N/A)","v":{"$error":"#N/A"}}]
[null,null,null,null,null,null,null,null,null,null,84,54,10125,{"$f":"IF(OFFSET(Data!$B$8,L86,(View!$B$27-1))<>\"\",OFFSET(Data!$B$8,L86,(View!$B$27-1)),#N/A)","v":{"$error":"#N/A"}}]
[null,null,null,null,null,null,null,null,null,null,85,54,10125,{"$f":"IF(OFFSET(Data!$B$8,L87,(View!$B$27-1))<>\"\",OFFSET(Data!$B$8,L87,(View!$B$27-1)),#N/A)","v":{"$error":"#N/A"}}]
[null,null,null,null,null,null,null,null,null,null,86,55,10312.5,{"$f":"IF(OFFSET(Data!$B$8,L88,(View!$B$27-1))<>\"\",OFFSET(Data!$B$8,L88,(View!$B$27-1)),#N/A)","v":{"$error":"#N/A"}}]
[null,null,null,null,null,null,null,null,null,null,87,56,10500,{"$f":"IF(OFFSET(Data!$B$8,L89,(View!$B$27-1))<>\"\",OFFSET(Data!$B$8,L89,(View!$B$27-1)),#N/A)","v":{"$error":"#N/A"}}]
[null,null,null,null,null,null,null,null,null,null,88,56,10500,{"$f":"IF(OFFSET(Data!$B$8,L90,(View!$B$27-1))<>\"\",OFFSET(Data!$B$8,L90,(View!$B$27-1)),#N/A)","v":{"$error":"#N/A"}}]
[null,null,null,null,null,null,null,null,null,null,89,57,10687.5,{"$f":"IF(OFFSET(Data!$B$8,L91,(View!$B$27-1))<>\"\",OFFSET(Data!$B$8,L91,(View!$B$27-1)),#N/A)","v":{"$error":"#N/A"}}]
[null,null,null,null,null,null,null,null,null,null,90,58,10875,{"$f":"IF(OFFSET(Data!$B$8,L92,(View!$B$27-1))<>\"\",OFFSET(Data!$B$8,L92,(View!$B$27-1)),#N/A)","v":{"$error":"#N/A"}}]
[null,null,null,null,null,null,null,null,null,null,91,58,10875,{"$f":"IF(OFFSET(Data!$B$8,L93,(View!$B$27-1))<>\"\",OFFSET(Data!$B$8,L93,(View!$B$27-1)),#N/A)","v":{"$error":"#N/A"}}]
[null,null,null,null,null,null,null,null,null,null,92,59,11062.5,{"$f":"IF(OFFSET(Data!$B$8,L94,(View!$B$27-1))<>\"\",OFFSET(Data!$B$8,L94,(View!$B$27-1)),#N/A)","v":{"$error":"#N/A"}}]
[null,null,null,null,null,null,null,null,null,null,93,60,11250,{"$f":"IF(OFFSET(Data!$B$8,L95,(View!$B$27-1))<>\"\",OFFSET(Data!$B$8,L95,(View!$B$27-1)),#N/A)","v":{"$error":"#N/A"}}]
[null,null,null,null,null,null,null,null,null,null,94,60,11250,{"$f":"IF(OFFSET(Data!$B$8,L96,(View!$B$27-1))<>\"\",OFFSET(Data!$B$8,L96,(View!$B$27-1)),#N/A)","v":{"$error":"#N/A"}}]
[null,null,null,null,null,null,null,null,null,null,95,61,11437.5,{"$f":"IF(OFFSET(Data!$B$8,L97,(View!$B$27-1))<>\"\",OFFSET(Data!$B$8,L97,(View!$B$27-1)),#N/A)","v":{"$error":"#N/A"}}]
[null,null,null,null,null,null,null,null,null,null,96,61,11437.5,{"$f":"IF(OFFSET(Data!$B$8,L98,(View!$B$27-1))<>\"\",OFFSET(Data!$B$8,L98,(View!$B$27-1)),#N/A)","v":{"$error":"#N/A"}}]
[null,null,null,null,null,null,null,null,null,null,97,62,11625,{"$f":"IF(OFFSET(Data!$B$8,L99,(View!$B$27-1))<>\"\",OFFSET(Data!$B$8,L99,(View!$B$27-1)),#N/A)","v":{"$error":"#N/A"}}]
[null,null,null,null,null,null,null,null,null,null,98,63,11812.5,{"$f":"IF(OFFSET(Data!$B$8,L100,(View!$B$27-1))<>\"\",OFFSET(Data!$B$8,L100,(View!$B$27-1)),#N/A)","v":{"$error":"#N/A"}}]
[null,null,null,null,null,null,null,null,null,null,99,63,11812.5,{"$f":"IF(OFFSET(Data!$B$8,L101,(View!$B$27-1))<>\"\",OFFSET(Data!$B$8,L101,(View!$B$27-1)),#N/A)","v":{"$error":"#N/A"}}]
[null,null,null,null,null,null,null,null,null,null,100,64,12000,{"$f":"IF(OFFSET(Data!$B$8,L102,(View!$B$27-1))<>\"\",OFFSET(Data!$B$8,L102,(View!$B$27-1)),#N/A)","v":{"$error":"#N/A"}}]
[null,null,null,null,null,null,null,null,null,null,101,65,12187.5,{"$f":"IF(OFFSET(Data!$B$8,L103,(View!$B$27-1))<>\"\",OFFSET(Data!$B$8,L103,(View!$B$27-1)),#N/A)","v":{"$error":"#N/A"}}]
[null,null,null,null,null,null,null,null,null,null,102,65,12187.5,{"$f":"IF(OFFSET(Data!$B$8,L104,(View!$B$27-1))<>\"\",OFFSET(Data!$B$8,L104,(View!$B$27-1)),#N/A)","v":{"$error":"#N/A"}}]
[null,null,null,null,null,null,null,null,null,null,103,66,12375,{"$f":"IF(OFFSET(Data!$B$8,L105,(View!$B$27-1))<>\"\",OFFSET(Data!$B$8,L105,(View!$B$27-1)),#N/A)","v":{"$error":"#N/A"}}]
[null,null,null,null,null,null,null,null,null,null,104,67,12562.5,{"$f":"IF(OFFSET(Data!$B$8,L106,(View!$B$27-1))<>\"\",OFFSET(Data!$B$8,L106,(View!$B$27-1)),#N/A)","v":{"$error":"#N/A"}}]
[null,null,null,null,null,null,null,null,null,null,105,67,12562.5,{"$f":"IF(OFFSET(Data!$B$8,L107,(View!$B$27-1))<>\"\",OFFSET(Data!$B$8,L107,(View!$B$27-1)),#N/A)","v":{"$error":"#N/A"}}]
[null,null,null,null,null,null,null,null,null,null,106,68,12750,{"$f":"IF(OFFSET(Data!$B$8,L108,(View!$B$27-1))<>\"\",OFFSET(Data!$B$8,L108,(View!$B$27-1)),#N/A)","v":{"$error":"#N/A"}}]
[null,null,null,null,null,null,null,null,null,null,107,68,12750,{"$f":"IF(OFFSET(Data!$B$8,L109,(View!$B$27-1))<>\"\",OFFSET(Data!$B$8,L109,(View!$B$27-1)),#N/A)","v":{"$error":"#N/A"}}]
[null,null,null,null,null,null,null,null,null,null,108,69,12937.5,{"$f":"IF(OFFSET(Data!$B$8,L110,(View!$B$27-1))<>\"\",OFFSET(Data!$B$8,L110,(View!$B$27-1)),#N/A)","v":{"$error":"#N/A"}}]
[null,null,null,null,null,null,null,null,null,null,109,70,13125,{"$f":"IF(OFFSET(Data!$B$8,L111,(View!$B$27-1))<>\"\",OFFSET(Data!$B$8,L111,(View!$B$27-1)),#N/A)","v":{"$error":"#N/A"}}]
[null,null,null,null,null,null,null,null,null,null,110,70,13125,{"$f":"IF(OFFSET(Data!$B$8,L112,(View!$B$27-1))<>\"\",OFFSET(Data!$B$8,L112,(View!$B$27-1)),#N/A)","v":{"$error":"#N/A"}}]
[null,null,null,null,null,null,null,null,null,null,111,71,13312.5,{"$f":"IF(OFFSET(Data!$B$8,L113,(View!$B$27-1))<>\"\",OFFSET(Data!$B$8,L113,(View!$B$27-1)),#N/A)","v":{"$error":"#N/A"}}]
[null,null,null,null,null,null,null,null,null,null,112,72,13500,{"$f":"IF(OFFSET(Data!$B$8,L114,(View!$B$27-1))<>\"\",OFFSET(Data!$B$8,L114,(View!$B$27-1)),#N/A)","v":{"$error":"#N/A"}}]
[null,null,null,null,null,null,null,null,null,null,113,72,13500,{"$f":"IF(OFFSET(Data!$B$8,L115,(View!$B$27-1))<>\"\",OFFSET(Data!$B$8,L115,(View!$B$27-1)),#N/A)","v":{"$error":"#N/A"}}]
[null,null,null,null,null,null,null,null,null,null,114,73,13687.5,{"$f":"IF(OFFSET(Data!$B$8,L116,(View!$B$27-1))<>\"\",OFFSET(Data!$B$8,L116,(View!$B$27-1)),#N/A)","v":{"$error":"#N/A"}}]
[null,null,null,null,null,null,null,null,null,null,115,74,13875,{"$f":"IF(OFFSET(Data!$B$8,L117,(View!$B$27-1))<>\"\",OFFSET(Data!$B$8,L117,(View!$B$27-1)),#N/A)","v":{"$error":"#N/A"}}]
[null,null,null,null,null,null,null,null,null,null,116,74,13875,{"$f":"IF(OFFSET(Data!$B$8,L118,(View!$B$27-1))<>\"\",OFFSET(Data!$B$8,L118,(View!$B$27-1)),#N/A)","v":{"$error":"#N/A"}}]
[null,null,null,null,null,null,null,null,null,null,117,75,14062.5,{"$f":"IF(OFFSET(Data!$B$8,L119,(View!$B$27-1))<>\"\",OFFSET(Data!$B$8,L119,(View!$B$27-1)),#N/A)","v":{"$error":"#N/A"}}]
[null,null,null,null,null,null,null,null,null,null,118,76,14250,{"$f":"IF(OFFSET(Data!$B$8,L120,(View!$B$27-1))<>\"\",OFFSET(Data!$B$8,L120,(View!$B$27-1)),#N/A)","v":{"$error":"#N/A"}}]
[null,null,null,null,null,null,null,null,null,null,119,76,14250,{"$f":"IF(OFFSET(Data!$B$8,L121,(View!$B$27-1))<>\"\",OFFSET(Data!$B$8,L121,(View!$B$27-1)),#N/A)","v":{"$error":"#N/A"}}]
[null,null,null,null,null,null,null,null,null,null,120,77,14437.5,{"$f":"IF(OFFSET(Data!$B$8,L122,(View!$B$27-1))<>\"\",OFFSET(Data!$B$8,L122,(View!$B$27-1)),#N/A)","v":{"$error":"#N/A"}}]
[null,null,null,null,null,null,null,null,null,null,121,77,14437.5,{"$f":"IF(OFFSET(Data!$B$8,L123,(View!$B$27-1))<>\"\",OFFSET(Data!$B$8,L123,(View!$B$27-1)),#N/A)","v":{"$error":"#N/A"}}]
[null,null,null,null,null,null,null,null,null,null,122,78,14625,{"$f":"IF(OFFSET(Data!$B$8,L124,(View!$B$27-1))<>\"\",OFFSET(Data!$B$8,L124,(View!$B$27-1)),#N/A)","v":{"$error":"#N/A"}}]
[null,null,null,null,null,null,null,null,null,null,123,79,14812.5,{"$f":"IF(OFFSET(Data!$B$8,L125,(View!$B$27-1))<>\"\",OFFSET(Data!$B$8,L125,(View!$B$27-1)),#N/A)","v":{"$error":"#N/A"}}]
[null,null,null,null,null,null,null,null,null,null,124,79,14812.5,{"$f":"IF(OFFSET(Data!$B$8,L126,(View!$B$27-1))<>\"\",OFFSET(Data!$B$8,L126,(View!$B$27-1)),#N/A)","v":{"$error":"#N/A"}}]
[null,null,null,null,null,null,null,null,null,null,125,80,15000,{"$f":"IF(OFFSET(Data!$B$8,L127,(View!$B$27-1))<>\"\",OFFSET(Data!$B$8,L127,(View!$B$27-1)),#N/A)","v":{"$error":"#N/A"}}]
[null,null,null,null,null,null,null,null,null,null,126,81,15187.5,{"$f":"IF(OFFSET(Data!$B$8,L128,(View!$B$27-1))<>\"\",OFFSET(Data!$B$8,L128,(View!$B$27-1)),#N/A)","v":{"$error":"#N/A"}}]
[null,null,null,null,null,null,null,null,null,null,127,81,15187.5,{"$f":"IF(OFFSET(Data!$B$8,L129,(View!$B$27-1))<>\"\",OFFSET(Data!$B$8,L129,(View!$B$27-1)),#N/A)","v":{"$error":"#N/A"}}]
[null,null,null,null,null,null,null,null,null,null,128,82,15375,{"$f":"IF(OFFSET(Data!$B$8,L130,(View!$B$27-1))<>\"\",OFFSET(Data!$B$8,L130,(View!$B$27-1)),#N/A)","v":{"$error":"#N/A"}}]
[null,null,null,null,null,null,null,null,null,null,129,{"$f":" ROUND(($B$12 + K131*($B$13-$B$12)/200)*$B$7/$B$9,0)","v":83},{"$f":" L131*$B$9/$B$7","v":15562.5},{"$f":"IF(OFFSET(Data!$B$8,L131,(View!$B$27-1))<>\"\",OFFSET(Data!$B$8,L131,(View!$B$27-1)),#N/A)","v":{"$error":"#N/A"}}]
[null,null,null,null,null,null,null,null,null,null,130,83,15562.5,{"$f":"IF(OFFSET(Data!$B$8,L132,(View!$B$27-1))<>\"\",OFFSET(Data!$B$8,L132,(View!$B$27-1)),#N/A)","v":{"$error":"#N/A"}}]
[null,null,null,null,null,null,null,null,null,null,131,84,15750,{"$f":"IF(OFFSET(Data!$B$8,L133,(View!$B$27-1))<>\"\",OFFSET(Data!$B$8,L133,(View!$B$27-1)),#N/A)","v":{"$error":"#N/A"}}]
[null,null,null,null,null,null,null,null,null,null,132,84,15750,{"$f":"IF(OFFSET(Data!$B$8,L134,(View!$B$27-1))<>\"\",OFFSET(Data!$B$8,L134,(View!$B$27-1)),#N/A)","v":{"$error":"#N/A"}}]
[null,null,null,null,null,null,null,null,null,null,133,85,15937.5,{"$f":"IF(OFFSET(Data!$B$8,L135,(View!$B$27-1))<>\"\",OFFSET(Data!$B$8,L135,(View!$B$27-1)),#N/A)","v":{"$error":"#N/A"}}]
[null,null,null,null,null,null,null,null,null,null,134,86,16125,{"$f":"IF(OFFSET(Data!$B$8,L136,(View!$B$27-1))<>\"\",OFFSET(Data!$B$8,L136,(View!$B$27-1)),#N/A)","v":{"$error":"#N/A"}}]
[null,null,null,null,null,null,null,null,null,null,135,86,16125,{"$f":"IF(OFFSET(Data!$B$8,L137,(View!$B$27-1))<>\"\",OFFSET(Data!$B$8,L137,(View!$B$27-1)),#N/A)","v":{"$error":"#N/A"}}]
[null,null,null,null,null,null,null,null,null,null,136,87,16312.5,{"$f":"IF(OFFSET(Data!$B$8,L138,(View!$B$27-1))<>\"\",OFFSET(Data!$B$8,L138,(View!$B$27-1)),#N/A)","v":{"$error":"#N/A"}}]
[null,null,null,null,null,null,null,null,null,null,137,88,16500,{"$f":"IF(OFFSET(Data!$B$8,L139,(View!$B$27-1))<>\"\",OFFSET(Data!$B$8,L139,(View!$B$27-1)),#N/A)","v":{"$error":"#N/A"}}]
[null,null,null,null,null,null,null,null,null,null,138,88,16500,{"$f":"IF(OFFSET(Data!$B$8,L140,(View!$B$27-1))<>\"\",OFFSET(Data!$B$8,L140,(View!$B$27-1)),#N/A)","v":{"$error":"#N/A"}}]
[null,null,null,null,null,null,null,null,null,null,139,89,16687.5,{"$f":"IF(OFFSET(Data!$B$8,L141,(View!$B$27-1))<>\"\",OFFSET(Data!$B$8,L141,(View!$B$27-1)),#N/A)","v":{"$error":"#N/A"}}]
[null,null,null,null,null,null,null,null,null,null,140,90,16875,{"$f":"IF(OFFSET(Data!$B$8,L142,(View!$B$27-1))<>\"\",OFFSET(Data!$B$8,L142,(View!$B$27-1)),#N/A)","v":{"$error":"#N/A"}}]
[null,null,null,null,null,null,null,null,null,null,141,90,16875,{"$f":"IF(OFFSET(Data!$B$8,L143,(View!$B$27-1))<>\"\",OFFSET(Data!$B$8,L143,(View!$B$27-1)),#N/A)","v":{"$error":"#N/A"}}]
[null,null,null,null,null,null,null,null,null,null,142,91,17062.5,{"$f":"IF(OFFSET(Data!$B$8,L144,(View!$B$27-1))<>\"\",OFFSET(Data!$B$8,L144,(View!$B$27-1)),#N/A)","v":{"$error":"#N/A"}}]
[null,null,null,null,null,null,null,null,null,null,143,92,17250,{"$f":"IF(OFFSET(Data!$B$8,L145,(View!$B$27-1))<>\"\",OFFSET(Data!$B$8,L145,(View!$B$27-1)),#N/A)","v":{"$error":"#N/A"}}]
[null,null,null,null,null,null,null,null,null,null,144,92,17250,{"$f":"IF(OFFSET(Data!$B$8,L146,(View!$B$27-1))<>\"\",OFFSET(Data!$B$8,L146,(View!$B$27-1)),#N/A)","v":{"$error":"#N/A"}}]
[null,null,null,null,null,null,null,null,null,null,145,93,17437.5,{"$f":"IF(OFFSET(Data!$B$8,L147,(View!$B$27-1))<>\"\",OFFSET(Data!$B$8,L147,(View!$B$27-1)),#N/A)","v":{"$error":"#N/A"}}]
[null,null,null,null,null,null,null,null,null,null,146,93,17437.5,{"$f":"IF(OFFSET(Data!$B$8,L148,(View!$B$27-1))<>\"\",OFFSET(Data!$B$8,L148,(View!$B$27-1)),#N/A)","v":{"$error":"#N/A"}}]
[null,null,null,null,null,null,null,null,null,null,147,94,17625,{"$f":"IF(OFFSET(Data!$B$8,L149,(View!$B$27-1))<>\"\",OFFSET(Data!$B$8,L149,(View!$B$27-1)),#N/A)","v":{"$error":"#N/A"}}]
[null,null,null,null,null,null,null,null,null,null,148,95,17812.5,{"$f":"IF(OFFSET(Data!$B$8,L150,(View!$B$27-1))<>\"\",OFFSET(Data!$B$8,L150,(View!$B$27-1)),#N/A)","v":{"$error":"#N/A"}}]
[null,null,null,null,null,null,null,null,null,null,149,95,17812.5,{"$f":"IF(OFFSET(Data!$B$8,L151,(View!$B$27-1))<>\"\",OFFSET(Data!$B$8,L151,(View!$B$27-1)),#N/A)","v":{"$error":"#N/A"}}]
[null,null,null,null,null,null,null,null,null,null,150,96,18000,{"$f":"IF(OFFSET(Data!$B$8,L152,(View!$B$27-1))<>\"\",OFFSET(Data!$B$8,L152,(View!$B$27-1)),#N/A)","v":{"$error":"#N/A"}}]
[null,null,null,null,null,null,null,null,null,null,151,97,18187.5,{"$f":"IF(OFFSET(Data!$B$8,L153,(View!$B$27-1))<>\"\",OFFSET(Data!$B$8,L153,(View!$B$27-1)),#N/A)","v":{"$error":"#N/A"}}]
[null,null,null,null,null,null,null,null,null,null,152,97,18187.5,{"$f":"IF(OFFSET(Data!$B$8,L154,(View!$B$27-1))<>\"\",OFFSET(Data!$B$8,L154,(View!$B$27-1)),#N/A)","v":{"$error":"#N/A"}}]
[null,null,null,null,null,null,null,null,null,null,153,98,18375,{"$f":"IF(OFFSET(Data!$B$8,L155,(View!$B$27-1))<>\"\",OFFSET(Data!$B$8,L155,(View!$B$27-1)),#N/A)","v":{"$error":"#N/A"}}]
[null,null,null,null,null,null,null,null,null,null,154,99,18562.5,{"$f":"IF(OFFSET(Data!$B$8,L156,(View!$B$27-1))<>\"\",OFFSET(Data!$B$8,L156,(View!$B$27-1)),#N/A)","v":{"$error":"#N/A"}}]
[null,null,null,null,null,null,null,null,null,null,155,99,18562.5,{"$f":"IF(OFFSET(Data!$B$8,L157,(View!$B$27-1))<>\"\",OFFSET(Data!$B$8,L157,(View!$B$27-1)),#N/A)","v":{"$error":"#N/A"}}]
[null,null,null,null,null,null,null,null,null,null,156,100,18750,{"$f":"IF(OFFSET(Data!$B$8,L158,(View!$B$27-1))<>\"\",OFFSET(Data!$B$8,L158,(View!$B$27-1)),#N/A)","v":{"$error":"#N/A"}}]
[null,null,null,null,null,null,null,null,null,null,157,100,18750,{"$f":"IF(OFFSET(Data!$B$8,L159,(View!$B$27-1))<>\"\",OFFSET(Data!$B$8,L159,(View!$B$27-1)),#N/A)","v":{"$error":"#N/A"}}]
[null,null,null,null,null,null,null,null,null,null,158,101,18937.5,{"$f":"IF(OFFSET(Data!$B$8,L160,(View!$B$27-1))<>\"\",OFFSET(Data!$B$8,L160,(View!$B$27-1)),#N/A)","v":{"$error":"#N/A"}}]
[null,null,null,null,null,null,null,null,null,null,159,102,19125,{"$f":"IF(OFFSET(Data!$B$8,L161,(View!$B$27-1))<>\"\",OFFSET(Data!$B$8,L161,(View!$B$27-1)),#N/A)","v":{"$error":"#N/A"}}]
[null,null,null,null,null,null,null,null,null,null,160,102,19125,{"$f":"IF(OFFSET(Data!$B$8,L162,(View!$B$27-1))<>\"\",OFFSET(Data!$B$8,L162,(View!$B$27-1)),#N/A)","v":{"$error":"#N/A"}}]
[null,null,null,null,null,null,null,null,null,null,161,103,19312.5,{"$f":"IF(OFFSET(Data!$B$8,L163,(View!$B$27-1))<>\"\",OFFSET(Data!$B$8,L163,(View!$B$27-1)),#N/A)","v":{"$error":"#N/A"}}]
[null,null,null,null,null,null,null,null,null,null,162,104,19500,{"$f":"IF(OFFSET(Data!$B$8,L164,(View!$B$27-1))<>\"\",OFFSET(Data!$B$8,L164,(View!$B$27-1)),#N/A)","v":{"$error":"#N/A"}}]
[null,null,null,null,null,null,null,null,null,null,163,104,19500,{"$f":"IF(OFFSET(Data!$B$8,L165,(View!$B$27-1))<>\"\",OFFSET(Data!$B$8,L165,(View!$B$27-1)),#N/A)","v":{"$error":"#N/A"}}]
[null,null,null,null,null,null,null,null,null,null,164,105,19687.5,{"$f":"IF(OFFSET(Data!$B$8,L166,(View!$B$27-1))<>\"\",OFFSET(Data!$B$8,L166,(View!$B$27-1)),#N/A)","v":{"$error":"#N/A"}}]
[null,null,null,null,null,null,null,null,null,null,165,106,19875,{"$f":"IF(OFFSET(Data!$B$8,L167,(View!$B$27-1))<>\"\",OFFSET(Data!$B$8,L167,(View!$B$27-1)),#N/A)","v":{"$error":"#N/A"}}]
[null,null,null,null,null,null,null,null,null,null,166,106,19875,{"$f":"IF(OFFSET(Data!$B$8,L168,(View!$B$27-1))<>\"\",OFFSET(Data!$B$8,L168,(View!$B$27-1)),#N/A)","v":{"$error":"#N/A"}}]
[null,null,null,null,null,null,null,null,null,null,167,107,20062.5,{"$f":"IF(OFFSET(Data!$B$8,L169,(View!$B$27-1))<>\"\",OFFSET(Data!$B$8,L169,(View!$B$27-1)),#N/A)","v":{"$error":"#N/A"}}]
[null,null,null,null,null,null,null,null,null,null,168,108,20250,{"$f":"IF(OFFSET(Data!$B$8,L170,(View!$B$27-1))<>\"\",OFFSET(Data!$B$8,L170,(View!$B$27-1)),#N/A)","v":{"$error":"#N/A"}}]
[null,null,null,null,null,null,null,null,null,null,169,108,20250,{"$f":"IF(OFFSET(Data!$B$8,L171,(View!$B$27-1))<>\"\",OFFSET(Data!$B$8,L171,(View!$B$27-1)),#N/A)","v":{"$error":"#N/A"}}]
[null,null,null,null,null,null,null,null,null,null,170,109,20437.5,{"$f":"IF(OFFSET(Data!$B$8,L172,(View!$B$27-1))<>\"\",OFFSET(Data!$B$8,L172,(View!$B$27-1)),#N/A)","v":{"$error":"#N/A"}}]
[null,null,null,null,null,null,null,null,null,null,171,109,20437.5,{"$f":"IF(OFFSET(Data!$B$8,L173,(View!$B$27-1))<>\"\",OFFSET(Data!$B$8,L173,(View!$B$27-1)),#N/A)","v":{"$error":"#N/A"}}]
[null,null,null,null,null,null,null,null,null,null,172,110,20625,{"$f":"IF(OFFSET(Data!$B$8,L174,(View!$B$27-1))<>\"\",OFFSET(Data!$B$8,L174,(View!$B$27-1)),#N/A)","v":{"$error":"#N/A"}}]
[null,null,null,null,null,null,null,null,null,null,173,111,20812.5,{"$f":"IF(OFFSET(Data!$B$8,L175,(View!$B$27-1))<>\"\",OFFSET(Data!$B$8,L175,(View!$B$27-1)),#N/A)","v":{"$error":"#N/A"}}]
[null,null,null,null,null,null,null,null,null,null,174,111,20812.5,{"$f":"IF(OFFSET(Data!$B$8,L176,(View!$B$27-1))<>\"\",OFFSET(Data!$B$8,L176,(View!$B$27-1)),#N/A)","v":{"$error":"#N/A"}}]
[null,null,null,null,null,null,null,null,null,null,175,112,21000,{"$f":"IF(OFFSET(Data!$B$8,L177,(View!$B$27-1))<>\"\",OFFSET(Data!$B$8,L177,(View!$B$27-1)),#N/A)","v":{"$error":"#N/A"}}]
[null,null,null,null,null,null,null,null,null,null,176,113,21187.5,{"$f":"IF(OFFSET(Data!$B$8,L178,(View!$B$27-1))<>\"\",OFFSET(Data!$B$8,L178,(View!$B$27-1)),#N/A)","v":{"$error":"#N/A"}}]
[null,null,null,null,null,null,null,null,null,null,177,113,21187.5,{"$f":"IF(OFFSET(Data!$B$8,L179,(View!$B$27-1))<>\"\",OFFSET(Data!$B$8,L179,(View!$B$27-1)),#N/A)","v":{"$error":"#N/A"}}]
[null,null,null,null,null,null,null,null,null,null,178,114,21375,{"$f":"IF(OFFSET(Data!$B$8,L180,(View!$B$27-1))<>\"\",OFFSET(Data!$B$8,L180,(View!$B$27-1)),#N/A)","v":{"$error":"#N/A"}}]
[null,null,null,null,null,null,null,null,null,null,179,115,21562.5,{"$f":"IF(OFFSET(Data!$B$8,L181,(View!$B$27-1))<>\"\",OFFSET(Data!$B$8,L181,(View!$B$27-1)),#N/A)","v":{"$error":"#N/A"}}]
[null,null,null,null,null,null,null,null,null,null,180,115,21562.5,{"$f":"IF(OFFSET(Data!$B$8,L182,(View!$B$27-1))<>\"\",OFFSET(Data!$B$8,L182,(View!$B$27-1)),#N/A)","v":{"$error":"#N/A"}}]
[null,null,null,null,null,null,null,null,null,null,181,116,21750,{"$f":"IF(OFFSET(Data!$B$8,L183,(View!$B$27-1))<>\"\",OFFSET(Data!$B$8,L183,(View!$B$27-1)),#N/A)","v":{"$error":"#N/A"}}]
[null,null,null,null,null,null,null,null,null,null,182,116,21750,{"$f":"IF(OFFSET(Data!$B$8,L184,(View!$B$27-1))<>\"\",OFFSET(Data!$B$8,L184,(View!$B$27-1)),#N/A)","v":{"$error":"#N/A"}}]
[null,null,null,null,null,null,null,null,null,null,183,117,21937.5,{"$f":"IF(OFFSET(Data!$B$8,L185,(View!$B$27-1))<>\"\",OFFSET(Data!$B$8,L185,(View!$B$27-1)),#N/A)","v":{"$error":"#N/A"}}]
[null,null,null,null,null,null,null,null,null,null,184,118,22125,{"$f":"IF(OFFSET(Data!$B$8,L186,(View!$B$27-1))<>\"\",OFFSET(Data!$B$8,L186,(View!$B$27-1)),#N/A)","v":{"$error":"#N/A"}}]
[null,null,null,null,null,null,null,null,null,null,185,118,22125,{"$f":"IF(OFFSET(Data!$B$8,L187,(View!$B$27-1))<>\"\",OFFSET(Data!$B$8,L187,(View!$B$27-1)),#N/A)","v":{"$error":"#N/A"}}]
[null,null,null,null,null,null,null,null,null,null,186,119,22312.5,{"$f":"IF(OFFSET(Data!$B$8,L188,(View!$B$27-1))<>\"\",OFFSET(Data!$B$8,L188,(View!$B$27-1)),#N/A)","v":{"$error":"#N/A"}}]
[null,null,null,null,null,null,null,null,null,null,187,120,22500,{"$f":"IF(OFFSET(Data!$B$8,L189,(View!$B$27-1))<>\"\",OFFSET(Data!$B$8,L189,(View!$B$27-1)),#N/A)","v":{"$error":"#N/A"}}]
[null,null,null,null,null,null,null,null,null,null,188,120,22500,{"$f":"IF(OFFSET(Data!$B$8,L190,(View!$B$27-1))<>\"\",OFFSET(Data!$B$8,L190,(View!$B$27-1)),#N/A)","v":{"$error":"#N/A"}}]
[null,null,null,null,null,null,null,null,null,null,189,121,22687.5,{"$f":"IF(OFFSET(Data!$B$8,L191,(View!$B$27-1))<>\"\",OFFSET(Data!$B$8,L191,(View!$B$27-1)),#N/A)","v":{"$error":"#N/A"}}]
[null,null,null,null,null,null,null,null,null,null,190,122,22875,{"$f":"IF(OFFSET(Data!$B$8,L192,(View!$B$27-1))<>\"\",OFFSET(Data!$B$8,L192,(View!$B$27-1)),#N/A)","v":{"$error":"#N/A"}}]
[null,null,null,null,null,null,null,null,null,null,191,122,22875,{"$f":"IF(OFFSET(Data!$B$8,L193,(View!$B$27-1))<>\"\",OFFSET(Data!$B$8,L193,(View!$B$27-1)),#N/A)","v":{"$error":"#N/A"}}]
[null,null,null,null,null,null,null,null,null,null,192,123,23062.5,{"$f":"IF(OFFSET(Data!$B$8,L194,(View!$B$27-1))<>\"\",OFFSET(Data!$B$8,L194,(View!$B$27-1)),#N/A)","v":{"$error":"#N/A"}}]
[null,null,null,null,null,null,null,null,null,null,193,{"$f":" ROUND(($B$12 + K195*($B$13-$B$12)/200)*$B$7/$B$9,0)","v":124},{"$f":" L195*$B$9/$B$7","v":23250},{"$f":"IF(OFFSET(Data!$B$8,L195,(View!$B$27-1))<>\"\",OFFSET(Data!$B$8,L195,(View!$B$27-1)),#N/A)","v":{"$error":"#N/A"}}]
[null,null,null,null,null,null,null,null,null,null,194,124,23250,{"$f":"IF(OFFSET(Data!$B$8,L196,(View!$B$27-1))<>\"\",OFFSET(Data!$B$8,L196,(View!$B$27-1)),#N/A)","v":{"$error":"#N/A"}}]
[null,null,null,null,null,null,null,null,null,null,195,125,23437.5,{"$f":"IF(OFFSET(Data!$B$8,L197,(View!$B$27-1))<>\"\",OFFSET(Data!$B$8,L197,(View!$B$27-1)),#N/A)","v":{"$error":"#N/A"}}]
[null,null,null,null,null,null,null,null,null,null,196,125,23437.5,{"$f":"IF(OFFSET(Data!$B$8,L198,(View!$B$27-1))<>\"\",OFFSET(Data!$B$8,L198,(View!$B$27-1)),#N/A)","v":{"$error":"#N/A"}}]
[null,null,null,null,null,null,null,null,null,null,197,126,23625,{"$f":"IF(OFFSET(Data!$B$8,L199,(View!$B$27-1))<>\"\",OFFSET(Data!$B$8,L199,(View!$B$27-1)),#N/A)","v":{"$error":"#N/A"}}]
[null,null,null,null,null,null,null,null,null,null,198,127,23812.5,{"$f":"IF(OFFSET(Data!$B$8,L200,(View!$B$27-1))<>\"\",OFFSET(Data!$B$8,L200,(View!$B$27-1)),#N/A)","v":{"$error":"#N/A"}}]
[null,null,null,null,null,null,null,null,null,null,199,127,23812.5,{"$f":"IF(OFFSET(Data!$B$8,L201,(View!$B$27-1))<>\"\",OFFSET(Data!$B$8,L201,(View!$B$27-1)),#N/A)","v":{"$error":"#N/A"}}]
[null,null,null,null,null,null,null,null,null,null,200,128,24000,{"$f":"IF(OFFSET(Data!$B$8,L202,(View!$B$27-1))<>\"\",OFFSET(Data!$B$8,L202,(View!$B$27-1)),#N/A)","v":{"$error":"#N/A"}}]

{"sheet":"Data","index":2,"n_rows":7,"n_cols":1,"rows_kept":7,"cut":false,"hidden":false,"merged":[]}
[]
["date"]
["time"]
["duration"]
["windowSize"]
["windowType"]
["sampleRate"]

{"sheet":"Notes","index":3,"n_rows":0,"n_cols":0,"rows_kept":0,"cut":false,"hidden":false,"merged":[]}