{"text_format":"1","workbook":"xlsx","n_sheets":5,"sheets":["Import","View","Data","Octave spectrum","Notes"],"not_rendered":{"charts":2,"images":2,"macros":1,"external_links":0,"defined_names":2,"comments":0,"pivot_tables":0},"unopened":[],"bounds":{"document_bytes":16777216,"sheet_cells":100000,"rows_first":2000,"rows_last":500,"rows_between":2000,"halvings":0,"cell_chars":16384,"cell_head_chars":4096},"cells_cut":0,"cells_raw":0,"read":"whole","date_system":"1900"}

{"sheet":"Import","index":0,"n_rows":19,"n_cols":1,"rows_kept":19,"cut":false,"hidden":false,"merged":[]}
["RTA Data import"]
[]
[]
[]
[]
["How does this worksheet work?"]
["This worksheet allows you to import RTA measurements stored on the Bedrock SMxx. Make sure that the RTA result files are copied onto your computer, or that the instrument is attached to USB and accessible as a mass storage device. Then press the button below (\"Import RTA\"). You can now select the measurement data files that you wish to import. NOTE: by using SHIFT and CTRL you can select multiple files for opening. The measurements are imported into the sheet named \"Data.\" Use the sheet named \"View\" to browse through these measurements, or copy data directly from the \"Data\" sheet to your own Worksheet for further calculations. Note that importing data changes this worksheet, overwriting earlier data imports. We recommend that you keep the original version of this worksheet in a safe location, and that you use a new copy of this original file for each new project."]
[]
["For support or to download the latest version of this file, please refer to our website"]
["www.bedrock-audio.com"]
[]
["Version 2.6.0"]
[]
[]
["COPYRIGHT (C) Embedded Acoustics BV, 2020"]
["ALL RIGHTS RESERVED. This worksheet contains material protected under International and Federal Copyright Laws and Treaties. Any unauthorized use of this material is prohibited. No part of this worksheet may be reproduced or transmitted in any form or by any means, electronic or mechanical, including photocopying, recording, or by any information storage and retrieval system without express written permission from the author. "]
[" "]
["DISCLAIMER"]
["THIS DOCUMENT IS PROVIDED \"AS IS\", WITHOUT WARRANTY OF ANY KIND, EXPRESS OR IMPLIED, INCLUDING BUT NOT LIMITED TO THE WARRANTIES OF MERCHANTABILITY, FITNESS FOR A PARTICULAR PURPOSE AND NONINFRINGEMENT. IN NO EVENT SHALL THE AUTHORS OR COPYRIGHT HOLDERS BE LIABLE FOR ANY CLAIM, DAMAGES OR OTHER LIABILITY, WHETHER IN AN ACTION OF CONTRACT, TORT OR OTHERWISE, ARISING FROM, OUT OF OR IN CONNECTION WITH THE SOFTWARE OR THE USE OR OTHER DEALINGS IN THE SOFTWARE"]

{"sheet":"View","index":1,"n_rows":48,"n_cols":123,"rows_kept":48,"cut":false,"hidden":false,"merged":[]}
["Date",{"$f":"OFFSET(Data!#REF!,View!$B$25,0)","v":{"$error":"#REF!"}}]
["Time",{"$f":"OFFSET(Data!#REF!,View!$B$25,0)","v":{"$error":"#REF!"}}]
["Duration [s]",{"$f":"OFFSET(Data!#REF!,View!$B$25,0)","v":{"$error":"#REF!"}}]
[]
[null,"overall",{"$f":"IF(OFFSET(C45,$E$41,0)=\"\",\"\",OFFSET(C45,$E$41,0))","v":{"$error":"#REF!"}},{"$f":"IF(OFFSET(D45,$E$41,0)=\"\",\"\",OFFSET(D45,$E$41,0))","v":{"$error":"#REF!"}},{"$error":"#REF!"},{"$error":"#REF!"},{"$error":"#REF!"},{"$error":"#REF!"},{"$error":"#REF!"},{"$error":"#REF!"},{"$error":"#REF!"},{"$error":"#REF!"},{"$error":"#REF!"},{"$error":"#REF!"},{"$error":"#REF!"},{"$error":"#REF!"},{"$error":"#REF!"},{"$error":"#REF!"},{"$error":"#REF!"},{"$error":"#REF!"},{"$error":"#REF!"},{"$error":"#REF!"},{"$error":"#REF!"},{"$error":"#REF!"},{"$error":"#REF!"},{"$error":"#REF!"},{"$f":"IF(OFFSET(AA45,$E$41,0)=\"\",\"\",OFFSET(AA45,$E$41,0))","v":{"$error":"#REF!"}},{"$error":"#REF!"},{"$error":"#REF!"},{"$error":"#REF!"},{"$error":"#REF!"},{"$error":"#REF!"},{"$error":"#REF!"},{"$error":"#REF!"},{"$error":"#REF!"},{"$error":"#REF!"},{"$error":"#REF!"},{"$error":"#REF!"},{"$error":"#REF!"},{"$error":"#REF!"},{"$error":"#REF!"},{"$error":"#REF!"},{"$error":"#REF!"},{"$error":"#REF!"},{"$error":"#REF!"},{"$error":"#REF!"},{"$error":"#REF!"},{"$error":"#REF!"},{"$error":"#REF!"},{"$error":"#REF!"},{"$error":"#REF!"},{"$error":"#REF!"},{"$error":"#REF!"},{"$error":"#REF!"},{"$error":"#REF!"},{"$error":"#REF!"},{"$error":"#REF!"},{"$error":"#REF!"},{"$error":"#REF!"},{"$error":"#REF!"},{"$error":"#REF!"},{"$error":"#REF!"},{"$error":"#REF!"},{"$error":"#REF!"},{"$error":"#REF!"},{"$error":"#REF!"},{"$error":"#REF!"},{"$f":"IF(OFFSET(BP45,$E$41,0)=\"\",\"\",OFFSET(BP45,$E$41,0))","v":{"$error":"#REF!"}},{"$error":"#REF!"},{"$error":"#REF!"},{"$error":"#REF!"},{"$error":"#REF!"},{"$error":"#REF!"},{"$error":"#REF!"},{"$error":"#REF!"},{"$error":"#REF!"},{"$error":"#REF!"},{"$error":"#REF!"},{"$error":"#REF!"},{"$error":"#REF!"},{"$error":"#REF!"},{"$error":"#REF!"},{"$error":"#REF!"},{"$error":"#REF!"},{"$error":"#REF!"},{"$error":"#REF!"},{"$error":"#REF!"},{"$error":"#REF!"},{"$error":"#REF!"},{"$error":"#REF!"},{"$error":"#REF!"},{"$error":"#REF!"},{"$error":"#REF!"},{"$error":"#REF!"},{"$error":"#REF!"},{"$error":"#REF!"},{"$error":"#REF!"},{"$error":"#REF!"},{"$error":"#REF!"},{"$error":"#REF!"},{"$error":"#REF!"},{"$error":"#REF!"},{"$error":"#REF!"},{"$error":"#REF!"},{"$error":"#REF!"},{"$error":"#REF!"},{"$error":"#REF!"},{"$error":"#REF!"},{"$error":"#REF!"},{"$error":"#REF!"},{"$error":"#REF!"},{"$error":"#REF!"},{"$error":"#REF!"},{"$error":"#REF!"},{"$error":"#REF!"},{"$error":"#REF!"},{"$error":"#REF!"},{"$error":"#REF!"},{"$error":"#REF!"},{"$error":"#REF!"},{"$error":"#REF!"},{"$error":"#REF!"}]
["LZeq",{"$f":"IF(B$5<>\"\",OFFSET(Data!#REF!,View!$B$25,$DS6),\"\")","v":{"$error":"#REF!"}},{"$f":"IF(C$5<>\"\",OFFSET(Data!#REF!,View!$B$25,$DS6),\"\")","v":{"$error":"#REF!"}},{"$f":"IF(D$5<>\"\",OFFSET(Data!#REF!,View!$B$25,$DS6),\"\")","v":{"$error":"#REF!"}},{"$f":"IF(E$5<>\"\",OFFSET(Data!#REF!,View!$B$25,$DS6),\"\")","v":{"$error":"#REF!"}},{"$f":"IF(F$5<>\"\",OFFSET(Data!#REF!,View!$B$25,$DS6),\"\")","v":{"$error":"#REF!"}},{"$f":"IF(G$5<>\"\",OFFSET(Data!#REF!,View!$B$25,$DS6),\"\")","v":{"$error":"#REF!"}},{"$f":"IF(H$5<>\"\",OFFSET(Data!#REF!,View!$B$25,$DS6),\"\")","v":{"$error":"#REF!"}},{"$f":"IF(I$5<>\"\",OFFSET(Data!#REF!,View!$B$25,$DS6),\"\")","v":{"$error":"#REF!"}},{"$f":"IF(J$5<>\"\",OFFSET(Data!#REF!,View!$B$25,$DS6),\"\")","v":{"$error":"#REF!"}},{"$f":"IF(K$5<>\"\",OFFSET(Data!#REF!,View!$B$25,$DS6),\"\")","v":{"$error":"#REF!"}},{"$f":"IF(L$5<>\"\",OFFSET(Data!#REF!,View!$B$25,$DS6),\"\")","v":{"$error":"#REF!"}},{"$f":"IF(M$5<>\"\",OFFSET(Data!#REF!,View!$B$25,$DS6),\"\")","v":{"$error":"#REF!"}},{"$f":"IF(N$5<>\"\",OFFSET(Data!#REF!,View!$B$25,$DS6),\"\")","v":{"$error":"#REF!"}},{"$f":"IF(O$5<>\"\",OFFSET(Data!#REF!,View!$B$25,$DS6),\"\")","v":{"$error":"#REF!"}},{"$f":"IF(P$5<>\"\",OFFSET(Data!#REF!,View!$B$25,$DS6),\"\")","v":{"$error":"#REF!"}},{"$f":"IF(Q$5<>\"\",OFFSET(Data!#REF!,View!$B$25,$DS6),\"\")","v":{"$error":"#REF!"}},{"$f":"IF(R$5<>\"\",OFFSET(Data!#REF!,View!$B$25,$DS6),\"\")","v":{"$error":"#REF!"}},{"$f":"IF(S$5<>\"\",OFFSET(Data!#REF!,View!$B$25,$DS6),\"\")","v":{"$error":"#REF!"}},{"$f":"IF(T$5<>\"\",OFFSET(Data!#REF!,View!$B$25,$DS6),\"\")","v":{"$error":"#REF!"}},{"$f":"IF(U$5<>\"\",OFFSET(Data!#REF!,View!$B$25,$DS6),\"\")","v":{"$error":"#REF!"}},{"$f":"IF(V$5<>\"\",OFFSET(Data!#REF!,View!$B$25,$DS6),\"\")","v":{"$error":"#REF!"}},{"$f":"IF(W$5<>\"\",OFFSET(Data!#REF!,View!$B$25,$DS6),\"\")","v":{"$error":"#REF!"}},{"$f":"IF(X$5<>\"\",OFFSET(Data!#REF!,View!$B$25,$DS6),\"\")","v":{"$error":"#REF!"}},{"$f":"IF(Y$5<>\"\",OFFSET(Data!#REF!,View!$B$25,$DS6),\"\")","v":{"$error":"#REF!"}},{"$f":"IF(Z$5<>\"\",OFFSET(Data!#REF!,View!$B$25,$DS6),\"\")","v":{"$error":"#REF!"}},{"$f":"IF(AA$5<>\"\",OFFSET(Data!#REF!,View!$B$25,$DS6),\"\")","v":{"$error":"#REF!"}},{"$f":"IF(AB$5<>\"\",OFFSET(Data!#REF!,View!$B$25,$DS6),\"\")","v":{"$error":"#REF!"}},{"$f":"IF(AC$5<>\"\",OFFSET(Data!#REF!,View!$B$25,$DS6),\"\")","v":{"$error":"#REF!"}},{"$f":"IF(AD$5<>\"\",OFFSET(Data!#REF!,View!$B$25,$DS6),\"\")","v":{"$error":"#REF!"}},{"$f":"IF(AE$5<>\"\",OFFSET(Data!#REF!,View!$B$25,$DS6),\"\")","v":{"$error":"#REF!"}},{"$f":"IF(AF$5<>\"\",OFFSET(Data!#REF!,View!$B$25,$DS6),\"\")","v":{"$error":"#REF!"}},{"$f":"IF(AG$5<>\"\",OFFSET(Data!#REF!,View!$B$25,$DS6),\"\")","v":{"$error":"#REF!"}},{"$f":"IF(AH$5<>\"\",OFFSET(Data!#REF!,View!$B$25,$DS6),\"\")","v":{"$error":"#REF!"}},{"$f":"IF(AI$5<>\"\",OFFSET(Data!#REF!,View!$B$25,$DS6),\"\")","v":{"$error":"#REF!"}},{"$f":"IF(AJ$5<>\"\",OFFSET(Data!#REF!,View!$B$25,$DS6),\"\")","v":{"$error":"#REF!"}},{"$f":"IF(AK$5<>\"\",OFFSET(Data!#REF!,View!$B$25,$DS6),\"\")","v":{"$error":"#REF!"}},{"$f":"IF(AL$5<>\"\",OFFSET(Data!#REF!,View!$B$25,$DS6),\"\")","v":{"$error":"#REF!"}},{"$f":"IF(AM$5<>\"\",OFFSET(Data!#REF!,View!$B$25,$DS6),\"\")","v":{"$error":"#REF!"}},{"$f":"IF(AN$5<>\"\",OFFSET(Data!#REF!,View!$B$25,$DS6),\"\")","v":{"$error":"#REF!"}},{"$f":"IF(AO$5<>\"\",OFFSET(Data!#REF!,View!$B$25,$DS6),\"\")","v":{"$error":"#REF!"}},{"$f":"IF(AP$5<>\"\",OFFSET(Data!#REF!,View!$B$25,$DS6),\"\")","v":{"$error":"#REF!"}},{"$f":"IF(AQ$5<>\"\",OFFSET(Data!#REF!,View!$B$25,$DS6),\"\")","v":{"$error":"#REF!"}},{"$f":"IF(AR$5<>\"\",OFFSET(Data!#REF!,View!$B$25,$DS6),\"\")","v":{"$error":"#REF!"}},{"$f":"IF(AS$5<>\"\",OFFSET(Data!#REF!,View!$B$25,$DS6),\"\")","v":{"$error":"#REF!"}},{"$f":"IF(AT$5<>\"\",OFFSET(Data!#REF!,View!$B$25,$DS6),\"\")","v":{"$error":"#REF!"}},{"$f":"IF(AU$5<>\"\",OFFSET(Data!#REF!,View!$B$25,$DS6),\"\")","v":{"$error":"#REF!"}},{"$f":"IF(AV$5<>\"\",OFFSET(Data!#REF!,View!$B$25,$DS6),\"\")","v":{"$error":"#REF!"}},{"$f":"IF(AW$5<>\"\",OFFSET(Data!#REF!,View!$B$25,$DS6),\"\")","v":{"$error":"#REF!"}},{"$f":"IF(AX$5<>\"\",OFFSET(Data!#REF!,View!$B$25,$DS6),\"\")","v":{"$error":"#REF!"}},{"$f":"IF(AY$5<>\"\",OFFSET(Data!#REF!,View!$B$25,$DS6),\"\")","v":{"$error":"#REF!"}},{"$f":"IF(AZ$5<>\"\",OFFSET(Data!#REF!,View!$B$25,$DS6),\"\")","v":{"$error":"#REF!"}},{"$f":"IF(BA$5<>\"\",OFFSET(Data!#REF!,View!$B$25,$DS6),\"\")","v":{"$error":"#REF!"}},{"$f":"IF(BB$5<>\"\",OFFSET(Data!#REF!,View!$B$25,$DS6),\"\")","v":{"$error":"#REF!"}},{"$f":"IF(BC$5<>\"\",OFFSET(Data!#REF!,View!$B$25,$DS6),\"\")","v":{"$error":"#REF!"}},{"$f":"IF(BD$5<>\"\",OFFSET(Data!#REF!,View!$B$25,$DS6),\"\")","v":{"$error":"#REF!"}},{"$f":"IF(BE$5<>\"\",OFFSET(Data!#REF!,View!$B$25,$DS6),\"\")","v":{"$error":"#REF!"}},{"$f":"IF(BF$5<>\"\",OFFSET(Data!#REF!,View!$B$25,$DS6),\"\")","v":{"$error":"#REF!"}},{"$f":"IF(BG$5<>\"\",OFFSET(Data!#REF!,View!$B$25,$DS6),\"\")","v":{"$error":"#REF!"}},{"$f":"IF(BH$5<>\"\",OFFSET(Data!#REF!,View!$B$25,$DS6),\"\")","v":{"$error":"#REF!"}},{"$f":"IF(BI$5<>\"\",OFFSET(Data!#REF!,View!$B$25,$DS6),\"\")","v":{"$error":"#REF!"}},{"$f":"IF(BJ$5<>\"\",OFFSET(Data!#REF!,View!$B$25,$DS6),\"\")","v":{"$error":"#REF!"}},{"$f":"IF(BK$5<>\"\",OFFSET(Data!#REF!,View!$B$25,$DS6),\"\")","v":{"$error":"#REF!"}},{"$f":"IF(BL$5<>\"\",OFFSET(Data!#REF!,View!$B$25,$DS6),\"\")","v":{"$error":"#REF!"}},{"$f":"IF(BM$5<>\"\",OFFSET(Data!#REF!,View!$B$25,$DS6),\"\")","v":{"$error":"#REF!"}},{"$f":"IF(BN$5<>\"\",OFFSET(Data!#REF!,View!$B$25,$DS6),\"\")","v":{"$error":"#REF!"}},{"$f":"IF(BO$5<>\"\",OFFSET(Data!#REF!,View!$B$25,$DS6),\"\")","v":{"$error":"#REF!"}},{"$f":"IF(BP$5<>\"\",OFFSET(Data!#REF!,View!$B$25,$DS6),\"\")","v":{"$error":"#REF!"}},{"$f":"IF(BQ$5<>\"\",OFFSET(Data!#REF!,View!$B$25,$DS6),\"\")","v":{"$error":"#REF!"}},{"$f":"IF(BR$5<>\"\",OFFSET(Data!#REF!,View!$B$25,$DS6),\"\")","v":{"$error":"#REF!"}},{"$f":"IF(BS$5<>\"\",OFFSET(Data!#REF!,View!$B$25,$DS6),\"\")","v":{"$error":"#REF!"}},{"$f":"IF(BT$5<>\"\",OFFSET(Data!#REF!,View!$B$25,$DS6),\"\")","v":{"$error":"#REF!"}},{"$f":"IF(BU$5<>\"\",OFFSET(Data!#REF!,View!$B$25,$DS6),\"\")","v":{"$error":"#REF!"}},{"$f":"IF(BV$5<>\"\",OFFSET(Data!#REF!,View!$B$25,$DS6),\"\")","v":{"$error":"#REF!"}},{"$f":"IF(BW$5<>\"\",OFFSET(Data!#REF!,View!$B$25,$DS6),\"\")","v":{"$error":"#REF!"}},{"$f":"IF(BX$5<>\"\",OFFSET(Data!#REF!,View!$B$25,$DS6),\"\")","v":{"$error":"#REF!"}},{"$f":"IF(BY$5<>\"\",OFFSET(Data!#REF!,View!$B$25,$DS6),\"\")","v":{"$error":"#REF!"}},{"$f":"IF(BZ$5<>\"\",OFFSET(Data!#REF!,View!$B$25,$DS6),\"\")","v":{"$error":"#REF!"}},{"$f":"IF(CA$5<>\"\",OFFSET(Data!#REF!,View!$B$25,$DS6),\"\")","v":{"$error":"#REF!"}},{"$f":"IF(CB$5<>\"\",OFFSET(Data!#REF!,View!$B$25,$DS6),\"\")","v":{"$error":"#REF!"}},{"$f":"IF(CC$5<>\"\",OFFSET(Data!#REF!,View!$B$25,$DS6),\"\")","v":{"$error":"#REF!"}},{"$f":"IF(CD$5<>\"\",OFFSET(Data!#REF!,View!$B$25,$DS6),\"\")","v":{"$error":"#REF!"}},{"$f":"IF(CE$5<>\"\",OFFSET(Data!#REF!,View!$B$25,$DS6),\"\")","v":{"$error":"#REF!"}},{"$f":"IF(CF$5<>\"\",OFFSET(Data!#REF!,View!$B$25,$DS6),\"\")","v":{"$error":"#REF!"}},{"$f":"IF(CG$5<>\"\",OFFSET(Data!#REF!,View!$B$25,$DS6),\"\")","v":{"$error":"#REF!"}},{"$f":"IF(CH$5<>\"\",OFFSET(Data!#REF!,View!$B$25,$DS6),\"\")","v":{"$error":"#REF!"}},{"$f":"IF(CI$5<>\"\",OFFSET(Data!#REF!,View!$B$25,$DS6),\"\")","v":{"$error":"#REF!"}},{"$f":"IF(CJ$5<>\"\",OFFSET(Data!#REF!,View!$B$25,$DS6),\"\")","v":{"$error":"#REF!"}},{"$f":"IF(CK$5<>\"\",OFFSET(Data!#REF!,View!$B$25,$DS6),\"\")","v":{"$error":"#REF!"}},{"$f":"IF(CL$5<>\"\",OFFSET(Data!#REF!,View!$B$25,$DS6),\"\")","v":{"$error":"#REF!"}},{"$f":"IF(CM$5<>\"\",OFFSET(Data!#REF!,View!$B$25,$DS6),\"\")","v":{"$error":"#REF!"}},{"$f":"IF(CN$5<>\"\",OFFSET(Data!#REF!,View!$B$25,$DS6),\"\")","v":{"$error":"#REF!"}},{"$f":"IF(CO$5<>\"\",OFFSET(Data!#REF!,View!$B$25,$DS6),\"\")","v":{"$error":"#REF!"}},{"$f":"IF(CP$5<>\"\",OFFSET(Data!#REF!,View!$B$25,$DS6),\"\")","v":{"$error":"#REF!"}},{"$f":"IF(CQ$5<>\"\",OFFSET(Data!#REF!,View!$B$25,$DS6),\"\")","v":{"$error":"#REF!"}},{"$f":"IF(CR$5<>\"\",OFFSET(Data!#REF!,View!$B$25,$DS6),\"\")","v":{"$error":"#REF!"}},{"$f":"IF(CS$5<>\"\",OFFSET(Data!#REF!,View!$B$25,$DS6),\"\")","v":{"$error":"#REF!"}},{"$f":"IF(CT$5<>\"\",OFFSET(Data!#REF!,View!$B$25,$DS6),\"\")","v":{"$error":"#REF!"}},{"$f":"IF(CU$5<>\"\",OFFSET(Data!#REF!,View!$B$25,$DS6),\"\")","v":{"$error":"#REF!"}},{"$f":"IF(CV$5<>\"\",OFFSET(Data!#REF!,View!$B$25,$DS6),\"\")","v":{"$error":"#REF!"}},{"$f":"IF(CW$5<>\"\",OFFSET(Data!#REF!,View!$B$25,$DS6),\"\")","v":{"$error":"#REF!"}},{"$f":"IF(CX$5<>\"\",OFFSET(Data!#REF!,View!$B$25,$DS6),\"\")","v":{"$error":"#REF!"}},{"$f":"IF(CY$5<>\"\",OFFSET(Data!#REF!,View!$B$25,$DS6),\"\")","v":{"$error":"#REF!"}},{"$f":"IF(CZ$5<>\"\",OFFSET(Data!#REF!,View!$B$25,$DS6),\"\")","v":{"$error":"#REF!"}},{"$f":"IF(DA$5<>\"\",OFFSET(Data!#REF!,View!$B$25,$DS6),\"\")","v":{"$error":"#REF!"}},{"$f":"IF(DB$5<>\"\",OFFSET(Data!#REF!,View!$B$25,$DS6),\"\")","v":{"$error":"#REF!"}},{"$f":"IF(DC$5<>\"\",OFFSET(Data!#REF!,View!$B$25,$DS6),\"\")","v":{"$error":"#REF!"}},{"$f":"IF(DD$5<>\"\",OFFSET(Data!#REF!,View!$B$25,$DS6),\"\")","v":{"$error":"#REF!"}},{"$f":"IF(DE$5<>\"\",OFFSET(Data!#REF!,View!$B$25,$DS6),\"\")","v":{"$error":"#REF!"}},{"$f":"IF(DF$5<>\"\",OFFSET(Data!#REF!,View!$B$25,$DS6),\"\")","v":{"$error":"#REF!"}},{"$f":"IF(DG$5<>\"\",OFFSET(Data!#REF!,View!$B$25,$DS6),\"\")","v":{"$error":"#REF!"}},{"$f":"IF(DH$5<>\"\",OFFSET(Data!#REF!,View!$B$25,$DS6),\"\")","v":{"$error":"#REF!"}},{"$f":"IF(DI$5<>\"\",OFFSET(Data!#REF!,View!$B$25,$DS6),\"\")","v":{"$error":"#REF!"}},{"$f":"IF(DJ$5<>\"\",OFFSET(Data!#REF!,View!$B$25,$DS6),\"\")","v":{"$error":"#REF!"}},{"$f":"IF(DK$5<>\"\",OFFSET(Data!#REF!,View!$B$25,$DS6),\"\")","v":{"$error":"#REF!"}},{"$f":"IF(DL$5<>\"\",OFFSET(Data!#REF!,View!$B$25,$DS6),\"\")","v":{"$error":"#REF!"}},{"$f":"IF(DM$5<>\"\",OFFSET(Data!#REF!,View!$B$25,$DS6),\"\")","v":{"$error":"#REF!"}},{"$f":"IF(DN$5<>\"\",OFFSET(Data!#REF!,View!$B$25,$DS6),\"\")","v":{"$error":"#REF!"}},{"$f":"IF(DO$5<>\"\",OFFSET(Data!#REF!,View!$B$25,$DS6),\"\")","v":{"$error":"#REF!"}},{"$f":"IF(DP$5<>\"\",OFFSET(Data!#REF!,View!$B$25,$DS6),\"\")","v":{"$error":"#REF!"}},{"$f":"IF(DQ$5<>\"\",OFFSET(Data!#REF!,View!$B$25,$DS6),\"\")","v":{"$error":"#REF!"}},{"$f":"IF(DR$5<>\"\",OFFSET(Data!#REF!,View!$B$25,$DS6),\"\")","v":{"$error":"#REF!"}},{"$f":"($C$41+1)*8","v":{"$error":"#REF!"}}]
["LAeq",{"$f":"IF(B$5<>\"\",OFFSET(Data!#REF!,View!$B$25,$DS7),\"\")","v":{"$error":"#REF!"}},{"$f":"IF(C$5<>\"\",OFFSET(Data!#REF!,View!$B$25,$DS7),\"\")","v":{"$error":"#REF!"}},{"$f":"IF(D$5<>\"\",OFFSET(Data!#REF!,View!$B$25,$DS7),\"\")","v":{"$error":"#REF!"}},{"$f":"IF(E$5<>\"\",OFFSET(Data!#REF!,View!$B$25,$DS7),\"\")","v":{"$error":"#REF!"}},{"$f":"IF(F$5<>\"\",OFFSET(Data!#REF!,View!$B$25,$DS7),\"\")","v":{"$error":"#REF!"}},{"$f":"IF(G$5<>\"\",OFFSET(Data!#REF!,View!$B$25,$DS7),\"\")","v":{"$error":"#REF!"}},{"$f":"IF(H$5<>\"\",OFFSET(Data!#REF!,View!$B$25,$DS7),\"\")","v":{"$error":"#REF!"}},{"$f":"IF(I$5<>\"\",OFFSET(Data!#REF!,View!$B$25,$DS7),\"\")","v":{"$error":"#REF!"}},{"$f":"IF(J$5<>\"\",OFFSET(Data!#REF!,View!$B$25,$DS7),\"\")","v":{"$error":"#REF!"}},{"$f":"IF(K$5<>\"\",OFFSET(Data!#REF!,View!$B$25,$DS7),\"\")","v":{"$error":"#REF!"}},{"$f":"IF(L$5<>\"\",OFFSET(Data!#REF!,View!$B$25,$DS7),\"\")","v":{"$error":"#REF!"}},{"$f":"IF(M$5<>\"\",OFFSET(Data!#REF!,View!$B$25,$DS7),\"\")","v":{"$error":"#REF!"}},{"$f":"IF(N$5<>\"\",OFFSET(Data!#REF!,View!$B$25,$DS7),\"\")","v":{"$error":"#REF!"}},{"$f":"IF(O$5<>\"\",OFFSET(Data!#REF!,View!$B$25,$DS7),\"\")","v":{"$error":"#REF!"}},{"$f":"IF(P$5<>\"\",OFFSET(Data!#REF!,View!$B$25,$DS7),\"\")","v":{"$error":"#REF!"}},{"$f":"IF(Q$5<>\"\",OFFSET(Data!#REF!,View!$B$25,$DS7),\"\")","v":{"$error":"#REF!"}},{"$f":"IF(R$5<>\"\",OFFSET(Data!#REF!,View!$B$25,$DS7),\"\")","v":{"$error":"#REF!"}},{"$f":"IF(S$5<>\"\",OFFSET(Data!#REF!,View!$B$25,$DS7),\"\")","v":{"$error":"#REF!"}},{"$f":"IF(T$5<>\"\",OFFSET(Data!#REF!,View!$B$25,$DS7),\"\")","v":{"$error":"#REF!"}},{"$f":"IF(U$5<>\"\",OFFSET(Data!#REF!,View!$B$25,$DS7),\"\")","v":{"$error":"#REF!"}},{"$f":"IF(V$5<>\"\",OFFSET(Data!#REF!,View!$B$25,$DS7),\"\")","v":{"$error":"#REF!"}},{"$f":"IF(W$5<>\"\",OFFSET(Data!#REF!,View!$B$25,$DS7),\"\")","v":{"$error":"#REF!"}},{"$f":"IF(X$5<>\"\",OFFSET(Data!#REF!,View!$B$25,$DS7),\"\")","v":{"$error":"#REF!"}},{"$f":"IF(Y$5<>\"\",OFFSET(Data!#REF!,View!$B$25,$DS7),\"\")","v":{"$error":"#REF!"}},{"$f":"IF(Z$5<>\"\",OFFSET(Data!#REF!,View!$B$25,$DS7),\"\")","v":{"$error":"#REF!"}},{"$f":"IF(AA$5<>\"\",OFFSET(Data!#REF!,View!$B$25,$DS7),\"\")","v":{"$error":"#REF!"}},{"$f":"IF(AB$5<>\"\",OFFSET(Data!#REF!,View!$B$25,$DS7),\"\")","v":{"$error":"#REF!"}},{"$f":"IF(AC$5<>\"\",OFFSET(Data!#REF!,View!$B$25,$DS7),\"\")","v":{"$error":"#REF!"}},{"$f":"IF(AD$5<>\"\",OFFSET(Data!#REF!,View!$B$25,$DS7),\"\")","v":{"$error":"#REF!"}},{"$f":"IF(AE$5<>\"\",OFFSET(Data!#REF!,View!$B$25,$DS7),\"\")","v":{"$error":"#REF!"}},{"$f":"IF(AF$5<>\"\",OFFSET(Data!#REF!,View!$B$25,$DS7),\"\")","v":{"$error":"#REF!"}},{"$f":"IF(AG$5<>\"\",OFFSET(Data!#REF!,View!$B$25,$DS7),\"\")","v":{"$error":"#REF!"}},{"$f":"IF(AH$5<>\"\",OFFSET(Data!#REF!,View!$B$25,$DS7),\"\")","v":{"$error":"#REF!"}},{"$f":"IF(AI$5<>\"\",OFFSET(Data!#REF!,View!$B$25,$DS7),\"\")","v":{"$error":"#REF!"}},{"$f":"IF(AJ$5<>\"\",OFFSET(Data!#REF!,View!$B$25,$DS7),\"\")","v":{"$error":"#REF!"}},{"$f":"IF(AK$5<>\"\",OFFSET(Data!#REF!,View!$B$25,$DS7),\"\")","v":{"$error":"#REF!"}},{"$f":"IF(AL$5<>\"\",OFFSET(Data!#REF!,View!$B$25,$DS7),\"\")","v":{"$error":"#REF!"}},{"$f":"IF(AM$5<>\"\",OFFSET(Data!#REF!,View!$B$25,$DS7),\"\")","v":{"$error":"#REF!"}},{"$f":"IF(AN$5<>\"\",OFFSET(Data!#REF!,View!$B$25,$DS7),\"\")","v":{"$error":"#REF!"}},{"$f":"IF(AO$5<>\"\",OFFSET(Data!#REF!,View!$B$25,$DS7),\"\")","v":{"$error":"#REF!"}},{"$f":"IF(AP$5<>\"\",OFFSET(Data!#REF!,View!$B$25,$DS7),\"\")","v":{"$error":"#REF!"}},{"$f":"IF(AQ$5<>\"\",OFFSET(Data!#REF!,View!$B$25,$DS7),\"\")","v":{"$error":"#REF!"}},{"$f":"IF(AR$5<>\"\",OFFSET(Data!#REF!,View!$B$25,$DS7),\"\")","v":{"$error":"#REF!"}},{"$f":"IF(AS$5<>\"\",OFFSET(Data!#REF!,View!$B$25,$DS7),\"\")","v":{"$error":"#REF!"}},{"$f":"IF(AT$5<>\"\",OFFSET(Data!#REF!,View!$B$25,$DS7),\"\")","v":{"$error":"#REF!"}},{"$f":"IF(AU$5<>\"\",OFFSET(Data!#REF!,View!$B$25,$DS7),\"\")","v":{"$error":"#REF!"}},{"$f":"IF(AV$5<>\"\",OFFSET(Data!#REF!,View!$B$25,$DS7),\"\")","v":{"$error":"#REF!"}},{"$f":"IF(AW$5<>\"\",OFFSET(Data!#REF!,View!$B$25,$DS7),\"\")","v":{"$error":"#REF!"}},{"$f":"IF(AX$5<>\"\",OFFSET(Data!#REF!,View!$B$25,$DS7),\"\")","v":{"$error":"#REF!"}},{"$f":"IF(AY$5<>\"\",OFFSET(Data!#REF!,View!$B$25,$DS7),\"\")","v":{"$error":"#REF!"}},{"$f":"IF(AZ$5<>\"\",OFFSET(Data!#REF!,View!$B$25,$DS7),\"\")","v":{"$error":"#REF!"}},{"$f":"IF(BA$5<>\"\",OFFSET(Data!#REF!,View!$B$25,$DS7),\"\")","v":{"$error":"#REF!"}},{"$f":"IF(BB$5<>\"\",OFFSET(Data!#REF!,View!$B$25,$DS7),\"\")","v":{"$error":"#REF!"}},{"$f":"IF(BC$5<>\"\",OFFSET(Data!#REF!,View!$B$25,$DS7),\"\")","v":{"$error":"#REF!"}},{"$f":"IF(BD$5<>\"\",OFFSET(Data!#REF!,View!$B$25,$DS7),\"\")","v":{"$error":"#REF!"}},{"$f":"IF(BE$5<>\"\",OFFSET(Data!#REF!,View!$B$25,$DS7),\"\")","v":{"$error":"#REF!"}},{"$f":"IF(BF$5<>\"\",OFFSET(Data!#REF!,View!$B$25,$DS7),\"\")","v":{"$error":"#REF!"}},{"$f":"IF(BG$5<>\"\",OFFSET(Data!#REF!,View!$B$25,$DS7),\"\")","v":{"$error":"#REF!"}},{"$f":"IF(BH$5<>\"\",OFFSET(Data!#REF!,View!$B$25,$DS7),\"\")","v":{"$error":"#REF!"}},{"$f":"IF(BI$5<>\"\",OFFSET(Data!#REF!,View!$B$25,$DS7),\"\")","v":{"$error":"#REF!"}},{"$f":"IF(BJ$5<>\"\",OFFSET(Data!#REF!,View!$B$25,$DS7),\"\")","v":{"$error":"#REF!"}},{"$f":"IF(BK$5<>\"\",OFFSET(Data!#REF!,View!$B$25,$DS7),\"\")","v":{"$error":"#REF!"}},{"$f":"IF(BL$5<>\"\",OFFSET(Data!#REF!,View!$B$25,$DS7),\"\")","v":{"$error":"#REF!"}},{"$f":"IF(BM$5<>\"\",OFFSET(Data!#REF!,View!$B$25,$DS7),\"\")","v":{"$error":"#REF!"}},{"$f":"IF(BN$5<>\"\",OFFSET(Data!#REF!,View!$B$25,$DS7),\"\")","v":{"$error":"#REF!"}},{"$f":"IF(BO$5<>\"\",OFFSET(Data!#REF!,View!$B$25,$DS7),\"\")","v":{"$error":"#REF!"}},{"$f":"IF(BP$5<>\"\",OFFSET(Data!#REF!,View!$B$25,$DS7),\"\")","v":{"$error":"#REF!"}},{"$f":"IF(BQ$5<>\"\",OFFSET(Data!#REF!,View!$B$25,$DS7),\"\")","v":{"$error":"#REF!"}},{"$f":"IF(BR$5<>\"\",OFFSET(Data!#REF!,View!$B$25,$DS7),\"\")","v":{"$error":"#REF!"}},{"$f":"IF(BS$5<>\"\",OFFSET(Data!#REF!,View!$B$25,$DS7),\"\")","v":{"$error":"#REF!"}},{"$f":"IF(BT$5<>\"\",OFFSET(Data!#REF!,View!$B$25,$DS7),\"\")","v":{"$error":"#REF!"}},{"$f":"IF(BU$5<>\"\",OFFSET(Data!#REF!,View!$B$25,$DS7),\"\")","v":{"$error":"#REF!"}},{"$f":"IF(BV$5<>\"\",OFFSET(Data!#REF!,View!$B$25,$DS7),\"\")","v":{"$error":"#REF!"}},{"$f":"IF(BW$5<>\"\",OFFSET(Data!#REF!,View!$B$25,$DS7),\"\")","v":{"$error":"#REF!"}},{"$f":"IF(BX$5<>\"\",OFFSET(Data!#REF!,View!$B$25,$DS7),\"\")","v":{"$error":"#REF!"}},{"$f":"IF(BY$5<>\"\",OFFSET(Data!#REF!,View!$B$25,$DS7),\"\")","v":{"$error":"#REF!"}},{"$f":"IF(BZ$5<>\"\",OFFSET(Data!#REF!,View!$B$25,$DS7),\"\")","v":{"$error":"#REF!"}},{"$f":"IF(CA$5<>\"\",OFFSET(Data!#REF!,View!$B$25,$DS7),\"\")","v":{"$error":"#REF!"}},{"$f":"IF(CB$5<>\"\",OFFSET(Data!#REF!,View!$B$25,$DS7),\"\")","v":{"$error":"#REF!"}},{"$f":"IF(CC$5<>\"\",OFFSET(Data!#REF!,View!$B$25,$DS7),\"\")","v":{"$error":"#REF!"}},{"$f":"IF(CD$5<>\"\",OFFSET(Data!#REF!,View!$B$25,$DS7),\"\")","v":{"$error":"#REF!"}},{"$f":"IF(CE$5<>\"\",OFFSET(Data!#REF!,View!$B$25,$DS7),\"\")","v":{"$error":"#REF!"}},{"$f":"IF(CF$5<>\"\",OFFSET(Data!#REF!,View!$B$25,$DS7),\"\")","v":{"$error":"#REF!"}},{"$f":"IF(CG$5<>\"\",OFFSET(Data!#REF!,View!$B$25,$DS7),\"\")","v":{"$error":"#REF!"}},{"$f":"IF(CH$5<>\"\",OFFSET(Data!#REF!,View!$B$25,$DS7),\"\")","v":{"$error":"#REF!"}},{"$f":"IF(CI$5<>\"\",OFFSET(Data!#REF!,View!$B$25,$DS7),\"\")","v":{"$error":"#REF!"}},{"$f":"IF(CJ$5<>\"\",OFFSET(Data!#REF!,View!$B$25,$DS7),\"\")","v":{"$error":"#REF!"}},{"$f":"IF(CK$5<>\"\",OFFSET(Data!#REF!,View!$B$25,$DS7),\"\")","v":{"$error":"#REF!"}},{"$f":"IF(CL$5<>\"\",OFFSET(Data!#REF!,View!$B$25,$DS7),\"\")","v":{"$error":"#REF!"}},{"$f":"IF(CM$5<>\"\",OFFSET(Data!#REF!,View!$B$25,$DS7),\"\")","v":{"$error":"#REF!"}},{"$f":"IF(CN$5<>\"\",OFFSET(Data!#REF!,View!$B$25,$DS7),\"\")","v":{"$error":"#REF!"}},{"$f":"IF(CO$5<>\"\",OFFSET(Data!#REF!,View!$B$25,$DS7),\"\")","v":{"$error":"#REF!"}},{"$f":"IF(CP$5<>\"\",OFFSET(Data!#REF!,View!$B$25,$DS7),\"\")","v":{"$error":"#REF!"}},{"$f":"IF(CQ$5<>\"\",OFFSET(Data!#REF!,View!$B$25,$DS7),\"\")","v":{"$error":"#REF!"}},{"$f":"IF(CR$5<>\"\",OFFSET(Data!#REF!,View!$B$25,$DS7),\"\")","v":{"$error":"#REF!"}},{"$f":"IF(CS$5<>\"\",OFFSET(Data!#REF!,View!$B$25,$DS7),\"\")","v":{"$error":"#REF!"}},{"$f":"IF(CT$5<>\"\",OFFSET(Data!#REF!,View!$B$25,$DS7),\"\")","v":{"$error":"#REF!"}},{"$f":"IF(CU$5<>\"\",OFFSET(Data!#REF!,View!$B$25,$DS7),\"\")","v":{"$error":"#REF!"}},{"$f":"IF(CV$5<>\"\",OFFSET(Data!#REF!,View!$B$25,$DS7),\"\")","v":{"$error":"#REF!"}},{"$f":"IF(CW$5<>\"\",OFFSET(Data!#REF!,View!$B$25,$DS7),\"\")","v":{"$error":"#REF!"}},{"$f":"IF(CX$5<>\"\",OFFSET(Data!#REF!,View!$B$25,$DS7),\"\")","v":{"$error":"#REF!"}},{"$f":"IF(CY$5<>\"\",OFFSET(Data!#REF!,View!$B$25,$DS7),\"\")","v":{"$error":"#REF!"}},{"$f":"IF(CZ$5<>\"\",OFFSET(Data!#REF!,View!$B$25,$DS7),\"\")","v":{"$error":"#REF!"}},{"$f":"IF(DA$5<>\"\",OFFSET(Data!#REF!,View!$B$25,$DS7),\"\")","v":{"$error":"#REF!"}},{"$f":"IF(DB$5<>\"\",OFFSET(Data!#REF!,View!$B$25,$DS7),\"\")","v":{"$error":"#REF!"}},{"$f":"IF(DC$5<>\"\",OFFSET(Data!#REF!,View!$B$25,$DS7),\"\")","v":{"$error":"#REF!"}},{"$f":"IF(DD$5<>\"\",OFFSET(Data!#REF!,View!$B$25,$DS7),\"\")","v":{"$error":"#REF!"}},{"$f":"IF(DE$5<>\"\",OFFSET(Data!#REF!,View!$B$25,$DS7),\"\")","v":{"$error":"#REF!"}},{"$f":"IF(DF$5<>\"\",OFFSET(Data!#REF!,View!$B$25,$DS7),\"\")","v":{"$error":"#REF!"}},{"$f":"IF(DG$5<>\"\",OFFSET(Data!#REF!,View!$B$25,$DS7),\"\")","v":{"$error":"#REF!"}},{"$f":"IF(DH$5<>\"\",OFFSET(Data!#REF!,View!$B$25,$DS7),\"\")","v":{"$error":"#REF!"}},{"$f":"IF(DI$5<>\"\",OFFSET(Data!#REF!,View!$B$25,$DS7),\"\")","v":{"$error":"#REF!"}},{"$f":"IF(DJ$5<>\"\",OFFSET(Data!#REF!,View!$B$25,$DS7),\"\")","v":{"$error":"#REF!"}},{"$f":"IF(DK$5<>\"\",OFFSET(Data!#REF!,View!$B$25,$DS7),\"\")","v":{"$error":"#REF!"}},{"$f":"IF(DL$5<>\"\",OFFSET(Data!#REF!,View!$B$25,$DS7),\"\")","v":{"$error":"#REF!"}},{"$f":"IF(DM$5<>\"\",OFFSET(Data!#REF!,View!$B$25,$DS7),\"\")","v":{"$error":"#REF!"}},{"$f":"IF(DN$5<>\"\",OFFSET(Data!#REF!,View!$B$25,$DS7),\"\")","v":{"$error":"#REF!"}},{"$f":"IF(DO$5<>\"\",OFFSET(Data!#REF!,View!$B$25,$DS7),\"\")","v":{"$error":"#REF!"}},{"$f":"IF(DP$5<>\"\",OFFSET(Data!#REF!,View!$B$25,$DS7),\"\")","v":{"$error":"#REF!"}},{"$f":"IF(DQ$5<>\"\",OFFSET(Data!#REF!,View!$B$25,$DS7),\"\")","v":{"$error":"#REF!"}},{"$f":"IF(DR$5<>\"\",OFFSET(Data!#REF!,View!$B$25,$DS7),\"\")","v":{"$error":"#REF!"}},{"$f":"($C$41+1)*0","v":{"$error":"#REF!"}}]
["LCeq",{"$f":"IF(B$5<>\"\",OFFSET(Data!#REF!,View!$B$25,$DS8),\"\")","v":{"$error":"#REF!"}},{"$f":"IF(C$5<>\"\",OFFSET(Data!#REF!,View!$B$25,$DS8),\"\")","v":{"$error":"#REF!"}},{"$f":"IF(D$5<>\"\",OFFSET(Data!#REF!,View!$B$25,$DS8),\"\")","v":{"$error":"#REF!"}},{"$f":"IF(E$5<>\"\",OFFSET(Data!#REF!,View!$B$25,$DS8),\"\")","v":{"$error":"#REF!"}},{"$f":"IF(F$5<>\"\",OFFSET(Data!#REF!,View!$B$25,$DS8),\"\")","v":{"$error":"#REF!"}},{"$f":"IF(G$5<>\"\",OFFSET(Data!#REF!,View!$B$25,$DS8),\"\")","v":{"$error":"#REF!"}},{"$f":"IF(H$5<>\"\",OFFSET(Data!#REF!,View!$B$25,$DS8),\"\")","v":{"$error":"#REF!"}},{"$f":"IF(I$5<>\"\",OFFSET(Data!#REF!,View!$B$25,$DS8),\"\")","v":{"$error":"#REF!"}},{"$f":"IF(J$5<>\"\",OFFSET(Data!#REF!,View!$B$25,$DS8),\"\")","v":{"$error":"#REF!"}},{"$f":"IF(K$5<>\"\",OFFSET(Data!#REF!,View!$B$25,$DS8),\"\")","v":{"$error":"#REF!"}},{"$f":"IF(L$5<>\"\",OFFSET(Data!#REF!,View!$B$25,$DS8),\"\")","v":{"$error":"#REF!"}},{"$f":"IF(M$5<>\"\",OFFSET(Data!#REF!,View!$B$25,$DS8),\"\")","v":{"$error":"#REF!"}},{"$f":"IF(N$5<>\"\",OFFSET(Data!#REF!,View!$B$25,$DS8),\"\")","v":{"$error":"#REF!"}},{"$f":"IF(O$5<>\"\",OFFSET(Data!#REF!,View!$B$25,$DS8),\"\")","v":{"$error":"#REF!"}},{"$f":"IF(P$5<>\"\",OFFSET(Data!#REF!,View!$B$25,$DS8),\"\")","v":{"$error":"#REF!"}},{"$f":"IF(Q$5<>\"\",OFFSET(Data!#REF!,View!$B$25,$DS8),\"\")","v":{"$error":"#REF!"}},{"$f":"IF(R$5<>\"\",OFFSET(Data!#REF!,View!$B$25,$DS8),\"\")","v":{"$error":"#REF!"}},{"$f":"IF(S$5<>\"\",OFFSET(Data!#REF!,View!$B$25,$DS8),\"\")","v":{"$error":"#REF!"}},{"$f":"IF(T$5<>\"\",OFFSET(Data!#REF!,View!$B$25,$DS8),\"\")","v":{"$error":"#REF!"}},{"$f":"IF(U$5<>\"\",OFFSET(Data!#REF!,View!$B$25,$DS8),\"\")","v":{"$error":"#REF!"}},{"$f":"IF(V$5<>\"\",OFFSET(Data!#REF!,View!$B$25,$DS8),\"\")","v":{"$error":"#REF!"}},{"$f":"IF(W$5<>\"\",OFFSET(Data!#REF!,View!$B$25,$DS8),\"\")","v":{"$error":"#REF!"}},{"$f":"IF(X$5<>\"\",OFFSET(Data!#REF!,View!$B$25,$DS8),\"\")","v":{"$error":"#REF!"}},{"$f":"IF(Y$5<>\"\",OFFSET(Data!#REF!,View!$B$25,$DS8),\"\")","v":{"$error":"#REF!"}},{"$f":"IF(Z$5<>\"\",OFFSET(Data!#REF!,View!$B$25,$DS8),\"\")","v":{"$error":"#REF!"}},{"$f":"IF(AA$5<>\"\",OFFSET(Data!#REF!,View!$B$25,$DS8),\"\")","v":{"$error":"#REF!"}},{"$f":"IF(AB$5<>\"\",OFFSET(Data!#REF!,View!$B$25,$DS8),\"\")","v":{"$error":"#REF!"}},{"$f":"IF(AC$5<>\"\",OFFSET(Data!#REF!,View!$B$25,$DS8),\"\")","v":{"$error":"#REF!"}},{"$f":"IF(AD$5<>\"\",OFFSET(Data!#REF!,View!$B$25,$DS8),\"\")","v":{"$error":"#REF!"}},{"$f":"IF(AE$5<>\"\",OFFSET(Data!#REF!,View!$B$25,$DS8),\"\")","v":{"$error":"#REF!"}},{"$f":"IF(AF$5<>\"\",OFFSET(Data!#REF!,View!$B$25,$DS8),\"\")","v":{"$error":"#REF!"}},{"$f":"IF(AG$5<>\"\",OFFSET(Data!#REF!,View!$B$25,$DS8),\"\")","v":{"$error":"#REF!"}},{"$f":"IF(AH$5<>\"\",OFFSET(Data!#REF!,View!$B$25,$DS8),\"\")","v":{"$error":"#REF!"}},{"$f":"IF(AI$5<>\"\",OFFSET(Data!#REF!,View!$B$25,$DS8),\"\")","v":{"$error":"#REF!"}},{"$f":"IF(AJ$5<>\"\",OFFSET(Data!#REF!,View!$B$25,$DS8),\"\")","v":{"$error":"#REF!"}},{"$f":"IF(AK$5<>\"\",OFFSET(Data!#REF!,View!$B$25,$DS8),\"\")","v":{"$error":"#REF!"}},{"$f":"IF(AL$5<>\"\",OFFSET(Data!#REF!,View!$B$25,$DS8),\"\")","v":{"$error":"#REF!"}},{"$f":"IF(AM$5<>\"\",OFFSET(Data!#REF!,View!$B$25,$DS8),\"\")","v":{"$error":"#REF!"}},{"$f":"IF(AN$5<>\"\",OFFSET(Data!#REF!,View!$B$25,$DS8),\"\")","v":{"$error":"#REF!"}},{"$f":"IF(AO$5<>\"\",OFFSET(Data!#REF!,View!$B$25,$DS8),\"\")","v":{"$error":"#REF!"}},{"$f":"IF(AP$5<>\"\",OFFSET(Data!#REF!,View!$B$25,$DS8),\"\")","v":{"$error":"#REF!"}},{"$f":"IF(AQ$5<>\"\",OFFSET(Data!#REF!,View!$B$25,$DS8),\"\")","v":{"$error":"#REF!"}},{"$f":"IF(AR$5<>\"\",OFFSET(Data!#REF!,View!$B$25,$DS8),\"\")","v":{"$error":"#REF!"}},{"$f":"IF(AS$5<>\"\",OFFSET(Data!#REF!,View!$B$25,$DS8),\"\")","v":{"$error":"#REF!"}},{"$f":"IF(AT$5<>\"\",OFFSET(Data!#REF!,View!$B$25,$DS8),\"\")","v":{"$error":"#REF!"}},{"$f":"IF(AU$5<>\"\",OFFSET(Data!#REF!,View!$B$25,$DS8),\"\")","v":{"$error":"#REF!"}},{"$f":"IF(AV$5<>\"\",OFFSET(Data!#REF!,View!$B$25,$DS8),\"\")","v":{"$error":"#REF!"}},{"$f":"IF(AW$5<>\"\",OFFSET(Data!#REF!,View!$B$25,$DS8),\"\")","v":{"$error":"#REF!"}},{"$f":"IF(AX$5<>\"\",OFFSET(Data!#REF!,View!$B$25,$DS8),\"\")","v":{"$error":"#REF!"}},{"$f":"IF(AY$5<>\"\",OFFSET(Data!#REF!,View!$B$25,$DS8),\"\")","v":{"$error":"#REF!"}},{"$f":"IF(AZ$5<>\"\",OFFSET(Data!#REF!,View!$B$25,$DS8),\"\")","v":{"$error":"#REF!"}},{"$f":"IF(BA$5<>\"\",OFFSET(Data!#REF!,View!$B$25,$DS8),\"\")","v":{"$error":"#REF!"}},{"$f":"IF(BB$5<>\"\",OFFSET(Data!#REF!,View!$B$25,$DS8),\"\")","v":{"$error":"#REF!"}},{"$f":"IF(BC$5<>\"\",OFFSET(Data!#REF!,View!$B$25,$DS8),\"\")","v":{"$error":"#REF!"}},{"$f":"IF(BD$5<>\"\",OFFSET(Data!#REF!,View!$B$25,$DS8),\"\")","v":{"$error":"#REF!"}},{"$f":"IF(BE$5<>\"\",OFFSET(Data!#REF!,View!$B$25,$DS8),\"\")","v":{"$error":"#REF!"}},{"$f":"IF(BF$5<>\"\",OFFSET(Data!#REF!,View!$B$25,$DS8),\"\")","v":{"$error":"#REF!"}},{"$f":"IF(BG$5<>\"\",OFFSET(Data!#REF!,View!$B$25,$DS8),\"\")","v":{"$error":"#REF!"}},{"$f":"IF(BH$5<>\"\",OFFSET(Data!#REF!,View!$B$25,$DS8),\"\")","v":{"$error":"#REF!"}},{"$f":"IF(BI$5<>\"\",OFFSET(Data!#REF!,View!$B$25,$DS8),\"\")","v":{"$error":"#REF!"}},{"$f":"IF(BJ$5<>\"\",OFFSET(Data!#REF!,View!$B$25,$DS8),\"\")","v":{"$error":"#REF!"}},{"$f":"IF(BK$5<>\"\",OFFSET(Data!#REF!,View!$B$25,$DS8),\"\")","v":{"$error":"#REF!"}},{"$f":"IF(BL$5<>\"\",OFFSET(Data!#REF!,View!$B$25,$DS8),\"\")","v":{"$error":"#REF!"}},{"$f":"IF(BM$5<>\"\",OFFSET(Data!#REF!,View!$B$25,$DS8),\"\")","v":{"$error":"#REF!"}},{"$f":"IF(BN$5<>\"\",OFFSET(Data!#REF!,View!$B$25,$DS8),\"\")","v":{"$error":"#REF!"}},{"$f":"IF(BO$5<>\"\",OFFSET(Data!#REF!,View!$B$25,$DS8),\"\")","v":{"$error":"#REF!"}},{"$f":"IF(BP$5<>\"\",OFFSET(Data!#REF!,View!$B$25,$DS8),\"\")","v":{"$error":"#REF!"}},{"$f":"IF(BQ$5<>\"\",OFFSET(Data!#REF!,View!$B$25,$DS8),\"\")","v":{"$error":"#REF!"}},{"$f":"IF(BR$5<>\"\",OFFSET(Data!#REF!,View!$B$25,$DS8),\"\")","v":{"$error":"#REF!"}},{"$f":"IF(BS$5<>\"\",OFFSET(Data!#REF!,View!$B$25,$DS8),\"\")","v":{"$error":"#REF!"}},{"$f":"IF(BT$5<>\"\",OFFSET(Data!#REF!,View!$B$25,$DS8),\"\")","v":{"$error":"#REF!"}},{"$f":"IF(BU$5<>\"\",OFFSET(Data!#REF!,View!$B$25,$DS8),\"\")","v":{"$error":"#REF!"}},{"$f":"IF(BV$5<>\"\",OFFSET(Data!#REF!,View!$B$25,$DS8),\"\")","v":{"$error":"#REF!"}},{"$f":"IF(BW$5<>\"\",OFFSET(Data!#REF!,View!$B$25,$DS8),\"\")","v":{"$error":"#REF!"}},{"$f":"IF(BX$5<>\"\",OFFSET(Data!#REF!,View!$B$25,$DS8),\"\")","v":{"$error":"#REF!"}},{"$f":"IF(BY$5<>\"\",OFFSET(Data!#REF!,View!$B$25,$DS8),\"\")","v":{"$error":"#REF!"}},{"$f":"IF(BZ$5<>\"\",OFFSET(Data!#REF!,View!$B$25,$DS8),\"\")","v":{"$error":"#REF!"}},{"$f":"IF(CA$5<>\"\",OFFSET(Data!#REF!,View!$B$25,$DS8),\"\")","v":{"$error":"#REF!"}},{"$f":"IF(CB$5<>\"\",OFFSET(Data!#REF!,View!$B$25,$DS8),\"\")","v":{"$error":"#REF!"}},{"$f":"IF(CC$5<>\"\",OFFSET(Data!#REF!,View!$B$25,$DS8),\"\")","v":{"$error":"#REF!"}},{"$f":"IF(CD$5<>\"\",OFFSET(Data!#REF!,View!$B$25,$DS8),\"\")","v":{"$error":"#REF!"}},{"$f":"IF(CE$5<>\"\",OFFSET(Data!#REF!,View!$B$25,$DS8),\"\")","v":{"$error":"#REF!"}},{"$f":"IF(CF$5<>\"\",OFFSET(Data!#REF!,View!$B$25,$DS8),\"\")","v":{"$error":"#REF!"}},{"$f":"IF(CG$5<>\"\",OFFSET(Data!#REF!,View!$B$25,$DS8),\"\")","v":{"$error":"#REF!"}},{"$f":"IF(CH$5<>\"\",OFFSET(Data!#REF!,View!$B$25,$DS8),\"\")","v":{"$error":"#REF!"}},{"$f":"IF(CI$5<>\"\",OFFSET(Data!#REF!,View!$B$25,$DS8),\"\")","v":{"$error":"#REF!"}},{"$f":"IF(CJ$5<>\"\",OFFSET(Data!#REF!,View!$B$25,$DS8),\"\")","v":{"$error":"#REF!"}},{"$f":"IF(CK$5<>\"\",OFFSET(Data!#REF!,View!$B$25,$DS8),\"\")","v":{"$error":"#REF!"}},{"$f":"IF(CL$5<>\"\",OFFSET(Data!#REF!,View!$B$25,$DS8),\"\")","v":{"$error":"#REF!"}},{"$f":"IF(CM$5<>\"\",OFFSET(Data!#REF!,View!$B$25,$DS8),\"\")","v":{"$error":"#REF!"}},{"$f":"IF(CN$5<>\"\",OFFSET(Data!#REF!,View!$B$25,$DS8),\"\")","v":{"$error":"#REF!"}},{"$f":"IF(CO$5<>\"\",OFFSET(Data!#REF!,View!$B$25,$DS8),\"\")","v":{"$error":"#REF!"}},{"$f":"IF(CP$5<>\"\",OFFSET(Data!#REF!,View!$B$25,$DS8),\"\")","v":{"$error":"#REF!"}},{"$f":"IF(CQ$5<>\"\",OFFSET(Data!#REF!,View!$B$25,$DS8),\"\")","v":{"$error":"#REF!"}},{"$f":"IF(CR$5<>\"\",OFFSET(Data!#REF!,View!$B$25,$DS8),\"\")","v":{"$error":"#REF!"}},{"$f":"IF(CS$5<>\"\",OFFSET(Data!#REF!,View!$B$25,$DS8),\"\")","v":{"$error":"#REF!"}},{"$f":"IF(CT$5<>\"\",OFFSET(Data!#REF!,View!$B$25,$DS8),\"\")","v":{"$error":"#REF!"}},{"$f":"IF(CU$5<>\"\",OFFSET(Data!#REF!,View!$B$25,$DS8),\"\")","v":{"$error":"#REF!"}},{"$f":"IF(CV$5<>\"\",OFFSET(Data!#REF!,View!$B$25,$DS8),\"\")","v":{"$error":"#REF!"}},{"$f":"IF(CW$5<>\"\",OFFSET(Data!#REF!,View!$B$25,$DS8),\"\")","v":{"$error":"#REF!"}},{"$f":"IF(CX$5<>\"\",OFFSET(Data!#REF!,View!$B$25,$DS8),\"\")","v":{"$error":"#REF!"}},{"$f":"IF(CY$5<>\"\",OFFSET(Data!#REF!,View!$B$25,$DS8),\"\")","v":{"$error":"#REF!"}},{"$f":"IF(CZ$5<>\"\",OFFSET(Data!#REF!,View!$B$25,$DS8),\"\")","v":{"$error":"#REF!"}},{"$f":"IF(DA$5<>\"\",OFFSET(Data!#REF!,View!$B$25,$DS8),\"\")","v":{"$error":"#REF!"}},{"$f":"IF(DB$5<>\"\",OFFSET(Data!#REF!,View!$B$25,$DS8),\"\")","v":{"$error":"#REF!"}},{"$f":"IF(DC$5<>\"\",OFFSET(Data!#REF!,View!$B$25,$DS8),\"\")","v":{"$error":"#REF!"}},{"$f":"IF(DD$5<>\"\",OFFSET(Data!#REF!,View!$B$25,$DS8),\"\")","v":{"$error":"#REF!"}},{"$f":"IF(DE$5<>\"\",OFFSET(Data!#REF!,View!$B$25,$DS8),\"\")","v":{"$error":"#REF!"}},{"$f":"IF(DF$5<>\"\",OFFSET(Data!#REF!,View!$B$25,$DS8),\"\")","v":{"$error":"#REF!"}},{"$f":"IF(DG$5<>\"\",OFFSET(Data!#REF!,View!$B$25,$DS8),\"\")","v":{"$error":"#REF!"}},{"$f":"IF(DH$5<>\"\",OFFSET(Data!#REF!,View!$B$25,$DS8),\"\")","v":{"$error":"#REF!"}},{"$f":"IF(DI$5<>\"\",OFFSET(Data!#REF!,View!$B$25,$DS8),\"\")","v":{"$error":"#REF!"}},{"$f":"IF(DJ$5<>\"\",OFFSET(Data!#REF!,View!$B$25,$DS8),\"\")","v":{"$error":"#REF!"}},{"$f":"IF(DK$5<>\"\",OFFSET(Data!#REF!,View!$B$25,$DS8),\"\")","v":{"$error":"#REF!"}},{"$f":"IF(DL$5<>\"\",OFFSET(Data!#REF!,View!$B$25,$DS8),\"\")","v":{"$error":"#REF!"}},{"$f":"IF(DM$5<>\"\",OFFSET(Data!#REF!,View!$B$25,$DS8),\"\")","v":{"$error":"#REF!"}},{"$f":"IF(DN$5<>\"\",OFFSET(Data!#REF!,View!$B$25,$DS8),\"\")","v":{"$error":"#REF!"}},{"$f":"IF(DO$5<>\"\",OFFSET(Data!#REF!,View!$B$25,$DS8),\"\")","v":{"$error":"#REF!"}},{"$f":"IF(DP$5<>\"\",OFFSET(Data!#REF!,View!$B$25,$DS8),\"\")","v":{"$error":"#REF!"}},{"$f":"IF(DQ$5<>\"\",OFFSET(Data!#REF!,View!$B$25,$DS8),\"\")","v":{"$error":"#REF!"}},{"$f":"IF(DR$5<>\"\",OFFSET(Data!#REF!,View!$B$25,$DS8),\"\")","v":{"$error":"#REF!"}},{"$f":"($C$41+1)*4","v":{"$error":"#REF!"}}]
[]
["LZfmax",{"$f":"IF(B$5<>\"\",OFFSET(Data!#REF!,View!$B$25,$DS10),\"\")","v":{"$error":"#REF!"}},{"$f":"IF(C$5<>\"\",OFFSET(Data!#REF!,View!$B$25,$DS10),\"\")","v":{"$error":"#REF!"}},{"$f":"IF(D$5<>\"\",OFFSET(Data!#REF!,View!$B$25,$DS10),\"\")","v":{"$error":"#REF!"}},{"$f":"IF(E$5<>\"\",OFFSET(Data!#REF!,View!$B$25,$DS10),\"\")","v":{"$error":"#REF!"}},{"$f":"IF(F$5<>\"\",OFFSET(Data!#REF!,View!$B$25,$DS10),\"\")","v":{"$error":"#REF!"}},{"$f":"IF(G$5<>\"\",OFFSET(Data!#REF!,View!$B$25,$DS10),\"\")","v":{"$error":"#REF!"}},{"$f":"IF(H$5<>\"\",OFFSET(Data!#REF!,View!$B$25,$DS10),\"\")","v":{"$error":"#REF!"}},{"$f":"IF(I$5<>\"\",OFFSET(Data!#REF!,View!$B$25,$DS10),\"\")","v":{"$error":"#REF!"}},{"$f":"IF(J$5<>\"\",OFFSET(Data!#REF!,View!$B$25,$DS10),\"\")","v":{"$error":"#REF!"}},{"$f":"IF(K$5<>\"\",OFFSET(Data!#REF!,View!$B$25,$DS10),\"\")","v":{"$error":"#REF!"}},{"$f":"IF(L$5<>\"\",OFFSET(Data!#REF!,View!$B$25,$DS10),\"\")","v":{"$error":"#REF!"}},{"$f":"IF(M$5<>\"\",OFFSET(Data!#REF!,View!$B$25,$DS10),\"\")","v":{"$error":"#REF!"}},{"$f":"IF(N$5<>\"\",OFFSET(Data!#REF!,View!$B$25,$DS10),\"\")","v":{"$error":"#REF!"}},{"$f":"IF(O$5<>\"\",OFFSET(Data!#REF!,View!$B$25,$DS10),\"\")","v":{"$error":"#REF!"}},{"$f":"IF(P$5<>\"\",OFFSET(Data!#REF!,View!$B$25,$DS10),\"\")","v":{"$error":"#REF!"}},{"$f":"IF(Q$5<>\"\",OFFSET(Data!#REF!,View!$B$25,$DS10),\"\")","v":{"$error":"#REF!"}},{"$f":"IF(R$5<>\"\",OFFSET(Data!#REF!,View!$B$25,$DS10),\"\")","v":{"$error":"#REF!"}},{"$f":"IF(S$5<>\"\",OFFSET(Data!#REF!,View!$B$25,$DS10),\"\")","v":{"$error":"#REF!"}},{"$f":"IF(T$5<>\"\",OFFSET(Data!#REF!,View!$B$25,$DS10),\"\")","v":{"$error":"#REF!"}},{"$f":"IF(U$5<>\"\",OFFSET(Data!#REF!,View!$B$25,$DS10),\"\")","v":{"$error":"#REF!"}},{"$f":"IF(V$5<>\"\",OFFSET(Data!#REF!,View!$B$25,$DS10),\"\")","v":{"$error":"#REF!"}},{"$f":"IF(W$5<>\"\",OFFSET(Data!#REF!,View!$B$25,$DS10),\"\")","v":{"$error":"#REF!"}},{"$f":"IF(X$5<>\"\",OFFSET(Data!#REF!,View!$B$25,$DS10),\"\")","v":{"$error":"#REF!"}},{"$f":"IF(Y$5<>\"\",OFFSET(Data!#REF!,View!$B$25,$DS10),\"\")","v":{"$error":"#REF!"}},{"$f":"IF(Z$5<>\"\",OFFSET(Data!#REF!,View!$B$25,$DS10),\"\")","v":{"$error":"#REF!"}},{"$f":"IF(AA$5<>\"\",OFFSET(Data!#REF!,View!$B$25,$DS10),\"\")","v":{"$error":"#REF!"}},{"$f":"IF(AB$5<>\"\",OFFSET(Data!#REF!,View!$B$25,$DS10),\"\")","v":{"$error":"#REF!"}},{"$f":"IF(AC$5<>\"\",OFFSET(Data!#REF!,View!$B$25,$DS10),\"\")","v":{"$error":"#REF!"}},{"$f":"IF(AD$5<>\"\",OFFSET(Data!#REF!,View!$B$25,$DS10),\"\")","v":{"$error":"#REF!"}},{"$f":"IF(AE$5<>\"\",OFFSET(Data!#REF!,View!$B$25,$DS10),\"\")","v":{"$error":"#REF!"}},{"$f":"IF(AF$5<>\"\",OFFSET(Data!#REF!,View!$B$25,$DS10),\"\")","v":{"$error":"#REF!"}},{"$f":"IF(AG$5<>\"\",OFFSET(Data!#REF!,View!$B$25,$DS10),\"\")","v":{"$error":"#REF!"}},{"$f":"IF(AH$5<>\"\",OFFSET(Data!#REF!,View!$B$25,$DS10),\"\")","v":{"$error":"#REF!"}},{"$f":"IF(AI$5<>\"\",OFFSET(Data!#REF!,View!$B$25,$DS10),\"\")","v":{"$error":"#REF!"}},{"$f":"IF(AJ$5<>\"\",OFFSET(Data!#REF!,View!$B$25,$DS10),\"\")","v":{"$error":"#REF!"}},{"$f":"IF(AK$5<>\"\",OFFSET(Data!#REF!,View!$B$25,$DS10),\"\")","v":{"$error":"#REF!"}},{"$f":"IF(AL$5<>\"\",OFFSET(Data!#REF!,View!$B$25,$DS10),\"\")","v":{"$error":"#REF!"}},{"$f":"IF(AM$5<>\"\",OFFSET(Data!#REF!,View!$B$25,$DS10),\"\")","v":{"$error":"#REF!"}},{"$f":"IF(AN$5<>\"\",OFFSET(Data!#REF!,View!$B$25,$DS10),\"\")","v":{"$error":"#REF!"}},{"$f":"IF(AO$5<>\"\",OFFSET(Data!#REF!,View!$B$25,$DS10),\"\")","v":{"$error":"#REF!"}},{"$f":"IF(AP$5<>\"\",OFFSET(Data!#REF!,View!$B$25,$DS10),\"\")","v":{"$error":"#REF!"}},{"$f":"IF(AQ$5<>\"\",OFFSET(Data!#REF!,View!$B$25,$DS10),\"\")","v":{"$error":"#REF!"}},{"$f":"IF(AR$5<>\"\",OFFSET(Data!#REF!,View!$B$25,$DS10),\"\")","v":{"$error":"#REF!"}},{"$f":"IF(AS$5<>\"\",OFFSET(Data!#REF!,View!$B$25,$DS10),\"\")","v":{"$error":"#REF!"}},{"$f":"IF(AT$5<>\"\",OFFSET(Data!#REF!,View!$B$25,$DS10),\"\")","v":{"$error":"#REF!"}},{"$f":"IF(AU$5<>\"\",OFFSET(Data!#REF!,View!$B$25,$DS10),\"\")","v":{"$error":"#REF!"}},{"$f":"IF(AV$5<>\"\",OFFSET(Data!#REF!,View!$B$25,$DS10),\"\")","v":{"$error":"#REF!"}},{"$f":"IF(AW$5<>\"\",OFFSET(Data!#REF!,View!$B$25,$DS10),\"\")","v":{"$error":"#REF!"}},{"$f":"IF(AX$5<>\"\",OFFSET(Data!#REF!,View!$B$25,$DS10),\"\")","v":{"$error":"#REF!"}},{"$f":"IF(AY$5<>\"\",OFFSET(Data!#REF!,View!$B$25,$DS10),\"\")","v":{"$error":"#REF!"}},{"$f":"IF(AZ$5<>\"\",OFFSET(Data!#REF!,View!$B$25,$DS10),\"\")","v":{"$error":"#REF!"}},{"$f":"IF(BA$5<>\"\",OFFSET(Data!#REF!,View!$B$25,$DS10),\"\")","v":{"$error":"#REF!"}},{"$f":"IF(BB$5<>\"\",OFFSET(Data!#REF!,View!$B$25,$DS10),\"\")","v":{"$error":"#REF!"}},{"$f":"IF(BC$5<>\"\",OFFSET(Data!#REF!,View!$B$25,$DS10),\"\")","v":{"$error":"#REF!"}},{"$f":"IF(BD$5<>\"\",OFFSET(Data!#REF!,View!$B$25,$DS10),\"\")","v":{"$error":"#REF!"}},{"$f":"IF(BE$5<>\"\",OFFSET(Data!#REF!,View!$B$25,$DS10),\"\")","v":{"$error":"#REF!"}},{"$f":"IF(BF$5<>\"\",OFFSET(Data!#REF!,View!$B$25,$DS10),\"\")","v":{"$error":"#REF!"}},{"$f":"IF(BG$5<>\"\",OFFSET(Data!#REF!,View!$B$25,$DS10),\"\")","v":{"$error":"#REF!"}},{"$f":"IF(BH$5<>\"\",OFFSET(Data!#REF!,View!$B$25,$DS10),\"\")","v":{"$error":"#REF!"}},{"$f":"IF(BI$5<>\"\",OFFSET(Data!#REF!,View!$B$25,$DS10),\"\")","v":{"$error":"#REF!"}},{"$f":"IF(BJ$5<>\"\",OFFSET(Data!#REF!,View!$B$25,$DS10),\"\")","v":{"$error":"#REF!"}},{"$f":"IF(BK$5<>\"\",OFFSET(Data!#REF!,View!$B$25,$DS10),\"\")","v":{"$error":"#REF!"}},{"$f":"IF(BL$5<>\"\",OFFSET(Data!#REF!,View!$B$25,$DS10),\"\")","v":{"$error":"#REF!"}},{"$f":"IF(BM$5<>\"\",OFFSET(Data!#REF!,View!$B$25,$DS10),\"\")","v":{"$error":"#REF!"}},{"$f":"IF(BN$5<>\"\",OFFSET(Data!#REF!,View!$B$25,$DS10),\"\")","v":{"$error":"#REF!"}},{"$f":"IF(BO$5<>\"\",OFFSET(Data!#REF!,View!$B$25,$DS10),\"\")","v":{"$error":"#REF!"}},{"$f":"IF(BP$5<>\"\",OFFSET(Data!#REF!,View!$B$25,$DS10),\"\")","v":{"$error":"#REF!"}},{"$f":"IF(BQ$5<>\"\",OFFSET(Data!#REF!,View!$B$25,$DS10),\"\")","v":{"$error":"#REF!"}},{"$f":"IF(BR$5<>\"\",OFFSET(Data!#REF!,View!$B$25,$DS10),\"\")","v":{"$error":"#REF!"}},{"$f":"IF(BS$5<>\"\",OFFSET(Data!#REF!,View!$B$25,$DS10),\"\")","v":{"$error":"#REF!"}},{"$f":"IF(BT$5<>\"\",OFFSET(Data!#REF!,View!$B$25,$DS10),\"\")","v":{"$error":"#REF!"}},{"$f":"IF(BU$5<>\"\",OFFSET(Data!#REF!,View!$B$25,$DS10),\"\")","v":{"$error":"#REF!"}},{"$f":"IF(BV$5<>\"\",OFFSET(Data!#REF!,View!$B$25,$DS10),\"\")","v":{"$error":"#REF!"}},{"$f":"IF(BW$5<>\"\",OFFSET(Data!#REF!,View!$B$25,$DS10),\"\")","v":{"$error":"#REF!"}},{"$f":"IF(BX$5<>\"\",OFFSET(Data!#REF!,View!$B$25,$DS10),\"\")","v":{"$error":"#REF!"}},{"$f":"IF(BY$5<>\"\",OFFSET(Data!#REF!,View!$B$25,$DS10),\"\")","v":{"$error":"#REF!"}},{"$f":"IF(BZ$5<>\"\",OFFSET(Data!#REF!,View!$B$25,$DS10),\"\")","v":{"$error":"#REF!"}},{"$f":"IF(CA$5<>\"\",OFFSET(Data!#REF!,View!$B$25,$DS10),\"\")","v":{"$error":"#REF!"}},{"$f":"IF(CB$5<>\"\",OFFSET(Data!#REF!,View!$B$25,$DS10),\"\")","v":{"$error":"#REF!"}},{"$f":"IF(CC$5<>\"\",OFFSET(Data!#REF!,View!$B$25,$DS10),\"\")","v":{"$error":"#REF!"}},{"$f":"IF(CD$5<>\"\",OFFSET(Data!#REF!,View!$B$25,$DS10),\"\")","v":{"$error":"#REF!"}},{"$f":"IF(CE$5<>\"\",OFFSET(Data!#REF!,View!$B$25,$DS10),\"\")","v":{"$error":"#REF!"}},{"$f":"IF(CF$5<>\"\",OFFSET(Data!#REF!,View!$B$25,$DS10),\"\")","v":{"$error":"#REF!"}},{"$f":"IF(CG$5<>\"\",OFFSET(Data!#REF!,View!$B$25,$DS10),\"\")","v":{"$error":"#REF!"}},{"$f":"IF(CH$5<>\"\",OFFSET(Data!#REF!,View!$B$25,$DS10),\"\")","v":{"$error":"#REF!"}},{"$f":"IF(CI$5<>\"\",OFFSET(Data!#REF!,View!$B$25,$DS10),\"\")","v":{"$error":"#REF!"}},{"$f":"IF(CJ$5<>\"\",OFFSET(Data!#REF!,View!$B$25,$DS10),\"\")","v":{"$error":"#REF!"}},{"$f":"IF(CK$5<>\"\",OFFSET(Data!#REF!,View!$B$25,$DS10),\"\")","v":{"$error":"#REF!"}},{"$f":"IF(CL$5<>\"\",OFFSET(Data!#REF!,View!$B$25,$DS10),\"\")","v":{"$error":"#REF!"}},{"$f":"IF(CM$5<>\"\",OFFSET(Data!#REF!,View!$B$25,$DS10),\"\")","v":{"$error":"#REF!"}},{"$f":"IF(CN$5<>\"\",OFFSET(Data!#REF!,View!$B$25,$DS10),\"\")","v":{"$error":"#REF!"}},{"$f":"IF(CO$5<>\"\",OFFSET(Data!#REF!,View!$B$25,$DS10),\"\")","v":{"$error":"#REF!"}},{"$f":"IF(CP$5<>\"\",OFFSET(Data!#REF!,View!$B$25,$DS10),\"\")","v":{"$error":"#REF!"}},{"$f":"IF(CQ$5<>\"\",OFFSET(Data!#REF!,View!$B$25,$DS10),\"\")","v":{"$error":"#REF!"}},{"$f":"IF(CR$5<>\"\",OFFSET(Data!#REF!,View!$B$25,$DS10),\"\")","v":{"$error":"#REF!"}},{"$f":"IF(CS$5<>\"\",OFFSET(Data!#REF!,View!$B$25,$DS10),\"\")","v":{"$error":"#REF!"}},{"$f":"IF(CT$5<>\"\",OFFSET(Data!#REF!,View!$B$25,$DS10),\"\")","v":{"$error":"#REF!"}},{"$f":"IF(CU$5<>\"\",OFFSET(Data!#REF!,View!$B$25,$DS10),\"\")","v":{"$error":"#REF!"}},{"$f":"IF(CV$5<>\"\",OFFSET(Data!#REF!,View!$B$25,$DS10),\"\")","v":{"$error":"#REF!"}},{"$f":"IF(CW$5<>\"\",OFFSET(Data!#REF!,View!$B$25,$DS10),\"\")","v":{"$error":"#REF!"}},{"$f":"IF(CX$5<>\"\",OFFSET(Data!#REF!,View!$B$25,$DS10),\"\")","v":{"$error":"#REF!"}},{"$f":"IF(CY$5<>\"\",OFFSET(Data!#REF!,View!$B$25,$DS10),\"\")","v":{"$error":"#REF!"}},{"$f":"IF(CZ$5<>\"\",OFFSET(Data!#REF!,View!$B$25,$DS10),\"\")","v":{"$error":"#REF!"}},{"$f":"IF(DA$5<>\"\",OFFSET(Data!#REF!,View!$B$25,$DS10),\"\")","v":{"$error":"#REF!"}},{"$f":"IF(DB$5<>\"\",OFFSET(Data!#REF!,View!$B$25,$DS10),\"\")","v":{"$error":"#REF!"}},{"$f":"IF(DC$5<>\"\",OFFSET(Data!#REF!,View!$B$25,$DS10),\"\")","v":{"$error":"#REF!"}},{"$f":"IF(DD$5<>\"\",OFFSET(Data!#REF!,View!$B$25,$DS10),\"\")","v":{"$error":"#REF!"}},{"$f":"IF(DE$5<>\"\",OFFSET(Data!#REF!,View!$B$25,$DS10),\"\")","v":{"$error":"#REF!"}},{"$f":"IF(DF$5<>\"\",OFFSET(Data!#REF!,View!$B$25,$DS10),\"\")","v":{"$error":"#REF!"}},{"$f":"IF(DG$5<>\"\",OFFSET(Data!#REF!,View!$B$25,$DS10),\"\")","v":{"$error":"#REF!"}},{"$f":"IF(DH$5<>\"\",OFFSET(Data!#REF!,View!$B$25,$DS10),\"\")","v":{"$error":"#REF!"}},{"$f":"IF(DI$5<>\"\",OFFSET(Data!#REF!,View!$B$25,$DS10),\"\")","v":{"$error":"#REF!"}},{"$f":"IF(DJ$5<>\"\",OFFSET(Data!#REF!,View!$B$25,$DS10),\"\")","v":{"$error":"#REF!"}},{"$f":"IF(DK$5<>\"\",OFFSET(Data!#REF!,View!$B$25,$DS10),\"\")","v":{"$error":"#REF!"}},{"$f":"IF(DL$5<>\"\",OFFSET(Data!#REF!,View!$B$25,$DS10),\"\")","v":{"$error":"#REF!"}},{"$f":"IF(DM$5<>\"\",OFFSET(Data!#REF!,View!$B$25,$DS10),\"\")","v":{"$error":"#REF!"}},{"$f":"IF(DN$5<>\"\",OFFSET(Data!#REF!,View!$B$25,$DS10),\"\")","v":{"$error":"#REF!"}},{"$f":"IF(DO$5<>\"\",OFFSET(Data!#REF!,View!$B$25,$DS10),\"\")","v":{"$error":"#REF!"}},{"$f":"IF(DP$5<>\"\",OFFSET(Data!#REF!,View!$B$25,$DS10),\"\")","v":{"$error":"#REF!"}},{"$f":"IF(DQ$5<>\"\",OFFSET(Data!#REF!,View!$B$25,$DS10),\"\")","v":{"$error":"#REF!"}},{"$f":"IF(DR$5<>\"\",OFFSET(Data!#REF!,View!$B$25,$DS10),\"\")","v":{"$error":"#REF!"}},{"$f":"($C$41+1)*9","v":{"$error":"#REF!"}}]
["LAfmax",{"$f":"IF(B$5<>\"\",OFFSET(Data!#REF!,View!$B$25,$DS11),\"\")","v":{"$error":"#REF!"}},{"$f":"IF(C$5<>\"\",OFFSET(Data!#REF!,View!$B$25,$DS11),\"\")","v":{"$error":"#REF!"}},{"$f":"IF(D$5<>\"\",OFFSET(Data!#REF!,View!$B$25,$DS11),\"\")","v":{"$error":"#REF!"}},{"$f":"IF(E$5<>\"\",OFFSET(Data!#REF!,View!$B$25,$DS11),\"\")","v":{"$error":"#REF!"}},{"$f":"IF(F$5<>\"\",OFFSET(Data!#REF!,View!$B$25,$DS11),\"\")","v":{"$error":"#REF!"}},{"$f":"IF(G$5<>\"\",OFFSET(Data!#REF!,View!$B$25,$DS11),\"\")","v":{"$error":"#REF!"}},{"$f":"IF(H$5<>\"\",OFFSET(Data!#REF!,View!$B$25,$DS11),\"\")","v":{"$error":"#REF!"}},{"$f":"IF(I$5<>\"\",OFFSET(Data!#REF!,View!$B$25,$DS11),\"\")","v":{"$error":"#REF!"}},{"$f":"IF(J$5<>\"\",OFFSET(Data!#REF!,View!$B$25,$DS11),\"\")","v":{"$error":"#REF!"}},{"$f":"IF(K$5<>\"\",OFFSET(Data!#REF!,View!$B$25,$DS11),\"\")","v":{"$error":"#REF!"}},{"$f":"IF(L$5<>\"\",OFFSET(Data!#REF!,View!$B$25,$DS11),\"\")","v":{"$error":"#REF!"}},{"$f":"IF(M$5<>\"\",OFFSET(Data!#REF!,View!$B$25,$DS11),\"\")","v":{"$error":"#REF!"}},{"$f":"IF(N$5<>\"\",OFFSET(Data!#REF!,View!$B$25,$DS11),\"\")","v":{"$error":"#REF!"}},{"$f":"IF(O$5<>\"\",OFFSET(Data!#REF!,View!$B$25,$DS11),\"\")","v":{"$error":"#REF!"}},{"$f":"IF(P$5<>\"\",OFFSET(Data!#REF!,View!$B$25,$DS11),\"\")","v":{"$error":"#REF!"}},{"$f":"IF(Q$5<>\"\",OFFSET(Data!#REF!,View!$B$25,$DS11),\"\")","v":{"$error":"#REF!"}},{"$f":"IF(R$5<>\"\",OFFSET(Data!#REF!,View!$B$25,$DS11),\"\")","v":{"$error":"#REF!"}},{"$f":"IF(S$5<>\"\",OFFSET(Data!#REF!,View!$B$25,$DS11),\"\")","v":{"$error":"#REF!"}},{"$f":"IF(T$5<>\"\",OFFSET(Data!#REF!,View!$B$25,$DS11),\"\")","v":{"$error":"#REF!"}},{"$f":"IF(U$5<>\"\",OFFSET(Data!#REF!,View!$B$25,$DS11),\"\")","v":{"$error":"#REF!"}},{"$f":"IF(V$5<>\"\",OFFSET(Data!#REF!,View!$B$25,$DS11),\"\")","v":{"$error":"#REF!"}},{"$f":"IF(W$5<>\"\",OFFSET(Data!#REF!,View!$B$25,$DS11),\"\")","v":{"$error":"#REF!"}},{"$f":"IF(X$5<>\"\",OFFSET(Data!#REF!,View!$B$25,$DS11),\"\")","v":{"$error":"#REF!"}},{"$f":"IF(Y$5<>\"\",OFFSET(Data!#REF!,View!$B$25,$DS11),\"\")","v":{"$error":"#REF!"}},{"$f":"IF(Z$5<>\"\",OFFSET(Data!#REF!,View!$B$25,$DS11),\"\")","v":{"$error":"#REF!"}},{"$f":"IF(AA$5<>\"\",OFFSET(Data!#REF!,View!$B$25,$DS11),\"\")","v":{"$error":"#REF!"}},{"$f":"IF(AB$5<>\"\",OFFSET(Data!#REF!,View!$B$25,$DS11),\"\")","v":{"$error":"#REF!"}},{"$f":"IF(AC$5<>\"\",OFFSET(Data!#REF!,View!$B$25,$DS11),\"\")","v":{"$error":"#REF!"}},{"$f":"IF(AD$5<>\"\",OFFSET(Data!#REF!,View!$B$25,$DS11),\"\")","v":{"$error":"#REF!"}},{"$f":"IF(AE$5<>\"\",OFFSET(Data!#REF!,View!$B$25,$DS11),\"\")","v":{"$error":"#REF!"}},{"$f":"IF(AF$5<>\"\",OFFSET(Data!#REF!,View!$B$25,$DS11),\"\")","v":{"$error":"#REF!"}},{"$f":"IF(AG$5<>\"\",OFFSET(Data!#REF!,View!$B$25,$DS11),\"\")","v":{"$error":"#REF!"}},{"$f":"IF(AH$5<>\"\",OFFSET(Data!#REF!,View!$B$25,$DS11),\"\")","v":{"$error":"#REF!"}},{"$f":"IF(AI$5<>\"\",OFFSET(Data!#REF!,View!$B$25,$DS11),\"\")","v":{"$error":"#REF!"}},{"$f":"IF(AJ$5<>\"\",OFFSET(Data!#REF!,View!$B$25,$DS11),\"\")","v":{"$error":"#REF!"}},{"$f":"IF(AK$5<>\"\",OFFSET(Data!#REF!,View!$B$25,$DS11),\"\")","v":{"$error":"#REF!"}},{"$f":"IF(AL$5<>\"\",OFFSET(Data!#REF!,View!$B$25,$DS11),\"\")","v":{"$error":"#REF!"}},{"$f":"IF(AM$5<>\"\",OFFSET(Data!#REF!,View!$B$25,$DS11),\"\")","v":{"$error":"#REF!"}},{"$f":"IF(AN$5<>\"\",OFFSET(Data!#REF!,View!$B$25,$DS11),\"\")","v":{"$error":"#REF!"}},{"$f":"IF(AO$5<>\"\",OFFSET(Data!#REF!,View!$B$25,$DS11),\"\")","v":{"$error":"#REF!"}},{"$f":"IF(AP$5<>\"\",OFFSET(Data!#REF!,View!$B$25,$DS11),\"\")","v":{"$error":"#REF!"}},{"$f":"IF(AQ$5<>\"\",OFFSET(Data!#REF!,View!$B$25,$DS11),\"\")","v":{"$error":"#REF!"}},{"$f":"IF(AR$5<>\"\",OFFSET(Data!#REF!,View!$B$25,$DS11),\"\")","v":{"$error":"#REF!"}},{"$f":"IF(AS$5<>\"\",OFFSET(Data!#REF!,View!$B$25,$DS11),\"\")","v":{"$error":"#REF!"}},{"$f":"IF(AT$5<>\"\",OFFSET(Data!#REF!,View!$B$25,$DS11),\"\")","v":{"$error":"#REF!"}},{"$f":"IF(AU$5<>\"\",OFFSET(Data!#REF!,View!$B$25,$DS11),\"\")","v":{"$error":"#REF!"}},{"$f":"IF(AV$5<>\"\",OFFSET(Data!#REF!,View!$B$25,$DS11),\"\")","v":{"$error":"#REF!"}},{"$f":"IF(AW$5<>\"\",OFFSET(Data!#REF!,View!$B$25,$DS11),\"\")","v":{"$error":"#REF!"}},{"$f":"IF(AX$5<>\"\",OFFSET(Data!#REF!,View!$B$25,$DS11),\"\")","v":{"$error":"#REF!"}},{"$f":"IF(AY$5<>\"\",OFFSET(Data!#REF!,View!$B$25,$DS11),\"\")","v":{"$error":"#REF!"}},{"$f":"IF(AZ$5<>\"\",OFFSET(Data!#REF!,View!$B$25,$DS11),\"\")","v":{"$error":"#REF!"}},{"$f":"IF(BA$5<>\"\",OFFSET(Data!#REF!,View!$B$25,$DS11),\"\")","v":{"$error":"#REF!"}},{"$f":"IF(BB$5<>\"\",OFFSET(Data!#REF!,View!$B$25,$DS11),\"\")","v":{"$error":"#REF!"}},{"$f":"IF(BC$5<>\"\",OFFSET(Data!#REF!,View!$B$25,$DS11),\"\")","v":{"$error":"#REF!"}},{"$f":"IF(BD$5<>\"\",OFFSET(Data!#REF!,View!$B$25,$DS11),\"\")","v":{"$error":"#REF!"}},{"$f":"IF(BE$5<>\"\",OFFSET(Data!#REF!,View!$B$25,$DS11),\"\")","v":{"$error":"#REF!"}},{"$f":"IF(BF$5<>\"\",OFFSET(Data!#REF!,View!$B$25,$DS11),\"\")","v":{"$error":"#REF!"}},{"$f":"IF(BG$5<>\"\",OFFSET(Data!#REF!,View!$B$25,$DS11),\"\")","v":{"$error":"#REF!"}},{"$f":"IF(BH$5<>\"\",OFFSET(Data!#REF!,View!$B$25,$DS11),\"\")","v":{"$error":"#REF!"}},{"$f":"IF(BI$5<>\"\",OFFSET(Data!#REF!,View!$B$25,$DS11),\"\")","v":{"$error":"#REF!"}},{"$f":"IF(BJ$5<>\"\",OFFSET(Data!#REF!,View!$B$25,$DS11),\"\")","v":{"$error":"#REF!"}},{"$f":"IF(BK$5<>\"\",OFFSET(Data!#REF!,View!$B$25,$DS11),\"\")","v":{"$error":"#REF!"}},{"$f":"IF(BL$5<>\"\",OFFSET(Data!#REF!,View!$B$25,$DS11),\"\")","v":{"$error":"#REF!"}},{"$f":"IF(BM$5<>\"\",OFFSET(Data!#REF!,View!$B$25,$DS11),\"\")","v":{"$error":"#REF!"}},{"$f":"IF(BN$5<>\"\",OFFSET(Data!#REF!,View!$B$25,$DS11),\"\")","v":{"$error":"#REF!"}},{"$f":"IF(BO$5<>\"\",OFFSET(Data!#REF!,View!$B$25,$DS11),\"\")","v":{"$error":"#REF!"}},{"$f":"IF(BP$5<>\"\",OFFSET(Data!#REF!,View!$B$25,$DS11),\"\")","v":{"$error":"#REF!"}},{"$f":"IF(BQ$5<>\"\",OFFSET(Data!#REF!,View!$B$25,$DS11),\"\")","v":{"$error":"#REF!"}},{"$f":"IF(BR$5<>\"\",OFFSET(Data!#REF!,View!$B$25,$DS11),\"\")","v":{"$error":"#REF!"}},{"$f":"IF(BS$5<>\"\",OFFSET(Data!#REF!,View!$B$25,$DS11),\"\")","v":{"$error":"#REF!"}},{"$f":"IF(BT$5<>\"\",OFFSET(Data!#REF!,View!$B$25,$DS11),\"\")","v":{"$error":"#REF!"}},{"$f":"IF(BU$5<>\"\",OFFSET(Data!#REF!,View!$B$25,$DS11),\"\")","v":{"$error":"#REF!"}},{"$f":"IF(BV$5<>\"\",OFFSET(Data!#REF!,View!$B$25,$DS11),\"\")","v":{"$error":"#REF!"}},{"$f":"IF(BW$5<>\"\",OFFSET(Data!#REF!,View!$B$25,$DS11),\"\")","v":{"$error":"#REF!"}},{"$f":"IF(BX$5<>\"\",OFFSET(Data!#REF!,View!$B$25,$DS11),\"\")","v":{"$error":"#REF!"}},{"$f":"IF(BY$5<>\"\",OFFSET(Data!#REF!,View!$B$25,$DS11),\"\")","v":{"$error":"#REF!"}},{"$f":"IF(BZ$5<>\"\",OFFSET(Data!#REF!,View!$B$25,$DS11),\"\")","v":{"$error":"#REF!"}},{"$f":"IF(CA$5<>\"\",OFFSET(Data!#REF!,View!$B$25,$DS11),\"\")","v":{"$error":"#REF!"}},{"$f":"IF(CB$5<>\"\",OFFSET(Data!#REF!,View!$B$25,$DS11),\"\")","v":{"$error":"#REF!"}},{"$f":"IF(CC$5<>\"\",OFFSET(Data!#REF!,View!$B$25,$DS11),\"\")","v":{"$error":"#REF!"}},{"$f":"IF(CD$5<>\"\",OFFSET(Data!#REF!,View!$B$25,$DS11),\"\")","v":{"$error":"#REF!"}},{"$f":"IF(CE$5<>\"\",OFFSET(Data!#REF!,View!$B$25,$DS11),\"\")","v":{"$error":"#REF!"}},{"$f":"IF(CF$5<>\"\",OFFSET(Data!#REF!,View!$B$25,$DS11),\"\")","v":{"$error":"#REF!"}},{"$f":"IF(CG$5<>\"\",OFFSET(Data!#REF!,View!$B$25,$DS11),\"\")","v":{"$error":"#REF!"}},{"$f":"IF(CH$5<>\"\",OFFSET(Data!#REF!,View!$B$25,$DS11),\"\")","v":{"$error":"#REF!"}},{"$f":"IF(CI$5<>\"\",OFFSET(Data!#REF!,View!$B$25,$DS11),\"\")","v":{"$error":"#REF!"}},{"$f":"IF(CJ$5<>\"\",OFFSET(Data!#REF!,View!$B$25,$DS11),\"\")","v":{"$error":"#REF!"}},{"$f":"IF(CK$5<>\"\",OFFSET(Data!#REF!,View!$B$25,$DS11),\"\")","v":{"$error":"#REF!"}},{"$f":"IF(CL$5<>\"\",OFFSET(Data!#REF!,View!$B$25,$DS11),\"\")","v":{"$error":"#REF!"}},{"$f":"IF(CM$5<>\"\",OFFSET(Data!#REF!,View!$B$25,$DS11),\"\")","v":{"$error":"#REF!"}},{"$f":"IF(CN$5<>\"\",OFFSET(Data!#REF!,View!$B$25,$DS11),\"\")","v":{"$error":"#REF!"}},{"$f":"IF(CO$5<>\"\",OFFSET(Data!#REF!,View!$B$25,$DS11),\"\")","v":{"$error":"#REF!"}},{"$f":"IF(CP$5<>\"\",OFFSET(Data!#REF!,View!$B$25,$DS11),\"\")","v":{"$error":"#REF!"}},{"$f":"IF(CQ$5<>\"\",OFFSET(Data!#REF!,View!$B$25,$DS11),\"\")","v":{"$error":"#REF!"}},{"$f":"IF(CR$5<>\"\",OFFSET(Data!#REF!,View!$B$25,$DS11),\"\")","v":{"$error":"#REF!"}},{"$f":"IF(CS$5<>\"\",OFFSET(Data!#REF!,View!$B$25,$DS11),\"\")","v":{"$error":"#REF!"}},{"$f":"IF(CT$5<>\"\",OFFSET(Data!#REF!,View!$B$25,$DS11),\"\")","v":{"$error":"#REF!"}},{"$f":"IF(CU$5<>\"\",OFFSET(Data!#REF!,View!$B$25,$DS11),\"\")","v":{"$error":"#REF!"}},{"$f":"IF(CV$5<>\"\",OFFSET(Data!#REF!,View!$B$25,$DS11),\"\")","v":{"$error":"#REF!"}},{"$f":"IF(CW$5<>\"\",OFFSET(Data!#REF!,View!$B$25,$DS11),\"\")","v":{"$error":"#REF!"}},{"$f":"IF(CX$5<>\"\",OFFSET(Data!#REF!,View!$B$25,$DS11),\"\")","v":{"$error":"#REF!"}},{"$f":"IF(CY$5<>\"\",OFFSET(Data!#REF!,View!$B$25,$DS11),\"\")","v":{"$error":"#REF!"}},{"$f":"IF(CZ$5<>\"\",OFFSET(Data!#REF!,View!$B$25,$DS11),\"\")","v":{"$error":"#REF!"}},{"$f":"IF(DA$5<>\"\",OFFSET(Data!#REF!,View!$B$25,$DS11),\"\")","v":{"$error":"#REF!"}},{"$f":"IF(DB$5<>\"\",OFFSET(Data!#REF!,View!$B$25,$DS11),\"\")","v":{"$error":"#REF!"}},{"$f":"IF(DC$5<>\"\",OFFSET(Data!#REF!,View!$B$25,$DS11),\"\")","v":{"$error":"#REF!"}},{"$f":"IF(DD$5<>\"\",OFFSET(Data!#REF!,View!$B$25,$DS11),\"\")","v":{"$error":"#REF!"}},{"$f":"IF(DE$5<>\"\",OFFSET(Data!#REF!,View!$B$25,$DS11),\"\")","v":{"$error":"#REF!"}},{"$f":"IF(DF$5<>\"\",OFFSET(Data!#REF!,View!$B$25,$DS11),\"\")","v":{"$error":"#REF!"}},{"$f":"IF(DG$5<>\"\",OFFSET(Data!#REF!,View!$B$25,$DS11),\"\")","v":{"$error":"#REF!"}},{"$f":"IF(DH$5<>\"\",OFFSET(Data!#REF!,View!$B$25,$DS11),\"\")","v":{"$error":"#REF!"}},{"$f":"IF(DI$5<>\"\",OFFSET(Data!#REF!,View!$B$25,$DS11),\"\")","v":{"$error":"#REF!"}},{"$f":"IF(DJ$5<>\"\",OFFSET(Data!#REF!,View!$B$25,$DS11),\"\")","v":{"$error":"#REF!"}},{"$f":"IF(DK$5<>\"\",OFFSET(Data!#REF!,View!$B$25,$DS11),\"\")","v":{"$error":"#REF!"}},{"$f":"IF(DL$5<>\"\",OFFSET(Data!#REF!,View!$B$25,$DS11),\"\")","v":{"$error":"#REF!"}},{"$f":"IF(DM$5<>\"\",OFFSET(Data!#REF!,View!$B$25,$DS11),\"\")","v":{"$error":"#REF!"}},{"$f":"IF(DN$5<>\"\",OFFSET(Data!#REF!,View!$B$25,$DS11),\"\")","v":{"$error":"#REF!"}},{"$f":"IF(DO$5<>\"\",OFFSET(Data!#REF!,View!$B$25,$DS11),\"\")","v":{"$error":"#REF!"}},{"$f":"IF(DP$5<>\"\",OFFSET(Data!#REF!,View!$B$25,$DS11),\"\")","v":{"$error":"#REF!"}},{"$f":"IF(DQ$5<>\"\",OFFSET(Data!#REF!,View!$B$25,$DS11),\"\")","v":{"$error":"#REF!"}},{"$f":"IF(DR$5<>\"\",OFFSET(Data!#REF!,View!$B$25,$DS11),\"\")","v":{"$error":"#REF!"}},{"$f":"($C$41+1)*1","v":{"$error":"#REF!"}}]
["LCfmax",{"$f":"IF(B$5<>\"\",OFFSET(Data!#REF!,View!$B$25,$DS12),\"\")","v":{"$error":"#REF!"}},{"$f":"IF(C$5<>\"\",OFFSET(Data!#REF!,View!$B$25,$DS12),\"\")","v":{"$error":"#REF!"}},{"$f":"IF(D$5<>\"\",OFFSET(Data!#REF!,View!$B$25,$DS12),\"\")","v":{"$error":"#REF!"}},{"$f":"IF(E$5<>\"\",OFFSET(Data!#REF!,View!$B$25,$DS12),\"\")","v":{"$error":"#REF!"}},{"$f":"IF(F$5<>\"\",OFFSET(Data!#REF!,View!$B$25,$DS12),\"\")","v":{"$error":"#REF!"}},{"$f":"IF(G$5<>\"\",OFFSET(Data!#REF!,View!$B$25,$DS12),\"\")","v":{"$error":"#REF!"}},{"$f":"IF(H$5<>\"\",OFFSET(Data!#REF!,View!$B$25,$DS12),\"\")","v":{"$error":"#REF!"}},{"$f":"IF(I$5<>\"\",OFFSET(Data!#REF!,View!$B$25,$DS12),\"\")","v":{"$error":"#REF!"}},{"$f":"IF(J$5<>\"\",OFFSET(Data!#REF!,View!$B$25,$DS12),\"\")","v":{"$error":"#REF!"}},{"$f":"IF(K$5<>\"\",OFFSET(Data!#REF!,View!$B$25,$DS12),\"\")","v":{"$error":"#REF!"}},{"$f":"IF(L$5<>\"\",OFFSET(Data!#REF!,View!$B$25,$DS12),\"\")","v":{"$error":"#REF!"}},{"$f":"IF(M$5<>\"\",OFFSET(Data!#REF!,View!$B$25,$DS12),\"\")","v":{"$error":"#REF!"}},{"$f":"IF(N$5<>\"\",OFFSET(Data!#REF!,View!$B$25,$DS12),\"\")","v":{"$error":"#REF!"}},{"$f":"IF(O$5<>\"\",OFFSET(Data!#REF!,View!$B$25,$DS12),\"\")","v":{"$error":"#REF!"}},{"$f":"IF(P$5<>\"\",OFFSET(Data!#REF!,View!$B$25,$DS12),\"\")","v":{"$error":"#REF!"}},{"$f":"IF(Q$5<>\"\",OFFSET(Data!#REF!,View!$B$25,$DS12),\"\")","v":{"$error":"#REF!"}},{"$f":"IF(R$5<>\"\",OFFSET(Data!#REF!,View!$B$25,$DS12),\"\")","v":{"$error":"#REF!"}},{"$f":"IF(S$5<>\"\",OFFSET(Data!#REF!,View!$B$25,$DS12),\"\")","v":{"$error":"#REF!"}},{"$f":"IF(T$5<>\"\",OFFSET(Data!#REF!,View!$B$25,$DS12),\"\")","v":{"$error":"#REF!"}},{"$f":"IF(U$5<>\"\",OFFSET(Data!#REF!,View!$B$25,$DS12),\"\")","v":{"$error":"#REF!"}},{"$f":"IF(V$5<>\"\",OFFSET(Data!#REF!,View!$B$25,$DS12),\"\")","v":{"$error":"#REF!"}},{"$f":"IF(W$5<>\"\",OFFSET(Data!#REF!,View!$B$25,$DS12),\"\")","v":{"$error":"#REF!"}},{"$f":"IF(X$5<>\"\",OFFSET(Data!#REF!,View!$B$25,$DS12),\"\")","v":{"$error":"#REF!"}},{"$f":"IF(Y$5<>\"\",OFFSET(Data!#REF!,View!$B$25,$DS12),\"\")","v":{"$error":"#REF!"}},{"$f":"IF(Z$5<>\"\",OFFSET(Data!#REF!,View!$B$25,$DS12),\"\")","v":{"$error":"#REF!"}},{"$f":"IF(AA$5<>\"\",OFFSET(Data!#REF!,View!$B$25,$DS12),\"\")","v":{"$error":"#REF!"}},{"$f":"IF(AB$5<>\"\",OFFSET(Data!#REF!,View!$B$25,$DS12),\"\")","v":{"$error":"#REF!"}},{"$f":"IF(AC$5<>\"\",OFFSET(Data!#REF!,View!$B$25,$DS12),\"\")","v":{"$error":"#REF!"}},{"$f":"IF(AD$5<>\"\",OFFSET(Data!#REF!,View!$B$25,$DS12),\"\")","v":{"$error":"#REF!"}},{"$f":"IF(AE$5<>\"\",OFFSET(Data!#REF!,View!$B$25,$DS12),\"\")","v":{"$error":"#REF!"}},{"$f":"IF(AF$5<>\"\",OFFSET(Data!#REF!,View!$B$25,$DS12),\"\")","v":{"$error":"#REF!"}},{"$f":"IF(AG$5<>\"\",OFFSET(Data!#REF!,View!$B$25,$DS12),\"\")","v":{"$error":"#REF!"}},{"$f":"IF(AH$5<>\"\",OFFSET(Data!#REF!,View!$B$25,$DS12),\"\")","v":{"$error":"#REF!"}},{"$f":"IF(AI$5<>\"\",OFFSET(Data!#REF!,View!$B$25,$DS12),\"\")","v":{"$error":"#REF!"}},{"$f":"IF(AJ$5<>\"\",OFFSET(Data!#REF!,View!$B$25,$DS12),\"\")","v":{"$error":"#REF!"}},{"$f":"IF(AK$5<>\"\",OFFSET(Data!#REF!,View!$B$25,$DS12),\"\")","v":{"$error":"#REF!"}},{"$f":"IF(AL$5<>\"\",OFFSET(Data!#REF!,View!$B$25,$DS12),\"\")","v":{"$error":"#REF!"}},{"$f":"IF(AM$5<>\"\",OFFSET(Data!#REF!,View!$B$25,$DS12),\"\")","v":{"$error":"#REF!"}},{"$f":"IF(AN$5<>\"\",OFFSET(Data!#REF!,View!$B$25,$DS12),\"\")","v":{"$error":"#REF!"}},{"$f":"IF(AO$5<>\"\",OFFSET(Data!#REF!,View!$B$25,$DS12),\"\")","v":{"$error":"#REF!"}},{"$f":"IF(AP$5<>\"\",OFFSET(Data!#REF!,View!$B$25,$DS12),\"\")","v":{"$error":"#REF!"}},{"$f":"IF(AQ$5<>\"\",OFFSET(Data!#REF!,View!$B$25,$DS12),\"\")","v":{"$error":"#REF!"}},{"$f":"IF(AR$5<>\"\",OFFSET(Data!#REF!,View!$B$25,$DS12),\"\")","v":{"$error":"#REF!"}},{"$f":"IF(AS$5<>\"\",OFFSET(Data!#REF!,View!$B$25,$DS12),\"\")","v":{"$error":"#REF!"}},{"$f":"IF(AT$5<>\"\",OFFSET(Data!#REF!,View!$B$25,$DS12),\"\")","v":{"$error":"#REF!"}},{"$f":"IF(AU$5<>\"\",OFFSET(Data!#REF!,View!$B$25,$DS12),\"\")","v":{"$error":"#REF!"}},{"$f":"IF(AV$5<>\"\",OFFSET(Data!#REF!,View!$B$25,$DS12),\"\")","v":{"$error":"#REF!"}},{"$f":"IF(AW$5<>\"\",OFFSET(Data!#REF!,View!$B$25,$DS12),\"\")","v":{"$error":"#REF!"}},{"$f":"IF(AX$5<>\"\",OFFSET(Data!#REF!,View!$B$25,$DS12),\"\")","v":{"$error":"#REF!"}},{"$f":"IF(AY$5<>\"\",OFFSET(Data!#REF!,View!$B$25,$DS12),\"\")","v":{"$error":"#REF!"}},{"$f":"IF(AZ$5<>\"\",OFFSET(Data!#REF!,View!$B$25,$DS12),\"\")","v":{"$error":"#REF!"}},{"$f":"IF(BA$5<>\"\",OFFSET(Data!#REF!,View!$B$25,$DS12),\"\")","v":{"$error":"#REF!"}},{"$f":"IF(BB$5<>\"\",OFFSET(Data!#REF!,View!$B$25,$DS12),\"\")","v":{"$error":"#REF!"}},{"$f":"IF(BC$5<>\"\",OFFSET(Data!#REF!,View!$B$25,$DS12),\"\")","v":{"$error":"#REF!"}},{"$f":"IF(BD$5<>\"\",OFFSET(Data!#REF!,View!$B$25,$DS12),\"\")","v":{"$error":"#REF!"}},{"$f":"IF(BE$5<>\"\",OFFSET(Data!#REF!,View!$B$25,$DS12),\"\")","v":{"$error":"#REF!"}},{"$f":"IF(BF$5<>\"\",OFFSET(Data!#REF!,View!$B$25,$DS12),\"\")","v":{"$error":"#REF!"}},{"$f":"IF(BG$5<>\"\",OFFSET(Data!#REF!,View!$B$25,$DS12),\"\")","v":{"$error":"#REF!"}},{"$f":"IF(BH$5<>\"\",OFFSET(Data!#REF!,View!$B$25,$DS12),\"\")","v":{"$error":"#REF!"}},{"$f":"IF(BI$5<>\"\",OFFSET(Data!#REF!,View!$B$25,$DS12),\"\")","v":{"$error":"#REF!"}},{"$f":"IF(BJ$5<>\"\",OFFSET(Data!#REF!,View!$B$25,$DS12),\"\")","v":{"$error":"#REF!"}},{"$f":"IF(BK$5<>\"\",OFFSET(Data!#REF!,View!$B$25,$DS12),\"\")","v":{"$error":"#REF!"}},{"$f":"IF(BL$5<>\"\",OFFSET(Data!#REF!,View!$B$25,$DS12),\"\")","v":{"$error":"#REF!"}},{"$f":"IF(BM$5<>\"\",OFFSET(Data!#REF!,View!$B$25,$DS12),\"\")","v":{"$error":"#REF!"}},{"$f":"IF(BN$5<>\"\",OFFSET(Data!#REF!,View!$B$25,$DS12),\"\")","v":{"$error":"#REF!"}},{"$f":"IF(BO$5<>\"\",OFFSET(Data!#REF!,View!$B$25,$DS12),\"\")","v":{"$error":"#REF!"}},{"$f":"IF(BP$5<>\"\",OFFSET(Data!#REF!,View!$B$25,$DS12),\"\")","v":{"$error":"#REF!"}},{"$f":"IF(BQ$5<>\"\",OFFSET(Data!#REF!,View!$B$25,$DS12),\"\")","v":{"$error":"#REF!"}},{"$f":"IF(BR$5<>\"\",OFFSET(Data!#REF!,View!$B$25,$DS12),\"\")","v":{"$error":"#REF!"}},{"$f":"IF(BS$5<>\"\",OFFSET(Data!#REF!,View!$B$25,$DS12),\"\")","v":{"$error":"#REF!"}},{"$f":"IF(BT$5<>\"\",OFFSET(Data!#REF!,View!$B$25,$DS12),\"\")","v":{"$error":"#REF!"}},{"$f":"IF(BU$5<>\"\",OFFSET(Data!#REF!,View!$B$25,$DS12),\"\")","v":{"$error":"#REF!"}},{"$f":"IF(BV$5<>\"\",OFFSET(Data!#REF!,View!$B$25,$DS12),\"\")","v":{"$error":"#REF!"}},{"$f":"IF(BW$5<>\"\",OFFSET(Data!#REF!,View!$B$25,$DS12),\"\")","v":{"$error":"#REF!"}},{"$f":"IF(BX$5<>\"\",OFFSET(Data!#REF!,View!$B$25,$DS12),\"\")","v":{"$error":"#REF!"}},{"$f":"IF(BY$5<>\"\",OFFSET(Data!#REF!,View!$B$25,$DS12),\"\")","v":{"$error":"#REF!"}},{"$f":"IF(BZ$5<>\"\",OFFSET(Data!#REF!,View!$B$25,$DS12),\"\")","v":{"$error":"#REF!"}},{"$f":"IF(CA$5<>\"\",OFFSET(Data!#REF!,View!$B$25,$DS12),\"\")","v":{"$error":"#REF!"}},{"$f":"IF(CB$5<>\"\",OFFSET(Data!#REF!,View!$B$25,$DS12),\"\")","v":{"$error":"#REF!"}},{"$f":"IF(CC$5<>\"\",OFFSET(Data!#REF!,View!$B$25,$DS12),\"\")","v":{"$error":"#REF!"}},{"$f":"IF(CD$5<>\"\",OFFSET(Data!#REF!,View!$B$25,$DS12),\"\")","v":{"$error":"#REF!"}},{"$f":"IF(CE$5<>\"\",OFFSET(Data!#REF!,View!$B$25,$DS12),\"\")","v":{"$error":"#REF!"}},{"$f":"IF(CF$5<>\"\",OFFSET(Data!#REF!,View!$B$25,$DS12),\"\")","v":{"$error":"#REF!"}},{"$f":"IF(CG$5<>\"\",OFFSET(Data!#REF!,View!$B$25,$DS12),\"\")","v":{"$error":"#REF!"}},{"$f":"IF(CH$5<>\"\",OFFSET(Data!#REF!,View!$B$25,$DS12),\"\")","v":{"$error":"#REF!"}},{"$f":"IF(CI$5<>\"\",OFFSET(Data!#REF!,View!$B$25,$DS12),\"\")","v":{"$error":"#REF!"}},{"$f":"IF(CJ$5<>\"\",OFFSET(Data!#REF!,View!$B$25,$DS12),\"\")","v":{"$error":"#REF!"}},{"$f":"IF(CK$5<>\"\",OFFSET(Data!#REF!,View!$B$25,$DS12),\"\")","v":{"$error":"#REF!"}},{"$f":"IF(CL$5<>\"\",OFFSET(Data!#REF!,View!$B$25,$DS12),\"\")","v":{"$error":"#REF!"}},{"$f":"IF(CM$5<>\"\",OFFSET(Data!#REF!,View!$B$25,$DS12),\"\")","v":{"$error":"#REF!"}},{"$f":"IF(CN$5<>\"\",OFFSET(Data!#REF!,View!$B$25,$DS12),\"\")","v":{"$error":"#REF!"}},{"$f":"IF(CO$5<>\"\",OFFSET(Data!#REF!,View!$B$25,$DS12),\"\")","v":{"$error":"#REF!"}},{"$f":"IF(CP$5<>\"\",OFFSET(Data!#REF!,View!$B$25,$DS12),\"\")","v":{"$error":"#REF!"}},{"$f":"IF(CQ$5<>\"\",OFFSET(Data!#REF!,View!$B$25,$DS12),\"\")","v":{"$error":"#REF!"}},{"$f":"IF(CR$5<>\"\",OFFSET(Data!#REF!,View!$B$25,$DS12),\"\")","v":{"$error":"#REF!"}},{"$f":"IF(CS$5<>\"\",OFFSET(Data!#REF!,View!$B$25,$DS12),\"\")","v":{"$error":"#REF!"}},{"$f":"IF(CT$5<>\"\",OFFSET(Data!#REF!,View!$B$25,$DS12),\"\")","v":{"$error":"#REF!"}},{"$f":"IF(CU$5<>\"\",OFFSET(Data!#REF!,View!$B$25,$DS12),\"\")","v":{"$error":"#REF!"}},{"$f":"IF(CV$5<>\"\",OFFSET(Data!#REF!,View!$B$25,$DS12),\"\")","v":{"$error":"#REF!"}},{"$f":"IF(CW$5<>\"\",OFFSET(Data!#REF!,View!$B$25,$DS12),\"\")","v":{"$error":"#REF!"}},{"$f":"IF(CX$5<>\"\",OFFSET(Data!#REF!,View!$B$25,$DS12),\"\")","v":{"$error":"#REF!"}},{"$f":"IF(CY$5<>\"\",OFFSET(Data!#REF!,View!$B$25,$DS12),\"\")","v":{"$error":"#REF!"}},{"$f":"IF(CZ$5<>\"\",OFFSET(Data!#REF!,View!$B$25,$DS12),\"\")","v":{"$error":"#REF!"}},{"$f":"IF(DA$5<>\"\",OFFSET(Data!#REF!,View!$B$25,$DS12),\"\")","v":{"$error":"#REF!"}},{"$f":"IF(DB$5<>\"\",OFFSET(Data!#REF!,View!$B$25,$DS12),\"\")","v":{"$error":"#REF!"}},{"$f":"IF(DC$5<>\"\",OFFSET(Data!#REF!,View!$B$25,$DS12),\"\")","v":{"$error":"#REF!"}},{"$f":"IF(DD$5<>\"\",OFFSET(Data!#REF!,View!$B$25,$DS12),\"\")","v":{"$error":"#REF!"}},{"$f":"IF(DE$5<>\"\",OFFSET(Data!#REF!,View!$B$25,$DS12),\"\")","v":{"$error":"#REF!"}},{"$f":"IF(DF$5<>\"\",OFFSET(Data!#REF!,View!$B$25,$DS12),\"\")","v":{"$error":"#REF!"}},{"$f":"IF(DG$5<>\"\",OFFSET(Data!#REF!,View!$B$25,$DS12),\"\")","v":{"$error":"#REF!"}},{"$f":"IF(DH$5<>\"\",OFFSET(Data!#REF!,View!$B$25,$DS12),\"\")","v":{"$error":"#REF!"}},{"$f":"IF(DI$5<>\"\",OFFSET(Data!#REF!,View!$B$25,$DS12),\"\")","v":{"$error":"#REF!"}},{"$f":"IF(DJ$5<>\"\",OFFSET(Data!#REF!,View!$B$25,$DS12),\"\")","v":{"$error":"#REF!"}},{"$f":"IF(DK$5<>\"\",OFFSET(Data!#REF!,View!$B$25,$DS12),\"\")","v":{"$error":"#REF!"}},{"$f":"IF(DL$5<>\"\",OFFSET(Data!#REF!,View!$B$25,$DS12),\"\")","v":{"$error":"#REF!"}},{"$f":"IF(DM$5<>\"\",OFFSET(Data!#REF!,View!$B$25,$DS12),\"\")","v":{"$error":"#REF!"}},{"$f":"IF(DN$5<>\"\",OFFSET(Data!#REF!,View!$B$25,$DS12),\"\")","v":{"$error":"#REF!"}},{"$f":"IF(DO$5<>\"\",OFFSET(Data!#REF!,View!$B$25,$DS12),\"\")","v":{"$error":"#REF!"}},{"$f":"IF(DP$5<>\"\",OFFSET(Data!#REF!,View!$B$25,$DS12),\"\")","v":{"$error":"#REF!"}},{"$f":"IF(DQ$5<>\"\",OFFSET(Data!#REF!,View!$B$25,$DS12),\"\")","v":{"$error":"#REF!"}},{"$f":"IF(DR$5<>\"\",OFFSET(Data!#REF!,View!$B$25,$DS12),\"\")","v":{"$error":"#REF!"}},{"$f":"($C$41+1)*5","v":{"$error":"#REF!"}}]
[]
["LZsmax",{"$f":"IF(B$5<>\"\",OFFSET(Data!#REF!,View!$B$25,$DS14),\"\")","v":{"$error":"#REF!"}},{"$f":"IF(C$5<>\"\",OFFSET(Data!#REF!,View!$B$25,$DS14),\"\")","v":{"$error":"#REF!"}},{"$f":"IF(D$5<>\"\",OFFSET(Data!#REF!,View!$B$25,$DS14),\"\")","v":{"$error":"#REF!"}},{"$f":"IF(E$5<>\"\",OFFSET(Data!#REF!,View!$B$25,$DS14),\"\")","v":{"$error":"#REF!"}},{"$f":"IF(F$5<>\"\",OFFSET(Data!#REF!,View!$B$25,$DS14),\"\")","v":{"$error":"#REF!"}},{"$f":"IF(G$5<>\"\",OFFSET(Data!#REF!,View!$B$25,$DS14),\"\")","v":{"$error":"#REF!"}},{"$f":"IF(H$5<>\"\",OFFSET(Data!#REF!,View!$B$25,$DS14),\"\")","v":{"$error":"#REF!"}},{"$f":"IF(I$5<>\"\",OFFSET(Data!#REF!,View!$B$25,$DS14),\"\")","v":{"$error":"#REF!"}},{"$f":"IF(J$5<>\"\",OFFSET(Data!#REF!,View!$B$25,$DS14),\"\")","v":{"$error":"#REF!"}},{"$f":"IF(K$5<>\"\",OFFSET(Data!#REF!,View!$B$25,$DS14),\"\")","v":{"$error":"#REF!"}},{"$f":"IF(L$5<>\"\",OFFSET(Data!#REF!,View!$B$25,$DS14),\"\")","v":{"$error":"#REF!"}},{"$f":"IF(M$5<>\"\",OFFSET(Data!#REF!,View!$B$25,$DS14),\"\")","v":{"$error":"#REF!"}},{"$f":"IF(N$5<>\"\",OFFSET(Data!#REF!,View!$B$25,$DS14),\"\")","v":{"$error":"#REF!"}},{"$f":"IF(O$5<>\"\",OFFSET(Data!#REF!,View!$B$25,$DS14),\"\")","v":{"$error":"#REF!"}},{"$f":"IF(P$5<>\"\",OFFSET(Data!#REF!,View!$B$25,$DS14),\"\")","v":{"$error":"#REF!"}},{"$f":"IF(Q$5<>\"\",OFFSET(Data!#REF!,View!$B$25,$DS14),\"\")","v":{"$error":"#REF!"}},{"$f":"IF(R$5<>\"\",OFFSET(Data!#REF!,View!$B$25,$DS14),\"\")","v":{"$error":"#REF!"}},{"$f":"IF(S$5<>\"\",OFFSET(Data!#REF!,View!$B$25,$DS14),\"\")","v":{"$error":"#REF!"}},{"$f":"IF(T$5<>\"\",OFFSET(Data!#REF!,View!$B$25,$DS14),\"\")","v":{"$error":"#REF!"}},{"$f":"IF(U$5<>\"\",OFFSET(Data!#REF!,View!$B$25,$DS14),\"\")","v":{"$error":"#REF!"}},{"$f":"IF(V$5<>\"\",OFFSET(Data!#REF!,View!$B$25,$DS14),\"\")","v":{"$error":"#REF!"}},{"$f":"IF(W$5<>\"\",OFFSET(Data!#REF!,View!$B$25,$DS14),\"\")","v":{"$error":"#REF!"}},{"$f":"IF(X$5<>\"\",OFFSET(Data!#REF!,View!$B$25,$DS14),\"\")","v":{"$error":"#REF!"}},{"$f":"IF(Y$5<>\"\",OFFSET(Data!#REF!,View!$B$25,$DS14),\"\")","v":{"$error":"#REF!"}},{"$f":"IF(Z$5<>\"\",OFFSET(Data!#REF!,View!$B$25,$DS14),\"\")","v":{"$error":"#REF!"}},{"$f":"IF(AA$5<>\"\",OFFSET(Data!#REF!,View!$B$25,$DS14),\"\")","v":{"$error":"#REF!"}},{"$f":"IF(AB$5<>\"\",OFFSET(Data!#REF!,View!$B$25,$DS14),\"\")","v":{"$error":"#REF!"}},{"$f":"IF(AC$5<>\"\",OFFSET(Data!#REF!,View!$B$25,$DS14),\"\")","v":{"$error":"#REF!"}},{"$f":"IF(AD$5<>\"\",OFFSET(Data!#REF!,View!$B$25,$DS14),\"\")","v":{"$error":"#REF!"}},{"$f":"IF(AE$5<>\"\",OFFSET(Data!#REF!,View!$B$25,$DS14),\"\")","v":{"$error":"#REF!"}},{"$f":"IF(AF$5<>\"\",OFFSET(Data!#REF!,View!$B$25,$DS14),\"\")","v":{"$error":"#REF!"}},{"$f":"IF(AG$5<>\"\",OFFSET(Data!#REF!,View!$B$25,$DS14),\"\")","v":{"$error":"#REF!"}},{"$f":"IF(AH$5<>\"\",OFFSET(Data!#REF!,View!$B$25,$DS14),\"\")","v":{"$error":"#REF!"}},{"$f":"IF(AI$5<>\"\",OFFSET(Data!#REF!,View!$B$25,$DS14),\"\")","v":{"$error":"#REF!"}},{"$f":"IF(AJ$5<>\"\",OFFSET(Data!#REF!,View!$B$25,$DS14),\"\")","v":{"$error":"#REF!"}},{"$f":"IF(AK$5<>\"\",OFFSET(Data!#REF!,View!$B$25,$DS14),\"\")","v":{"$error":"#REF!"}},{"$f":"IF(AL$5<>\"\",OFFSET(Data!#REF!,View!$B$25,$DS14),\"\")","v":{"$error":"#REF!"}},{"$f":"IF(AM$5<>\"\",OFFSET(Data!#REF!,View!$B$25,$DS14),\"\")","v":{"$error":"#REF!"}},{"$f":"IF(AN$5<>\"\",OFFSET(Data!#REF!,View!$B$25,$DS14),\"\")","v":{"$error":"#REF!"}},{"$f":"IF(AO$5<>\"\",OFFSET(Data!#REF!,View!$B$25,$DS14),\"\")","v":{"$error":"#REF!"}},{"$f":"IF(AP$5<>\"\",OFFSET(Data!#REF!,View!$B$25,$DS14),\"\")","v":{"$error":"#REF!"}},{"$f":"IF(AQ$5<>\"\",OFFSET(Data!#REF!,View!$B$25,$DS14),\"\")","v":{"$error":"#REF!"}},{"$f":"IF(AR$5<>\"\",OFFSET(Data!#REF!,View!$B$25,$DS14),\"\")","v":{"$error":"#REF!"}},{"$f":"IF(AS$5<>\"\",OFFSET(Data!#REF!,View!$B$25,$DS14),\"\")","v":{"$error":"#REF!"}},{"$f":"IF(AT$5<>\"\",OFFSET(Data!#REF!,View!$B$25,$DS14),\"\")","v":{"$error":"#REF!"}},{"$f":"IF(AU$5<>\"\",OFFSET(Data!#REF!,View!$B$25,$DS14),\"\")","v":{"$error":"#REF!"}},{"$f":"IF(AV$5<>\"\",OFFSET(Data!#REF!,View!$B$25,$DS14),\"\")","v":{"$error":"#REF!"}},{"$f":"IF(AW$5<>\"\",OFFSET(Data!#REF!,View!$B$25,$DS14),\"\")","v":{"$error":"#REF!"}},{"$f":"IF(AX$5<>\"\",OFFSET(Data!#REF!,View!$B$25,$DS14),\"\")","v":{"$error":"#REF!"}},{"$f":"IF(AY$5<>\"\",OFFSET(Data!#REF!,View!$B$25,$DS14),\"\")","v":{"$error":"#REF!"}},{"$f":"IF(AZ$5<>\"\",OFFSET(Data!#REF!,View!$B$25,$DS14),\"\")","v":{"$error":"#REF!"}},{"$f":"IF(BA$5<>\"\",OFFSET(Data!#REF!,View!$B$25,$DS14),\"\")","v":{"$error":"#REF!"}},{"$f":"IF(BB$5<>\"\",OFFSET(Data!#REF!,View!$B$25,$DS14),\"\")","v":{"$error":"#REF!"}},{"$f":"IF(BC$5<>\"\",OFFSET(Data!#REF!,View!$B$25,$DS14),\"\")","v":{"$error":"#REF!"}},{"$f":"IF(BD$5<>\"\",OFFSET(Data!#REF!,View!$B$25,$DS14),\"\")","v":{"$error":"#REF!"}},{"$f":"IF(BE$5<>\"\",OFFSET(Data!#REF!,View!$B$25,$DS14),\"\")","v":{"$error":"#REF!"}},{"$f":"IF(BF$5<>\"\",OFFSET(Data!#REF!,View!$B$25,$DS14),\"\")","v":{"$error":"#REF!"}},{"$f":"IF(BG$5<>\"\",OFFSET(Data!#REF!,View!$B$25,$DS14),\"\")","v":{"$error":"#REF!"}},{"$f":"IF(BH$5<>\"\",OFFSET(Data!#REF!,View!$B$25,$DS14),\"\")","v":{"$error":"#REF!"}},{"$f":"IF(BI$5<>\"\",OFFSET(Data!#REF!,View!$B$25,$DS14),\"\")","v":{"$error":"#REF!"}},{"$f":"IF(BJ$5<>\"\",OFFSET(Data!#REF!,View!$B$25,$DS14),\"\")","v":{"$error":"#REF!"}},{"$f":"IF(BK$5<>\"\",OFFSET(Data!#REF!,View!$B$25,$DS14),\"\")","v":{"$error":"#REF!"}},{"$f":"IF(BL$5<>\"\",OFFSET(Data!#REF!,View!$B$25,$DS14),\"\")","v":{"$error":"#REF!"}},{"$f":"IF(BM$5<>\"\",OFFSET(Data!#REF!,View!$B$25,$DS14),\"\")","v":{"$error":"#REF!"}},{"$f":"IF(BN$5<>\"\",OFFSET(Data!#REF!,View!$B$25,$DS14),\"\")","v":{"$error":"#REF!"}},{"$f":"IF(BO$5<>\"\",OFFSET(Data!#REF!,View!$B$25,$DS14),\"\")","v":{"$error":"#REF!"}},{"$f":"IF(BP$5<>\"\",OFFSET(Data!#REF!,View!$B$25,$DS14),\"\")","v":{"$error":"#REF!"}},{"$f":"IF(BQ$5<>\"\",OFFSET(Data!#REF!,View!$B$25,$DS14),\"\")","v":{"$error":"#REF!"}},{"$f":"IF(BR$5<>\"\",OFFSET(Data!#REF!,View!$B$25,$DS14),\"\")","v":{"$error":"#REF!"}},{"$f":"IF(BS$5<>\"\",OFFSET(Data!#REF!,View!$B$25,$DS14),\"\")","v":{"$error":"#REF!"}},{"$f":"IF(BT$5<>\"\",OFFSET(Data!#REF!,View!$B$25,$DS14),\"\")","v":{"$error":"#REF!"}},{"$f":"IF(BU$5<>\"\",OFFSET(Data!#REF!,View!$B$25,$DS14),\"\")","v":{"$error":"#REF!"}},{"$f":"IF(BV$5<>\"\",OFFSET(Data!#REF!,View!$B$25,$DS14),\"\")","v":{"$error":"#REF!"}},{"$f":"IF(BW$5<>\"\",OFFSET(Data!#REF!,View!$B$25,$DS14),\"\")","v":{"$error":"#REF!"}},{"$f":"IF(BX$5<>\"\",OFFSET(Data!#REF!,View!$B$25,$DS14),\"\")","v":{"$error":"#REF!"}},{"$f":"IF(BY$5<>\"\",OFFSET(Data!#REF!,View!$B$25,$DS14),\"\")","v":{"$error":"#REF!"}},{"$f":"IF(BZ$5<>\"\",OFFSET(Data!#REF!,View!$B$25,$DS14),\"\")","v":{"$error":"#REF!"}},{"$f":"IF(CA$5<>\"\",OFFSET(Data!#REF!,View!$B$25,$DS14),\"\")","v":{"$error":"#REF!"}},{"$f":"IF(CB$5<>\"\",OFFSET(Data!#REF!,View!$B$25,$DS14),\"\")","v":{"$error":"#REF!"}},{"$f":"IF(CC$5<>\"\",OFFSET(Data!#REF!,View!$B$25,$DS14),\"\")","v":{"$error":"#REF!"}},{"$f":"IF(CD$5<>\"\",OFFSET(Data!#REF!,View!$B$25,$DS14),\"\")","v":{"$error":"#REF!"}},{"$f":"IF(CE$5<>\"\",OFFSET(Data!#REF!,View!$B$25,$DS14),\"\")","v":{"$error":"#REF!"}},{"$f":"IF(CF$5<>\"\",OFFSET(Data!#REF!,View!$B$25,$DS14),\"\")","v":{"$error":"#REF!"}},{"$f":"IF(CG$5<>\"\",OFFSET(Data!#REF!,View!$B$25,$DS14),\"\")","v":{"$error":"#REF!"}},{"$f":"IF(CH$5<>\"\",OFFSET(Data!#REF!,View!$B$25,$DS14),\"\")","v":{"$error":"#REF!"}},{"$f":"IF(CI$5<>\"\",OFFSET(Data!#REF!,View!$B$25,$DS14),\"\")","v":{"$error":"#REF!"}},{"$f":"IF(CJ$5<>\"\",OFFSET(Data!#REF!,View!$B$25,$DS14),\"\")","v":{"$error":"#REF!"}},{"$f":"IF(CK$5<>\"\",OFFSET(Data!#REF!,View!$B$25,$DS14),\"\")","v":{"$error":"#REF!"}},{"$f":"IF(CL$5<>\"\",OFFSET(Data!#REF!,View!$B$25,$DS14),\"\")","v":{"$error":"#REF!"}},{"$f":"IF(CM$5<>\"\",OFFSET(Data!#REF!,View!$B$25,$DS14),\"\")","v":{"$error":"#REF!"}},{"$f":"IF(CN$5<>\"\",OFFSET(Data!#REF!,View!$B$25,$DS14),\"\")","v":{"$error":"#REF!"}},{"$f":"IF(CO$5<>\"\",OFFSET(Data!#REF!,View!$B$25,$DS14),\"\")","v":{"$error":"#REF!"}},{"$f":"IF(CP$5<>\"\",OFFSET(Data!#REF!,View!$B$25,$DS14),\"\")","v":{"$error":"#REF!"}},{"$f":"IF(CQ$5<>\"\",OFFSET(Data!#REF!,View!$B$25,$DS14),\"\")","v":{"$error":"#REF!"}},{"$f":"IF(CR$5<>\"\",OFFSET(Data!#REF!,View!$B$25,$DS14),\"\")","v":{"$error":"#REF!"}},{"$f":"IF(CS$5<>\"\",OFFSET(Data!#REF!,View!$B$25,$DS14),\"\")","v":{"$error":"#REF!"}},{"$f":"IF(CT$5<>\"\",OFFSET(Data!#REF!,View!$B$25,$DS14),\"\")","v":{"$error":"#REF!"}},{"$f":"IF(CU$5<>\"\",OFFSET(Data!#REF!,View!$B$25,$DS14),\"\")","v":{"$error":"#REF!"}},{"$f":"IF(CV$5<>\"\",OFFSET(Data!#REF!,View!$B$25,$DS14),\"\")","v":{"$error":"#REF!"}},{"$f":"IF(CW$5<>\"\",OFFSET(Data!#REF!,View!$B$25,$DS14),\"\")","v":{"$error":"#REF!"}},{"$f":"IF(CX$5<>\"\",OFFSET(Data!#REF!,View!$B$25,$DS14),\"\")","v":{"$error":"#REF!"}},{"$f":"IF(CY$5<>\"\",OFFSET(Data!#REF!,View!$B$25,$DS14),\"\")","v":{"$error":"#REF!"}},{"$f":"IF(CZ$5<>\"\",OFFSET(Data!#REF!,View!$B$25,$DS14),\"\")","v":{"$error":"#REF!"}},{"$f":"IF(DA$5<>\"\",OFFSET(Data!#REF!,View!$B$25,$DS14),\"\")","v":{"$error":"#REF!"}},{"$f":"IF(DB$5<>\"\",OFFSET(Data!#REF!,View!$B$25,$DS14),\"\")","v":{"$error":"#REF!"}},{"$f":"IF(DC$5<>\"\",OFFSET(Data!#REF!,View!$B$25,$DS14),\"\")","v":{"$error":"#REF!"}},{"$f":"IF(DD$5<>\"\",OFFSET(Data!#REF!,View!$B$25,$DS14),\"\")","v":{"$error":"#REF!"}},{"$f":"IF(DE$5<>\"\",OFFSET(Data!#REF!,View!$B$25,$DS14),\"\")","v":{"$error":"#REF!"}},{"$f":"IF(DF$5<>\"\",OFFSET(Data!#REF!,View!$B$25,$DS14),\"\")","v":{"$error":"#REF!"}},{"$f":"IF(DG$5<>\"\",OFFSET(Data!#REF!,View!$B$25,$DS14),\"\")","v":{"$error":"#REF!"}},{"$f":"IF(DH$5<>\"\",OFFSET(Data!#REF!,View!$B$25,$DS14),\"\")","v":{"$error":"#REF!"}},{"$f":"IF(DI$5<>\"\",OFFSET(Data!#REF!,View!$B$25,$DS14),\"\")","v":{"$error":"#REF!"}},{"$f":"IF(DJ$5<>\"\",OFFSET(Data!#REF!,View!$B$25,$DS14),\"\")","v":{"$error":"#REF!"}},{"$f":"IF(DK$5<>\"\",OFFSET(Data!#REF!,View!$B$25,$DS14),\"\")","v":{"$error":"#REF!"}},{"$f":"IF(DL$5<>\"\",OFFSET(Data!#REF!,View!$B$25,$DS14),\"\")","v":{"$error":"#REF!"}},{"$f":"IF(DM$5<>\"\",OFFSET(Data!#REF!,View!$B$25,$DS14),\"\")","v":{"$error":"#REF!"}},{"$f":"IF(DN$5<>\"\",OFFSET(Data!#REF!,View!$B$25,$DS14),\"\")","v":{"$error":"#REF!"}},{"$f":"IF(DO$5<>\"\",OFFSET(Data!#REF!,View!$B$25,$DS14),\"\")","v":{"$error":"#REF!"}},{"$f":"IF(DP$5<>\"\",OFFSET(Data!#REF!,View!$B$25,$DS14),\"\")","v":{"$error":"#REF!"}},{"$f":"IF(DQ$5<>\"\",OFFSET(Data!#REF!,View!$B$25,$DS14),\"\")","v":{"$error":"#REF!"}},{"$f":"IF(DR$5<>\"\",OFFSET(Data!#REF!,View!$B$25,$DS14),\"\")","v":{"$error":"#REF!"}},{"$f":"($C$41+1)*10","v":{"$error":"#REF!"}}]
["LAsmax",{"$f":"IF(B$5<>\"\",OFFSET(Data!#REF!,View!$B$25,$DS15),\"\")","v":{"$error":"#REF!"}},{"$f":"IF(C$5<>\"\",OFFSET(Data!#REF!,View!$B$25,$DS15),\"\")","v":{"$error":"#REF!"}},{"$f":"IF(D$5<>\"\",OFFSET(Data!#REF!,View!$B$25,$DS15),\"\")","v":{"$error":"#REF!"}},{"$f":"IF(E$5<>\"\",OFFSET(Data!#REF!,View!$B$25,$DS15),\"\")","v":{"$error":"#REF!"}},{"$f":"IF(F$5<>\"\",OFFSET(Data!#REF!,View!$B$25,$DS15),\"\")","v":{"$error":"#REF!"}},{"$f":"IF(G$5<>\"\",OFFSET(Data!#REF!,View!$B$25,$DS15),\"\")","v":{"$error":"#REF!"}},{"$f":"IF(H$5<>\"\",OFFSET(Data!#REF!,View!$B$25,$DS15),\"\")","v":{"$error":"#REF!"}},{"$f":"IF(I$5<>\"\",OFFSET(Data!#REF!,View!$B$25,$DS15),\"\")","v":{"$error":"#REF!"}},{"$f":"IF(J$5<>\"\",OFFSET(Data!#REF!,View!$B$25,$DS15),\"\")","v":{"$error":"#REF!"}},{"$f":"IF(K$5<>\"\",OFFSET(Data!#REF!,View!$B$25,$DS15),\"\")","v":{"$error":"#REF!"}},{"$f":"IF(L$5<>\"\",OFFSET(Data!#REF!,View!$B$25,$DS15),\"\")","v":{"$error":"#REF!"}},{"$f":"IF(M$5<>\"\",OFFSET(Data!#REF!,View!$B$25,$DS15),\"\")","v":{"$error":"#REF!"}},{"$f":"IF(N$5<>\"\",OFFSET(Data!#REF!,View!$B$25,$DS15),\"\")","v":{"$error":"#REF!"}},{"$f":"IF(O$5<>\"\",OFFSET(Data!#REF!,View!$B$25,$DS15),\"\")","v":{"$error":"#REF!"}},{"$f":"IF(P$5<>\"\",OFFSET(Data!#REF!,View!$B$25,$DS15),\"\")","v":{"$error":"#REF!"}},{"$f":"IF(Q$5<>\"\",OFFSET(Data!#REF!,View!$B$25,$DS15),\"\")","v":{"$error":"#REF!"}},{"$f":"IF(R$5<>\"\",OFFSET(Data!#REF!,View!$B$25,$DS15),\"\")","v":{"$error":"#REF!"}},{"$f":"IF(S$5<>\"\",OFFSET(Data!#REF!,View!$B$25,$DS15),\"\")","v":{"$error":"#REF!"}},{"$f":"IF(T$5<>\"\",OFFSET(Data!#REF!,View!$B$25,$DS15),\"\")","v":{"$error":"#REF!"}},{"$f":"IF(U$5<>\"\",OFFSET(Data!#REF!,View!$B$25,$DS15),\"\")","v":{"$error":"#REF!"}},{"$f":"IF(V$5<>\"\",OFFSET(Data!#REF!,View!$B$25,$DS15),\"\")","v":{"$error":"#REF!"}},{"$f":"IF(W$5<>\"\",OFFSET(Data!#REF!,View!$B$25,$DS15),\"\")","v":{"$error":"#REF!"}},{"$f":"IF(X$5<>\"\",OFFSET(Data!#REF!,View!$B$25,$DS15),\"\")","v":{"$error":"#REF!"}},{"$f":"IF(Y$5<>\"\",OFFSET(Data!#REF!,View!$B$25,$DS15),\"\")","v":{"$error":"#REF!"}},{"$f":"IF(Z$5<>\"\",OFFSET(Data!#REF!,View!$B$25,$DS15),\"\")","v":{"$error":"#REF!"}},{"$f":"IF(AA$5<>\"\",OFFSET(Data!#REF!,View!$B$25,$DS15),\"\")","v":{"$error":"#REF!"}},{"$f":"IF(AB$5<>\"\",OFFSET(Data!#REF!,View!$B$25,$DS15),\"\")","v":{"$error":"#REF!"}},{"$f":"IF(AC$5<>\"\",OFFSET(Data!#REF!,View!$B$25,$DS15),\"\")","v":{"$error":"#REF!"}},{"$f":"IF(AD$5<>\"\",OFFSET(Data!#REF!,View!$B$25,$DS15),\"\")","v":{"$error":"#REF!"}},{"$f":"IF(AE$5<>\"\",OFFSET(Data!#REF!,View!$B$25,$DS15),\"\")","v":{"$error":"#REF!"}},{"$f":"IF(AF$5<>\"\",OFFSET(Data!#REF!,View!$B$25,$DS15),\"\")","v":{"$error":"#REF!"}},{"$f":"IF(AG$5<>\"\",OFFSET(Data!#REF!,View!$B$25,$DS15),\"\")","v":{"$error":"#REF!"}},{"$f":"IF(AH$5<>\"\",OFFSET(Data!#REF!,View!$B$25,$DS15),\"\")","v":{"$error":"#REF!"}},{"$f":"IF(AI$5<>\"\",OFFSET(Data!#REF!,View!$B$25,$DS15),\"\")","v":{"$error":"#REF!"}},{"$f":"IF(AJ$5<>\"\",OFFSET(Data!#REF!,View!$B$25,$DS15),\"\")","v":{"$error":"#REF!"}},{"$f":"IF(AK$5<>\"\",OFFSET(Data!#REF!,View!$B$25,$DS15),\"\")","v":{"$error":"#REF!"}},{"$f":"IF(AL$5<>\"\",OFFSET(Data!#REF!,View!$B$25,$DS15),\"\")","v":{"$error":"#REF!"}},{"$f":"IF(AM$5<>\"\",OFFSET(Data!#REF!,View!$B$25,$DS15),\"\")","v":{"$error":"#REF!"}},{"$f":"IF(AN$5<>\"\",OFFSET(Data!#REF!,View!$B$25,$DS15),\"\")","v":{"$error":"#REF!"}},{"$f":"IF(AO$5<>\"\",OFFSET(Data!#REF!,View!$B$25,$DS15),\"\")","v":{"$error":"#REF!"}},{"$f":"IF(AP$5<>\"\",OFFSET(Data!#REF!,View!$B$25,$DS15),\"\")","v":{"$error":"#REF!"}},{"$f":"IF(AQ$5<>\"\",OFFSET(Data!#REF!,View!$B$25,$DS15),\"\")","v":{"$error":"#REF!"}},{"$f":"IF(AR$5<>\"\",OFFSET(Data!#REF!,View!$B$25,$DS15),\"\")","v":{"$error":"#REF!"}},{"$f":"IF(AS$5<>\"\",OFFSET(Data!#REF!,View!$B$25,$DS15),\"\")","v":{"$error":"#REF!"}},{"$f":"IF(AT$5<>\"\",OFFSET(Data!#REF!,View!$B$25,$DS15),\"\")","v":{"$error":"#REF!"}},{"$f":"IF(AU$5<>\"\",OFFSET(Data!#REF!,View!$B$25,$DS15),\"\")","v":{"$error":"#REF!"}},{"$f":"IF(AV$5<>\"\",OFFSET(Data!#REF!,View!$B$25,$DS15),\"\")","v":{"$error":"#REF!"}},{"$f":"IF(AW$5<>\"\",OFFSET(Data!#REF!,View!$B$25,$DS15),\"\")","v":{"$error":"#REF!"}},{"$f":"IF(AX$5<>\"\",OFFSET(Data!#REF!,View!$B$25,$DS15),\"\")","v":{"$error":"#REF!"}},{"$f":"IF(AY$5<>\"\",OFFSET(Data!#REF!,View!$B$25,$DS15),\"\")","v":{"$error":"#REF!"}},{"$f":"IF(AZ$5<>\"\",OFFSET(Data!#REF!,View!$B$25,$DS15),\"\")","v":{"$error":"#REF!"}},{"$f":"IF(BA$5<>\"\",OFFSET(Data!#REF!,View!$B$25,$DS15),\"\")","v":{"$error":"#REF!"}},{"$f":"IF(BB$5<>\"\",OFFSET(Data!#REF!,View!$B$25,$DS15),\"\")","v":{"$error":"#REF!"}},{"$f":"IF(BC$5<>\"\",OFFSET(Data!#REF!,View!$B$25,$DS15),\"\")","v":{"$error":"#REF!"}},{"$f":"IF(BD$5<>\"\",OFFSET(Data!#REF!,View!$B$25,$DS15),\"\")","v":{"$error":"#REF!"}},{"$f":"IF(BE$5<>\"\",OFFSET(Data!#REF!,View!$B$25,$DS15),\"\")","v":{"$error":"#REF!"}},{"$f":"IF(BF$5<>\"\",OFFSET(Data!#REF!,View!$B$25,$DS15),\"\")","v":{"$error":"#REF!"}},{"$f":"IF(BG$5<>\"\",OFFSET(Data!#REF!,View!$B$25,$DS15),\"\")","v":{"$error":"#REF!"}},{"$f":"IF(BH$5<>\"\",OFFSET(Data!#REF!,View!$B$25,$DS15),\"\")","v":{"$error":"#REF!"}},{"$f":"IF(BI$5<>\"\",OFFSET(Data!#REF!,View!$B$25,$DS15),\"\")","v":{"$error":"#REF!"}},{"$f":"IF(BJ$5<>\"\",OFFSET(Data!#REF!,View!$B$25,$DS15),\"\")","v":{"$error":"#REF!"}},{"$f":"IF(BK$5<>\"\",OFFSET(Data!#REF!,View!$B$25,$DS15),\"\")","v":{"$error":"#REF!"}},{"$f":"IF(BL$5<>\"\",OFFSET(Data!#REF!,View!$B$25,$DS15),\"\")","v":{"$error":"#REF!"}},{"$f":"IF(BM$5<>\"\",OFFSET(Data!#REF!,View!$B$25,$DS15),\"\")","v":{"$error":"#REF!"}},{"$f":"IF(BN$5<>\"\",OFFSET(Data!#REF!,View!$B$25,$DS15),\"\")","v":{"$error":"#REF!"}},{"$f":"IF(BO$5<>\"\",OFFSET(Data!#REF!,View!$B$25,$DS15),\"\")","v":{"$error":"#REF!"}},{"$f":"IF(BP$5<>\"\",OFFSET(Data!#REF!,View!$B$25,$DS15),\"\")","v":{"$error":"#REF!"}},{"$f":"IF(BQ$5<>\"\",OFFSET(Data!#REF!,View!$B$25,$DS15),\"\")","v":{"$error":"#REF!"}},{"$f":"IF(BR$5<>\"\",OFFSET(Data!#REF!,View!$B$25,$DS15),\"\")","v":{"$error":"#REF!"}},{"$f":"IF(BS$5<>\"\",OFFSET(Data!#REF!,View!$B$25,$DS15),\"\")","v":{"$error":"#REF!"}},{"$f":"IF(BT$5<>\"\",OFFSET(Data!#REF!,View!$B$25,$DS15),\"\")","v":{"$error":"#REF!"}},{"$f":"IF(BU$5<>\"\",OFFSET(Data!#REF!,View!$B$25,$DS15),\"\")","v":{"$error":"#REF!"}},{"$f":"IF(BV$5<>\"\",OFFSET(Data!#REF!,View!$B$25,$DS15),\"\")","v":{"$error":"#REF!"}},{"$f":"IF(BW$5<>\"\",OFFSET(Data!#REF!,View!$B$25,$DS15),\"\")","v":{"$error":"#REF!"}},{"$f":"IF(BX$5<>\"\",OFFSET(Data!#REF!,View!$B$25,$DS15),\"\")","v":{"$error":"#REF!"}},{"$f":"IF(BY$5<>\"\",OFFSET(Data!#REF!,View!$B$25,$DS15),\"\")","v":{"$error":"#REF!"}},{"$f":"IF(BZ$5<>\"\",OFFSET(Data!#REF!,View!$B$25,$DS15),\"\")","v":{"$error":"#REF!"}},{"$f":"IF(CA$5<>\"\",OFFSET(Data!#REF!,View!$B$25,$DS15),\"\")","v":{"$error":"#REF!"}},{"$f":"IF(CB$5<>\"\",OFFSET(Data!#REF!,View!$B$25,$DS15),\"\")","v":{"$error":"#REF!"}},{"$f":"IF(CC$5<>\"\",OFFSET(Data!#REF!,View!$B$25,$DS15),\"\")","v":{"$error":"#REF!"}},{"$f":"IF(CD$5<>\"\",OFFSET(Data!#REF!,View!$B$25,$DS15),\"\")","v":{"$error":"#REF!"}},{"$f":"IF(CE$5<>\"\",OFFSET(Data!#REF!,View!$B$25,$DS15),\"\")","v":{"$error":"#REF!"}},{"$f":"IF(CF$5<>\"\",OFFSET(Data!#REF!,View!$B$25,$DS15),\"\")","v":{"$error":"#REF!"}},{"$f":"IF(CG$5<>\"\",OFFSET(Data!#REF!,View!$B$25,$DS15),\"\")","v":{"$error":"#REF!"}},{"$f":"IF(CH$5<>\"\",OFFSET(Data!#REF!,View!$B$25,$DS15),\"\")","v":{"$error":"#REF!"}},{"$f":"IF(CI$5<>\"\",OFFSET(Data!#REF!,View!$B$25,$DS15),\"\")","v":{"$error":"#REF!"}},{"$f":"IF(CJ$5<>\"\",OFFSET(Data!#REF!,View!$B$25,$DS15),\"\")","v":{"$error":"#REF!"}},{"$f":"IF(CK$5<>\"\",OFFSET(Data!#REF!,View!$B$25,$DS15),\"\")","v":{"$error":"#REF!"}},{"$f":"IF(CL$5<>\"\",OFFSET(Data!#REF!,View!$B$25,$DS15),\"\")","v":{"$error":"#REF!"}},{"$f":"IF(CM$5<>\"\",OFFSET(Data!#REF!,View!$B$25,$DS15),\"\")","v":{"$error":"#REF!"}},{"$f":"IF(CN$5<>\"\",OFFSET(Data!#REF!,View!$B$25,$DS15),\"\")","v":{"$error":"#REF!"}},{"$f":"IF(CO$5<>\"\",OFFSET(Data!#REF!,View!$B$25,$DS15),\"\")","v":{"$error":"#REF!"}},{"$f":"IF(CP$5<>\"\",OFFSET(Data!#REF!,View!$B$25,$DS15),\"\")","v":{"$error":"#REF!"}},{"$f":"IF(CQ$5<>\"\",OFFSET(Data!#REF!,View!$B$25,$DS15),\"\")","v":{"$error":"#REF!"}},{"$f":"IF(CR$5<>\"\",OFFSET(Data!#REF!,View!$B$25,$DS15),\"\")","v":{"$error":"#REF!"}},{"$f":"IF(CS$5<>\"\",OFFSET(Data!#REF!,View!$B$25,$DS15),\"\")","v":{"$error":"#REF!"}},{"$f":"IF(CT$5<>\"\",OFFSET(Data!#REF!,View!$B$25,$DS15),\"\")","v":{"$error":"#REF!"}},{"$f":"IF(CU$5<>\"\",OFFSET(Data!#REF!,View!$B$25,$DS15),\"\")","v":{"$error":"#REF!"}},{"$f":"IF(CV$5<>\"\",OFFSET(Data!#REF!,View!$B$25,$DS15),\"\")","v":{"$error":"#REF!"}},{"$f":"IF(CW$5<>\"\",OFFSET(Data!#REF!,View!$B$25,$DS15),\"\")","v":{"$error":"#REF!"}},{"$f":"IF(CX$5<>\"\",OFFSET(Data!#REF!,View!$B$25,$DS15),\"\")","v":{"$error":"#REF!"}},{"$f":"IF(CY$5<>\"\",OFFSET(Data!#REF!,View!$B$25,$DS15),\"\")","v":{"$error":"#REF!"}},{"$f":"IF(CZ$5<>\"\",OFFSET(Data!#REF!,View!$B$25,$DS15),\"\")","v":{"$error":"#REF!"}},{"$f":"IF(DA$5<>\"\",OFFSET(Data!#REF!,View!$B$25,$DS15),\"\")","v":{"$error":"#REF!"}},{"$f":"IF(DB$5<>\"\",OFFSET(Data!#REF!,View!$B$25,$DS15),\"\")","v":{"$error":"#REF!"}},{"$f":"IF(DC$5<>\"\",OFFSET(Data!#REF!,View!$B$25,$DS15),\"\")","v":{"$error":"#REF!"}},{"$f":"IF(DD$5<>\"\",OFFSET(Data!#REF!,View!$B$25,$DS15),\"\")","v":{"$error":"#REF!"}},{"$f":"IF(DE$5<>\"\",OFFSET(Data!#REF!,View!$B$25,$DS15),\"\")","v":{"$error":"#REF!"}},{"$f":"IF(DF$5<>\"\",OFFSET(Data!#REF!,View!$B$25,$DS15),\"\")","v":{"$error":"#REF!"}},{"$f":"IF(DG$5<>\"\",OFFSET(Data!#REF!,View!$B$25,$DS15),\"\")","v":{"$error":"#REF!"}},{"$f":"IF(DH$5<>\"\",OFFSET(Data!#REF!,View!$B$25,$DS15),\"\")","v":{"$error":"#REF!"}},{"$f":"IF(DI$5<>\"\",OFFSET(Data!#REF!,View!$B$25,$DS15),\"\")","v":{"$error":"#REF!"}},{"$f":"IF(DJ$5<>\"\",OFFSET(Data!#REF!,View!$B$25,$DS15),\"\")","v":{"$error":"#REF!"}},{"$f":"IF(DK$5<>\"\",OFFSET(Data!#REF!,View!$B$25,$DS15),\"\")","v":{"$error":"#REF!"}},{"$f":"IF(DL$5<>\"\",OFFSET(Data!#REF!,View!$B$25,$DS15),\"\")","v":{"$error":"#REF!"}},{"$f":"IF(DM$5<>\"\",OFFSET(Data!#REF!,View!$B$25,$DS15),\"\")","v":{"$error":"#REF!"}},{"$f":"IF(DN$5<>\"\",OFFSET(Data!#REF!,View!$B$25,$DS15),\"\")","v":{"$error":"#REF!"}},{"$f":"IF(DO$5<>\"\",OFFSET(Data!#REF!,View!$B$25,$DS15),\"\")","v":{"$error":"#REF!"}},{"$f":"IF(DP$5<>\"\",OFFSET(Data!#REF!,View!$B$25,$DS15),\"\")","v":{"$error":"#REF!"}},{"$f":"IF(DQ$5<>\"\",OFFSET(Data!#REF!,View!$B$25,$DS15),\"\")","v":{"$error":"#REF!"}},{"$f":"IF(DR$5<>\"\",OFFSET(Data!#REF!,View!$B$25,$DS15),\"\")","v":{"$error":"#REF!"}},{"$f":"($C$41+1)*2","v":{"$error":"#REF!"}}]
["LCsmax",{"$f":"IF(B$5<>\"\",OFFSET(Data!#REF!,View!$B$25,$DS16),\"\")","v":{"$error":"#REF!"}},{"$f":"IF(C$5<>\"\",OFFSET(Data!#REF!,View!$B$25,$DS16),\"\")","v":{"$error":"#REF!"}},{"$f":"IF(D$5<>\"\",OFFSET(Data!#REF!,View!$B$25,$DS16),\"\")","v":{"$error":"#REF!"}},{"$f":"IF(E$5<>\"\",OFFSET(Data!#REF!,View!$B$25,$DS16),\"\")","v":{"$error":"#REF!"}},{"$f":"IF(F$5<>\"\",OFFSET(Data!#REF!,View!$B$25,$DS16),\"\")","v":{"$error":"#REF!"}},{"$f":"IF(G$5<>\"\",OFFSET(Data!#REF!,View!$B$25,$DS16),\"\")","v":{"$error":"#REF!"}},{"$f":"IF(H$5<>\"\",OFFSET(Data!#REF!,View!$B$25,$DS16),\"\")","v":{"$error":"#REF!"}},{"$f":"IF(I$5<>\"\",OFFSET(Data!#REF!,View!$B$25,$DS16),\"\")","v":{"$error":"#REF!"}},{"$f":"IF(J$5<>\"\",OFFSET(Data!#REF!,View!$B$25,$DS16),\"\")","v":{"$error":"#REF!"}},{"$f":"IF(K$5<>\"\",OFFSET(Data!#REF!,View!$B$25,$DS16),\"\")","v":{"$error":"#REF!"}},{"$f":"IF(L$5<>\"\",OFFSET(Data!#REF!,View!$B$25,$DS16),\"\")","v":{"$error":"#REF!"}},{"$f":"IF(M$5<>\"\",OFFSET(Data!#REF!,View!$B$25,$DS16),\"\")","v":{"$error":"#REF!"}},{"$f":"IF(N$5<>\"\",OFFSET(Data!#REF!,View!$B$25,$DS16),\"\")","v":{"$error":"#REF!"}},{"$f":"IF(O$5<>\"\",OFFSET(Data!#REF!,View!$B$25,$DS16),\"\")","v":{"$error":"#REF!"}},{"$f":"IF(P$5<>\"\",OFFSET(Data!#REF!,View!$B$25,$DS16),\"\")","v":{"$error":"#REF!"}},{"$f":"IF(Q$5<>\"\",OFFSET(Data!#REF!,View!$B$25,$DS16),\"\")","v":{"$error":"#REF!"}},{"$f":"IF(R$5<>\"\",OFFSET(Data!#REF!,View!$B$25,$DS16),\"\")","v":{"$error":"#REF!"}},{"$f":"IF(S$5<>\"\",OFFSET(Data!#REF!,View!$B$25,$DS16),\"\")","v":{"$error":"#REF!"}},{"$f":"IF(T$5<>\"\",OFFSET(Data!#REF!,View!$B$25,$DS16),\"\")","v":{"$error":"#REF!"}},{"$f":"IF(U$5<>\"\",OFFSET(Data!#REF!,View!$B$25,$DS16),\"\")","v":{"$error":"#REF!"}},{"$f":"IF(V$5<>\"\",OFFSET(Data!#REF!,View!$B$25,$DS16),\"\")","v":{"$error":"#REF!"}},{"$f":"IF(W$5<>\"\",OFFSET(Data!#REF!,View!$B$25,$DS16),\"\")","v":{"$error":"#REF!"}},{"$f":"IF(X$5<>\"\",OFFSET(Data!#REF!,View!$B$25,$DS16),\"\")","v":{"$error":"#REF!"}},{"$f":"IF(Y$5<>\"\",OFFSET(Data!#REF!,View!$B$25,$DS16),\"\")","v":{"$error":"#REF!"}},{"$f":"IF(Z$5<>\"\",OFFSET(Data!#REF!,View!$B$25,$DS16),\"\")","v":{"$error":"#REF!"}},{"$f":"IF(AA$5<>\"\",OFFSET(Data!#REF!,View!$B$25,$DS16),\"\")","v":{"$error":"#REF!"}},{"$f":"IF(AB$5<>\"\",OFFSET(Data!#REF!,View!$B$25,$DS16),\"\")","v":{"$error":"#REF!"}},{"$f":"IF(AC$5<>\"\",OFFSET(Data!#REF!,View!$B$25,$DS16),\"\")","v":{"$error":"#REF!"}},{"$f":"IF(AD$5<>\"\",OFFSET(Data!#REF!,View!$B$25,$DS16),\"\")","v":{"$error":"#REF!"}},{"$f":"IF(AE$5<>\"\",OFFSET(Data!#REF!,View!$B$25,$DS16),\"\")","v":{"$error":"#REF!"}},{"$f":"IF(AF$5<>\"\",OFFSET(Data!#REF!,View!$B$25,$DS16),\"\")","v":{"$error":"#REF!"}},{"$f":"IF(AG$5<>\"\",OFFSET(Data!#REF!,View!$B$25,$DS16),\"\")","v":{"$error":"#REF!"}},{"$f":"IF(AH$5<>\"\",OFFSET(Data!#REF!,View!$B$25,$DS16),\"\")","v":{"$error":"#REF!"}},{"$f":"IF(AI$5<>\"\",OFFSET(Data!#REF!,View!$B$25,$DS16),\"\")","v":{"$error":"#REF!"}},{"$f":"IF(AJ$5<>\"\",OFFSET(Data!#REF!,View!$B$25,$DS16),\"\")","v":{"$error":"#REF!"}},{"$f":"IF(AK$5<>\"\",OFFSET(Data!#REF!,View!$B$25,$DS16),\"\")","v":{"$error":"#REF!"}},{"$f":"IF(AL$5<>\"\",OFFSET(Data!#REF!,View!$B$25,$DS16),\"\")","v":{"$error":"#REF!"}},{"$f":"IF(AM$5<>\"\",OFFSET(Data!#REF!,View!$B$25,$DS16),\"\")","v":{"$error":"#REF!"}},{"$f":"IF(AN$5<>\"\",OFFSET(Data!#REF!,View!$B$25,$DS16),\"\")","v":{"$error":"#REF!"}},{"$f":"IF(AO$5<>\"\",OFFSET(Data!#REF!,View!$B$25,$DS16),\"\")","v":{"$error":"#REF!"}},{"$f":"IF(AP$5<>\"\",OFFSET(Data!#REF!,View!$B$25,$DS16),\"\")","v":{"$error":"#REF!"}},{"$f":"IF(AQ$5<>\"\",OFFSET(Data!#REF!,View!$B$25,$DS16),\"\")","v":{"$error":"#REF!"}},{"$f":"IF(AR$5<>\"\",OFFSET(Data!#REF!,View!$B$25,$DS16),\"\")","v":{"$error":"#REF!"}},{"$f":"IF(AS$5<>\"\",OFFSET(Data!#REF!,View!$B$25,$DS16),\"\")","v":{"$error":"#REF!"}},{"$f":"IF(AT$5<>\"\",OFFSET(Data!#REF!,View!$B$25,$DS16),\"\")","v":{"$error":"#REF!"}},{"$f":"IF(AU$5<>\"\",OFFSET(Data!#REF!,View!$B$25,$DS16),\"\")","v":{"$error":"#REF!"}},{"$f":"IF(AV$5<>\"\",OFFSET(Data!#REF!,View!$B$25,$DS16),\"\")","v":{"$error":"#REF!"}},{"$f":"IF(AW$5<>\"\",OFFSET(Data!#REF!,View!$B$25,$DS16),\"\")","v":{"$error":"#REF!"}},{"$f":"IF(AX$5<>\"\",OFFSET(Data!#REF!,View!$B$25,$DS16),\"\")","v":{"$error":"#REF!"}},{"$f":"IF(AY$5<>\"\",OFFSET(Data!#REF!,View!$B$25,$DS16),\"\")","v":{"$error":"#REF!"}},{"$f":"IF(AZ$5<>\"\",OFFSET(Data!#REF!,View!$B$25,$DS16),\"\")","v":{"$error":"#REF!"}},{"$f":"IF(BA$5<>\"\",OFFSET(Data!#REF!,View!$B$25,$DS16),\"\")","v":{"$error":"#REF!"}},{"$f":"IF(BB$5<>\"\",OFFSET(Data!#REF!,View!$B$25,$DS16),\"\")","v":{"$error":"#REF!"}},{"$f":"IF(BC$5<>\"\",OFFSET(Data!#REF!,View!$B$25,$DS16),\"\")","v":{"$error":"#REF!"}},{"$f":"IF(BD$5<>\"\",OFFSET(Data!#REF!,View!$B$25,$DS16),\"\")","v":{"$error":"#REF!"}},{"$f":"IF(BE$5<>\"\",OFFSET(Data!#REF!,View!$B$25,$DS16),\"\")","v":{"$error":"#REF!"}},{"$f":"IF(BF$5<>\"\",OFFSET(Data!#REF!,View!$B$25,$DS16),\"\")","v":{"$error":"#REF!"}},{"$f":"IF(BG$5<>\"\",OFFSET(Data!#REF!,View!$B$25,$DS16),\"\")","v":{"$error":"#REF!"}},{"$f":"IF(BH$5<>\"\",OFFSET(Data!#REF!,View!$B$25,$DS16),\"\")","v":{"$error":"#REF!"}},{"$f":"IF(BI$5<>\"\",OFFSET(Data!#REF!,View!$B$25,$DS16),\"\")","v":{"$error":"#REF!"}},{"$f":"IF(BJ$5<>\"\",OFFSET(Data!#REF!,View!$B$25,$DS16),\"\")","v":{"$error":"#REF!"}},{"$f":"IF(BK$5<>\"\",OFFSET(Data!#REF!,View!$B$25,$DS16),\"\")","v":{"$error":"#REF!"}},{"$f":"IF(BL$5<>\"\",OFFSET(Data!#REF!,View!$B$25,$DS16),\"\")","v":{"$error":"#REF!"}},{"$f":"IF(BM$5<>\"\",OFFSET(Data!#REF!,View!$B$25,$DS16),\"\")","v":{"$error":"#REF!"}},{"$f":"IF(BN$5<>\"\",OFFSET(Data!#REF!,View!$B$25,$DS16),\"\")","v":{"$error":"#REF!"}},{"$f":"IF(BO$5<>\"\",OFFSET(Data!#REF!,View!$B$25,$DS16),\"\")","v":{"$error":"#REF!"}},{"$f":"IF(BP$5<>\"\",OFFSET(Data!#REF!,View!$B$25,$DS16),\"\")","v":{"$error":"#REF!"}},{"$f":"IF(BQ$5<>\"\",OFFSET(Data!#REF!,View!$B$25,$DS16),\"\")","v":{"$error":"#REF!"}},{"$f":"IF(BR$5<>\"\",OFFSET(Data!#REF!,View!$B$25,$DS16),\"\")","v":{"$error":"#REF!"}},{"$f":"IF(BS$5<>\"\",OFFSET(Data!#REF!,View!$B$25,$DS16),\"\")","v":{"$error":"#REF!"}},{"$f":"IF(BT$5<>\"\",OFFSET(Data!#REF!,View!$B$25,$DS16),\"\")","v":{"$error":"#REF!"}},{"$f":"IF(BU$5<>\"\",OFFSET(Data!#REF!,View!$B$25,$DS16),\"\")","v":{"$error":"#REF!"}},{"$f":"IF(BV$5<>\"\",OFFSET(Data!#REF!,View!$B$25,$DS16),\"\")","v":{"$error":"#REF!"}},{"$f":"IF(BW$5<>\"\",OFFSET(Data!#REF!,View!$B$25,$DS16),\"\")","v":{"$error":"#REF!"}},{"$f":"IF(BX$5<>\"\",OFFSET(Data!#REF!,View!$B$25,$DS16),\"\")","v":{"$error":"#REF!"}},{"$f":"IF(BY$5<>\"\",OFFSET(Data!#REF!,View!$B$25,$DS16),\"\")","v":{"$error":"#REF!"}},{"$f":"IF(BZ$5<>\"\",OFFSET(Data!#REF!,View!$B$25,$DS16),\"\")","v":{"$error":"#REF!"}},{"$f":"IF(CA$5<>\"\",OFFSET(Data!#REF!,View!$B$25,$DS16),\"\")","v":{"$error":"#REF!"}},{"$f":"IF(CB$5<>\"\",OFFSET(Data!#REF!,View!$B$25,$DS16),\"\")","v":{"$error":"#REF!"}},{"$f":"IF(CC$5<>\"\",OFFSET(Data!#REF!,View!$B$25,$DS16),\"\")","v":{"$error":"#REF!"}},{"$f":"IF(CD$5<>\"\",OFFSET(Data!#REF!,View!$B$25,$DS16),\"\")","v":{"$error":"#REF!"}},{"$f":"IF(CE$5<>\"\",OFFSET(Data!#REF!,View!$B$25,$DS16),\"\")","v":{"$error":"#REF!"}},{"$f":"IF(CF$5<>\"\",OFFSET(Data!#REF!,View!$B$25,$DS16),\"\")","v":{"$error":"#REF!"}},{"$f":"IF(CG$5<>\"\",OFFSET(Data!#REF!,View!$B$25,$DS16),\"\")","v":{"$error":"#REF!"}},{"$f":"IF(CH$5<>\"\",OFFSET(Data!#REF!,View!$B$25,$DS16),\"\")","v":{"$error":"#REF!"}},{"$f":"IF(CI$5<>\"\",OFFSET(Data!#REF!,View!$B$25,$DS16),\"\")","v":{"$error":"#REF!"}},{"$f":"IF(CJ$5<>\"\",OFFSET(Data!#REF!,View!$B$25,$DS16),\"\")","v":{"$error":"#REF!"}},{"$f":"IF(CK$5<>\"\",OFFSET(Data!#REF!,View!$B$25,$DS16),\"\")","v":{"$error":"#REF!"}},{"$f":"IF(CL$5<>\"\",OFFSET(Data!#REF!,View!$B$25,$DS16),\"\")","v":{"$error":"#REF!"}},{"$f":"IF(CM$5<>\"\",OFFSET(Data!#REF!,View!$B$25,$DS16),\"\")","v":{"$error":"#REF!"}},{"$f":"IF(CN$5<>\"\",OFFSET(Data!#REF!,View!$B$25,$DS16),\"\")","v":{"$error":"#REF!"}},{"$f":"IF(CO$5<>\"\",OFFSET(Data!#REF!,View!$B$25,$DS16),\"\")","v":{"$error":"#REF!"}},{"$f":"IF(CP$5<>\"\",OFFSET(Data!#REF!,View!$B$25,$DS16),\"\")","v":{"$error":"#REF!"}},{"$f":"IF(CQ$5<>\"\",OFFSET(Data!#REF!,View!$B$25,$DS16),\"\")","v":{"$error":"#REF!"}},{"$f":"IF(CR$5<>\"\",OFFSET(Data!#REF!,View!$B$25,$DS16),\"\")","v":{"$error":"#REF!"}},{"$f":"IF(CS$5<>\"\",OFFSET(Data!#REF!,View!$B$25,$DS16),\"\")","v":{"$error":"#REF!"}},{"$f":"IF(CT$5<>\"\",OFFSET(Data!#REF!,View!$B$25,$DS16),\"\")","v":{"$error":"#REF!"}},{"$f":"IF(CU$5<>\"\",OFFSET(Data!#REF!,View!$B$25,$DS16),\"\")","v":{"$error":"#REF!"}},{"$f":"IF(CV$5<>\"\",OFFSET(Data!#REF!,View!$B$25,$DS16),\"\")","v":{"$error":"#REF!"}},{"$f":"IF(CW$5<>\"\",OFFSET(Data!#REF!,View!$B$25,$DS16),\"\")","v":{"$error":"#REF!"}},{"$f":"IF(CX$5<>\"\",OFFSET(Data!#REF!,View!$B$25,$DS16),\"\")","v":{"$error":"#REF!"}},{"$f":"IF(CY$5<>\"\",OFFSET(Data!#REF!,View!$B$25,$DS16),\"\")","v":{"$error":"#REF!"}},{"$f":"IF(CZ$5<>\"\",OFFSET(Data!#REF!,View!$B$25,$DS16),\"\")","v":{"$error":"#REF!"}},{"$f":"IF(DA$5<>\"\",OFFSET(Data!#REF!,View!$B$25,$DS16),\"\")","v":{"$error":"#REF!"}},{"$f":"IF(DB$5<>\"\",OFFSET(Data!#REF!,View!$B$25,$DS16),\"\")","v":{"$error":"#REF!"}},{"$f":"IF(DC$5<>\"\",OFFSET(Data!#REF!,View!$B$25,$DS16),\"\")","v":{"$error":"#REF!"}},{"$f":"IF(DD$5<>\"\",OFFSET(Data!#REF!,View!$B$25,$DS16),\"\")","v":{"$error":"#REF!"}},{"$f":"IF(DE$5<>\"\",OFFSET(Data!#REF!,View!$B$25,$DS16),\"\")","v":{"$error":"#REF!"}},{"$f":"IF(DF$5<>\"\",OFFSET(Data!#REF!,View!$B$25,$DS16),\"\")","v":{"$error":"#REF!"}},{"$f":"IF(DG$5<>\"\",OFFSET(Data!#REF!,View!$B$25,$DS16),\"\")","v":{"$error":"#REF!"}},{"$f":"IF(DH$5<>\"\",OFFSET(Data!#REF!,View!$B$25,$DS16),\"\")","v":{"$error":"#REF!"}},{"$f":"IF(DI$5<>\"\",OFFSET(Data!#REF!,View!$B$25,$DS16),\"\")","v":{"$error":"#REF!"}},{"$f":"IF(DJ$5<>\"\",OFFSET(Data!#REF!,View!$B$25,$DS16),\"\")","v":{"$error":"#REF!"}},{"$f":"IF(DK$5<>\"\",OFFSET(Data!#REF!,View!$B$25,$DS16),\"\")","v":{"$error":"#REF!"}},{"$f":"IF(DL$5<>\"\",OFFSET(Data!#REF!,View!$B$25,$DS16),\"\")","v":{"$error":"#REF!"}},{"$f":"IF(DM$5<>\"\",OFFSET(Data!#REF!,View!$B$25,$DS16),\"\")","v":{"$error":"#REF!"}},{"$f":"IF(DN$5<>\"\",OFFSET(Data!#REF!,View!$B$25,$DS16),\"\")","v":{"$error":"#REF!"}},{"$f":"IF(DO$5<>\"\",OFFSET(Data!#REF!,View!$B$25,$DS16),\"\")","v":{"$error":"#REF!"}},{"$f":"IF(DP$5<>\"\",OFFSET(Data!#REF!,View!$B$25,$DS16),\"\")","v":{"$error":"#REF!"}},{"$f":"IF(DQ$5<>\"\",OFFSET(Data!#REF!,View!$B$25,$DS16),\"\")","v":{"$error":"#REF!"}},{"$f":"IF(DR$5<>\"\",OFFSET(Data!#REF!,View!$B$25,$DS16),\"\")","v":{"$error":"#REF!"}},{"$f":"($C$41+1)*6","v":{"$error":"#REF!"}}]
[]
["LZimax",{"$f":"IF(B$5<>\"\",OFFSET(Data!#REF!,View!$B$25,$DS18),\"\")","v":{"$error":"#REF!"}},{"$f":"IF(C$5<>\"\",OFFSET(Data!#REF!,View!$B$25,$DS18),\"\")","v":{"$error":"#REF!"}},{"$f":"IF(D$5<>\"\",OFFSET(Data!#REF!,View!$B$25,$DS18),\"\")","v":{"$error":"#REF!"}},{"$f":"IF(E$5<>\"\",OFFSET(Data!#REF!,View!$B$25,$DS18),\"\")","v":{"$error":"#REF!"}},{"$f":"IF(F$5<>\"\",OFFSET(Data!#REF!,View!$B$25,$DS18),\"\")","v":{"$error":"#REF!"}},{"$f":"IF(G$5<>\"\",OFFSET(Data!#REF!,View!$B$25,$DS18),\"\")","v":{"$error":"#REF!"}},{"$f":"IF(H$5<>\"\",OFFSET(Data!#REF!,View!$B$25,$DS18),\"\")","v":{"$error":"#REF!"}},{"$f":"IF(I$5<>\"\",OFFSET(Data!#REF!,View!$B$25,$DS18),\"\")","v":{"$error":"#REF!"}},{"$f":"IF(J$5<>\"\",OFFSET(Data!#REF!,View!$B$25,$DS18),\"\")","v":{"$error":"#REF!"}},{"$f":"IF(K$5<>\"\",OFFSET(Data!#REF!,View!$B$25,$DS18),\"\")","v":{"$error":"#REF!"}},{"$f":"IF(L$5<>\"\",OFFSET(Data!#REF!,View!$B$25,$DS18),\"\")","v":{"$error":"#REF!"}},{"$f":"IF(M$5<>\"\",OFFSET(Data!#REF!,View!$B$25,$DS18),\"\")","v":{"$error":"#REF!"}},{"$f":"IF(N$5<>\"\",OFFSET(Data!#REF!,View!$B$25,$DS18),\"\")","v":{"$error":"#REF!"}},{"$f":"IF(O$5<>\"\",OFFSET(Data!#REF!,View!$B$25,$DS18),\"\")","v":{"$error":"#REF!"}},{"$f":"IF(P$5<>\"\",OFFSET(Data!#REF!,View!$B$25,$DS18),\"\")","v":{"$error":"#REF!"}},{"$f":"IF(Q$5<>\"\",OFFSET(Data!#REF!,View!$B$25,$DS18),\"\")","v":{"$error":"#REF!"}},{"$f":"IF(R$5<>\"\",OFFSET(Data!#REF!,View!$B$25,$DS18),\"\")","v":{"$error":"#REF!"}},{"$f":"IF(S$5<>\"\",OFFSET(Data!#REF!,View!$B$25,$DS18),\"\")","v":{"$error":"#REF!"}},{"$f":"IF(T$5<>\"\",OFFSET(Data!#REF!,View!$B$25,$DS18),\"\")","v":{"$error":"#REF!"}},{"$f":"IF(U$5<>\"\",OFFSET(Data!#REF!,View!$B$25,$DS18),\"\")","v":{"$error":"#REF!"}},{"$f":"IF(V$5<>\"\",OFFSET(Data!#REF!,View!$B$25,$DS18),\"\")","v":{"$error":"#REF!"}},{"$f":"IF(W$5<>\"\",OFFSET(Data!#REF!,View!$B$25,$DS18),\"\")","v":{"$error":"#REF!"}},{"$f":"IF(X$5<>\"\",OFFSET(Data!#REF!,View!$B$25,$DS18),\"\")","v":{"$error":"#REF!"}},{"$f":"IF(Y$5<>\"\",OFFSET(Data!#REF!,View!$B$25,$DS18),\"\")","v":{"$error":"#REF!"}},{"$f":"IF(Z$5<>\"\",OFFSET(Data!#REF!,View!$B$25,$DS18),\"\")","v":{"$error":"#REF!"}},{"$f":"IF(AA$5<>\"\",OFFSET(Data!#REF!,View!$B$25,$DS18),\"\")","v":{"$error":"#REF!"}},{"$f":"IF(AB$5<>\"\",OFFSET(Data!#REF!,View!$B$25,$DS18),\"\")","v":{"$error":"#REF!"}},{"$f":"IF(AC$5<>\"\",OFFSET(Data!#REF!,View!$B$25,$DS18),\"\")","v":{"$error":"#REF!"}},{"$f":"IF(AD$5<>\"\",OFFSET(Data!#REF!,View!$B$25,$DS18),\"\")","v":{"$error":"#REF!"}},{"$f":"IF(AE$5<>\"\",OFFSET(Data!#REF!,View!$B$25,$DS18),\"\")","v":{"$error":"#REF!"}},{"$f":"IF(AF$5<>\"\",OFFSET(Data!#REF!,View!$B$25,$DS18),\"\")","v":{"$error":"#REF!"}},{"$f":"IF(AG$5<>\"\",OFFSET(Data!#REF!,View!$B$25,$DS18),\"\")","v":{"$error":"#REF!"}},{"$f":"IF(AH$5<>\"\",OFFSET(Data!#REF!,View!$B$25,$DS18),\"\")","v":{"$error":"#REF!"}},{"$f":"IF(AI$5<>\"\",OFFSET(Data!#REF!,View!$B$25,$DS18),\"\")","v":{"$error":"#REF!"}},{"$f":"IF(AJ$5<>\"\",OFFSET(Data!#REF!,View!$B$25,$DS18),\"\")","v":{"$error":"#REF!"}},{"$f":"IF(AK$5<>\"\",OFFSET(Data!#REF!,View!$B$25,$DS18),\"\")","v":{"$error":"#REF!"}},{"$f":"IF(AL$5<>\"\",OFFSET(Data!#REF!,View!$B$25,$DS18),\"\")","v":{"$error":"#REF!"}},{"$f":"IF(AM$5<>\"\",OFFSET(Data!#REF!,View!$B$25,$DS18),\"\")","v":{"$error":"#REF!"}},{"$f":"IF(AN$5<>\"\",OFFSET(Data!#REF!,View!$B$25,$DS18),\"\")","v":{"$error":"#REF!"}},{"$f":"IF(AO$5<>\"\",OFFSET(Data!#REF!,View!$B$25,$DS18),\"\")","v":{"$error":"#REF!"}},{"$f":"IF(AP$5<>\"\",OFFSET(Data!#REF!,View!$B$25,$DS18),\"\")","v":{"$error":"#REF!"}},{"$f":"IF(AQ$5<>\"\",OFFSET(Data!#REF!,View!$B$25,$DS18),\"\")","v":{"$error":"#REF!"}},{"$f":"IF(AR$5<>\"\",OFFSET(Data!#REF!,View!$B$25,$DS18),\"\")","v":{"$error":"#REF!"}},{"$f":"IF(AS$5<>\"\",OFFSET(Data!#REF!,View!$B$25,$DS18),\"\")","v":{"$error":"#REF!"}},{"$f":"IF(AT$5<>\"\",OFFSET(Data!#REF!,View!$B$25,$DS18),\"\")","v":{"$error":"#REF!"}},{"$f":"IF(AU$5<>\"\",OFFSET(Data!#REF!,View!$B$25,$DS18),\"\")","v":{"$error":"#REF!"}},{"$f":"IF(AV$5<>\"\",OFFSET(Data!#REF!,View!$B$25,$DS18),\"\")","v":{"$error":"#REF!"}},{"$f":"IF(AW$5<>\"\",OFFSET(Data!#REF!,View!$B$25,$DS18),\"\")","v":{"$error":"#REF!"}},{"$f":"IF(AX$5<>\"\",OFFSET(Data!#REF!,View!$B$25,$DS18),\"\")","v":{"$error":"#REF!"}},{"$f":"IF(AY$5<>\"\",OFFSET(Data!#REF!,View!$B$25,$DS18),\"\")","v":{"$error":"#REF!"}},{"$f":"IF(AZ$5<>\"\",OFFSET(Data!#REF!,View!$B$25,$DS18),\"\")","v":{"$error":"#REF!"}},{"$f":"IF(BA$5<>\"\",OFFSET(Data!#REF!,View!$B$25,$DS18),\"\")","v":{"$error":"#REF!"}},{"$f":"IF(BB$5<>\"\",OFFSET(Data!#REF!,View!$B$25,$DS18),\"\")","v":{"$error":"#REF!"}},{"$f":"IF(BC$5<>\"\",OFFSET(Data!#REF!,View!$B$25,$DS18),\"\")","v":{"$error":"#REF!"}},{"$f":"IF(BD$5<>\"\",OFFSET(Data!#REF!,View!$B$25,$DS18),\"\")","v":{"$error":"#REF!"}},{"$f":"IF(BE$5<>\"\",OFFSET(Data!#REF!,View!$B$25,$DS18),\"\")","v":{"$error":"#REF!"}},{"$f":"IF(BF$5<>\"\",OFFSET(Data!#REF!,View!$B$25,$DS18),\"\")","v":{"$error":"#REF!"}},{"$f":"IF(BG$5<>\"\",OFFSET(Data!#REF!,View!$B$25,$DS18),\"\")","v":{"$error":"#REF!"}},{"$f":"IF(BH$5<>\"\",OFFSET(Data!#REF!,View!$B$25,$DS18),\"\")","v":{"$error":"#REF!"}},{"$f":"IF(BI$5<>\"\",OFFSET(Data!#REF!,View!$B$25,$DS18),\"\")","v":{"$error":"#REF!"}},{"$f":"IF(BJ$5<>\"\",OFFSET(Data!#REF!,View!$B$25,$DS18),\"\")","v":{"$error":"#REF!"}},{"$f":"IF(BK$5<>\"\",OFFSET(Data!#REF!,View!$B$25,$DS18),\"\")","v":{"$error":"#REF!"}},{"$f":"IF(BL$5<>\"\",OFFSET(Data!#REF!,View!$B$25,$DS18),\"\")","v":{"$error":"#REF!"}},{"$f":"IF(BM$5<>\"\",OFFSET(Data!#REF!,View!$B$25,$DS18),\"\")","v":{"$error":"#REF!"}},{"$f":"IF(BN$5<>\"\",OFFSET(Data!#REF!,View!$B$25,$DS18),\"\")","v":{"$error":"#REF!"}},{"$f":"IF(BO$5<>\"\",OFFSET(Data!#REF!,View!$B$25,$DS18),\"\")","v":{"$error":"#REF!"}},{"$f":"IF(BP$5<>\"\",OFFSET(Data!#REF!,View!$B$25,$DS18),\"\")","v":{"$error":"#REF!"}},{"$f":"IF(BQ$5<>\"\",OFFSET(Data!#REF!,View!$B$25,$DS18),\"\")","v":{"$error":"#REF!"}},{"$f":"IF(BR$5<>\"\",OFFSET(Data!#REF!,View!$B$25,$DS18),\"\")","v":{"$error":"#REF!"}},{"$f":"IF(BS$5<>\"\",OFFSET(Data!#REF!,View!$B$25,$DS18),\"\")","v":{"$error":"#REF!"}},{"$f":"IF(BT$5<>\"\",OFFSET(Data!#REF!,View!$B$25,$DS18),\"\")","v":{"$error":"#REF!"}},{"$f":"IF(BU$5<>\"\",OFFSET(Data!#REF!,View!$B$25,$DS18),\"\")","v":{"$error":"#REF!"}},{"$f":"IF(BV$5<>\"\",OFFSET(Data!#REF!,View!$B$25,$DS18),\"\")","v":{"$error":"#REF!"}},{"$f":"IF(BW$5<>\"\",OFFSET(Data!#REF!,View!$B$25,$DS18),\"\")","v":{"$error":"#REF!"}},{"$f":"IF(BX$5<>\"\",OFFSET(Data!#REF!,View!$B$25,$DS18),\"\")","v":{"$error":"#REF!"}},{"$f":"IF(BY$5<>\"\",OFFSET(Data!#REF!,View!$B$25,$DS18),\"\")","v":{"$error":"#REF!"}},{"$f":"IF(BZ$5<>\"\",OFFSET(Data!#REF!,View!$B$25,$DS18),\"\")","v":{"$error":"#REF!"}},{"$f":"IF(CA$5<>\"\",OFFSET(Data!#REF!,View!$B$25,$DS18),\"\")","v":{"$error":"#REF!"}},{"$f":"IF(CB$5<>\"\",OFFSET(Data!#REF!,View!$B$25,$DS18),\"\")","v":{"$error":"#REF!"}},{"$f":"IF(CC$5<>\"\",OFFSET(Data!#REF!,View!$B$25,$DS18),\"\")","v":{"$error":"#REF!"}},{"$f":"IF(CD$5<>\"\",OFFSET(Data!#REF!,View!$B$25,$DS18),\"\")","v":{"$error":"#REF!"}},{"$f":"IF(CE$5<>\"\",OFFSET(Data!#REF!,View!$B$25,$DS18),\"\")","v":{"$error":"#REF!"}},{"$f":"IF(CF$5<>\"\",OFFSET(Data!#REF!,View!$B$25,$DS18),\"\")","v":{"$error":"#REF!"}},{"$f":"IF(CG$5<>\"\",OFFSET(Data!#REF!,View!$B$25,$DS18),\"\")","v":{"$error":"#REF!"}},{"$f":"IF(CH$5<>\"\",OFFSET(Data!#REF!,View!$B$25,$DS18),\"\")","v":{"$error":"#REF!"}},{"$f":"IF(CI$5<>\"\",OFFSET(Data!#REF!,View!$B$25,$DS18),\"\")","v":{"$error":"#REF!"}},{"$f":"IF(CJ$5<>\"\",OFFSET(Data!#REF!,View!$B$25,$DS18),\"\")","v":{"$error":"#REF!"}},{"$f":"IF(CK$5<>\"\",OFFSET(Data!#REF!,View!$B$25,$DS18),\"\")","v":{"$error":"#REF!"}},{"$f":"IF(CL$5<>\"\",OFFSET(Data!#REF!,View!$B$25,$DS18),\"\")","v":{"$error":"#REF!"}},{"$f":"IF(CM$5<>\"\",OFFSET(Data!#REF!,View!$B$25,$DS18),\"\")","v":{"$error":"#REF!"}},{"$f":"IF(CN$5<>\"\",OFFSET(Data!#REF!,View!$B$25,$DS18),\"\")","v":{"$error":"#REF!"}},{"$f":"IF(CO$5<>\"\",OFFSET(Data!#REF!,View!$B$25,$DS18),\"\")","v":{"$error":"#REF!"}},{"$f":"IF(CP$5<>\"\",OFFSET(Data!#REF!,View!$B$25,$DS18),\"\")","v":{"$error":"#REF!"}},{"$f":"IF(CQ$5<>\"\",OFFSET(Data!#REF!,View!$B$25,$DS18),\"\")","v":{"$error":"#REF!"}},{"$f":"IF(CR$5<>\"\",OFFSET(Data!#REF!,View!$B$25,$DS18),\"\")","v":{"$error":"#REF!"}},{"$f":"IF(CS$5<>\"\",OFFSET(Data!#REF!,View!$B$25,$DS18),\"\")","v":{"$error":"#REF!"}},{"$f":"IF(CT$5<>\"\",OFFSET(Data!#REF!,View!$B$25,$DS18),\"\")","v":{"$error":"#REF!"}},{"$f":"IF(CU$5<>\"\",OFFSET(Data!#REF!,View!$B$25,$DS18),\"\")","v":{"$error":"#REF!"}},{"$f":"IF(CV$5<>\"\",OFFSET(Data!#REF!,View!$B$25,$DS18),\"\")","v":{"$error":"#REF!"}},{"$f":"IF(CW$5<>\"\",OFFSET(Data!#REF!,View!$B$25,$DS18),\"\")","v":{"$error":"#REF!"}},{"$f":"IF(CX$5<>\"\",OFFSET(Data!#REF!,View!$B$25,$DS18),\"\")","v":{"$error":"#REF!"}},{"$f":"IF(CY$5<>\"\",OFFSET(Data!#REF!,View!$B$25,$DS18),\"\")","v":{"$error":"#REF!"}},{"$f":"IF(CZ$5<>\"\",OFFSET(Data!#REF!,View!$B$25,$DS18),\"\")","v":{"$error":"#REF!"}},{"$f":"IF(DA$5<>\"\",OFFSET(Data!#REF!,View!$B$25,$DS18),\"\")","v":{"$error":"#REF!"}},{"$f":"IF(DB$5<>\"\",OFFSET(Data!#REF!,View!$B$25,$DS18),\"\")","v":{"$error":"#REF!"}},{"$f":"IF(DC$5<>\"\",OFFSET(Data!#REF!,View!$B$25,$DS18),\"\")","v":{"$error":"#REF!"}},{"$f":"IF(DD$5<>\"\",OFFSET(Data!#REF!,View!$B$25,$DS18),\"\")","v":{"$error":"#REF!"}},{"$f":"IF(DE$5<>\"\",OFFSET(Data!#REF!,View!$B$25,$DS18),\"\")","v":{"$error":"#REF!"}},{"$f":"IF(DF$5<>\"\",OFFSET(Data!#REF!,View!$B$25,$DS18),\"\")","v":{"$error":"#REF!"}},{"$f":"IF(DG$5<>\"\",OFFSET(Data!#REF!,View!$B$25,$DS18),\"\")","v":{"$error":"#REF!"}},{"$f":"IF(DH$5<>\"\",OFFSET(Data!#REF!,View!$B$25,$DS18),\"\")","v":{"$error":"#REF!"}},{"$f":"IF(DI$5<>\"\",OFFSET(Data!#REF!,View!$B$25,$DS18),\"\")","v":{"$error":"#REF!"}},{"$f":"IF(DJ$5<>\"\",OFFSET(Data!#REF!,View!$B$25,$DS18),\"\")","v":{"$error":"#REF!"}},{"$f":"IF(DK$5<>\"\",OFFSET(Data!#REF!,View!$B$25,$DS18),\"\")","v":{"$error":"#REF!"}},{"$f":"IF(DL$5<>\"\",OFFSET(Data!#REF!,View!$B$25,$DS18),\"\")","v":{"$error":"#REF!"}},{"$f":"IF(DM$5<>\"\",OFFSET(Data!#REF!,View!$B$25,$DS18),\"\")","v":{"$error":"#REF!"}},{"$f":"IF(DN$5<>\"\",OFFSET(Data!#REF!,View!$B$25,$DS18),\"\")","v":{"$error":"#REF!"}},{"$f":"IF(DO$5<>\"\",OFFSET(Data!#REF!,View!$B$25,$DS18),\"\")","v":{"$error":"#REF!"}},{"$f":"IF(DP$5<>\"\",OFFSET(Data!#REF!,View!$B$25,$DS18),\"\")","v":{"$error":"#REF!"}},{"$f":"IF(DQ$5<>\"\",OFFSET(Data!#REF!,View!$B$25,$DS18),\"\")","v":{"$error":"#REF!"}},{"$f":"IF(DR$5<>\"\",OFFSET(Data!#REF!,View!$B$25,$DS18),\"\")","v":{"$error":"#REF!"}},{"$f":"($C$41+1)*11","v":{"$error":"#REF!"}}]
["LAimax",{"$f":"IF(B$5<>\"\",OFFSET(Data!#REF!,View!$B$25,$DS19),\"\")","v":{"$error":"#REF!"}},{"$f":"IF(C$5<>\"\",OFFSET(Data!#REF!,View!$B$25,$DS19),\"\")","v":{"$error":"#REF!"}},{"$f":"IF(D$5<>\"\",OFFSET(Data!#REF!,View!$B$25,$DS19),\"\")","v":{"$error":"#REF!"}},{"$f":"IF(E$5<>\"\",OFFSET(Data!#REF!,View!$B$25,$DS19),\"\")","v":{"$error":"#REF!"}},{"$f":"IF(F$5<>\"\",OFFSET(Data!#REF!,View!$B$25,$DS19),\"\")","v":{"$error":"#REF!"}},{"$f":"IF(G$5<>\"\",OFFSET(Data!#REF!,View!$B$25,$DS19),\"\")","v":{"$error":"#REF!"}},{"$f":"IF(H$5<>\"\",OFFSET(Data!#REF!,View!$B$25,$DS19),\"\")","v":{"$error":"#REF!"}},{"$f":"IF(I$5<>\"\",OFFSET(Data!#REF!,View!$B$25,$DS19),\"\")","v":{"$error":"#REF!"}},{"$f":"IF(J$5<>\"\",OFFSET(Data!#REF!,View!$B$25,$DS19),\"\")","v":{"$error":"#REF!"}},{"$f":"IF(K$5<>\"\",OFFSET(Data!#REF!,View!$B$25,$DS19),\"\")","v":{"$error":"#REF!"}},{"$f":"IF(L$5<>\"\",OFFSET(Data!#REF!,View!$B$25,$DS19),\"\")","v":{"$error":"#REF!"}},{"$f":"IF(M$5<>\"\",OFFSET(Data!#REF!,View!$B$25,$DS19),\"\")","v":{"$error":"#REF!"}},{"$f":"IF(N$5<>\"\",OFFSET(Data!#REF!,View!$B$25,$DS19),\"\")","v":{"$error":"#REF!"}},{"$f":"IF(O$5<>\"\",OFFSET(Data!#REF!,View!$B$25,$DS19),\"\")","v":{"$error":"#REF!"}},{"$f":"IF(P$5<>\"\",OFFSET(Data!#REF!,View!$B$25,$DS19),\"\")","v":{"$error":"#REF!"}},{"$f":"IF(Q$5<>\"\",OFFSET(Data!#REF!,View!$B$25,$DS19),\"\")","v":{"$error":"#REF!"}},{"$f":"IF(R$5<>\"\",OFFSET(Data!#REF!,View!$B$25,$DS19),\"\")","v":{"$error":"#REF!"}},{"$f":"IF(S$5<>\"\",OFFSET(Data!#REF!,View!$B$25,$DS19),\"\")","v":{"$error":"#REF!"}},{"$f":"IF(T$5<>\"\",OFFSET(Data!#REF!,View!$B$25,$DS19),\"\")","v":{"$error":"#REF!"}},{"$f":"IF(U$5<>\"\",OFFSET(Data!#REF!,View!$B$25,$DS19),\"\")","v":{"$error":"#REF!"}},{"$f":"IF(V$5<>\"\",OFFSET(Data!#REF!,View!$B$25,$DS19),\"\")","v":{"$error":"#REF!"}},{"$f":"IF(W$5<>\"\",OFFSET(Data!#REF!,View!$B$25,$DS19),\"\")","v":{"$error":"#REF!"}},{"$f":"IF(X$5<>\"\",OFFSET(Data!#REF!,View!$B$25,$DS19),\"\")","v":{"$error":"#REF!"}},{"$f":"IF(Y$5<>\"\",OFFSET(Data!#REF!,View!$B$25,$DS19),\"\")","v":{"$error":"#REF!"}},{"$f":"IF(Z$5<>\"\",OFFSET(Data!#REF!,View!$B$25,$DS19),\"\")","v":{"$error":"#REF!"}},{"$f":"IF(AA$5<>\"\",OFFSET(Data!#REF!,View!$B$25,$DS19),\"\")","v":{"$error":"#REF!"}},{"$f":"IF(AB$5<>\"\",OFFSET(Data!#REF!,View!$B$25,$DS19),\"\")","v":{"$error":"#REF!"}},{"$f":"IF(AC$5<>\"\",OFFSET(Data!#REF!,View!$B$25,$DS19),\"\")","v":{"$error":"#REF!"}},{"$f":"IF(AD$5<>\"\",OFFSET(Data!#REF!,View!$B$25,$DS19),\"\")","v":{"$error":"#REF!"}},{"$f":"IF(AE$5<>\"\",OFFSET(Data!#REF!,View!$B$25,$DS19),\"\")","v":{"$error":"#REF!"}},{"$f":"IF(AF$5<>\"\",OFFSET(Data!#REF!,View!$B$25,$DS19),\"\")","v":{"$error":"#REF!"}},{"$f":"IF(AG$5<>\"\",OFFSET(Data!#REF!,View!$B$25,$DS19),\"\")","v":{"$error":"#REF!"}},{"$f":"IF(AH$5<>\"\",OFFSET(Data!#REF!,View!$B$25,$DS19),\"\")","v":{"$error":"#REF!"}},{"$f":"IF(AI$5<>\"\",OFFSET(Data!#REF!,View!$B$25,$DS19),\"\")","v":{"$error":"#REF!"}},{"$f":"IF(AJ$5<>\"\",OFFSET(Data!#REF!,View!$B$25,$DS19),\"\")","v":{"$error":"#REF!"}},{"$f":"IF(AK$5<>\"\",OFFSET(Data!#REF!,View!$B$25,$DS19),\"\")","v":{"$error":"#REF!"}},{"$f":"IF(AL$5<>\"\",OFFSET(Data!#REF!,View!$B$25,$DS19),\"\")","v":{"$error":"#REF!"}},{"$f":"IF(AM$5<>\"\",OFFSET(Data!#REF!,View!$B$25,$DS19),\"\")","v":{"$error":"#REF!"}},{"$f":"IF(AN$5<>\"\",OFFSET(Data!#REF!,View!$B$25,$DS19),\"\")","v":{"$error":"#REF!"}},{"$f":"IF(AO$5<>\"\",OFFSET(Data!#REF!,View!$B$25,$DS19),\"\")","v":{"$error":"#REF!"}},{"$f":"IF(AP$5<>\"\",OFFSET(Data!#REF!,View!$B$25,$DS19),\"\")","v":{"$error":"#REF!"}},{"$f":"IF(AQ$5<>\"\",OFFSET(Data!#REF!,View!$B$25,$DS19),\"\")","v":{"$error":"#REF!"}},{"$f":"IF(AR$5<>\"\",OFFSET(Data!#REF!,View!$B$25,$DS19),\"\")","v":{"$error":"#REF!"}},{"$f":"IF(AS$5<>\"\",OFFSET(Data!#REF!,View!$B$25,$DS19),\"\")","v":{"$error":"#REF!"}},{"$f":"IF(AT$5<>\"\",OFFSET(Data!#REF!,View!$B$25,$DS19),\"\")","v":{"$error":"#REF!"}},{"$f":"IF(AU$5<>\"\",OFFSET(Data!#REF!,View!$B$25,$DS19),\"\")","v":{"$error":"#REF!"}},{"$f":"IF(AV$5<>\"\",OFFSET(Data!#REF!,View!$B$25,$DS19),\"\")","v":{"$error":"#REF!"}},{"$f":"IF(AW$5<>\"\",OFFSET(Data!#REF!,View!$B$25,$DS19),\"\")","v":{"$error":"#REF!"}},{"$f":"IF(AX$5<>\"\",OFFSET(Data!#REF!,View!$B$25,$DS19),\"\")","v":{"$error":"#REF!"}},{"$f":"IF(AY$5<>\"\",OFFSET(Data!#REF!,View!$B$25,$DS19),\"\")","v":{"$error":"#REF!"}},{"$f":"IF(AZ$5<>\"\",OFFSET(Data!#REF!,View!$B$25,$DS19),\"\")","v":{"$error":"#REF!"}},{"$f":"IF(BA$5<>\"\",OFFSET(Data!#REF!,View!$B$25,$DS19),\"\")","v":{"$error":"#REF!"}},{"$f":"IF(BB$5<>\"\",OFFSET(Data!#REF!,View!$B$25,$DS19),\"\")","v":{"$error":"#REF!"}},{"$f":"IF(BC$5<>\"\",OFFSET(Data!#REF!,View!$B$25,$DS19),\"\")","v":{"$error":"#REF!"}},{"$f":"IF(BD$5<>\"\",OFFSET(Data!#REF!,View!$B$25,$DS19),\"\")","v":{"$error":"#REF!"}},{"$f":"IF(BE$5<>\"\",OFFSET(Data!#REF!,View!$B$25,$DS19),\"\")","v":{"$error":"#REF!"}},{"$f":"IF(BF$5<>\"\",OFFSET(Data!#REF!,View!$B$25,$DS19),\"\")","v":{"$error":"#REF!"}},{"$f":"IF(BG$5<>\"\",OFFSET(Data!#REF!,View!$B$25,$DS19),\"\")","v":{"$error":"#REF!"}},{"$f":"IF(BH$5<>\"\",OFFSET(Data!#REF!,View!$B$25,$DS19),\"\")","v":{"$error":"#REF!"}},{"$f":"IF(BI$5<>\"\",OFFSET(Data!#REF!,View!$B$25,$DS19),\"\")","v":{"$error":"#REF!"}},{"$f":"IF(BJ$5<>\"\",OFFSET(Data!#REF!,View!$B$25,$DS19),\"\")","v":{"$error":"#REF!"}},{"$f":"IF(BK$5<>\"\",OFFSET(Data!#REF!,View!$B$25,$DS19),\"\")","v":{"$error":"#REF!"}},{"$f":"IF(BL$5<>\"\",OFFSET(Data!#REF!,View!$B$25,$DS19),\"\")","v":{"$error":"#REF!"}},{"$f":"IF(BM$5<>\"\",OFFSET(Data!#REF!,View!$B$25,$DS19),\"\")","v":{"$error":"#REF!"}},{"$f":"IF(BN$5<>\"\",OFFSET(Data!#REF!,View!$B$25,$DS19),\"\")","v":{"$error":"#REF!"}},{"$f":"IF(BO$5<>\"\",OFFSET(Data!#REF!,View!$B$25,$DS19),\"\")","v":{"$error":"#REF!"}},{"$f":"IF(BP$5<>\"\",OFFSET(Data!#REF!,View!$B$25,$DS19),\"\")","v":{"$error":"#REF!"}},{"$f":"IF(BQ$5<>\"\",OFFSET(Data!#REF!,View!$B$25,$DS19),\"\")","v":{"$error":"#REF!"}},{"$f":"IF(BR$5<>\"\",OFFSET(Data!#REF!,View!$B$25,$DS19),\"\")","v":{"$error":"#REF!"}},{"$f":"IF(BS$5<>\"\",OFFSET(Data!#REF!,View!$B$25,$DS19),\"\")","v":{"$error":"#REF!"}},{"$f":"IF(BT$5<>\"\",OFFSET(Data!#REF!,View!$B$25,$DS19),\"\")","v":{"$error":"#REF!"}},{"$f":"IF(BU$5<>\"\",OFFSET(Data!#REF!,View!$B$25,$DS19),\"\")","v":{"$error":"#REF!"}},{"$f":"IF(BV$5<>\"\",OFFSET(Data!#REF!,View!$B$25,$DS19),\"\")","v":{"$error":"#REF!"}},{"$f":"IF(BW$5<>\"\",OFFSET(Data!#REF!,View!$B$25,$DS19),\"\")","v":{"$error":"#REF!"}},{"$f":"IF(BX$5<>\"\",OFFSET(Data!#REF!,View!$B$25,$DS19),\"\")","v":{"$error":"#REF!"}},{"$f":"IF(BY$5<>\"\",OFFSET(Data!#REF!,View!$B$25,$DS19),\"\")","v":{"$error":"#REF!"}},{"$f":"IF(BZ$5<>\"\",OFFSET(Data!#REF!,View!$B$25,$DS19),\"\")","v":{"$error":"#REF!"}},{"$f":"IF(CA$5<>\"\",OFFSET(Data!#REF!,View!$B$25,$DS19),\"\")","v":{"$error":"#REF!"}},{"$f":"IF(CB$5<>\"\",OFFSET(Data!#REF!,View!$B$25,$DS19),\"\")","v":{"$error":"#REF!"}},{"$f":"IF(CC$5<>\"\",OFFSET(Data!#REF!,View!$B$25,$DS19),\"\")","v":{"$error":"#REF!"}},{"$f":"IF(CD$5<>\"\",OFFSET(Data!#REF!,View!$B$25,$DS19),\"\")","v":{"$error":"#REF!"}},{"$f":"IF(CE$5<>\"\",OFFSET(Data!#REF!,View!$B$25,$DS19),\"\")","v":{"$error":"#REF!"}},{"$f":"IF(CF$5<>\"\",OFFSET(Data!#REF!,View!$B$25,$DS19),\"\")","v":{"$error":"#REF!"}},{"$f":"IF(CG$5<>\"\",OFFSET(Data!#REF!,View!$B$25,$DS19),\"\")","v":{"$error":"#REF!"}},{"$f":"IF(CH$5<>\"\",OFFSET(Data!#REF!,View!$B$25,$DS19),\"\")","v":{"$error":"#REF!"}},{"$f":"IF(CI$5<>\"\",OFFSET(Data!#REF!,View!$B$25,$DS19),\"\")","v":{"$error":"#REF!"}},{"$f":"IF(CJ$5<>\"\",OFFSET(Data!#REF!,View!$B$25,$DS19),\"\")","v":{"$error":"#REF!"}},{"$f":"IF(CK$5<>\"\",OFFSET(Data!#REF!,View!$B$25,$DS19),\"\")","v":{"$error":"#REF!"}},{"$f":"IF(CL$5<>\"\",OFFSET(Data!#REF!,View!$B$25,$DS19),\"\")","v":{"$error":"#REF!"}},{"$f":"IF(CM$5<>\"\",OFFSET(Data!#REF!,View!$B$25,$DS19),\"\")","v":{"$error":"#REF!"}},{"$f":"IF(CN$5<>\"\",OFFSET(Data!#REF!,View!$B$25,$DS19),\"\")","v":{"$error":"#REF!"}},{"$f":"IF(CO$5<>\"\",OFFSET(Data!#REF!,View!$B$25,$DS19),\"\")","v":{"$error":"#REF!"}},{"$f":"IF(CP$5<>\"\",OFFSET(Data!#REF!,View!$B$25,$DS19),\"\")","v":{"$error":"#REF!"}},{"$f":"IF(CQ$5<>\"\",OFFSET(Data!#REF!,View!$B$25,$DS19),\"\")","v":{"$error":"#REF!"}},{"$f":"IF(CR$5<>\"\",OFFSET(Data!#REF!,View!$B$25,$DS19),\"\")","v":{"$error":"#REF!"}},{"$f":"IF(CS$5<>\"\",OFFSET(Data!#REF!,View!$B$25,$DS19),\"\")","v":{"$error":"#REF!"}},{"$f":"IF(CT$5<>\"\",OFFSET(Data!#REF!,View!$B$25,$DS19),\"\")","v":{"$error":"#REF!"}},{"$f":"IF(CU$5<>\"\",OFFSET(Data!#REF!,View!$B$25,$DS19),\"\")","v":{"$error":"#REF!"}},{"$f":"IF(CV$5<>\"\",OFFSET(Data!#REF!,View!$B$25,$DS19),\"\")","v":{"$error":"#REF!"}},{"$f":"IF(CW$5<>\"\",OFFSET(Data!#REF!,View!$B$25,$DS19),\"\")","v":{"$error":"#REF!"}},{"$f":"IF(CX$5<>\"\",OFFSET(Data!#REF!,View!$B$25,$DS19),\"\")","v":{"$error":"#REF!"}},{"$f":"IF(CY$5<>\"\",OFFSET(Data!#REF!,View!$B$25,$DS19),\"\")","v":{"$error":"#REF!"}},{"$f":"IF(CZ$5<>\"\",OFFSET(Data!#REF!,View!$B$25,$DS19),\"\")","v":{"$error":"#REF!"}},{"$f":"IF(DA$5<>\"\",OFFSET(Data!#REF!,View!$B$25,$DS19),\"\")","v":{"$error":"#REF!"}},{"$f":"IF(DB$5<>\"\",OFFSET(Data!#REF!,View!$B$25,$DS19),\"\")","v":{"$error":"#REF!"}},{"$f":"IF(DC$5<>\"\",OFFSET(Data!#REF!,View!$B$25,$DS19),\"\")","v":{"$error":"#REF!"}},{"$f":"IF(DD$5<>\"\",OFFSET(Data!#REF!,View!$B$25,$DS19),\"\")","v":{"$error":"#REF!"}},{"$f":"IF(DE$5<>\"\",OFFSET(Data!#REF!,View!$B$25,$DS19),\"\")","v":{"$error":"#REF!"}},{"$f":"IF(DF$5<>\"\",OFFSET(Data!#REF!,View!$B$25,$DS19),\"\")","v":{"$error":"#REF!"}},{"$f":"IF(DG$5<>\"\",OFFSET(Data!#REF!,View!$B$25,$DS19),\"\")","v":{"$error":"#REF!"}},{"$f":"IF(DH$5<>\"\",OFFSET(Data!#REF!,View!$B$25,$DS19),\"\")","v":{"$error":"#REF!"}},{"$f":"IF(DI$5<>\"\",OFFSET(Data!#REF!,View!$B$25,$DS19),\"\")","v":{"$error":"#REF!"}},{"$f":"IF(DJ$5<>\"\",OFFSET(Data!#REF!,View!$B$25,$DS19),\"\")","v":{"$error":"#REF!"}},{"$f":"IF(DK$5<>\"\",OFFSET(Data!#REF!,View!$B$25,$DS19),\"\")","v":{"$error":"#REF!"}},{"$f":"IF(DL$5<>\"\",OFFSET(Data!#REF!,View!$B$25,$DS19),\"\")","v":{"$error":"#REF!"}},{"$f":"IF(DM$5<>\"\",OFFSET(Data!#REF!,View!$B$25,$DS19),\"\")","v":{"$error":"#REF!"}},{"$f":"IF(DN$5<>\"\",OFFSET(Data!#REF!,View!$B$25,$DS19),\"\")","v":{"$error":"#REF!"}},{"$f":"IF(DO$5<>\"\",OFFSET(Data!#REF!,View!$B$25,$DS19),\"\")","v":{"$error":"#REF!"}},{"$f":"IF(DP$5<>\"\",OFFSET(Data!#REF!,View!$B$25,$DS19),\"\")","v":{"$error":"#REF!"}},{"$f":"IF(DQ$5<>\"\",OFFSET(Data!#REF!,View!$B$25,$DS19),\"\")","v":{"$error":"#REF!"}},{"$f":"IF(DR$5<>\"\",OFFSET(Data!#REF!,View!$B$25,$DS19),\"\")","v":{"$error":"#REF!"}},{"$f":"($C$41+1)*3","v":{"$error":"#REF!"}}]
["LCimax",{"$f":"IF(B$5<>\"\",OFFSET(Data!#REF!,View!$B$25,$DS20),\"\")","v":{"$error":"#REF!"}},{"$f":"IF(C$5<>\"\",OFFSET(Data!#REF!,View!$B$25,$DS20),\"\")","v":{"$error":"#REF!"}},{"$f":"IF(D$5<>\"\",OFFSET(Data!#REF!,View!$B$25,$DS20),\"\")","v":{"$error":"#REF!"}},{"$f":"IF(E$5<>\"\",OFFSET(Data!#REF!,View!$B$25,$DS20),\"\")","v":{"$error":"#REF!"}},{"$f":"IF(F$5<>\"\",OFFSET(Data!#REF!,View!$B$25,$DS20),\"\")","v":{"$error":"#REF!"}},{"$f":"IF(G$5<>\"\",OFFSET(Data!#REF!,View!$B$25,$DS20),\"\")","v":{"$error":"#REF!"}},{"$f":"IF(H$5<>\"\",OFFSET(Data!#REF!,View!$B$25,$DS20),\"\")","v":{"$error":"#REF!"}},{"$f":"IF(I$5<>\"\",OFFSET(Data!#REF!,View!$B$25,$DS20),\"\")","v":{"$error":"#REF!"}},{"$f":"IF(J$5<>\"\",OFFSET(Data!#REF!,View!$B$25,$DS20),\"\")","v":{"$error":"#REF!"}},{"$f":"IF(K$5<>\"\",OFFSET(Data!#REF!,View!$B$25,$DS20),\"\")","v":{"$error":"#REF!"}},{"$f":"IF(L$5<>\"\",OFFSET(Data!#REF!,View!$B$25,$DS20),\"\")","v":{"$error":"#REF!"}},{"$f":"IF(M$5<>\"\",OFFSET(Data!#REF!,View!$B$25,$DS20),\"\")","v":{"$error":"#REF!"}},{"$f":"IF(N$5<>\"\",OFFSET(Data!#REF!,View!$B$25,$DS20),\"\")","v":{"$error":"#REF!"}},{"$f":"IF(O$5<>\"\",OFFSET(Data!#REF!,View!$B$25,$DS20),\"\")","v":{"$error":"#REF!"}},{"$f":"IF(P$5<>\"\",OFFSET(Data!#REF!,View!$B$25,$DS20),\"\")","v":{"$error":"#REF!"}},{"$f":"IF(Q$5<>\"\",OFFSET(Data!#REF!,View!$B$25,$DS20),\"\")","v":{"$error":"#REF!"}},{"$f":"IF(R$5<>\"\",OFFSET(Data!#REF!,View!$B$25,$DS20),\"\")","v":{"$error":"#REF!"}},{"$f":"IF(S$5<>\"\",OFFSET(Data!#REF!,View!$B$25,$DS20),\"\")","v":{"$error":"#REF!"}},{"$f":"IF(T$5<>\"\",OFFSET(Data!#REF!,View!$B$25,$DS20),\"\")","v":{"$error":"#REF!"}},{"$f":"IF(U$5<>\"\",OFFSET(Data!#REF!,View!$B$25,$DS20),\"\")","v":{"$error":"#REF!"}},{"$f":"IF(V$5<>\"\",OFFSET(Data!#REF!,View!$B$25,$DS20),\"\")","v":{"$error":"#REF!"}},{"$f":"IF(W$5<>\"\",OFFSET(Data!#REF!,View!$B$25,$DS20),\"\")","v":{"$error":"#REF!"}},{"$f":"IF(X$5<>\"\",OFFSET(Data!#REF!,View!$B$25,$DS20),\"\")","v":{"$error":"#REF!"}},{"$f":"IF(Y$5<>\"\",OFFSET(Data!#REF!,View!$B$25,$DS20),\"\")","v":{"$error":"#REF!"}},{"$f":"IF(Z$5<>\"\",OFFSET(Data!#REF!,View!$B$25,$DS20),\"\")","v":{"$error":"#REF!"}},{"$f":"IF(AA$5<>\"\",OFFSET(Data!#REF!,View!$B$25,$DS20),\"\")","v":{"$error":"#REF!"}},{"$f":"IF(AB$5<>\"\",OFFSET(Data!#REF!,View!$B$25,$DS20),\"\")","v":{"$error":"#REF!"}},{"$f":"IF(AC$5<>\"\",OFFSET(Data!#REF!,View!$B$25,$DS20),\"\")","v":{"$error":"#REF!"}},{"$f":"IF(AD$5<>\"\",OFFSET(Data!#REF!,View!$B$25,$DS20),\"\")","v":{"$error":"#REF!"}},{"$f":"IF(AE$5<>\"\",OFFSET(Data!#REF!,View!$B$25,$DS20),\"\")","v":{"$error":"#REF!"}},{"$f":"IF(AF$5<>\"\",OFFSET(Data!#REF!,View!$B$25,$DS20),\"\")","v":{"$error":"#REF!"}},{"$f":"IF(AG$5<>\"\",OFFSET(Data!#REF!,View!$B$25,$DS20),\"\")","v":{"$error":"#REF!"}},{"$f":"IF(AH$5<>\"\",OFFSET(Data!#REF!,View!$B$25,$DS20),\"\")","v":{"$error":"#REF!"}},{"$f":"IF(AI$5<>\"\",OFFSET(Data!#REF!,View!$B$25,$DS20),\"\")","v":{"$error":"#REF!"}},{"$f":"IF(AJ$5<>\"\",OFFSET(Data!#REF!,View!$B$25,$DS20),\"\")","v":{"$error":"#REF!"}},{"$f":"IF(AK$5<>\"\",OFFSET(Data!#REF!,View!$B$25,$DS20),\"\")","v":{"$error":"#REF!"}},{"$f":"IF(AL$5<>\"\",OFFSET(Data!#REF!,View!$B$25,$DS20),\"\")","v":{"$error":"#REF!"}},{"$f":"IF(AM$5<>\"\",OFFSET(Data!#REF!,View!$B$25,$DS20),\"\")","v":{"$error":"#REF!"}},{"$f":"IF(AN$5<>\"\",OFFSET(Data!#REF!,View!$B$25,$DS20),\"\")","v":{"$error":"#REF!"}},{"$f":"IF(AO$5<>\"\",OFFSET(Data!#REF!,View!$B$25,$DS20),\"\")","v":{"$error":"#REF!"}},{"$f":"IF(AP$5<>\"\",OFFSET(Data!#REF!,View!$B$25,$DS20),\"\")","v":{"$error":"#REF!"}},{"$f":"IF(AQ$5<>\"\",OFFSET(Data!#REF!,View!$B$25,$DS20),\"\")","v":{"$error":"#REF!"}},{"$f":"IF(AR$5<>\"\",OFFSET(Data!#REF!,View!$B$25,$DS20),\"\")","v":{"$error":"#REF!"}},{"$f":"IF(AS$5<>\"\",OFFSET(Data!#REF!,View!$B$25,$DS20),\"\")","v":{"$error":"#REF!"}},{"$f":"IF(AT$5<>\"\",OFFSET(Data!#REF!,View!$B$25,$DS20),\"\")","v":{"$error":"#REF!"}},{"$f":"IF(AU$5<>\"\",OFFSET(Data!#REF!,View!$B$25,$DS20),\"\")","v":{"$error":"#REF!"}},{"$f":"IF(AV$5<>\"\",OFFSET(Data!#REF!,View!$B$25,$DS20),\"\")","v":{"$error":"#REF!"}},{"$f":"IF(AW$5<>\"\",OFFSET(Data!#REF!,View!$B$25,$DS20),\"\")","v":{"$error":"#REF!"}},{"$f":"IF(AX$5<>\"\",OFFSET(Data!#REF!,View!$B$25,$DS20),\"\")","v":{"$error":"#REF!"}},{"$f":"IF(AY$5<>\"\",OFFSET(Data!#REF!,View!$B$25,$DS20),\"\")","v":{"$error":"#REF!"}},{"$f":"IF(AZ$5<>\"\",OFFSET(Data!#REF!,View!$B$25,$DS20),\"\")","v":{"$error":"#REF!"}},{"$f":"IF(BA$5<>\"\",OFFSET(Data!#REF!,View!$B$25,$DS20),\"\")","v":{"$error":"#REF!"}},{"$f":"IF(BB$5<>\"\",OFFSET(Data!#REF!,View!$B$25,$DS20),\"\")","v":{"$error":"#REF!"}},{"$f":"IF(BC$5<>\"\",OFFSET(Data!#REF!,View!$B$25,$DS20),\"\")","v":{"$error":"#REF!"}},{"$f":"IF(BD$5<>\"\",OFFSET(Data!#REF!,View!$B$25,$DS20),\"\")","v":{"$error":"#REF!"}},{"$f":"IF(BE$5<>\"\",OFFSET(Data!#REF!,View!$B$25,$DS20),\"\")","v":{"$error":"#REF!"}},{"$f":"IF(BF$5<>\"\",OFFSET(Data!#REF!,View!$B$25,$DS20),\"\")","v":{"$error":"#REF!"}},{"$f":"IF(BG$5<>\"\",OFFSET(Data!#REF!,View!$B$25,$DS20),\"\")","v":{"$error":"#REF!"}},{"$f":"IF(BH$5<>\"\",OFFSET(Data!#REF!,View!$B$25,$DS20),\"\")","v":{"$error":"#REF!"}},{"$f":"IF(BI$5<>\"\",OFFSET(Data!#REF!,View!$B$25,$DS20),\"\")","v":{"$error":"#REF!"}},{"$f":"IF(BJ$5<>\"\",OFFSET(Data!#REF!,View!$B$25,$DS20),\"\")","v":{"$error":"#REF!"}},{"$f":"IF(BK$5<>\"\",OFFSET(Data!#REF!,View!$B$25,$DS20),\"\")","v":{"$error":"#REF!"}},{"$f":"IF(BL$5<>\"\",OFFSET(Data!#REF!,View!$B$25,$DS20),\"\")","v":{"$error":"#REF!"}},{"$f":"IF(BM$5<>\"\",OFFSET(Data!#REF!,View!$B$25,$DS20),\"\")","v":{"$error":"#REF!"}},{"$f":"IF(BN$5<>\"\",OFFSET(Data!#REF!,View!$B$25,$DS20),\"\")","v":{"$error":"#REF!"}},{"$f":"IF(BO$5<>\"\",OFFSET(Data!#REF!,View!$B$25,$DS20),\"\")","v":{"$error":"#REF!"}},{"$f":"IF(BP$5<>\"\",OFFSET(Data!#REF!,View!$B$25,$DS20),\"\")","v":{"$error":"#REF!"}},{"$f":"IF(BQ$5<>\"\",OFFSET(Data!#REF!,View!$B$25,$DS20),\"\")","v":{"$error":"#REF!"}},{"$f":"IF(BR$5<>\"\",OFFSET(Data!#REF!,View!$B$25,$DS20),\"\")","v":{"$error":"#REF!"}},{"$f":"IF(BS$5<>\"\",OFFSET(Data!#REF!,View!$B$25,$DS20),\"\")","v":{"$error":"#REF!"}},{"$f":"IF(BT$5<>\"\",OFFSET(Data!#REF!,View!$B$25,$DS20),\"\")","v":{"$error":"#REF!"}},{"$f":"IF(BU$5<>\"\",OFFSET(Data!#REF!,View!$B$25,$DS20),\"\")","v":{"$error":"#REF!"}},{"$f":"IF(BV$5<>\"\",OFFSET(Data!#REF!,View!$B$25,$DS20),\"\")","v":{"$error":"#REF!"}},{"$f":"IF(BW$5<>\"\",OFFSET(Data!#REF!,View!$B$25,$DS20),\"\")","v":{"$error":"#REF!"}},{"$f":"IF(BX$5<>\"\",OFFSET(Data!#REF!,View!$B$25,$DS20),\"\")","v":{"$error":"#REF!"}},{"$f":"IF(BY$5<>\"\",OFFSET(Data!#REF!,View!$B$25,$DS20),\"\")","v":{"$error":"#REF!"}},{"$f":"IF(BZ$5<>\"\",OFFSET(Data!#REF!,View!$B$25,$DS20),\"\")","v":{"$error":"#REF!"}},{"$f":"IF(CA$5<>\"\",OFFSET(Data!#REF!,View!$B$25,$DS20),\"\")","v":{"$error":"#REF!"}},{"$f":"IF(CB$5<>\"\",OFFSET(Data!#REF!,View!$B$25,$DS20),\"\")","v":{"$error":"#REF!"}},{"$f":"IF(CC$5<>\"\",OFFSET(Data!#REF!,View!$B$25,$DS20),\"\")","v":{"$error":"#REF!"}},{"$f":"IF(CD$5<>\"\",OFFSET(Data!#REF!,View!$B$25,$DS20),\"\")","v":{"$error":"#REF!"}},{"$f":"IF(CE$5<>\"\",OFFSET(Data!#REF!,View!$B$25,$DS20),\"\")","v":{"$error":"#REF!"}},{"$f":"IF(CF$5<>\"\",OFFSET(Data!#REF!,View!$B$25,$DS20),\"\")","v":{"$error":"#REF!"}},{"$f":"IF(CG$5<>\"\",OFFSET(Data!#REF!,View!$B$25,$DS20),\"\")","v":{"$error":"#REF!"}},{"$f":"IF(CH$5<>\"\",OFFSET(Data!#REF!,View!$B$25,$DS20),\"\")","v":{"$error":"#REF!"}},{"$f":"IF(CI$5<>\"\",OFFSET(Data!#REF!,View!$B$25,$DS20),\"\")","v":{"$error":"#REF!"}},{"$f":"IF(CJ$5<>\"\",OFFSET(Data!#REF!,View!$B$25,$DS20),\"\")","v":{"$error":"#REF!"}},{"$f":"IF(CK$5<>\"\",OFFSET(Data!#REF!,View!$B$25,$DS20),\"\")","v":{"$error":"#REF!"}},{"$f":"IF(CL$5<>\"\",OFFSET(Data!#REF!,View!$B$25,$DS20),\"\")","v":{"$error":"#REF!"}},{"$f":"IF(CM$5<>\"\",OFFSET(Data!#REF!,View!$B$25,$DS20),\"\")","v":{"$error":"#REF!"}},{"$f":"IF(CN$5<>\"\",OFFSET(Data!#REF!,View!$B$25,$DS20),\"\")","v":{"$error":"#REF!"}},{"$f":"IF(CO$5<>\"\",OFFSET(Data!#REF!,View!$B$25,$DS20),\"\")","v":{"$error":"#REF!"}},{"$f":"IF(CP$5<>\"\",OFFSET(Data!#REF!,View!$B$25,$DS20),\"\")","v":{"$error":"#REF!"}},{"$f":"IF(CQ$5<>\"\",OFFSET(Data!#REF!,View!$B$25,$DS20),\"\")","v":{"$error":"#REF!"}},{"$f":"IF(CR$5<>\"\",OFFSET(Data!#REF!,View!$B$25,$DS20),\"\")","v":{"$error":"#REF!"}},{"$f":"IF(CS$5<>\"\",OFFSET(Data!#REF!,View!$B$25,$DS20),\"\")","v":{"$error":"#REF!"}},{"$f":"IF(CT$5<>\"\",OFFSET(Data!#REF!,View!$B$25,$DS20),\"\")","v":{"$error":"#REF!"}},{"$f":"IF(CU$5<>\"\",OFFSET(Data!#REF!,View!$B$25,$DS20),\"\")","v":{"$error":"#REF!"}},{"$f":"IF(CV$5<>\"\",OFFSET(Data!#REF!,View!$B$25,$DS20),\"\")","v":{"$error":"#REF!"}},{"$f":"IF(CW$5<>\"\",OFFSET(Data!#REF!,View!$B$25,$DS20),\"\")","v":{"$error":"#REF!"}},{"$f":"IF(CX$5<>\"\",OFFSET(Data!#REF!,View!$B$25,$DS20),\"\")","v":{"$error":"#REF!"}},{"$f":"IF(CY$5<>\"\",OFFSET(Data!#REF!,View!$B$25,$DS20),\"\")","v":{"$error":"#REF!"}},{"$f":"IF(CZ$5<>\"\",OFFSET(Data!#REF!,View!$B$25,$DS20),\"\")","v":{"$error":"#REF!"}},{"$f":"IF(DA$5<>\"\",OFFSET(Data!#REF!,View!$B$25,$DS20),\"\")","v":{"$error":"#REF!"}},{"$f":"IF(DB$5<>\"\",OFFSET(Data!#REF!,View!$B$25,$DS20),\"\")","v":{"$error":"#REF!"}},{"$f":"IF(DC$5<>\"\",OFFSET(Data!#REF!,View!$B$25,$DS20),\"\")","v":{"$error":"#REF!"}},{"$f":"IF(DD$5<>\"\",OFFSET(Data!#REF!,View!$B$25,$DS20),\"\")","v":{"$error":"#REF!"}},{"$f":"IF(DE$5<>\"\",OFFSET(Data!#REF!,View!$B$25,$DS20),\"\")","v":{"$error":"#REF!"}},{"$f":"IF(DF$5<>\"\",OFFSET(Data!#REF!,View!$B$25,$DS20),\"\")","v":{"$error":"#REF!"}},{"$f":"IF(DG$5<>\"\",OFFSET(Data!#REF!,View!$B$25,$DS20),\"\")","v":{"$error":"#REF!"}},{"$f":"IF(DH$5<>\"\",OFFSET(Data!#REF!,View!$B$25,$DS20),\"\")","v":{"$error":"#REF!"}},{"$f":"IF(DI$5<>\"\",OFFSET(Data!#REF!,View!$B$25,$DS20),\"\")","v":{"$error":"#REF!"}},{"$f":"IF(DJ$5<>\"\",OFFSET(Data!#REF!,View!$B$25,$DS20),\"\")","v":{"$error":"#REF!"}},{"$f":"IF(DK$5<>\"\",OFFSET(Data!#REF!,View!$B$25,$DS20),\"\")","v":{"$error":"#REF!"}},{"$f":"IF(DL$5<>\"\",OFFSET(Data!#REF!,View!$B$25,$DS20),\"\")","v":{"$error":"#REF!"}},{"$f":"IF(DM$5<>\"\",OFFSET(Data!#REF!,View!$B$25,$DS20),\"\")","v":{"$error":"#REF!"}},{"$f":"IF(DN$5<>\"\",OFFSET(Data!#REF!,View!$B$25,$DS20),\"\")","v":{"$error":"#REF!"}},{"$f":"IF(DO$5<>\"\",OFFSET(Data!#REF!,View!$B$25,$DS20),\"\")","v":{"$error":"#REF!"}},{"$f":"IF(DP$5<>\"\",OFFSET(Data!#REF!,View!$B$25,$DS20),\"\")","v":{"$error":"#REF!"}},{"$f":"IF(DQ$5<>\"\",OFFSET(Data!#REF!,View!$B$25,$DS20),\"\")","v":{"$error":"#REF!"}},{"$f":"IF(DR$5<>\"\",OFFSET(Data!#REF!,View!$B$25,$DS20),\"\")","v":{"$error":"#REF!"}},{"$f":"($C$41+1)*7","v":{"$error":"#REF!"}}]
[]
[]
[]
["Filename",{"$f":"OFFSET(Data!#REF!,View!$B$25,0)&\"\"","v":{"$error":"#REF!"}}]
["Index",1]
["Note",{"$f":"OFFSET(Notes!B4,View!$B$25,0)&\"\"","v":""}]
[]
[]
[]
[]
[]
[]
[]
[]
[]
[]
[]
[]
[]
[]
[null,1,{"$f":"OFFSET(Data!#REF!,View!$B$25,0)","v":{"$error":"#REF!"}},{"$f":"OFFSET(Data!#REF!,View!$B$25,0)","v":{"$error":"#REF!"}},{"$f":"IF(D41>0,CEILING(LOG(D41*2/3)/LOG(2),1),0)","v":{"$error":"#REF!"}}]
[null,{"$f":"B5","v":"overall"},{"$error":"#REF!"},{"$error":"#REF!"},{"$error":"#REF!"},{"$error":"#REF!"},{"$error":"#REF!"},{"$error":"#REF!"},47.3,{"$f":"J5","v":{"$error":"#REF!"}},{"$error":"#REF!"},{"$error":"#REF!"},{"$error":"#REF!"},{"$error":"#REF!"},{"$error":"#REF!"},{"$error":"#REF!"},{"$error":"#REF!"},{"$error":"#REF!"},{"$error":"#REF!"},{"$error":"#REF!"},{"$error":"#REF!"},{"$error":"#REF!"},{"$error":"#REF!"},{"$error":"#REF!"},{"$error":"#REF!"},{"$error":"#REF!"},{"$error":"#REF!"},{"$error":"#REF!"},{"$error":"#REF!"},{"$error":"#REF!"},{"$error":"#REF!"},{"$error":"#REF!"},{"$error":"#REF!"},{"$error":"#REF!"},{"$error":"#REF!"},{"$error":"#REF!"},{"$error":"#REF!"},{"$error":"#REF!"},{"$error":"#REF!"},{"$error":"#REF!"},{"$error":"#REF!"},{"$f":"AP5","v":{"$error":"#REF!"}},{"$error":"#REF!"},{"$error":"#REF!"},{"$error":"#REF!"},{"$error":"#REF!"},{"$error":"#REF!"},{"$error":"#REF!"},{"$error":"#REF!"},{"$error":"#REF!"},{"$error":"#REF!"},{"$error":"#REF!"},{"$error":"#REF!"},{"$error":"#REF!"},{"$error":"#REF!"},{"$error":"#REF!"},{"$error":"#REF!"},{"$error":"#REF!"},{"$error":"#REF!"},{"$error":"#REF!"},{"$error":"#REF!"},{"$error":"#REF!"},{"$error":"#REF!"},{"$error":"#REF!"},{"$error":"#REF!"},{"$error":"#REF!"},{"$error":"#REF!"},{"$error":"#REF!"},{"$error":"#REF!"},{"$error":"#REF!"},{"$error":"#REF!"},{"$error":"#REF!"},{"$error":"#REF!"},{"$f":"BV5","v":{"$error":"#REF!"}},{"$error":"#REF!"},{"$error":"#REF!"},{"$error":"#REF!"},{"$error":"#REF!"},{"$error":"#REF!"},{"$error":"#REF!"},{"$error":"#REF!"},{"$error":"#REF!"},{"$error":"#REF!"},{"$error":"#REF!"},{"$error":"#REF!"},{"$error":"#REF!"},{"$error":"#REF!"},{"$error":"#REF!"},{"$error":"#REF!"},{"$error":"#REF!"},{"$error":"#REF!"},{"$error":"#REF!"},{"$error":"#REF!"},{"$error":"#REF!"},{"$error":"#REF!"},{"$error":"#REF!"},{"$error":"#REF!"},{"$error":"#REF!"},{"$error":"#REF!"},{"$error":"#REF!"},{"$error":"#REF!"},{"$error":"#REF!"},{"$error":"#REF!"},{"$error":"#REF!"},{"$error":"#REF!"},{"$f":"DB5","v":{"$error":"#REF!"}},{"$error":"#REF!"},{"$error":"#REF!"},{"$error":"#REF!"},{"$error":"#REF!"},{"$error":"#REF!"},{"$error":"#REF!"},{"$error":"#REF!"},{"$error":"#REF!"},{"$error":"#REF!"},{"$error":"#REF!"},{"$error":"#REF!"},{"$error":"#REF!"},{"$error":"#REF!"},{"$error":"#REF!"},{"$error":"#REF!"},{"$error":"#REF!"}]
[{"$f":"OFFSET(A5,$B$41,0)","v":"LZeq"},{"$error":"#REF!"},{"$error":"#REF!"},{"$error":"#REF!"},{"$error":"#REF!"},{"$error":"#REF!"},{"$error":"#REF!"},{"$error":"#REF!"},{"$error":"#REF!"},{"$error":"#REF!"},{"$error":"#REF!"},{"$error":"#REF!"},{"$error":"#REF!"},{"$error":"#REF!"},{"$error":"#REF!"},{"$error":"#REF!"},{"$error":"#REF!"},{"$error":"#REF!"},{"$error":"#REF!"},{"$error":"#REF!"},{"$error":"#REF!"},{"$error":"#REF!"},{"$error":"#REF!"},{"$error":"#REF!"},{"$error":"#REF!"},{"$error":"#REF!"},{"$error":"#REF!"},{"$error":"#REF!"},{"$error":"#REF!"},{"$error":"#REF!"},{"$error":"#REF!"},{"$error":"#REF!"},{"$f":"OFFSET(AG5,$B$41,0)","v":{"$error":"#REF!"}},{"$error":"#REF!"},{"$error":"#REF!"},{"$error":"#REF!"},{"$error":"#REF!"},{"$error":"#REF!"},{"$error":"#REF!"},{"$error":"#REF!"},{"$error":"#REF!"},{"$error":"#REF!"},{"$error":"#REF!"},{"$error":"#REF!"},{"$error":"#REF!"},{"$error":"#REF!"},{"$error":"#REF!"},{"$error":"#REF!"},{"$error":"#REF!"},{"$error":"#REF!"},{"$error":"#REF!"},{"$error":"#REF!"},{"$error":"#REF!"},{"$error":"#REF!"},{"$error":"#REF!"},{"$error":"#REF!"},{"$error":"#REF!"},{"$error":"#REF!"},{"$error":"#REF!"},{"$error":"#REF!"},{"$error":"#REF!"},{"$error":"#REF!"},{"$error":"#REF!"},{"$error":"#REF!"},{"$f":"OFFSET(BM5,$B$41,0)","v":{"$error":"#REF!"}},{"$error":"#REF!"},{"$error":"#REF!"},{"$error":"#REF!"},{"$error":"#REF!"},{"$error":"#REF!"},{"$error":"#REF!"},{"$error":"#REF!"},{"$error":"#REF!"},{"$error":"#REF!"},{"$error":"#REF!"},{"$error":"#REF!"},{"$error":"#REF!"},{"$error":"#REF!"},{"$error":"#REF!"},{"$error":"#REF!"},{"$error":"#REF!"},{"$error":"#REF!"},{"$error":"#REF!"},{"$error":"#REF!"},{"$error":"#REF!"},{"$error":"#REF!"},{"$error":"#REF!"},{"$error":"#REF!"},{"$error":"#REF!"},{"$error":"#REF!"},{"$error":"#REF!"},{"$error":"#REF!"},{"$error":"#REF!"},{"$error":"#REF!"},{"$error":"#REF!"},{"$error":"#REF!"},{"$f":"OFFSET(CS5,$B$41,0)","v":{"$error":"#REF!"}},{"$error":"#REF!"},{"$error":"#REF!"},{"$error":"#REF!"},{"$error":"#REF!"},{"$error":"#REF!"},{"$error":"#REF!"},{"$error":"#REF!"},{"$error":"#REF!"},{"$error":"#REF!"},{"$error":"#REF!"},{"$error":"#REF!"},{"$error":"#REF!"},{"$error":"#REF!"},{"$error":"#REF!"},{"$error":"#REF!"},{"$error":"#REF!"},{"$error":"#REF!"},{"$error":"#REF!"},{"$error":"#REF!"},{"$error":"#REF!"},{"$error":"#REF!"},{"$error":"#REF!"},{"$error":"#REF!"},{"$error":"#REF!"},{"$error":"#REF!"}]
[]
[null,null,31.5,63,125,250,500,1000,2000,4000,8000,16000]
[null,null,25,31.5,40,50,63,80,100,125,160,200,250,315,400,500,625,800,1000,1250,1600,2000,2500,3150,4000,5000,6250,8000,10000,12500,16000,20000]
[null,null,23.7,26.6,29.9,33.5,37.6,42.2,47.3,53,60,67,75,84,94,106,119,133,150,168,188,211,{"$f":"C47*10","v":237},266,299,335,376,422,473,530,600,670,750,840,940,1060,1190,1330,1500,1680,1880,2110,2370,2660,2990,3350,3760,4220,{"$f":"AC47*10","v":4730},{"$f":"AD47*10","v":5300},{"$f":"AE47*10","v":6000},{"$f":"AF47*10","v":6700},{"$f":"AG47*10","v":7500},{"$f":"AH47*10","v":8400},{"$f":"AI47*10","v":9400},{"$f":"AJ47*10","v":10600},{"$f":"AK47*10","v":11900},{"$f":"AL47*10","v":13300},{"$f":"AM47*10","v":15000},{"$f":"AN47*10","v":16800},{"$f":"AO47*10","v":18800},{"$f":"AP47*10","v":21100}]
[null,null,23,24.4,25.9,27.4,29,30.7,32.5,34.5,36.5,38.700000000000003,41,43.4,46,48.7,52,55,58,61,65,69,73,77,82,87,92,97,103,109,115,122,130,137,145,154,163,173,183,194,205,218,230,244,259,274,290,307,325,345,365,387,410,434,460,487,520,550,580,610,650,690,730,770,820,870,920,970,1030,1090,1150,1220,1300,1370,1450,1540,1630,1730,1830,1940,2050,2180,2300,2440,2590,2740,2900,3070,3250,3450,3650,3870,4100,4340,4600,4870,5200,5500,5800,6100,6500,6900,7300,7700,8200,8700,9200,9700,10300,10900,11500,12200,13000,13700,14500,15400,16300,17300,18300,19400,20500,21800]

{"sheet":"Data","index":2,"n_rows":11,"n_cols":378,"rows_kept":11,"cut":false,"hidden":false,"merged":[]}
["1/3 octave","date","time","duration","bandtype","bandcount","LAeq","LAeq_25","LAeq_31.5","LAeq_40","LAeq_50","LAeq_63","LAeq_80","LAeq_100","LAeq_125","LAeq_160","LAeq_200","LAeq_250","LAeq_315","LAeq_400","LAeq_500","LAeq_625","LAeq_800","LAeq_1000","LAeq_1250","LAeq_1600","LAeq_2000","LAeq_2500","LAeq_3150","LAeq_4000","LAeq_5000","LAeq_6250","LAeq_8000","LAeq_10000","LAeq_12500","LAeq_16000","LAeq_20000","LAfmax","LAfmax_25","LAfmax_31.5","LAfmax_40","LAfmax_50","LAfmax_63","LAfmax_80","LAfmax_100","LAfmax_125","LAfmax_160","LAfmax_200","LAfmax_250","LAfmax_315","LAfmax_400","LAfmax_500","LAfmax_625","LAfmax_800","LAfmax_1000","LAfmax_1250","LAfmax_1600","LAfmax_2000","LAfmax_2500","LAfmax_3150","LAfmax_4000","LAfmax_5000","LAfmax_6250","LAfmax_8000","LAfmax_10000","LAfmax_12500","LAfmax_16000","LAfmax_20000","LAsmax","LAsmax_25","LAsmax_31.5","LAsmax_40","LAsmax_50","LAsmax_63","LAsmax_80","LAsmax_100","LAsmax_125","LAsmax_160","LAsmax_200","LAsmax_250","LAsmax_315","LAsmax_400","LAsmax_500","LAsmax_625","LAsmax_800","LAsmax_1000","LAsmax_1250","LAsmax_1600","LAsmax_2000","LAsmax_2500","LAsmax_3150","LAsmax_4000","LAsmax_5000","LAsmax_6250","LAsmax_8000","LAsmax_10000","LAsmax_12500","LAsmax_16000","LAsmax_20000","LAimax","LAimax_25","LAimax_31.5","LAimax_40","LAimax_50","LAimax_63","LAimax_80","LAimax_100","LAimax_125","LAimax_160","LAimax_200","LAimax_250","LAimax_315","LAimax_400","LAimax_500","LAimax_625","LAimax_800","LAimax_1000","LAimax_1250","LAimax_1600","LAimax_2000","LAimax_2500","LAimax_3150","LAimax_4000","LAimax_5000","LAimax_6250","LAimax_8000","LAimax_10000","LAimax_12500","LAimax_16000","LAimax_20000","LCeq","LCeq_25","LCeq_31.5","LCeq_40","LCeq_50","LCeq_63","LCeq_80","LCeq_100","LCeq_125","LCeq_160","LCeq_200","LCeq_250","LCeq_315","LCeq_400","LCeq_500","LCeq_625","LCeq_800","LCeq_1000","LCeq_1250","LCeq_1600","LCeq_2000","LCeq_2500","LCeq_3150","LCeq_4000","LCeq_5000","LCeq_6250","LCeq_8000","LCeq_10000","LCeq_12500","LCeq_16000","LCeq_20000","LCfmax","LCfmax_25","LCfmax_31.5","LCfmax_40","LCfmax_50","LCfmax_63","LCfmax_80","LCfmax_100","LCfmax_125","LCfmax_160","LCfmax_200","LCfmax_250","LCfmax_315","LCfmax_400","LCfmax_500","LCfmax_625","LCfmax_800","LCfmax_1000","LCfmax_1250","LCfmax_1600","LCfmax_2000","LCfmax_2500","LCfmax_3150","LCfmax_4000","LCfmax_5000","LCfmax_6250","LCfmax_8000","LCfmax_10000","LCfmax_12500","LCfmax_16000","LCfmax_20000","LCsmax","LCsmax_25","LCsmax_31.5","LCsmax_40","LCsmax_50","LCsmax_63","LCsmax_80","LCsmax_100","LCsmax_125","LCsmax_160","LCsmax_200","LCsmax_250","LCsmax_315","LCsmax_400","LCsmax_500","LCsmax_625","LCsmax_800","LCsmax_1000","LCsmax_1250","LCsmax_1600","LCsmax_2000","LCsmax_2500","LCsmax_3150","LCsmax_4000","LCsmax_5000","LCsmax_6250","LCsmax_8000","LCsmax_10000","LCsmax_12500","LCsmax_16000","LCsmax_20000","LCimax","LCimax_25","LCimax_31.5","LCimax_40","LCimax_50","LCimax_63","LCimax_80","LCimax_100","LCimax_125","LCimax_160","LCimax_200","LCimax_250","LCimax_315","LCimax_400","LCimax_500","LCimax_625","LCimax_800","LCimax_1000","LCimax_1250","LCimax_1600","LCimax_2000","LCimax_2500","LCimax_3150","LCimax_4000","LCimax_5000","LCimax_6250","LCimax_8000","LCimax_10000","LCimax_12500","LCimax_16000","LCimax_20000","LZeq","LZeq_25","LZeq_31.5","LZeq_40","LZeq_50","LZeq_63","LZeq_80","LZeq_100","LZeq_125","LZeq_160","LZeq_200","LZeq_250","LZeq_315","LZeq_400","LZeq_500","LZeq_625","LZeq_800","LZeq_1000","LZeq_1250","LZeq_1600","LZeq_2000","LZeq_2500","LZeq_3150","LZeq_4000","LZeq_5000","LZeq_6250","LZeq_8000","LZeq_10000","LZeq_12500","LZeq_16000","LZeq_20000","LZfmax","LZfmax_25","LZfmax_31.5","LZfmax_40","LZfmax_50","LZfmax_63","LZfmax_80","LZfmax_100","LZfmax_125","LZfmax_160","LZfmax_200","LZfmax_250","LZfmax_315","LZfmax_400","LZfmax_500","LZfmax_625","LZfmax_800","LZfmax_1000","LZfmax_1250","LZfmax_1600","LZfmax_2000","LZfmax_2500","LZfmax_3150","LZfmax_4000","LZfmax_5000","LZfmax_6250","LZfmax_8000","LZfmax_10000","LZfmax_12500","LZfmax_16000","LZfmax_20000","LZsmax","LZsmax_25","LZsmax_31.5","LZsmax_40","LZsmax_50","LZsmax_63","LZsmax_80","LZsmax_100","LZsmax_125","LZsmax_160","LZsmax_200","LZsmax_250","LZsmax_315","LZsmax_400","LZsmax_500","LZsmax_625","LZsmax_800","LZsmax_1000","LZsmax_1250","LZsmax_1600","LZsmax_2000","LZsmax_2500","LZsmax_3150","LZsmax_4000","LZsmax_5000","LZsmax_6250","LZsmax_8000","LZsmax_10000","LZsmax_12500","LZsmax_16000","LZsmax_20000","LZimax","LZimax_25","LZimax_31.5","LZimax_40","LZimax_50","LZimax_63","LZimax_80","LZimax_100","LZimax_125","LZimax_160","LZimax_200","LZimax_250","LZimax_315","LZimax_400","LZimax_500","LZimax_625","LZimax_800","LZimax_1000","LZimax_1250","LZimax_1600","LZimax_2000","LZimax_2500","LZimax_3150","LZimax_4000","LZimax_5000","LZimax_6250","LZimax_8000","LZimax_10000","LZimax_12500","LZimax_16000","LZimax_20000"]
["MEAS0001","2021-09-30","20:17:39",9.8986699999999992,3,30,68.49982,-6.2308300000000001,-6.58467,3.7194099999999999,17.24259,18.035129999999999,9.8648100000000003,31.606829999999999,41.760480000000001,46.305169999999997,53.489330000000002,54.144100000000002,53.574390000000001,61.41019,59.382260000000002,59.889099999999999,59.566850000000002,59.477179999999997,60.173830000000002,49.777149999999999,52.720759999999999,51.130319999999998,39.41084,39.616959999999999,40.460749999999997,32.988300000000002,34.95205,31.281120000000001,23.106030000000001,15.43871,5.7530599999999996,74.544039999999995,-10.443049999999999,-5.6573200000000003,4.6853999999999996,13.250590000000001,8.6437100000000004,9.13565,11.46083,22.708030000000001,47.245739999999998,52.91095,48.508360000000003,53.739699999999999,56.664209999999997,60.441070000000003,70.655990000000003,66.422030000000007,69.016490000000005,60.220089999999999,46.318959999999997,48.868000000000002,44.082169999999998,33.434640000000002,32.631300000000003,39.015909999999998,26.14612,29.26857,30.222909999999999,17.847049999999999,9.5793199999999992,5.0145900000000001,70.765110000000007,-11.39227,-6.4391800000000003,2.19482,11.27872,8.4573199999999993,7.55145,21.561720000000001,30.804649999999999,41.941980000000001,57.233150000000002,56.428150000000002,51.652949999999997,62.877130000000001,60.755040000000001,64.340900000000005,62.006540000000001,62.936259999999997,59.88382,52.615609999999997,54.641010000000001,53.221469999999997,40.959910000000001,40.011339999999997,41.611510000000003,35.837229999999998,37.575749999999999,32.872280000000003,25.0182,17.04167,6.4539900000000001,77.650049999999993,-11.255929999999999,-3.2267899999999998,4.4843299999999999,14.546799999999999,8.2140400000000007,12.470969999999999,10.83747,25.541709999999998,51.160420000000002,50.084690000000002,48.235880000000002,56.546280000000003,51.650469999999999,62.599460000000001,74.170900000000003,70.610399999999998,71.950540000000004,62.980809999999998,46.428280000000001,49.647190000000002,43.689160000000001,34.913539999999998,34.677950000000003,42.386490000000002,24.875240000000002,27.539670000000001,32.031860000000002,16.56007,7.2658800000000001,5.78254,72.407039999999995,33.85615,29.70973,35.273519999999998,45.57255,44.0732,30.849460000000001,49.297249999999998,57.465040000000002,59.069699999999997,63.84057,63.27975,59.830689999999997,66.17165,62.894730000000003,61.744599999999998,60.415410000000001,59.504150000000003,59.632649999999998,48.795189999999998,51.297910000000002,49.601410000000001,37.714370000000002,37.831209999999999,38.619489999999999,31.107800000000001,33.049930000000003,29.365629999999999,21.18168,13.513640000000001,3.7944499999999999,78.435199999999995,40.009659999999997,35.363750000000003,33.52619,46.66225,51.326410000000003,25.804020000000001,33.935400000000001,39.863849999999999,47.848469999999999,70.68338,65.414760000000001,57.076390000000004,75.85342,65.075320000000005,65.416499999999999,64.230869999999996,63.369140000000002,58.905880000000003,50.848350000000003,51.839280000000002,52.355359999999997,38.254429999999999,38.458109999999998,39.690770000000001,29.2026,35.275889999999997,30.961580000000001,22.299389999999999,17.180289999999999,5.3918900000000001,74.583789999999993,28.285240000000002,30.2804,32.37527,39.257100000000001,33.911439999999999,28.813389999999998,41.322240000000001,47.595489999999998,51.737029999999997,68.619339999999994,67.264129999999994,58.089230000000001,68.650270000000006,65.29956,62.43562,59.56812,59.498739999999998,60.140230000000003,53.128590000000003,54.663319999999999,53.236989999999999,40.7607,39.755519999999997,41.037410000000001,35.526420000000002,37.225769999999997,32.201430000000002,24.54739,16.56465,5.2466200000000001,79.684139999999999,42.183459999999997,36.361190000000001,33.960059999999999,45.435969999999998,50.673270000000002,20.60417,29.847549999999998,32.127110000000002,46.859929999999999,73.05359,56.89114,52.009329999999999,77.494770000000003,61.622779999999999,65.333740000000006,67.393969999999996,61.077120000000001,54.749389999999998,42.925719999999998,42.251109999999997,48.799120000000002,37.899000000000001,29.855,23.748149999999999,22.81915,31.088280000000001,24.749970000000001,15.145799999999999,12.12251,3.9215499999999999,72.434250000000006,38.332970000000003,32.873199999999997,37.165500000000002,46.856029999999997,45.026629999999997,31.33709,49.560130000000001,57.642029999999998,59.150910000000003,63.869790000000002,63.289760000000001,59.810459999999999,66.142750000000007,62.862630000000003,61.715760000000003,60.396410000000003,59.504159999999999,59.660110000000003,48.869149999999998,51.493969999999997,49.865569999999998,38.213459999999998,38.628509999999999,39.864559999999997,33.166080000000001,36.090260000000001,33.586910000000003,27.037649999999999,21.360980000000001,14.58066,78.428799999999995,44.081539999999997,38.854419999999998,35.648490000000002,47.925930000000001,52.283000000000001,26.43111,34.211979999999997,40.054279999999999,47.892249999999997,70.723110000000005,65.422259999999994,57.050379999999997,75.825720000000004,65.043610000000001,65.384860000000003,64.217240000000004,63.366,58.927970000000002,50.92268,52.038040000000002,52.615720000000003,38.740279999999998,39.270229999999998,40.944240000000001,31.140319999999999,38.415790000000001,35.15551,28.393709999999999,24.962779999999999,15.99216,74.594679999999997,32.914439999999999,33.471710000000002,34.264209999999999,40.644080000000002,34.819510000000001,29.288830000000001,41.615369999999999,47.755760000000002,51.812269999999998,68.647419999999997,67.276269999999997,58.070050000000002,68.620509999999996,65.267520000000005,62.40699,59.549340000000001,59.49877,60.167529999999999,53.204749999999997,54.857559999999999,53.507689999999997,41.233150000000002,40.543550000000003,42.308,37.625979999999998,40.256999999999998,36.398040000000002,30.472010000000001,24.350169999999999,15.794840000000001,79.670479999999998,46.335459999999998,40.01634,36.305779999999999,46.667389999999997,51.602969999999999,21.280619999999999,30.165410000000001,32.297040000000003,46.89143,73.094120000000004,56.926160000000003,51.977710000000002,77.466669999999993,61.597839999999998,65.301050000000004,67.382429999999999,61.072020000000002,54.770670000000003,42.994970000000002,42.466830000000002,49.063160000000003,38.366750000000003,30.643910000000002,24.983889999999999,24.81062,34.251980000000003,28.66508,21.39507,20.098790000000001,14.79031]
[null,null,null,null,null,null,null,null,null,null,null,null,null,null,null,null,null,null,null,null,null,null,null,null,null,null,null,null,null,null,null,null,null,null,null,null,null,null,null,null,null,null,null,null,null,null,null,null,null,null,null,null,null,null,null,null,null,null,null,null,null,null,null,null,null,null,null,null,null,null,null,null,null,null,null,null,null,null,null,null,null,null,null,null,null,null,null,null,null,null,null,null,null,null,null,null,null,null,null,null,null,null,null,null,null,null,null,null,null,null,null,null,null,null,null,null,null,null,null,null,null,null,null,null,null,null,null,null,null,null,null,null,null,null,null,null,null,null,null,null,null,null,null,null,null,null,null,null,null,null,null,null,null,null,null,null,null,null,null,null,null,null,null,null,null,null,null,null,null,null,null,null,null,null,null,null,null,null,null,null,null,null,null,null,null,null,null,null,null,null,null,null,null,null,null,null,null,null,null,null,null,null,null,null,null,null,null,null,null,null,null,null,null,null,null,null,null,null,null,null,null,null,null,null,null,null,null,null,null,null,null,null,null,null,null,null,null,null,null,null,null,null,null,null,null,null,null,null,null,null,null,null,null,null,"Unweighted (Z) eq. levels in 1/3 octave bands"]
[null,null,null,null,null,null,null,null,null,null,null,null,null,null,null,null,null,null,null,null,null,null,null,null,null,null,null,null,null,null,null,null,null,null,null,null,null,null,null,null,null,null,null,null,null,null,null,null,null,null,null,null,null,null,null,null,null,null,null,null,null,null,null,null,null,null,null,null,null,null,null,null,null,null,null,null,null,null,null,null,null,null,null,null,null,null,null,null,null,null,null,null,null,null,null,null,null,null,null,null,null,null,null,null,null,null,null,null,null,null,null,null,null,null,null,null,null,null,null,null,null,null,null,null,null,null,null,null,null,null,null,null,null,null,null,null,null,null,null,null,null,null,null,null,null,null,null,null,null,null,null,null,null,null,null,null,null,null,null,null,null,null,null,null,null,null,null,null,null,null,null,null,null,null,null,null,null,null,null,null,null,null,null,null,null,null,null,null,null,null,null,null,null,null,null,null,null,null,null,null,null,null,null,null,null,null,null,null,null,null,null,null,null,null,null,null,null,null,null,null,null,null,null,null,null,null,null,null,null,null,null,null,null,null,null,null,null,null,null,null,null,null,null,null,null,null,null,null,null,null,null,null,null,null,"LZeq","LZeq_25","LZeq_31.5","LZeq_40","LZeq_50","LZeq_63","LZeq_80","LZeq_100","LZeq_125","LZeq_160","LZeq_200","LZeq_250","LZeq_315","LZeq_400","LZeq_500","LZeq_625","LZeq_800","LZeq_1000","LZeq_1250","LZeq_1600","LZeq_2000","LZeq_2500","LZeq_3150","LZeq_4000","LZeq_5000","LZeq_6250","LZeq_8000","LZeq_10000","LZeq_12500","LZeq_16000","LZeq_20000"]
[null,null,null,null,null,null,null,null,null,null,null,null,null,null,null,null,null,null,null,null,null,null,null,null,null,null,null,null,null,null,null,null,null,null,null,null,null,null,null,null,null,null,null,null,null,null,null,null,null,null,null,null,null,null,null,null,null,null,null,null,null,null,null,null,null,null,null,null,null,null,null,null,null,null,null,null,null,null,null,null,null,null,null,null,null,null,null,null,null,null,null,null,null,null,null,null,null,null,null,null,null,null,null,null,null,null,null,null,null,null,null,null,null,null,null,null,null,null,null,null,null,null,null,null,null,null,null,null,null,null,null,null,null,null,null,null,null,null,null,null,null,null,null,null,null,null,null,null,null,null,null,null,null,null,null,null,null,null,null,null,null,null,null,null,null,null,null,null,null,null,null,null,null,null,null,null,null,null,null,null,null,null,null,null,null,null,null,null,null,null,null,null,null,null,null,null,null,null,null,null,null,null,null,null,null,null,null,null,null,null,null,null,null,null,null,null,null,null,null,null,null,null,null,null,null,null,null,null,null,null,null,null,null,null,null,null,null,null,null,null,null,null,null,null,null,null,null,null,null,null,null,null,null,null,72.434250000000006,38.332970000000003,32.873199999999997,37.165500000000002,46.856029999999997,45.026629999999997,31.33709,49.560130000000001,57.642029999999998,59.150910000000003,63.869790000000002,63.289760000000001,59.810459999999999,66.142750000000007,62.862630000000003,61.715760000000003,60.396410000000003,59.504159999999999,59.660110000000003,48.869149999999998,51.493969999999997,49.865569999999998,38.213459999999998,38.628509999999999,39.864559999999997,33.166080000000001,36.090260000000001,33.586910000000003,27.037649999999999,21.360980000000001,14.58066]
[]
[null,null,null,null,null,null,null,null,null,null,null,null,null,null,null,null,null,null,null,null,null,null,null,null,null,null,null,null,null,null,null,null,null,null,null,null,null,null,null,null,null,null,null,null,null,null,null,null,null,null,null,null,null,null,null,null,null,null,null,null,null,null,null,null,null,null,null,null,null,null,null,null,null,null,null,null,null,null,null,null,null,null,null,null,null,null,null,null,null,null,null,null,null,null,null,null,null,null,null,null,null,null,null,null,null,null,null,null,null,null,null,null,null,null,null,null,null,null,null,null,null,null,null,null,null,null,null,null,null,null,null,null,null,null,null,null,null,null,null,null,null,null,null,null,null,null,null,null,null,null,null,null,null,null,null,null,null,null,null,null,null,null,null,null,null,null,null,null,null,null,null,null,null,null,null,null,null,null,null,null,null,null,null,null,null,null,null,null,null,null,null,null,null,null,null,null,null,null,null,null,null,null,null,null,null,null,null,null,null,null,null,null,null,null,null,null,null,null,null,null,null,null,null,null,null,null,null,null,null,null,null,null,null,null,null,null,null,null,null,null,null,null,null,null,null,null,null,null,null,null,null,null,null,null,"Converison to A-weighted"]
[null,null,null,null,null,null,null,null,null,null,null,null,null,null,null,null,null,null,null,null,null,null,null,null,null,null,null,null,null,null,null,null,null,null,null,null,null,null,null,null,null,null,null,null,null,null,null,null,null,null,null,null,null,null,null,null,null,null,null,null,null,null,null,null,null,null,null,null,null,null,null,null,null,null,null,null,null,null,null,null,null,null,null,null,null,null,null,null,null,null,null,null,null,null,null,null,null,null,null,null,null,null,null,null,null,null,null,null,null,null,null,null,null,null,null,null,null,null,null,null,null,null,null,null,null,null,null,null,null,null,null,null,null,null,null,null,null,null,null,null,null,null,null,null,null,null,null,null,null,null,null,null,null,null,null,null,null,null,null,null,null,null,null,null,null,null,null,null,null,null,null,null,null,null,null,null,null,null,null,null,null,null,null,null,null,null,null,null,null,null,null,null,null,null,null,null,null,null,null,null,null,null,null,null,null,null,null,null,null,null,null,null,null,null,null,null,null,null,null,null,null,null,null,null,null,null,null,null,null,null,null,null,null,null,null,null,null,null,null,null,null,null,null,null,null,null,null,null,null,null,null,null,null,null,"A-weights",-44.7,-39.4,-34.6,-30.2,-26.2,-22.5,-19.100000000000001,-16.100000000000001,-13.4,-10.9,-8.6,-6.6,-4.8,-3.2,-1.9,-0.8,0,0.6,1,1.2,1.3,1.2,1,0.5,-0.1,-1.1000000000000001,-2.5,-4.3,-6.6,-9.3000000000000007]
[null,null,null,null,null,null,null,null,null,null,null,null,null,null,null,null,null,null,null,null,null,null,null,null,null,null,null,null,null,null,null,null,null,null,null,null,null,null,null,null,null,null,null,null,null,null,null,null,null,null,null,null,null,null,null,null,null,null,null,null,null,null,null,null,null,null,null,null,null,null,null,null,null,null,null,null,null,null,null,null,null,null,null,null,null,null,null,null,null,null,null,null,null,null,null,null,null,null,null,null,null,null,null,null,null,null,null,null,null,null,null,null,null,null,null,null,null,null,null,null,null,null,null,null,null,null,null,null,null,null,null,null,null,null,null,null,null,null,null,null,null,null,null,null,null,null,null,null,null,null,null,null,null,null,null,null,null,null,null,null,null,null,null,null,null,null,null,null,null,null,null,null,null,null,null,null,null,null,null,null,null,null,null,null,null,null,null,null,null,null,null,null,null,null,null,null,null,null,null,null,null,null,null,null,null,null,null,null,null,null,null,null,null,null,null,null,null,null,null,null,null,null,null,null,null,null,null,null,null,null,null,null,null,null,null,null,null,null,null,null,null,null,null,null,null,null,null,null,null,null,null,null,null,"Laeq",{"$f":"JA11","v":68.64241746200311},{"$f":"IV5+IV8","v":-6.3670299999999997},{"$f":"IW5+IW8","v":-6.5268000000000015},2.5655000000000001,16.656029999999998,18.826629999999998,8.8370899999999999,30.460129999999999,41.542029999999997,45.750910000000005,52.969790000000003,54.68976,53.210459999999998,61.342750000000009,59.66263,59.815760000000004,59.596410000000006,59.504159999999999,60.260110000000005,49.869149999999998,52.69397,51.165569999999995,39.413460000000001,39.628509999999999,40.364559999999997,33.066079999999999,34.990259999999999,31.086910000000003,22.737649999999999,14.760980000000002,5.2806599999999992]
[null,null,null,null,null,null,null,null,null,null,null,null,null,null,null,null,null,null,null,null,null,null,null,null,null,null,null,null,null,null,null,null,null,null,null,null,null,null,null,null,null,null,null,null,null,null,null,null,null,null,null,null,null,null,null,null,null,null,null,null,null,null,null,null,null,null,null,null,null,null,null,null,null,null,null,null,null,null,null,null,null,null,null,null,null,null,null,null,null,null,null,null,null,null,null,null,null,null,null,null,null,null,null,null,null,null,null,null,null,null,null,null,null,null,null,null,null,null,null,null,null,null,null,null,null,null,null,null,null,null,null,null,null,null,null,null,null,null,null,null,null,null,null,null,null,null,null,null,null,null,null,null,null,null,null,null,null,null,null,null,null,null,null,null,null,null,null,null,null,null,null,null,null,null,null,null,null,null,null,null,null,null,null,null,null,null,null,null,null,null,null,null,null,null,null,null,null,null,null,null,null,null,null,null,null,null,null,null,null,null,null,null,null,null,null,null,null,null,null,null,null,null,null,null,null,null,null,null,null,null,null,null,null,null,null,null,null,null,null,null,null,null,null,null,null,null,null,null,null,null,null,null,null,null,"10^(Li/10)",{"$f":"10^(IV9/10)","v":0.23083252383091421},{"$f":"10^(IW9/10)","v":0.22249486896007256},1.8053025683067216,46.302346430204103,76.32432989314114,7.6508378899955662,1111.7650059193979,14262.741136711289,37591.616372160512,198143.12127951952,294425.89235419809,209433.42737157407,1362307.0370767759,925258.32213705126,958464.42952031444,911257.25712468429,892105.0544846541,1061722.4486272815,97032.003788098809,185950.34994229878,130784.71791331706,8736.6713694615701,9180.1758422157673,10875.669465698507,2025.8533317551098,3155.1935103606038,1284.372505283997,187.83001794645833,29.929399273028878,3.3733857031401513]
[null,null,null,null,null,null,null,null,null,null,null,null,null,null,null,null,null,null,null,null,null,null,null,null,null,null,null,null,null,null,null,null,null,null,null,null,null,null,null,null,null,null,null,null,null,null,null,null,null,null,null,null,null,null,null,null,null,null,null,null,null,null,null,null,null,null,null,null,null,null,null,null,null,null,null,null,null,null,null,null,null,null,null,null,null,null,null,null,null,null,null,null,null,null,null,null,null,null,null,null,null,null,null,null,null,null,null,null,null,null,null,null,null,null,null,null,null,null,null,null,null,null,null,null,null,null,null,null,null,null,null,null,null,null,null,null,null,null,null,null,null,null,null,null,null,null,null,null,null,null,null,null,null,null,null,null,null,null,null,null,null,null,null,null,null,null,null,null,null,null,null,null,null,null,null,null,null,null,null,null,null,null,null,null,null,null,null,null,null,null,null,null,null,null,null,null,null,null,null,null,null,null,null,null,null,null,null,null,null,null,null,null,null,null,null,null,null,null,null,null,null,null,null,null,null,null,null,null,null,null,null,null,null,null,null,null,null,null,null,null,null,null,null,null,null,null,null,null,null,null,null,null,null,null,"Laeq,tot =10*log10(10^(L1/10)+10^(L2/10)+…+10^(Ln/10)) =",null,null,null,null,null,{"$f":"10*LOG10(SUM(IV10:JY10))","v":68.64241746200311},"dB(A)"]

{"sheet":"Octave spectrum","index":3,"n_rows":8,"n_cols":9,"rows_kept":8,"cut":false,"hidden":false,"merged":[]}
["From a  spectrum of linear (Z) SPL to A-weighted values"]
[]
["f (hz)",125,250,500,1000,2000,4000,"Total"]
["Lzeq",87,76,77,81,72,66,{"$f":"10*LOG10(SUM(B5:G5))","v":88.673727334740548},"dB"]
["10^(Lzi/10)",{"$f":"10^(B4/10)","v":501187233.62727159},{"$f":"10^(C4/10)","v":39810717.055349804},50118723.362727284,125892541.17941682,15848931.924611172,3981071.705534976]
["A-weigts",-16.100000000000001,-8.6,-3.2,0,1.2,1]
["Laeq",{"$f":"B4+B6","v":70.900000000000006},{"$f":"C4+C6","v":67.400000000000006},73.8,81,73.2,67,{"$f":"10*LOG10(SUM(B8:G8))","v":82.868690117290754},"dB(A)"]
["10^(Lai/10)",{"$f":"10^(B7/10)","v":12302687.708123857},{"$f":"10^(C7/10)","v":5495408.7385762529},{"$f":"10^(D7/10)","v":23988329.19019492},{"$f":"10^(E7/10)","v":125892541.17941682},{"$f":"10^(F7/10)","v":20892961.308540419},{"$f":"10^(G7/10)","v":5011872.3362727314}]

{"sheet":"Notes","index":4,"n_rows":0,"n_cols":0,"rows_kept":0,"cut":false,"hidden":false,"merged":[]}